Workbook
Name F: #REF!
Name F: #REF!
Name F: #REF!

Sheet 표지
A4: 2015년도
A11: 2차 추가경정
A12: 세입ㆍ세출 예산서(안)
A23: 천주교수원교구사회복지회
A24: 둘 다 섯 해 누 리
E67: 0

Sheet 가.예산총칙
A1: 가. 예 산 총 칙
A4: 제 1 조 | C4: 본 예산은 사회복지법인 천주교 수원교구 사회복지회 소속 장애인거주시설 "둘다섯해누리"의
C5: 2015년(2015.01.01 ~ 2015.12.31) 기간의 예산으로 사회복지 법인 재무회계규칙 제9조 1항에
C6: 의한다.
A8: 제 2 조 | C8: 세입세출 예산총액은 | G8: ='나.세입세출(총괄)'!E6 -> 3126390000 | I8: 원으로 하며「세입 · 세출예산서」와 같다.
C10: 1. 세입의 주요재원은 다음과 같다. (관 기준)
D11: 1) | E11: 입소자부담금 | H11: ='나.세입세출(총괄)'!E7 -> 104400000 | J11: 원
D12: 2) | E12: 사업수입 | H12: ='나.세입세출(총괄)'!E10 -> 0 | J12: 원
D13: 3) | E13: 보조금수입 | H13: ='나.세입세출(총괄)'!E17+'나.세입세출(총괄)'!E21+'나.세입세출(총괄)'!E21 -> 2358791352 | J13: 원
D14: 4) | E14: 후원금수입 | H14: ='다-2.후원금세입내역 '!E16 -> 317100000 | J14: 원
D15: 5) | E15: 차입금 | J15: 원
D16: 6) | E16: 전입금 | H16: ='다-1.자부담세입내역'!E23 -> 20000000 | J16: 원
D17: 7) | E17: 이월금 | H17: ='나.세입세출(총괄)'!E39 -> 284604921 | J17: 원
D18: 8) | E18: 잡수입 | H18: ='나.세입세출(총괄)'!E43 -> 41493727 | J18: 원
C19: 2. 세출의 내용은 다음과 같다. (관 또는 항기준)
D20: 1) | E20: 사무비 | H20: =라.보조금세출내역!F7 -> 1894861560 | J20: 원
D21: 2) | E21: 재산조성비 | H21: =라.보조금세출내역!F47 -> 9300000 | J21: 원
D22: 3) | E22: 사업비 | H22: =라.보조금세출내역!F52 -> 454718792 | J22: 원
D23: 4) | E23: 부채상환금 | H23: 0 | J23: 원
D24: 5) | E24: 잡지출 | H24: =라.보조금세출내역!F119 -> 692243 | J24: 원
D25: 6) | E25: 과년도지출 | H25: ='나.세입세출(총괄)'!L66 -> 25617405 | J25: 원
D26: 7) | E26: 예비비 및 기타 | H26: =마.개요!E19+마.개요!E20 -> 86300000 | J26: 원
B28: 3. 명시이월사업은 | G28: 해당없으며 | I28: 예산은 | J28: 0 | L28: 원이다.
B30: 4. 신설사업은 | F30: 공동모금회 | G30: 난타프로그램이며, | I30: 예산은 | J30: 총 6,600,000 | L30: 원이다.
F31: 재활프로그램 | G31: 도보트래킹이며, | I31: 예산은 | J31: 총 6,100,000 | L31: 원이다.
A33: 제3조 | B33: 2차 추경예산(안)은 법인 이사회의 승인을 얻어 확정한다.
A35: 제4조 | B35: 법인이사회의 예산승인을 받기 전에 일반경비 및 긴급을 요하는 예산집행은 직전예산에 준하여
B36: 지출할 수 있으며, 그 집행된 예산은 당해 연도의 확정예산에 의하여 집행된 것으로 간주한다.
A38: 제5조 | B38: 각 계정과목 내의 항목의 예산집행은 당해 계정과목의 승인예산의 범위 내에서 항목간 예산을
B39: 일부 조정하여 사용할 수 있다.
A41: 제6조 | B41: 세출경비의 조정이 필요한 경우 「사회복지법인 및 사회복지시설 재무회계규칙」 제16조에
B42: 의거하여 예산을 전용할 수 있다.
A44: 제7조 | B44: 국가 또는 지방자치단체로부터 교부된 보조금 및 지정후원금, 수익자부담 경비 등은
B45: 추가경정예산의 성립 이전이라도 보조 및 후원 목적에 적절한 경우 먼저 사용할 수 있으며,
B46: 이는 반드시 차기 추가경정예산에 반영하여야 한다.
A48: 제8조 | B48: 인건비 집행을 위한 사무비 내 항간 전용사항은 승인받은 것으로 간주하고, 이는 반드시 차기
B49: 추가경정예산에 반영하여야 한다.
A51: 제9조 | B51: 국가, 지방자치단체 및 사회복지기금 등에서 공모사업 선정으로 받은 보조금은 사회복지법인
B52: 및 사회복지시설 재무회계규칙에 따라 기타보조금에 편성되어야 한다.
B53: (만약, 지정후원금 또는 별도 사업비 편성이 용이하다는 지차체의 증빙자료(공문)가 있을시에만
...

Sheet 나.세입세출(총괄)
A1: 나. 세입·세출 총괄
N2: (단위:원)
H3: 세 출
A4: 과 목 | D4: 2015년도 1차추경 ( A ) | E4: 2015년도 2차추경 ( B ) | F4: 구성비 ( ％ ) | G4: 비교증감 ( B-A ) | H4: 과 목 | K4: =D4 -> 2015년도 1차추경 ( A ) | L4: =E4 -> 2015년도 2차추경 ( B ) | M4: 구성비 ( ％ ) | N4: 비교증감 ( B-A )
A5: 관 | B5: 항 | C5: 목 | H5: 관 | I5: 항 | J5: 목
A6: 총 계 | D6: =D7+D13+D16+D36+D39+D43+D10+D30 -> 3123200000 | E6: =E7+E13+E16+E36+E39+E43+E10+E30 -> 3126390000 | F6: =F7+F13+F16+F36+F39+F43+F30+F10 -> 100 | G6: =G7+G13+G16+G36+G39+G43+G10+G30 -> 3190000 | H6: 총 계 | K6: =SUM(K7,K28,K33,K52,K58,K61,K64) -> 3123200000 | L6: =SUM(L7,L28,L33,L52,L58,L61,L64) -> 3126390000 | M6: =M7+M28+M33+M55+M58+M61+M64+M52 -> 100 | N6: =N7+N28+N33+N55+N58+N61+N52+N64 -> 3190000
A7: 입소자부담금 | B7: 계 | D7: 104400000 | E7: =E8 -> 104400000 | F7: =F8 -> 3.3393147 | G7: =G8 -> 0 | H7: 사무비 | I7: 계 | K7: =SUM(K8,K16,K21) -> 2243140480 | L7: =SUM(L8,L16,L21) -> 2180051560 | M7: =M8+M16+M21 -> 69.730634 | N7: =N8+N16+N21 -> -63088920 | R7: 1194682000
B8: 입소비용수입 | C8: 소계 | D8: 104400000 | E8: =E9 -> 104400000 | F8: =F9 -> 3.3393147 | G8: =G9 -> 0 | I8: 인건비 | J8: 소계 | K8: =SUM(K9:K15) -> 1955219480 | L8: =SUM(L9:L15) -> 1897498310 | M8: =SUM(M9:M15) -> 60.69295 | N8: =SUM(N9:N15) -> -57721170
C9: 입소비용수입 | D9: 104400000 | E9: ='다-1.자부담세입내역'!E9 -> 104400000 | F9: =E9/$E$6*100 -> 3.3393147 | G9: =E9-D9 -> 0 | J9: 급여 | K9: =라.보조금세출내역!E9+'라-2.후원금세출내역'!E9 -> 1158682000 | L9: =라.보조금세출내역!F9+'라-2.후원금세출내역'!F9 -> 1141381000 | M9: =L9/$L$6*100 -> 36.507953 | N9: =L9-K9 -> -17301000
A10: 사업수입 | B10: 계 | D10: 0 | E10: =E11 -> 0 | F10: =F11 -> 0 | G10: =G11 -> 0 | J10: 상여금 | K10: =라.보조금세출내역!E10+'라-2.후원금세출내역'!E10 -> 0 | L10: =라.보조금세출내역!F10+'라-2.후원금세출내역'!F10 -> 0 | M10: =L10/$L$6*100 -> 0 | N10: =L10-K10 -> 0
B11: 사업수입 | C11: 소계 | D11: 0 | E11: =E12 -> 0 | F11: =F12 -> 0 | G11: =G12 -> 0 | J11: 일용잡금 | K11: =라.보조금세출내역!E11+'라-2.후원금세출내역'!E11 -> 9600000 | L11: =라.보조금세출내역!F11+'라-2.후원금세출내역'!F11 -> 2000000 | M11: =L11/$L$6*100 -> 0.063971545 | N11: =L11-K11 -> -7600000
C12: 프로그램사업수입 | D12: 0 | E12: ='다-1.자부담세입내역'!E12 -> 0 | F12: =E12/$E$6*100 -> 0 | G12: =E12-D12 -> 0 | J12: 제수당 | K12: =라.보조금세출내역!E16+'라-2.후원금세출내역'!E12 -> 437179850 | L12: =라.보조금세출내역!F16+'라-2.후원금세출내역'!F12+'라-1.자부담세출내역'!F12 -> 406531500 | M12: =L12/$L$6*100 -> 13.003224 | N12: =L12-K12 -> -30648350
A13: 과년도수입 | B13: 계 | D13: 0 | E13: =E14 -> 0 | F13: =F14 -> 0 | G13: =G14 -> 0 | J13: 퇴직금및퇴직적립금 | K13: =라.보조금세출내역!E26+'라-2.후원금세출내역'!E26 -> 144744530 | L13: =라.보조금세출내역!F26+'라-2.후원금세출내역'!F26+'라-1.자부담세출내역'!F26 -> 140594430 | M13: =L13/$L$6*100 -> 4.4970215 | N13: =L13-K13 -> -4150100
B14: 과년도수입 | C14: 소계 | D14: 0 | E14: =E15 -> 0 | F14: =F15 -> 0 | G14: =G15 -> 0 | J14: 사회보험부담비용 | K14: =라.보조금세출내역!E27+'라-2.후원금세출내역'!E27 -> 160813100 | L14: =라.보조금세출내역!F27+'라-2.후원금세출내역'!F27+'라-1.자부담세출내역'!F27 -> 156991380 | M14: =L14/$L$6*100 -> 5.0214906 | N14: =L14-K14 -> -3821720
C15: 과년도수입 | D15: 0 | E15: =다.보조금세입내역!F12+'다-1.자부담세입내역'!E15 -> 0 | F15: =E15/$E$6*100 -> 0 | G15: =E15-D15 -> 0 | J15: 기타후생경비 | K15: =라.보조금세출내역!E32+'라-1.자부담세출내역'!E32+'라-2.후원금세출내역'!E32 -> 44200000 | L15: =라.보조금세출내역!F32+'라-1.자부담세출내역'!F32+'라-2.후원금세출내역'!F32 -> 50000000 | M15: =L15/$L$6*100 -> 1.5992886 | N15: =L15-K15 -> 5800000
A16: 보조금수입 | B16: 계 | D16: =D17+D21+D23+D28 -> 2355742860 | E16: =E17+E21+E23+E28 -> 2358791352 | F16: =F17+F21+F23+F28 -> 75.447764 | G16: =G17+G21+G23+G28 -> 3048492 | I16: 업무추진비 | J16: 소계 | K16: =SUM(K17:K20) -> 30000000 | L16: =SUM(L17:L20) -> 29000000 | M16: =SUM(M17:M20) -> 0.92758741 | N16: =SUM(N17:N20) -> -1000000
B17: =다.보조금세입내역!B14 -> 보조금수입 | C17: 소계 | D17: =SUM(D18:D20) -> 2355742860 | E17: =SUM(E18:E20) -> 2358791352 | F17: =SUM(F18:F20) -> 75.447764 | G17: =SUM(G18:G20) -> 3048492 | J17: 기관운영비 | K17: 0 | L17: 0 | M17: =L17/$L$6*100 -> 0 | N17: =L17-K17 -> 0
C18: =다.보조금세입내역!C15 -> 국고보조금 | D18: =다.보조금세입내역!E15 -> 1477837788 | E18: =다.보조금세입내역!F15 -> 1.4443583e+09 | F18: =E18/$E$6*100 -> 46.198917 | G18: =E18-D18 -> -33479466 | J18: 직책보조비 | K18: ='라-1.자부담세출내역'!E35 -> 0 | L18: ='라-1.자부담세출내역'!F35 -> 0 | M18: =L18/$L$6*100 -> 0 | N18: =L18-K18 -> 0
C19: =다.보조금세입내역!C19 -> 시도(군)보조금 | D19: =다.보조금세입내역!E19 -> 872615072 | E19: =다.보조금세입내역!F19 -> 9.0914303e+08 | F19: =E19/$E$6*100 -> 29.079642 | G19: =E19-D19 -> 36527958 | J19: 홍보비 | K19: ='라-1.자부담세출내역'!E36+'라-2.후원금세출내역'!E36 -> 26000000 | L19: ='라-1.자부담세출내역'!F36+'라-2.후원금세출내역'!F36 -> 25000000 | M19: =L19/$L$6*100 -> 0.79964432 | N19: =L19-K19 -> -1000000
C20: =다.보조금세입내역!C28 -> 기타보조금 | D20: =다.보조금세입내역!E28 -> 5290000 | E20: =다.보조금세입내역!F28 -> 5290000 | F20: =E20/$E$6*100 -> 0.16920474 | G20: =E20-D20 -> 0 | J20: 회의비 | K20: =라.보조금세출내역!E36+'라-1.자부담세출내역'!E37+'라-2.후원금세출내역'!E37 -> 4000000 | L20: =라.보조금세출내역!F36+'라-1.자부담세출내역'!F37+'라-2.후원금세출내역'!F37 -> 4000000 | M20: =L20/$L$6*100 -> 0.12794309 | N20: =L20-K20 -> 0
D21: 0 | E21: 0 | F21: =F22 -> 0 | G21: =G22 -> 0 | I21: 운영비 | J21: 소계 | K21: =SUM(K22:K27) -> 257921000 | L21: =SUM(L22:L27) -> 253553250 | M21: =SUM(M22:M27) -> 8.1100966 | N21: =SUM(N22:N27) -> -4367750
D22: 0 | E22: 0 | F22: =E22/$E$6*100 -> 0 | G22: =E22-D22 -> 0 | J22: 여비 | K22: =라.보조금세출내역!E38+'라-2.후원금세출내역'!E39 -> 10000000 | L22: =라.보조금세출내역!F38+'라-2.후원금세출내역'!F39 -> 10000000 | M22: =L22/$L$6*100 -> 0.31985773 | N22: =L22-K22 -> 0
D23: 0 | E23: =SUM(E24:E27) -> 0 | F23: =SUM(F24:F27) -> 0 | G23: =SUM(G24:G27) -> 0 | J23: 수용비및수수료 | K23: =라.보조금세출내역!E39+'라-1.자부담세출내역'!E40+'라-2.후원금세출내역'!E40 -> 39390000 | L23: =라.보조금세출내역!F39+'라-1.자부담세출내역'!F40+'라-2.후원금세출내역'!F40 -> 39922250 | M23: =L23/$L$6*100 -> 1.276944 | N23: =L23-K23 -> 532250
D24: 0 | E24: =다.보조금세입내역!F31 -> 0 | F24: =E24/$E$6*100 -> 0 | G24: =E24-D24 -> 0 | J24: 공공요금 | K24: =라.보조금세출내역!E40+'라-1.자부담세출내역'!E41+'라-2.후원금세출내역'!E41 -> 118131000 | L24: =라.보조금세출내역!F40+'라-1.자부담세출내역'!F41+'라-2.후원금세출내역'!F41 -> 118131000 | M24: =L24/$L$6*100 -> 3.7785113 | N24: =L24-K24 -> 0
D25: 0 | E25: =다.보조금세입내역!F32 -> 0 | F25: =E25/$E$6*100 -> 0 | G25: =E25-D25 -> 0 | J25: 제세공과금 | K25: =라.보조금세출내역!E41+'라-1.자부담세출내역'!E42+'라-2.후원금세출내역'!E42 -> 21000000 | L25: =라.보조금세출내역!F41+'라-1.자부담세출내역'!F42+'라-2.후원금세출내역'!F42 -> 19000000 | M25: =L25/$L$6*100 -> 0.60772968 | N25: =L25-K25 -> -2000000
D26: 0 | E26: =다.보조금세입내역!F33 -> 0 | F26: =E26/$E$6*100 -> 0 | G26: =E26-D26 -> 0 | J26: 차량비 | K26: =라.보조금세출내역!E45+'라-1.자부담세출내역'!E43+'라-2.후원금세출내역'!E43 -> 53400000 | L26: =라.보조금세출내역!F45+'라-1.자부담세출내역'!F43+'라-2.후원금세출내역'!F43 -> 51000000 | M26: =L26/$L$6*100 -> 1.6312744 | N26: =L26-K26 -> -2400000
D27: 0 | E27: =다.보조금세입내역!F34 -> 0 | F27: =E27/$E$6*100 -> 0 | G27: =E27-D27 -> 0 | J27: 기타운영비 | K27: =라.보조금세출내역!E46+'라-1.자부담세출내역'!E44+'라-2.후원금세출내역'!E44 -> 16000000 | L27: =라.보조금세출내역!F46+'라-1.자부담세출내역'!F44+'라-2.후원금세출내역'!F44 -> 15500000 | M27: =L27/$L$6*100 -> 0.49577948 | N27: =L27-K27 -> -500000
C28: 소계 | D28: 0 | E28: =E29 -> 0 | F28: =F29 -> 0 | G28: =G29 -> 0 | H28: 재산조성비 | I28: 계 | K28: =SUM(K29) -> 206400000 | L28: =SUM(L29) -> 223900000 | M28: =M29 -> 7.1616145 | N28: =N29 -> 17500000
C29: 후원금수입 | D29: 0 | E29: ='다-2.후원금세입내역 '!E14 -> 0 | F29: =E29/$E$6*100 -> 0 | G29: =E29-D29 -> 0 | I29: 시설비 | J29: 소계 | K29: =SUM(K30:K32) -> 206400000 | L29: =SUM(L30:L32) -> 223900000 | M29: =SUM(M30:M32) -> 7.1616145 | N29: =SUM(N30:N32) -> 17500000
A30: 후원금 | B30: 계 | D30: =D31+D34 -> 317100000 | E30: =E31+E34 -> 317100000 | F30: =F31+F34 -> 10.142689 | G30: =G31+G34 -> 0 | J30: 시설비 | K30: =라.보조금세출내역!E49+'라-1.자부담세출내역'!E47+'라-2.후원금세출내역'!E47 -> 16000000 | L30: =라.보조금세출내역!F49+'라-1.자부담세출내역'!F47+'라-2.후원금세출내역'!F47 -> 9000000 | M30: =L30/$L$6*100 -> 0.28787195 | N30: =L30-K30 -> -7000000
B31: 후원금수입 | C31: 소계 | D31: =SUM(D32:D33) -> 316100000 | E31: =SUM(E32:E33) -> 316100000 | F31: =SUM(F32:F33) -> 10.110703 | G31: =SUM(G32:G33) -> 0 | J31: 자산취득비 | K31: =라.보조금세출내역!E50+'라-1.자부담세출내역'!E48+'라-2.후원금세출내역'!E48 -> 40000000 | L31: =라.보조금세출내역!F50+'라-1.자부담세출내역'!F48+'라-2.후원금세출내역'!F48 -> 24000000 | M31: =L31/$L$6*100 -> 0.76765855 | N31: =L31-K31 -> -16000000
C32: 지정후원금 | D32: ='다-2.후원금세입내역 '!D18 -> 6100000 | E32: ='다-2.후원금세입내역 '!E18 -> 6100000 | F32: =E32/$E$6*100 -> 0.19511321 | G32: =E32-D32 -> 0 | J32: 시설장비유지비 | K32: =라.보조금세출내역!E51+'라-1.자부담세출내역'!E49+'라-2.후원금세출내역'!E49 -> 150400000 | L32: =라.보조금세출내역!F51+'라-1.자부담세출내역'!F49+'라-2.후원금세출내역'!F49 -> 190900000 | M32: =L32/$L$6*100 -> 6.106084 | N32: =L32-K32 -> 40500000
C33: 비지정후원금 | D33: 310000000 | E33: ='다-2.후원금세입내역 '!E19 -> 310000000 | F33: =E33/$E$6*100 -> 9.9155895 | G33: =E33-D33 -> 0 | H33: 사업비 | I33: 계 | K33: =SUM(K34,K40,K41) -> 646402380 | L33: =SUM(L34,L40,L41) -> 695128792 | M33: =M34+M40+M41 -> 22.234232 | N33: =N34+N40+N41 -> 48726412
B34: 결연후원금수입 | C34: 소계 | D34: 1000000 | E34: =E35 -> 1000000 | F34: =F35 -> 0.031985773 | G34: =G35 -> 0 | I34: 운영비 | J34: 소계 | K34: =SUM(K35:K39) -> 287146360 | L34: =SUM(L35:L39) -> 284996472 | M34: =SUM(M35:M39) -> 9.1158324 | N34: =SUM(N35:N39) -> -2149888
C35: 결연후원금 | D35: 1000000 | E35: ='다-2.후원금세입내역 '!E20 -> 1000000 | F35: =E35/$E$6*100 -> 0.031985773 | G35: =E35-D35 -> 0 | J35: 생계비 | K35: =라.보조금세출내역!E55+라.보조금세출내역!E59+라.보조금세출내역!E60+'라-1.자부담세출내역'!E52+'라-2.후원금세출내역'!E52 -> 228527360 | L35: =라.보조금세출내역!F55+라.보조금세출내역!F59+라.보조금세출내역!F60+'라-1.자부담세출내역'!F52+'라-2.후원금세출내역'!F52 -> 238277472 | M35: =L35/$L$6*100 -> 7.6214891 | N35: =L35-K35 -> 9750112
A36: 전입금 | B36: 계 | D36: =D37 -> 20000000 | E36: =E37 -> 20000000 | F36: =F37 -> 0.63971545 | G36: =G37 -> 0 | J36: 피복비 | K36: =라.보조금세출내역!E63+'라-1.자부담세출내역'!E53 -> 8800000 | L36: =라.보조금세출내역!F63+'라-1.자부담세출내역'!F53 -> 2400000 | M36: =L36/$L$6*100 -> 0.076765855 | N36: =L36-K36 -> -6400000
B37: 전입금 | C37: 소계 | D37: =D38 -> 20000000 | E37: =E38 -> 20000000 | F37: =F38 -> 0.63971545 | G37: =G38 -> 0 | J37: ='라-1.자부담세출내역'!C54 -> 수용기관경비 | K37: =라.보조금세출내역!E65+'라-1.자부담세출내역'!E54+'라-1.자부담세출내역'!E55+'라-2.후원금세출내역'!E53+'라-2.후원금세출내역'!E54 -> 45819000 | L37: =라.보조금세출내역!F65+'라-1.자부담세출내역'!F54+'라-1.자부담세출내역'!F55+'라-2.후원금세출내역'!F53+'라-2.후원금세출내역'!F54 -> 40819000 | M37: =L37/$L$6*100 -> 1.3056273 | N37: =L37-K37 -> -5000000
C38: 법인전입금 | D38: 20000000 | E38: ='다-1.자부담세입내역'!E25 -> 20000000 | F38: =E38/$E$6*100 -> 0.63971545 | G38: =E38-D38 -> 0 | J38: 의료비 | K38: ='라-1.자부담세출내역'!E56+'라-2.후원금세출내역'!E56 -> 3500000 | L38: ='라-1.자부담세출내역'!F56+'라-2.후원금세출내역'!F56 -> 3500000 | M38: =L38/$L$6*100 -> 0.1119502 | N38: =L38-K38 -> 0
A39: 이월금 | B39: 계 | D39: =D40 -> 284604921 | E39: =E40 -> 284604921 | F39: =F40 -> 9.1033083 | G39: =G40 -> 0 | J39: 연료비 | K39: ='라-2.후원금세출내역'!E61 -> 500000 | L39: ='라-2.후원금세출내역'!F61 -> 0 | M39: =L39/$L$6*100 -> 0 | N39: =L39-K39 -> -500000
B40: 이월금 | C40: 소계 | D40: =SUM(D41:D42) -> 284604921 | E40: =SUM(E41:E42) -> 284604921 | F40: =SUM(F41:F42) -> 9.1033083 | G40: =SUM(G41:G42) -> 0 | I40: 교육비 | J40: 소계 | K40: 0 | L40: 0 | M40: =라.보조금세출내역!G75+'라-1.자부담세출내역'!G61 -> 0 | N40: =L40-K40 -> 0
...

Sheet 다.보조금세입내역
A1: 다. 세 입
A2: 1) 보조금세입내역
I3: (단위:원)
A4: 과 목 | E4: ='나.세입세출(총괄)'!D4:D5 -> 2015년도 1차추경 ( A ) | F4: ='나.세입세출(총괄)'!E4:E5 -> 2015년도 2차추경 ( B ) | G4: 구성비 ( ％ ) | H4: 비교증감 ( B-A ) | I4: 산 출 내 역
A5: 관 | B5: 항 | C5: 목
A6: 총 계 | E6: 2382000000 | F6: =F7+F10+F13+F35+F39 -> 2385190000 | G6: =G7+G10+G13+G35+G39+G28 -> 99.778215 | H6: =H7+H10+H13+H35+H39 -> 3190000 | K6: =F6-라.보조금세출내역!F6 -> 0
A7: 입소자부담금 | B7: 계 | E7: 0 | F7: =F8 -> 0 | G7: =G8 -> 0 | H7: =H8 -> 0
B8: 입소비용수입 | C8: 소계 | E8: 0 | F8: =F9 -> 0 | G8: =G9 -> 0 | H8: =F8-E8 -> 0
C9: 입소비용수입 | E9: 0 | F9: 0 | G9: =F9/F6*100 -> 0 | H9: =F9-E9 -> 0
A10: 과년도수입 | B10: 계 | E10: 0 | F10: =F11 -> 0 | G10: =G11 -> 0 | H10: =H11 -> 0
B11: 과년도수입 | C11: 소계 | E11: 0 | F11: =F12 -> 0 | G11: =G12 -> 0 | H11: =H12 -> 0
C12: 과년도수입 | E12: 0 | F12: 0 | G12: =F12/F6*100 -> 0 | H12: =F12-E12 -> 0
A13: 보조금수입 | B13: 계 | E13: 2355742860 | F13: =F14 -> 2358791352 | G13: =G14+G28+G30+G41 -> 98.671441 | H13: =H14+H28+H30+H41 -> 3048492
B14: 보조금수입 | C14: 소계 | E14: =SUM(E15,E19,E28) -> 2355742860 | F14: =SUM(F15,F19,F28) -> 2358791352 | G14: =SUM(G15:G22) -> 98.671441 | H14: =F14-E14 -> 3048492
C15: 국고보조금 | D15: 소 계 | E15: =SUM(E16:E18) -> 1477837788 | F15: =SUM(F16:F18) -> 1.4443583e+09 | G15: =F15/F6*100 -> 60.555273 | H15: =F15-E15 -> -33479466
D16: =라.보조금세출내역!B8 -> 인건비 | E16: =라.보조금세출내역!E8*70% -> 1320983636 | F16: =라.보조금세출내역!F8*70% -> 1285159092 | H16: =F16-E16 -> -35824544
D17: 운영비 | E17: =라.보조금세출내역!Q7*70% -> 65905000 | F17: =라.보조금세출내역!Q7*70% -> 65905000 | H17: =F17-E17 -> 0
D18: 생계비 | E18: =라.보조금세출내역!E54*70% -> 90949152 | F18: =라.보조금세출내역!F54*70% -> 93294230 | H18: =F18-E18 -> 2345078.4
C19: 시도(군)보조금 | D19: 소 계 | E19: =SUM(E20:E25) -> 872615072 | F19: =SUM(F20:F25) -> 9.0914303e+08 | G19: =F19/F6*100 -> 38.116168 | H19: =F19-E19 -> 36527958
D20: =D16 -> 인건비 | E20: =라.보조금세출내역!E8*30% -> 566135844 | F20: =라.보조금세출내역!F8*30% -> 550782468 | H20: =F20-E20 -> -15353376
D21: =D17 -> 운영비 | E21: =라.보조금세출내역!Q7*30% -> 28245000 | F21: =라.보조금세출내역!Q7*30% -> 28245000 | H21: =F21-E21 -> 0
D22: =D18 -> 생계비 | E22: =라.보조금세출내역!E54*30% -> 38978208 | F22: =라.보조금세출내역!F54*30% -> 39983242 | H22: =F22-E22 -> 1005033.6
D23: =라.보조금세출내역!C93 -> 4종운영지원사업비 | E23: =라.보조금세출내역!E93 -> 32840000 | F23: =라.보조금세출내역!F93 -> 32840000 | H23: =F23-E23 -> 0
D24: =라.보조금세출내역!C99 -> 7종운영지원 사업비 | E24: =라.보조금세출내역!E99 -> 206416020 | F24: =라.보조금세출내역!F99 -> 237019070 | H24: =F24-E24 -> 30603050
D25: =라.보조금세출내역!C107 -> 추가지원사업비 | F25: =라.보조금세출내역!G107 -> 20273250 | H25: =F25-E25 -> 20273250
C28: 기타보조금 | D28: 소 계 | E28: 5290000 | F28: =SUM(F29) -> 5290000 | G28: =G29 -> 0 | H28: =H29 -> 0 | I28: 2015년 재활프로그램사업 (테마트래킹)
D29: 재활프로그램사업비 | E29: 5290000 | F29: =라.보조금세출내역!F110 -> 5290000
E32: 0 | F32: 0 | G32: =F32/F6*100 -> 0 | H32: =F32-E32 -> 0
G33: =F33/F6*100 -> 0 | H33: =F33-E33 -> 0
E34: 0 | F34: 0 | G34: =F34/F6*100 -> 0 | H34: =F34-E34 -> 0
A35: 이월금 | B35: 계 | E35: 25617405 | F35: =F36 -> 25617405 | G35: =G36 -> 1.0740195 | H35: =H36 -> 0
B36: 이월금 | C36: 소계 | E36: 25617405 | F36: =SUM(F37:F38) -> 25617405 | G36: =SUM(G37:G38) -> 1.0740195 | H36: =SUM(H37:H38) -> 0
C37: 전년도이월금 | E37: 25617405 | F37: 25617405 | G37: =F37/F6*100 -> 1.0740195 | H37: =F37-E37 -> 0 | I37: 실제 이월금액
C38: 이월사업비 | E38: 0 | F38: 0 | G38: =F38/F6*100 -> 0 | H38: =F38-E38 -> 0
A39: 잡수입 | B39: 계 | E39: 639735 | F39: =F40 -> 781243 | G39: =G40 -> 0.032753911 | H39: =H40 -> 141508
B40: 잡수입 | C40: 소계 | E40: 639735 | F40: =SUM(F41:F43) -> 781243 | G40: =SUM(G41:G43) -> 0.032753911 | H40: =SUM(H41:H43) -> 141508
C41: 불용품매각대 | E41: 0 | F41: 0 | G41: =F41/F6*100 -> 0 | H41: =F41-E41 -> 0
C42: 기타예금이자수입 | E42: 639735 | F42: =라.보조금세출내역!F119 -> 692243 | G42: =F42/F6*100 -> 0.029022552 | H42: =F42-E42 -> 52508
C43: 기타잡수입 | F43: 89000 | G43: =F43/F6*100 -> 0.0037313589 | H43: =F43-E43 -> 89000
E44: =E13+E35+E39 -> 2382000000
...

Sheet 다-1.자부담세입내역
A1: 다. 세 입
A2: 2) 자부담세입내역
H3: (단위:원)
A4: 과 목 | D4: =다.보조금세입내역!E4:E5 -> 2015년도 1차추경 ( A ) | E4: =다.보조금세입내역!F4:F5 -> 2015년도 2차추경 ( B ) | F4: 구성비 ( ％ ) | G4: 비교증감 ( B-A ) | H4: 산 출 내 역
A5: 관 | B5: 항 | C5: 목
A6: 총 계 | D6: 236600000 | E6: =E7+E10+E13+E16+E19+E23+E26+E30 -> 236600000 | F6: =F13+F19+F23+F26+F30+F16+F7+F10 -> 100 | G6: =G7+G10+G13+G16+G19+G23+G26+G30 -> 0 | J6: =E6-'라-1.자부담세출내역'!F6 -> 0
A7: 입소자부담금 | B7: 계 | D7: 104400000 | E7: =E8 -> 104400000 | F7: =F8 -> 44.125106 | G7: =G8 -> 0
B8: 입소비용수입 | C8: 소계 | D8: 104400000 | E8: =E9 -> 104400000 | F8: =F9 -> 44.125106 | G8: =E8-D8 -> 0
C9: 입소비용수입 | D9: 104400000 | E9: 104400000 | F9: =E9/E6*100 -> 44.125106 | G9: =E9-D9 -> 0 | H9: 29명*300,000원*12개월=104,400,000원 (실비정원 29명)
A10: 사업수입 | B10: 계 | D10: 0 | E10: =E11 -> 0 | F10: =F11 -> 0 | G10: =G11 -> 0
B11: 사업수입 | C11: 소계 | D11: 0 | E11: =E12 -> 0 | F11: =F12 -> 0 | G11: =G12 -> 0
C12: 프로그램사업수입 | D12: 0 | E12: 0 | F12: =E12/E6*100 -> 0 | G12: =E12-D12 -> 0 | H12: 0
A13: 과년도수입 | B13: 계 | D13: 0 | E13: =E14 -> 0 | F13: =F14 -> 0 | G13: =G14 -> 0
B14: 과년도수입 | C14: 소계 | D14: 0 | E14: =E15 -> 0 | F14: =F15 -> 0 | G14: =G15 -> 0
C15: 과년도수입 | D15: 0 | E15: 0 | F15: =E15/E6*100 -> 0 | G15: =E15-D15 -> 0
A16: 보조금수입 | B16: 계 | D16: 0 | E16: =E17 -> 0 | F16: =F17 -> 0 | G16: =G17 -> 0
C17: 소계 | D17: 0 | E17: =E18 -> 0 | F17: =F18 -> 0 | G17: =G18 -> 0
D18: 0 | E18: 0 | F18: =E18/E6*100 -> 0 | G18: =E18-D18 -> 0
A19: 차입금 | B19: 계 | D19: 0 | E19: =E20 -> 0 | F19: =F20 -> 0 | G19: =G20 -> 0
B20: 차입금 | C20: 소계 | D20: 0 | E20: =SUM(E21:E22) -> 0 | F20: =SUM(F21:F22) -> 0 | G20: =SUM(G21:G22) -> 0
C21: 금융기관차입 | D21: 0 | E21: 0 | F21: =E21/E6*100 -> 0 | G21: =E21-D21 -> 0
C22: 기타차입금 | D22: 0 | E22: 0 | F22: =E22/E6*100 -> 0 | G22: =E22-D22 -> 0
A23: 전입금 | B23: 계 | D23: 20000000 | E23: =E24 -> 20000000 | F23: =F24 -> 8.4530854 | G23: =G24 -> 0
B24: 전입금 | C24: 소계 | D24: 20000000 | E24: =E25 -> 20000000 | F24: =E24/E6*100 -> 8.4530854 | G24: =E24-D24 -> 0
C25: 법인전입금 | D25: 20000000 | E25: 20000000 | F25: =E25/E6*100 -> 8.4530854 | G25: =E25-D25 -> 0
A26: 이월금 | B26: 계 | D26: 72654412 | E26: =E27 -> 72654412 | F26: =F27 -> 30.707697 | G26: =G27 -> 0
B27: 이월금 | C27: 소계 | D27: 72654412 | E27: =SUM(E28:E29) -> 72654412 | F27: =SUM(F28:F29) -> 30.707697 | G27: =SUM(G28:G29) -> 0
C28: 전년도이월금 | D28: 72654412 | E28: 72654412 | F28: =E28/E6*100 -> 30.707697 | G28: =E28-D28 -> 0 | H28: 실제 이월액
C29: 이월사업비 | D29: 0 | E29: 0 | F29: =E29/E6*100 -> 0 | G29: =E29-D29 -> 0
A30: 잡수입 | B30: 계 | D30: 39545588 | E30: =E31 -> 39545588 | F30: =F31 -> 16.714112 | G30: =G31 -> 0
B31: 잡수입 | C31: 소계 | D31: 39545588 | E31: =SUM(E32:E34) -> 39545588 | F31: =SUM(F32:F34) -> 16.714112 | G31: =SUM(G32:G34) -> 0
C32: 불용품매각대 | D32: 500000 | E32: 500000 | F32: =E32/E6*100 -> 0.21132713 | G32: =E32-D32 -> 0
C33: 기타예금이자수입 | D33: 545588 | E33: 545588 | F33: =E33/E6*100 -> 0.2305951 | G33: =E33-D33 -> 0
C34: 기타잡수입 | D34: 38500000 | E34: 38500000 | F34: =E34/E6*100 -> 16.272189 | G34: =E34-D34 -> 0 | H34: 종사자급식비27,600,000/ 임대료(SK,LG) 5,900,000/ 기타 5,000,000
E67: 0

Sheet 다-2.후원금세입내역 
A1: 다. 세 입
A2: 3) 후원금세입내역
H3: (단위:원)
A4: 과 목 | D4: ='다-1.자부담세입내역'!D4:D5 -> 2015년도 1차추경 ( A ) | E4: ='다-1.자부담세입내역'!E4:E5 -> 2015년도 2차추경 ( B ) | F4: 구성비 ( ％ ) | G4: 비교증감 ( B-A ) | H4: 산 출 내 역
A5: 관 | B5: 항 | C5: 목
A6: 총 계 | D6: 504600000 | E6: =E7+E10+E13+E16+E22+E26+E29+E33 -> 504600000 | F6: =F10+F22+F26+F29+F33+F13+F7+F16 -> 100 | G6: =G10+G22+G26+G29+G33+G13+G7+G16 -> 0 | J6: =E6-'라-2.후원금세출내역'!F6 -> 0
A7: 입소자부담금 | B7: 계 | D7: 0 | E7: =E8 -> 0 | F7: =F8 -> 0 | G7: =G8 -> 0
B8: 입소비용수입 | C8: 소계 | D8: 0 | E8: =E9 -> 0 | F8: =F9 -> 0 | G8: =E8-D8 -> 0
C9: 입소비용수입 | D9: 0 | E9: 0 | F9: =E9/E6*100 -> 0 | G9: =E9-D9 -> 0
A10: 과년도수입 | B10: 계 | D10: 0 | E10: =E11 -> 0 | F10: =F11 -> 0 | G10: =G11 -> 0
B11: 과년도수입 | C11: 소계 | D11: 0 | E11: =E12 -> 0 | F11: =F12 -> 0 | G11: =G12 -> 0
C12: 과년도수입 | D12: 0 | E12: 0 | F12: =E12/E6*100 -> 0 | G12: =E12-D12 -> 0
A13: 보조금수입 | B13: 계 | D13: 0 | E13: =E14 -> 0 | F13: =F14 -> 0 | G13: =G14 -> 0
B14: 후원금수입 | C14: 소계 | D14: 0 | E14: =E15 -> 0 | F14: =F15 -> 0 | G14: =G15 -> 0
C15: 후원금수입 | D15: 0 | E15: 0 | F15: =E15/E6*100 -> 0 | G15: =E15-D15 -> 0
A16: 후원금수입 | B16: 계 | D16: 317100000 | E16: =E17+E20 -> 317100000 | F16: =F17+F20 -> 62.841855 | G16: =E16-D16 -> 0
B17: 후원금수입 | C17: 소계 | D17: 316100000 | E17: =SUM(E18:E19) -> 316100000 | F17: =SUM(F18:F19) -> 62.643678 | G17: =E17-D17 -> 0
C18: 지정후원금 | D18: 6100000 | E18: 6100000 | F18: =E18/E6*100 -> 1.2088783 | G18: =E18-D18 -> 0 | H18: 2015년 공동모금회 신청사업선정 지정후원금
C19: 비지정후원금 | D19: 310000000 | E19: 310000000 | F19: =E19/E6*100 -> 61.4348 | G19: =E19-D19 -> 0
B20: 결연후원금수입 | C20: 소계 | D20: 1000000 | E20: =SUM(E21:E22) -> 1000000 | F20: =SUM(F21:F22) -> 0.19817677 | G20: =E20-D20 -> 0
C21: 결연후원금 | D21: 1000000 | E21: 1000000 | F21: =E21/E6*100 -> 0.19817677 | G21: =E21-D21 -> 0
A22: 차입금 | B22: 계 | D22: 0 | E22: =E23 -> 0 | F22: =F23 -> 0 | G22: =G23 -> 0
B23: 차입금 | C23: 소계 | D23: 0 | E23: =SUM(E24:E25) -> 0 | F23: =SUM(F24:F25) -> 0 | G23: =SUM(G24:G25) -> 0
C24: 금융기관차입 | D24: 0 | E24: 0 | F24: =E24/E6*100 -> 0 | G24: =E24-D24 -> 0
C25: 기타차입금 | D25: 0 | E25: 0 | F25: =E25/E6*100 -> 0 | G25: =E25-D25 -> 0
A26: 전입금 | B26: 계 | D26: 0 | E26: =E27 -> 0 | F26: =F27 -> 0 | G26: =G27 -> 0
B27: 전입금 | C27: 소계 | D27: 0 | E27: =E28 -> 0 | F27: =E27/E6*100 -> 0 | G27: =E27-D27 -> 0
C28: 법인전입금 | D28: 0 | E28: 0 | F28: =E28/E6*100 -> 0 | G28: =E28-D28 -> 0
A29: 이월금 | B29: 계 | D29: 186333104 | E29: =E30 -> 186333104 | F29: =F30 -> 36.926893 | G29: =G30 -> 0
B30: 이월금 | C30: 소계 | D30: 186333104 | E30: =SUM(E31:E32) -> 186333104 | F30: =SUM(F31:F32) -> 36.926893 | G30: =SUM(G31:G32) -> 0
C31: 전년도이월금 | D31: 186333104 | E31: 186333104 | F31: =E31/E6*100 -> 36.926893 | G31: =E31-D31 -> 0 | H31: * 비지정후원금 이월금 (181,802,239원), * 지정후원금 이월금 (3,795,950원), * 후원금예금이자 이월금 (734,914원), * 기타 잡수입 이월금 (1원).
C32: 이월사업비 | D32: 0 | E32: 0 | F32: =E32/E6*100 -> 0 | G32: =E32-D32 -> 0
A33: 잡수입 | B33: 계 | D33: 1166896 | E33: =E34 -> 1166896 | F33: =F34 -> 0.23125168 | G33: =G34 -> 0
B34: 잡수입 | C34: 소계 | D34: 1166896 | E34: =SUM(E35:E37) -> 1166896 | F34: =SUM(F35:F37) -> 0.23125168 | G34: =SUM(G35:G37) -> 0
C35: 불용품매각대 | D35: 0 | E35: 0 | F35: =E35/E6*100 -> 0 | G35: =E35-D35 -> 0
C36: 기타예금이자수입 | D36: 1166896 | E36: 1166896 | F36: =E36/E6*100 -> 0.23125168 | G36: =E36-D36 -> 0
C37: 기타잡수입 | D37: 0 | E37: 0 | F37: =E37/E6*100 -> 0 | G37: =E37-D37 -> 0
E67: 0

Sheet 라.보조금세출내역
A1: 라. 세 출
A2: 1) 보조금 세출내역
Q3: (단위:원)
A4: 과 목 | E4: ='다-2.후원금세입내역 '!D4:D5 -> 2015년도 1차추경 ( A ) | F4: ='다-2.후원금세입내역 '!E4:E5 -> 2015년도 2차추경 ( B ) | G4: 비교증감 ( B-A ) | I4: 산 출 내 역
A5: 관 | B5: 항 | C5: 목 | D5: 세목
A6: 총 계 | E6: 2382000000 | F6: =F7+F47+F52+F116+F119+F122 -> 2385190000 | G6: =G7+G47+G52+G116+G119+G122 -> 3190000 | I6: ※ 시설당기본지원(62,700,000원)/생활장애인가중지원(31,450,000원) | T6: =Q7 -> 94150000
A7: 사무비 | B7: 계 | E7: 1945950480 | F7: =F8+F33+F37 -> 1894861560 | G7: =F7-E7 -> -51088920 | I7: 운영비합계액 | Q7: =T10 -> 94150000 | R7: 원 | T7: =SUM(F38,F39,F40,F42,F43,F44,F45,F48,F66,F67,F88) -> 94239000
B8: 인건비 | C8: 소계 | E8: 1887119480 | F8: =F9+F10+F15+F16+F27+F32+F26 -> 1835941560 | G8: =F8-E8 -> -51177920 | T8: =T6-T7 -> -89000
C9: 급여 | E9: 1158682000 | F9: ='인건비총계표(보조금)'!F5 -> 1141381000 | G9: =F9-E9 -> -17301000 | I9: 종사자인건비 총계표 참조 | T9: 94150000 | U9: (매월 7,845,830원)
C10: 상여금 | D10: 소계 | E10: 0 | F10: =SUM(F11:F14) -> 0 | G10: =F10-E10 -> 0 | T10: =T9-T14 -> 94150000
D11: 기말수당 | E11: 0 | F11: ='인건비총계표(보조금)'!G5 -> 0 | G11: =F11-E11 -> 0
D12: 정근수당 | E12: 0 | F12: ='인건비총계표(보조금)'!H5 -> 0 | G12: =F12-E12 -> 0 | T12: =F37+F47+F65+F88 -> 94239000 | U12: 운영비계산
D13: 장기근속수당 | E13: 0 | F13: ='인건비총계표(보조금)'!I5 -> 0 | G13: =F13-E13 -> 0
D14: 가계지원비 | E14: 0 | F14: ='인건비총계표(보조금)'!J5 -> 0 | G14: =F14-E14 -> 0
C15: 일용잡급 | E15: 0 | F15: 0 | G15: =F15-E15 -> 0
C16: 제수당 | D16: 소계 | E16: 423979850 | F16: =SUM(F17:F25) -> 398051500 | G16: =F16-E16 -> -25928350 | H16: =SUM(H17:H24) -> 0
D17: 가계보조비 | E17: 0 | F17: ='인건비총계표(보조금)'!K5 -> 0 | G17: =F17-E17 -> 0
D18: 교통급식비 | E18: 0 | F18: ='인건비총계표(보조금)'!L5 -> 0 | G18: =F18-E18 -> 0
D19: 명절휴가비 | E19: 111204000 | F19: ='인건비총계표(보조금)'!M5 -> 109854000 | G19: =F19-E19 -> -1350000 | I19: 종사자인건비 총계표 참조
D20: 생활복지사수당 | E20: 0 | F20: ='인건비총계표(보조금)'!N32+'인건비총계표(보조금)'!N45+'인건비총계표(보조금)'!N58+'인건비총계표(보조금)'!N71 -> 0 | G20: =F20-E20 -> 0
D21: 생활지도원수당 | E21: 0 | F21: =SUM('인건비총계표(보조금)'!N84:N591)/2 -> 0 | G21: =F21-E21 -> 0
D22: 조리.위생수당 | E22: 0 | F22: ='인건비총계표(보조금)'!N604+'인건비총계표(보조금)'!N617+'인건비총계표(보조금)'!N630 -> 0 | G22: =F22-E22 -> 0 | I22: 종사자인건비 총계표 참조
D23: 연장근로수당 | E23: 295395850 | F23: ='인건비총계표(보조금)'!R5 -> 271637500 | G23: =F23-E23 -> -23758350 | I23: 종사자인건비 총계표 참조 | T23: 세입대세출
D24: 가족수당 | E24: 17380000 | F24: ='인건비총계표(보조금)'!O5 -> 16560000 | G24: =F24-E24 -> -820000 | I24: 종사자인건비 총계표 참조 | T24: =다.보조금세입내역!F6-라.보조금세출내역!F6 -> 0
E25: 0 | G25: =F25-E25 -> 0
C26: 퇴직적립금 | E26: 143644530 | F26: ='인건비총계표(보조금)'!W5 -> 139887770 | G26: =F26-E26 -> -3756760
C27: 사회보험부담금 | D27: 소계 | E27: 160813100 | F27: =SUM(F28:F31) -> 156621290 | G27: =F27-E27 -> -4191810
D28: 건강보험부담금 | E28: 55410810 | F28: ='인건비총계표(보조금)'!Y5+'인건비총계표(보조금)'!Z5 -> 53965750 | G28: =F28-E28 -> -1445060 | H28: =F9+#REF!+#REF!+#REF!+#REF!+#REF!+#REF!+#REF!+#REF!+F10+#REF!+#REF!-#REF! -> #REF! | I28: 3.035%+6.55%
D29: 국민연금부담금 | E29: 77099740 | F29: ='인건비총계표(보조금)'!X5 -> 75089230 | G29: =F29-E29 -> -2010510 | I29: 4.5%
D30: 고용보험부담금 | E30: 14983900 | F30: ='인건비총계표(보조금)'!AA5 -> 14594080 | G30: =F30-E30 -> -389820 | H30: =H28-#REF! -> #REF! | I30: 0.9%
D31: 산재보험부담금 | E31: 13318650 | F31: ='인건비총계표(보조금)'!AB5 -> 12972230 | G31: =F31-E31 -> -346420 | I31: 0.8%
C32: 기타후생경비 | E32: 0 | F32: 0 | G32: =F32-E32 -> 0
B33: 업무추진비 | C33: 소계 | E33: 0 | F33: =SUM(F34:F36) -> 0 | G33: =F33-E33 -> 0
C34: 기관운영비 | E34: 0 | F34: 0 | G34: =F34-E34 -> 0
C35: 직책보조비 | E35: 0 | F35: 0 | G35: =F35-E35 -> 0
C36: 회의비 | E36: 0 | F36: 0 | G36: =F36-E36 -> 0
B37: 운영비 | C37: 소계 | E37: 58831000 | F37: =F38+F39+F40+F41+F45+F46 -> 58920000 | G37: =F37-E37 -> 89000
C38: 여비 | E38: 0 | F38: 0 | G38: =F38-E38 -> 0
C39: 수용비및수수료 | E39: 8700000 | F39: 8789000 | G39: =F39-E39 -> 89000 | I39: 사무용품비, 인쇄비, 수수료 등
C40: 공공요금 | E40: 38131000 | F40: 38131000 | G40: =F40-E40 -> 0 | I40: 수도료,전기료,우편료,전화료,운송료 등 | T40: 2931420 | U40: =T40*12 -> 35177040
...

Sheet 라-1.자부담세출내역
A1: 라. 세 출
A2: 2) 자부담 세출내역
H3: (단위:원)
A4: 과 목 | E4: =라.보조금세출내역!E4:E5 -> 2015년도 1차추경 ( A ) | F4: =라.보조금세출내역!F4:F5 -> 2015년도 2차추경 ( B ) | G4: 비교증감 ( B-A ) | H4: 산 출 내 역
A5: 관 | B5: 항 | C5: 목 | D5: 세목 | S5: 이월금 포함
A6: 총 계 | E6: =E7+E45+E50+E89+E86+E83 -> 236600000 | F6: =F7+F45+F50+F89+F86+F83 -> 236600000 | G6: =G7+G45+G50+G89+G86+G83 -> 0 | T6: =SUM(T7:T12) -> 181508600 | U6: =SUM(U7:U12) -> 206503690 | V6: =SUM(V32:V91) -> 198008600 | Y6: ='다-1.자부담세입내역'!E6 -> 236600000
A7: 사무비 | B7: 계 | E7: 73300000 | F7: =F8+F33+F38 -> 86300000 | G7: =G8+G33+G38 -> 13000000 | S7: 유료입소 | T7: ='다-1.자부담세입내역'!E8 -> 104400000 | U7: =T41+T52+T74+T76+T77+T53 -> 86500000 | V7: =T7-U7 -> 17900000
B8: 인건비 | C8: 소계 | E8: 19200000 | F8: =F9+F10+F11+F12+F26+F27+F32 -> 33495090 | G8: =G9+G10+G11+G12+G26+G27+G32 -> 14295090 | S8: 법인전입-승마 | T8: 0 | U8: =F79 -> 0 | V8: =T8-U8 -> 0 | Y8: =F6-Y6 -> 0
C9: 급여 | E9: 0 | F9: 0 | G9: =F9-E9 -> 0 | S9: 법인전입 | T9: 43648948 | U9: =F9+F10+F11+F12+F26+F27+S32+S41+S40+S42+S44+S47+S48+S49+S35+S37+S43+S74+S75+S76+S53+S89 -> 86544038 | V9: =T9-U9 -> -42895090
C10: 상여금 | E10: 0 | F10: 0 | G10: =F10-E10 -> 0 | S10: 잡수입-식대 | T10: 19000000 | U10: =U52 -> 19000000 | V10: =T10-U10 -> 0
C11: 일용잡급 | F11: 0 | G11: =F11-E11 -> 0 | S11: 잡수입 | T11: 9283923 | U11: =U89+U86+U53+U40+U41+U42+U43+U44+U49+U34+U37+U77 -> 9283923 | V11: =T11-U11 -> 0
C12: 제수당 | D12: 소계 | E12: 0 | F12: =SUM(F13:F25) -> 7500000 | G12: =SUM(G13:G22) -> 7500000 | S12: 프로그램수입 | T12: 5175729 | U12: =U73+U74+U75+U76 -> 5175729 | V12: =T12-U12 -> 0
D13: 가계보조수당 | E13: 0 | F13: 0 | G13: =F13-E13 -> 0
D14: 교통급식비 | E14: 0 | F14: 0 | G14: =F14-E14 -> 0
D15: 명절휴가비 | E15: 0 | F15: 0 | G15: =F15-E15 -> 0
D16: 생활복지사수당 | E16: 0 | F16: 0 | G16: =F16-E16 -> 0
D17: 생활지도원수당 | E17: 0 | F17: 0
D18: 조리.위생수당 | E18: 0 | F18: 0
D19: 연장근로수당 | E19: 0 | F19: 0 | G19: =F19-E19 -> 0
D20: 가족수당 | E20: 0 | F20: 0 | G20: =F20-E20 -> 0
D21: 직책수당 | E21: 0 | F21: ='인건비총계표(자부담)'!S5 -> 7500000 | G21: =F21-E21 -> 7500000 | H21: 기관장,사무국장,과장,팀장 직책수당신설
D22: 자가운전보조금 | E22: 0 | F22: 0 | G22: =F22-E22 -> 0
D23: 특수근무수당(도) | E23: 0 | F23: 0 | G23: =F23-E23 -> 0
D24: 처우개선비(자) | E24: 0 | F24: 0 | G24: =F24-E24 -> 0
D25: 보전수당(자) | E25: 0 | F25: 0 | G25: =F25-E25 -> 0
C26: 퇴직금및적립금 | E26: 0 | F26: ='인건비총계표(자부담)'!U5 -> 625000 | G26: =F26-E26 -> 625000
C27: 사회보험부담비용 | D27: 소계 | E27: 0 | F27: =SUM(F28:F31) -> 370090 | G27: =F27-E27 -> 370090
D28: 건강보험부담금 | F28: ='인건비총계표(자부담)'!W5+'인건비총계표(자부담)'!X5 -> 242590 | G28: =F28-E28 -> 242590
D29: 국민연금부담금 | E29: 0 | F29: 0 | G29: =F29-E29 -> 0
D30: 고용보험부담금 | E30: 0 | F30: ='인건비총계표(자부담)'!Y5 -> 67500 | G30: =F30-E30 -> 67500
D31: 산재보험부담금 | E31: 0 | F31: ='인건비총계표(자부담)'!Z5 -> 60000 | G31: =F31-E31 -> 60000
C32: 기타후생경비 | E32: 19200000 | F32: 25000000 | G32: =F32-E32 -> 5800000 | H32: 역량강화훈련,연찬회,체육대회,기타상해보험등복리후생비 등 | R32: 법인 | S32: =F32 -> 25000000 | V32: =S32+T32+U32 -> 25000000
B33: 업무추진비 | C33: 소계 | E33: =SUM(E34:E37) -> 3000000 | F33: =SUM(F34:F37) -> 4000000 | G33: =SUM(G34:G37) -> 1000000 | V33: =S33+T33+U33 -> 0
C34: 기관운영비 | E34: 0 | F34: 0 | G34: =F34-E34 -> 0 | R34: 기타 | U34: 300000 | V34: =S34+T34+U34 -> 300000
C35: 직책보조비 | E35: 0 | F35: 0 | G35: =F35-E35 -> 0 | S35: =F35 -> 0 | V35: =S35+T35+U35 -> 0
C36: 홍보비 | E36: 1000000 | F36: 0 | G36: =F36-E36 -> -1000000 | V36: =S36+T36+U36 -> 0
C37: 회의비 | E37: 2000000 | F37: 4000000 | G37: =F37-E37 -> 2000000 | H37: 인권지킴이, 운영위원회등 경비 | R37: 기타,법인 | S37: 1000000 | U37: 1000000 | V37: =S37+T37+U37 -> 2000000
B38: 운영비 | C38: 소계 | E38: =SUM(E39:E44) -> 51100000 | F38: =SUM(F39:F44) -> 48804910 | G38: =SUM(G39:G44) -> -2295090 | V38: =S38+T38+U38 -> 0
C39: 여비 | E39: 0 | F39: 0 | G39: =F39-E39 -> 0 | V39: =S39+T39+U39 -> 0
C40: 수용비및수수료 | E40: 7100000 | F40: =5070250+234660 -> 5304910 | G40: =F40-E40 -> -1795090 | H40: 사무용품비, 인쇄비, 수수료 등 | R40: 기타,법인 | S40: 324677 | U40: 223923 | V40: =S40+T40+U40 -> 548600
...

Sheet 라-2.후원금세출내역
A1: 라. 세 출
A2: 3) 후원금 세출내역
H3: (단위:원) | S3: =S6/U6 -> 0.79027281 | T3: =T6/U6 -> 0.20972719 | U3: =SUM(S3:T3) -> 1
A4: 과 목 | E4: ='라-1.자부담세출내역'!E4:E5 -> 2015년도 1차추경 ( A ) | F4: ='라-1.자부담세출내역'!F4:F5 -> 2015년도 2차추경 ( B ) | G4: 비교증감 ( B-A ) | H4: 산 출 내 역 | S4: 직접 | T4: 간접 | U4: 계
A5: 관 | B5: 항 | C5: 목 | D5: 세목
A6: 총 계 | E6: =E7+E45+E50+E93+E90+E87+E84 -> 504600000 | F6: =F7+F45+F50+F93+F90+F87+F84 -> 504600000 | G6: =G7+G45+G50+G93+G90+G87+G84 -> 0 | S6: =SUM(S7:S95) -> 398771660 | T6: =SUM(T7:T95) -> 105828340 | U6: =SUM(S6:T6) -> 504600000
A7: 사무비 | B7: 계 | E7: 223890000 | F7: =F8+F33+F38 -> 198890000 | G7: =G8+G33+G38 -> -25000000
B8: 인건비 | C8: 소계 | E8: 48900000 | F8: =F9+F10+F11+F12+F26+F27+F32 -> 28061660 | G8: =G9+G10+G11+G12+G26+G27+G32 -> -20838340 | W8: ='다-2.후원금세입내역 '!E6 -> 504600000
C9: 급여 | E9: 0 | F9: ='인건비총계표(후원금)'!F49 -> 0 | G9: =F9-E9 -> 0 | S9: =F9 -> 0 | W9: =W8-F6 -> 0
C10: 상여금 | E10: 0 | F10: ='인건비총계표(후원금)'!G49+'인건비총계표(후원금)'!J49+'인건비총계표(후원금)'!H49 -> 0 | G10: =F10-E10 -> 0 | S10: =F10 -> 0
C11: 일용잡급 | E11: 9600000 | F11: ='인건비총계표(후원금)'!S115 -> 2000000 | G11: =F11-E11 -> -7600000 | H11: 일용직(1명) | S11: =F11 -> 2000000
C12: 제수당 | D12: 소계 | E12: 13200000 | F12: =SUM(F13:F25) -> 980000 | G12: =SUM(G13:G25) -> -12220000 | S12: =F12 -> 980000
D13: 가계보조수당 | E13: 0 | F13: ='인건비총계표(후원금)'!K49 -> 0 | G13: =F13-E13 -> 0
D14: 교통급식비 | E14: 13200000 | F14: ='인건비총계표(후원금)'!L6+'인건비총계표(후원금)'!L49 -> 980000 | G14: =F14-E14 -> -12220000 | H14: 기관장(200,000),사무국장(160,000), 과장, 선임팀장(100,000),팀장(60,000)
D15: 명절휴가비 | E15: 0 | F15: ='인건비총계표(후원금)'!M49 -> 0 | G15: =F15-E15 -> 0
D16: 생활복지사수당 | E16: 0 | F16: 0 | G16: =F16-E16 -> 0
D17: 생활지도원수당 | E17: 0 | F17: ='인건비총계표(후원금)'!N49 -> 0 | G17: =F17-E17 -> 0
D18: 조리.위생수당 | E18: 0 | F18: 0 | G18: =F18-E18 -> 0
D19: 연장근로수당 | E19: 0 | F19: ='인건비총계표(후원금)'!P49 -> 0 | G19: =F19-E19 -> 0
D20: 가족수당 | E20: 0 | F20: ='인건비총계표(후원금)'!O49 -> 0 | G20: =F20-E20 -> 0
D21: 직책보조비 | E21: 0 | F21: ='인건비총계표(후원금)'!R49 -> 0 | G21: =F21-E21 -> 0
D22: 자가운전보조금 | E22: 0 | F22: 0 | G22: =F22-E22 -> 0
D23: 특수근무수당(도) | E23: 0 | F23: ='인건비총계표(후원금)'!S49 -> 0 | G23: =F23-E23 -> 0
D24: 처우개선비 | E24: 0 | F24: 0 | G24: =F24-E24 -> 0
D25: 보전수당 | G25: =F25-E25 -> 0
C26: 퇴직금및적립금 | E26: 1100000 | F26: ='인건비총계표(후원금)'!U5+'인건비총계표(후원금)'!V49 -> 81660 | G26: =F26-E26 -> -1018340 | S26: =F26 -> 81660
C27: 사회보험부담비용 | D27: 소계 | E27: 0 | F27: =SUM(F28:F31) -> 0 | G27: =SUM(G28:G31) -> 0 | S27: =F27 -> 0
D28: 건강보험부담금 | E28: 0 | F28: 0 | G28: =F28-E28 -> 0
D29: 국민연금부담금 | E29: 0 | F29: ='인건비총계표(후원금)'!W49 -> 0 | G29: =F29-E29 -> 0
D30: 고용보험부담금 | E30: 0 | F30: ='인건비총계표(후원금)'!Y5+'인건비총계표(후원금)'!Z49 -> 0 | G30: =F30-E30 -> 0
D31: 산재보험부담금 | E31: 0 | F31: 0 | G31: =F31-E31 -> 0
C32: 기타후생경비 | E32: 25000000 | F32: 25000000 | G32: =F32-E32 -> 0 | H32: 직원 동아리지원 및 역량강화훈련비,보수교육비 등 | S32: =F32 -> 25000000
B33: 업무추진비 | C33: 소계 | E33: 27000000 | F33: =SUM(F34:F37) -> 25000000 | G33: =SUM(G34:G37) -> -2000000 | T33: =F33 -> 25000000
C34: 기관운영비 | E34: 0 | F34: 0 | G34: =F34-E34 -> 0
C35: 직책보조비 | E35: 0 | F35: 0 | G35: =F35-E35 -> 0
C36: 홍보비 | E36: 25000000 | F36: 25000000 | G36: =F36-E36 -> 0 | H36: 기관홍보물제작,소식지,성탄카드 등
C37: 회의비 | E37: 2000000 | F37: 0 | G37: =F37-E37 -> -2000000
B38: 운영비 | C38: 소계 | E38: 147990000 | F38: =SUM(F39:F44) -> 145828340 | G38: =SUM(G39:G44) -> -2161660
C39: 여비 | E39: 10000000 | F39: 10000000 | G39: =F39-E39 -> 0 | H39: 교육참가비 및 여비 등 | T39: =F39 -> 10000000
C40: 수용비및수수료 | E40: 23590000 | F40: 25828340 | G40: =F40-E40 -> 2238340 | H40: CMS관리)/소모품구입 | T40: =F40 -> 25828340
...

Sheet 마.개요
A1: 마. 세입·세출 개요
E2: (단위:원)
A3: 구 분 | B3: 세 입 | D3: 세 출
A4: 총 계 | B4: =C5+C18+C26 -> 3126390000 | D4: =E5+E18+E26 -> 3126390000
A5: 보 조 금 | B5: 소계 | C5: =SUM(C6:C12) -> 2385190000 | D5: 소계 | E5: =SUM(E6:E17) -> 2385190000
B6: ='나.세입세출(총괄)'!C18 -> 국고보조금 | C6: =다.보조금세입내역!F15 -> 1.4443583e+09 | D6: 인건비 | E6: =라.보조금세출내역!F8 -> 1835941560
B7: =다.보조금세입내역!C19 -> 시도(군)보조금 | C7: =다.보조금세입내역!F19 -> 9.0914303e+08 | D7: 관리운영비 | E7: =라.보조금세출내역!F33+라.보조금세출내역!F37+라.보조금세출내역!F47+라.보조금세출내역!F65+라.보조금세출내역!F68+라.보조금세출내역!F69+라.보조금세출내역!F70+라.보조금세출내역!F71+라.보조금세출내역!F72+라.보조금세출내역!F73+라.보조금세출내역!F74+라.보조금세출내역!F75+라.보조금세출내역!F87+라.보조금세출내역!F88+라.보조금세출내역!F90+라.보조금세출내역!F92 -> 94239000
B8: =다.보조금세입내역!C28 -> 기타보조금 | C8: =다.보조금세입내역!F28 -> 5290000 | D8: 생계비 | E8: =라.보조금세출내역!F54 -> 133277472
B9: =다.보조금세입내역!B36 -> 이월금 | C9: =다.보조금세입내역!F37 -> 25617405 | D9: 사업비 | E9: =라.보조금세출내역!F93+라.보조금세출내역!F99+라.보조금세출내역!F107+라.보조금세출내역!F109 -> 295422320
B10: =다.보조금세입내역!B40 -> 잡수입 | C10: =다.보조금세입내역!F39 -> 781243 | D10: 잡지출 | E10: =라.보조금세출내역!F120 -> 692243
D11: 보조금반환 | E11: =라.보조금세출내역!F122 -> 25617405
A18: 자 부 담 | B18: 소계 | C18: =SUM(C19:C25) -> 236600000 | D18: 소계 | E18: =SUM(E19:E25) -> 236600000
B19: 입소자부담금수입 | C19: ='다-1.자부담세입내역'!E7 -> 104400000 | D19: 인건비 | E19: ='라-1.자부담세출내역'!F8 -> 33495090
B20: 사업수입 | C20: ='다-1.자부담세입내역'!E10 -> 0 | D20: 사무비(업무추진비,운영비) | E20: ='라-1.자부담세출내역'!F33+'라-1.자부담세출내역'!F38 -> 52804910
B21: 법인전입금 | C21: ='다-1.자부담세입내역'!E25 -> 20000000 | D21: 재산조성비 | E21: ='라-1.자부담세출내역'!F45 -> 29600000
B22: 이월금 | C22: ='다-1.자부담세입내역'!E27 -> 72654412 | D22: 사업비 | E22: ='라-1.자부담세출내역'!F50 -> 120700000
B23: 잡수입 | C23: ='다-1.자부담세입내역'!E30 -> 39545588 | D23: 잡지출 | E23: ='라-1.자부담세출내역'!F84 -> 0
E24: ='라-1.자부담세출내역'!F86 -> 0
E25: ='라-1.자부담세출내역'!F89 -> 0
A26: 후 원 금 | B26: 소계 | C26: =SUM(C27:C34) -> 504600000 | D26: 소계 | E26: =SUM(E27:E34) -> 504600000
B27: 지정후원금수입 | C27: ='다-2.후원금세입내역 '!E18 -> 6100000 | D27: 사무비(인건비) | E27: ='라-2.후원금세출내역'!F8 -> 28061660
B28: 비지정후원금수입 | C28: ='다-2.후원금세입내역 '!E19 -> 310000000 | D28: 사무비(업무추진비,운영비) | E28: ='라-2.후원금세출내역'!F33+'라-2.후원금세출내역'!F38 -> 170828340
B29: 결연후원금 | C29: ='다-2.후원금세입내역 '!E20 -> 1000000 | D29: 재산조성비 | E29: ='라-2.후원금세출내역'!F45 -> 185000000
B30: 전년도후원금이월금 | C30: ='다-2.후원금세입내역 '!E29 -> 186333104 | D30: 사업비 | E30: ='라-2.후원금세출내역'!F50 -> 119710000
B31: 잡수입 | C31: ='다-2.후원금세입내역 '!E33 -> 1166896 | D31: 결연후원금 | E31: ='라-2.후원금세출내역'!F84 -> 1000000
E32: ='라-2.후원금세출내역'!F87 -> 0
E33: ='라-2.후원금세출내역'!F90 -> 0
E34: ='라-2.후원금세출내역'!F93 -> 0
E67: 0

Sheet 바.증감사유
A1: 바. 증감사유
N2: (단위:원)
A3: 세 입 | H3: 세 출
A4: 과 목 | D4: 2015년도 1차추경 ( A ) | E4: 2015년도 2차추경 ( B ) | F4: 증감 (B-A) | G4: 증감사유 | H4: 과 목 | K4: =D4 -> 2015년도 1차추경 ( A ) | L4: =E4 -> 2015년도 2차추경 ( B ) | M4: 증감 (B-A) | N4: 증감사유
A5: 관 | B5: 항 | C5: 목 | H5: 관 | I5: 항 | J5: 목
A6: 총 계 | D6: =D7+D13+D16+D36+D39+D43+D10+D30 -> 3123200000 | E6: =E7+E13+E16+E36+E39+E43+E10+E30 -> 3126390000 | F6: =E6-D6 -> 3190000 | H6: 총 계 | K6: =SUM(K7,K28,K33,K52,K58,K61,K64) -> 3123200000 | L6: =SUM(L7,L28,L33,L52,L58,L61,L64) -> 3118890000 | M6: =L6-K6 -> -4310000
A7: 입소자부담금 | B7: 계 | D7: 104400000 | E7: =E8 -> 104400000 | F7: =E7-D7 -> 0 | H7: 사무비 | I7: 계 | K7: =SUM(K8,K16,K21) -> 2243140480 | L7: =SUM(L8,L16,L21) -> 2172551560 | M7: =L7-K7 -> -70588920 | R7: 1194682000
B8: 입소비용수입 | C8: 소계 | D8: 104400000 | E8: =E9 -> 104400000 | F8: =E8-D8 -> 0 | I8: 인건비 | J8: 소계 | K8: =SUM(K9:K15) -> 1955219480 | L8: =SUM(L9:L15) -> 1889998310 | M8: =L8-K8 -> -65221170
C9: 입소비용수입 | D9: 104400000 | E9: ='다-1.자부담세입내역'!E9 -> 104400000 | F9: =E9-D9 -> 0 | J9: 급여 | K9: =라.보조금세출내역!E9+'라-2.후원금세출내역'!E9 -> 1158682000 | L9: =라.보조금세출내역!F9+'라-2.후원금세출내역'!F9 -> 1141381000 | M9: =L9-K9 -> -17301000 | N9: 종사자변동에따른호봉반영
A10: 사업수입 | B10: 계 | D10: 0 | E10: =E11 -> 0 | F10: =E10-D10 -> 0 | J10: 상여금 | K10: =라.보조금세출내역!E10+'라-2.후원금세출내역'!E10 -> 0 | L10: =라.보조금세출내역!F10+'라-2.후원금세출내역'!F10 -> 0 | M10: =L10-K10 -> 0
B11: 사업수입 | C11: 소계 | D11: 0 | E11: =E12 -> 0 | F11: =E11-D11 -> 0 | J11: 일용잡금 | K11: =라.보조금세출내역!E11+'라-2.후원금세출내역'!E11 -> 9600000 | L11: =라.보조금세출내역!F11+'라-2.후원금세출내역'!F11 -> 2000000 | M11: =L11-K11 -> -7600000
C12: 프로그램사업수입 | D12: 0 | E12: ='다-1.자부담세입내역'!E12 -> 0 | F12: =E12-D12 -> 0 | J12: 제수당 | K12: =라.보조금세출내역!E16+'라-2.후원금세출내역'!E12 -> 437179850 | L12: =라.보조금세출내역!F16+'라-2.후원금세출내역'!F12 -> 399031500 | M12: =L12-K12 -> -38148350 | N12: 직책수당신설
A13: 과년도수입 | B13: 계 | D13: 0 | E13: =E14 -> 0 | F13: =E13-D13 -> 0 | J13: 퇴직금및퇴직적립금 | K13: =라.보조금세출내역!E26+'라-2.후원금세출내역'!E26 -> 144744530 | L13: =라.보조금세출내역!F26+'라-2.후원금세출내역'!F26+'라-1.자부담세출내역'!F26 -> 140594430 | M13: =L13-K13 -> -4150100
B14: 과년도수입 | C14: 소계 | D14: 0 | E14: =E15 -> 0 | F14: =E14-D14 -> 0 | J14: 사회보험부담비용 | K14: =라.보조금세출내역!E27+'라-2.후원금세출내역'!E27 -> 160813100 | L14: =라.보조금세출내역!F27+'라-2.후원금세출내역'!F27+'라-1.자부담세출내역'!F27 -> 156991380 | M14: =L14-K14 -> -3821720
C15: 과년도수입 | D15: 0 | E15: =다.보조금세입내역!F12+'다-1.자부담세입내역'!E15 -> 0 | F15: =E15-D15 -> 0 | J15: 기타후생경비 | K15: =라.보조금세출내역!E32+'라-1.자부담세출내역'!E32+'라-2.후원금세출내역'!E32 -> 44200000 | L15: =라.보조금세출내역!F32+'라-1.자부담세출내역'!F32+'라-2.후원금세출내역'!F32 -> 50000000 | M15: =L15-K15 -> 5800000 | N15: 실지출반영예산증액
A16: 보조금수입 | B16: 계 | D16: =D17+D21+D23+D28 -> 2355742860 | E16: =E17+E21+E23+E28 -> 2358791352 | F16: =E16-D16 -> 3048492 | I16: 업무추진비 | J16: 소계 | K16: =SUM(K17:K20) -> 30000000 | L16: =SUM(L17:L20) -> 29000000 | M16: =L16-K16 -> -1000000
B17: =다.보조금세입내역!B14 -> 보조금수입 | C17: 소계 | D17: =SUM(D18:D20) -> 2355742860 | E17: =SUM(E18:E20) -> 2358791352 | F17: =E17-D17 -> 3048492 | J17: 기관운영비 | K17: 0 | L17: 0 | M17: =L17-K17 -> 0
C18: =다.보조금세입내역!C15 -> 국고보조금 | D18: =다.보조금세입내역!E15 -> 1477837788 | E18: =다.보조금세입내역!F15 -> 1.4443583e+09 | F18: =E18-D18 -> -33479466 | G18: 국도비 분류에의한 예산반영 | J18: 직책보조비 | K18: ='라-1.자부담세출내역'!E35 -> 0 | L18: ='라-1.자부담세출내역'!F35 -> 0 | M18: =L18-K18 -> 0
C19: =다.보조금세입내역!C19 -> 시도(군)보조금 | D19: =다.보조금세입내역!E19 -> 872615072 | E19: =다.보조금세입내역!F19 -> 9.0914303e+08 | F19: =E19-D19 -> 36527958 | G19: 국도비 분류에의한 예산반영 | J19: 홍보비 | K19: ='라-1.자부담세출내역'!E36+'라-2.후원금세출내역'!E36 -> 26000000 | L19: ='라-1.자부담세출내역'!F36+'라-2.후원금세출내역'!F36 -> 25000000 | M19: =L19-K19 -> -1000000 | N19: 실지출반영예산감액
C20: =다.보조금세입내역!C28 -> 기타보조금 | D20: =다.보조금세입내역!E28 -> 5290000 | E20: =다.보조금세입내역!F28 -> 5290000 | F20: =E20-D20 -> 0 | J20: 회의비 | K20: =라.보조금세출내역!E36+'라-1.자부담세출내역'!E37+'라-2.후원금세출내역'!E37 -> 4000000 | L20: =라.보조금세출내역!F36+'라-1.자부담세출내역'!F37+'라-2.후원금세출내역'!F37 -> 4000000 | M20: =L20-K20 -> 0
D21: 0 | E21: 0 | F21: =E21-D21 -> 0 | I21: 운영비 | J21: 소계 | K21: =SUM(K22:K27) -> 257921000 | L21: =SUM(L22:L27) -> 253553250 | M21: =L21-K21 -> -4367750
D22: 0 | E22: 0 | F22: =E22-D22 -> 0 | J22: 여비 | K22: =라.보조금세출내역!E38+'라-2.후원금세출내역'!E39 -> 10000000 | L22: =라.보조금세출내역!F38+'라-2.후원금세출내역'!F39 -> 10000000 | M22: =L22-K22 -> 0
D23: 0 | E23: =SUM(E24:E27) -> 0 | F23: =E23-D23 -> 0 | J23: 수용비및수수료 | K23: =라.보조금세출내역!E39+'라-1.자부담세출내역'!E40+'라-2.후원금세출내역'!E40 -> 39390000 | L23: =라.보조금세출내역!F39+'라-1.자부담세출내역'!F40+'라-2.후원금세출내역'!F40 -> 39922250 | M23: =L23-K23 -> 532250 | N23: 실지출반영예산증액
D24: 0 | E24: =다.보조금세입내역!F31 -> 0 | F24: =E24-D24 -> 0 | J24: 공공요금 | K24: =라.보조금세출내역!E40+'라-1.자부담세출내역'!E41+'라-2.후원금세출내역'!E41 -> 118131000 | L24: =라.보조금세출내역!F40+'라-1.자부담세출내역'!F41+'라-2.후원금세출내역'!F41 -> 118131000 | M24: =L24-K24 -> 0
D25: 0 | E25: =다.보조금세입내역!F32 -> 0 | F25: =E25-D25 -> 0 | J25: 제세공과금 | K25: =라.보조금세출내역!E41+'라-1.자부담세출내역'!E42+'라-2.후원금세출내역'!E42 -> 21000000 | L25: =라.보조금세출내역!F41+'라-1.자부담세출내역'!F42+'라-2.후원금세출내역'!F42 -> 19000000 | M25: =L25-K25 -> -2000000 | N25: 실지출반영예산감액
D26: 0 | E26: =다.보조금세입내역!F33 -> 0 | F26: =E26-D26 -> 0 | J26: 차량비 | K26: =라.보조금세출내역!E45+'라-1.자부담세출내역'!E43+'라-2.후원금세출내역'!E43 -> 53400000 | L26: =라.보조금세출내역!F45+'라-1.자부담세출내역'!F43+'라-2.후원금세출내역'!F43 -> 51000000 | M26: =L26-K26 -> -2400000 | N26: 실지출반영예산감액
D27: 0 | E27: =다.보조금세입내역!F34 -> 0 | F27: =E27-D27 -> 0 | J27: 기타운영비 | K27: =라.보조금세출내역!E46+'라-1.자부담세출내역'!E44+'라-2.후원금세출내역'!E44 -> 16000000 | L27: =라.보조금세출내역!F46+'라-1.자부담세출내역'!F44+'라-2.후원금세출내역'!F44 -> 15500000 | M27: =L27-K27 -> -500000
D28: 0 | E28: =E29 -> 0 | F28: =E28-D28 -> 0 | H28: 재산조성비 | I28: 계 | K28: =SUM(K29) -> 206400000 | L28: =SUM(L29) -> 223900000 | M28: =L28-K28 -> 17500000
D29: 0 | E29: ='다-2.후원금세입내역 '!E14 -> 0 | F29: =E29-D29 -> 0 | I29: 시설비 | J29: 소계 | K29: =SUM(K30:K32) -> 206400000 | L29: =SUM(L30:L32) -> 223900000 | M29: =L29-K29 -> 17500000
A30: 후원금 | B30: 계 | D30: =D31+D34 -> 317100000 | E30: =E31+E34 -> 317100000 | F30: =E30-D30 -> 0 | J30: 시설비 | K30: =라.보조금세출내역!E49+'라-1.자부담세출내역'!E47+'라-2.후원금세출내역'!E47 -> 16000000 | L30: =라.보조금세출내역!F49+'라-1.자부담세출내역'!F47+'라-2.후원금세출내역'!F47 -> 9000000 | M30: =L30-K30 -> -7000000 | N30: 실지출반영예산감액
B31: 후원금수입 | C31: 소계 | D31: =SUM(D32:D33) -> 316100000 | E31: =SUM(E32:E33) -> 316100000 | F31: =E31-D31 -> 0 | J31: 자산취득비 | K31: =라.보조금세출내역!E50+'라-1.자부담세출내역'!E48+'라-2.후원금세출내역'!E48 -> 40000000 | L31: =라.보조금세출내역!F50+'라-1.자부담세출내역'!F48+'라-2.후원금세출내역'!F48 -> 24000000 | M31: =L31-K31 -> -16000000 | N31: 실지출반영예산감액
C32: 지정후원금 | D32: ='다-2.후원금세입내역 '!D18 -> 6100000 | E32: ='다-2.후원금세입내역 '!E18 -> 6100000 | F32: =E32-D32 -> 0 | J32: 시설장비유지비 | K32: =라.보조금세출내역!E51+'라-1.자부담세출내역'!E49+'라-2.후원금세출내역'!E49 -> 150400000 | L32: =라.보조금세출내역!F51+'라-1.자부담세출내역'!F49+'라-2.후원금세출내역'!F49 -> 190900000 | M32: =L32-K32 -> 40500000 | N32: 실지출반영예산증액
C33: 비지정후원금 | D33: 310000000 | E33: ='다-2.후원금세입내역 '!E19 -> 310000000 | F33: =E33-D33 -> 0 | H33: 사업비 | I33: 계 | K33: =SUM(K34,K40,K41) -> 646402380 | L33: =SUM(L34,L40,L41) -> 695128792 | M33: =L33-K33 -> 48726412
B34: 결연후원금수입 | C34: 소계 | D34: 1000000 | E34: =E35 -> 1000000 | F34: =E34-D34 -> 0 | I34: 운영비 | J34: 소계 | K34: =SUM(K35:K39) -> 287146360 | L34: =SUM(L35:L39) -> 284996472 | M34: =L34-K34 -> -2149888
C35: 결연후원금 | D35: 1000000 | E35: ='다-2.후원금세입내역 '!E20 -> 1000000 | F35: =E35-D35 -> 0 | J35: 생계비 | K35: =라.보조금세출내역!E55+라.보조금세출내역!E59+라.보조금세출내역!E60+'라-1.자부담세출내역'!E52+'라-2.후원금세출내역'!E52 -> 228527360 | L35: =라.보조금세출내역!F55+라.보조금세출내역!F59+라.보조금세출내역!F60+'라-1.자부담세출내역'!F52+'라-2.후원금세출내역'!F52 -> 238277472 | M35: =L35-K35 -> 9750112 | N35: 실지출반영예산증액
A36: 전입금 | B36: 계 | D36: =D37 -> 20000000 | E36: =E37 -> 20000000 | F36: =E36-D36 -> 0 | J36: 피복비 | K36: =라.보조금세출내역!E63+'라-1.자부담세출내역'!E53 -> 8800000 | L36: =라.보조금세출내역!F63+'라-1.자부담세출내역'!F53 -> 2400000 | M36: =L36-K36 -> -6400000 | N36: 실지출반영예산감액
B37: 전입금 | C37: 소계 | D37: =D38 -> 20000000 | E37: =E38 -> 20000000 | F37: =E37-D37 -> 0 | J37: ='라-1.자부담세출내역'!C54 -> 수용기관경비 | K37: =라.보조금세출내역!E65+'라-1.자부담세출내역'!E54+'라-1.자부담세출내역'!E55+'라-2.후원금세출내역'!E53+'라-2.후원금세출내역'!E54 -> 45819000 | L37: =라.보조금세출내역!F65+'라-1.자부담세출내역'!F54+'라-1.자부담세출내역'!F55+'라-2.후원금세출내역'!F53+'라-2.후원금세출내역'!F54 -> 40819000 | M37: =L37-K37 -> -5000000 | N37: 실지출반영예산감액
C38: 법인전입금 | D38: 20000000 | E38: ='다-1.자부담세입내역'!E25 -> 20000000 | F38: =E38-D38 -> 0 | J38: 의료비 | K38: ='라-1.자부담세출내역'!E56+'라-2.후원금세출내역'!E56 -> 3500000 | L38: ='라-1.자부담세출내역'!F56+'라-2.후원금세출내역'!F56 -> 3500000 | M38: =L38-K38 -> 0
A39: 이월금 | B39: 계 | D39: =D40 -> 284604921 | E39: =E40 -> 284604921 | F39: =E39-D39 -> 0 | J39: 연료비 | K39: ='라-2.후원금세출내역'!E61 -> 500000 | L39: ='라-2.후원금세출내역'!F61 -> 0 | M39: =L39-K39 -> -500000 | N39: 실지출반영예산감액
B40: 이월금 | C40: 소계 | D40: =SUM(D41:D42) -> 284604921 | E40: =SUM(E41:E42) -> 284604921 | F40: =E40-D40 -> 0 | I40: 교육비 | J40: 소계 | K40: 0 | L40: 0 | M40: =L40-K40 -> 0
...

Sheet 예산증감내역
A1: 둘다섯해누리 2015년 2차추가경정 예산(안) 증감 내역
A3: 세 입
A4: 과 목 | D4: 2015년도 당초예산 ( A ) | E4: 2015년도 1차추경 ( B ) | F4: 증감 | G4: 내 용
A5: 관 | B5: 항 | C5: 목
A6: 총 계 | D6: =SUM(D7:D27) -> 3123200000 | E6: =SUM(E7:E27) -> 3126390000 | F6: =SUM(F7:F27) -> 3190000
A7: 입소자부담금 | B7: 입소비용수입 | C7: 입소비용수입 | D7: ='나.세입세출(총괄)'!D7 -> 104400000 | E7: ='나.세입세출(총괄)'!E7 -> 104400000 | F7: =E7-D7 -> 0
A8: 사업수입 | B8: 사업수입 | C8: 프로그램사업수입 | D8: 0 | E8: ='나.세입세출(총괄)'!E10 -> 0 | F8: =E8-D8 -> 0
A9: 과년도수입 | B9: 과년도수입 | C9: 과년도수입 | D9: 0 | E9: ='나.세입세출(총괄)'!E13 -> 0 | F9: =E9-D9 -> 0
A10: 보조금수입 | B10: 경상보조금수입 | C10: 인건비 | D10: ='나.세입세출(총괄)'!D18 -> 1477837788 | E10: ='나.세입세출(총괄)'!E18 -> 1.4443583e+09 | F10: =E10-D10 -> -33479466 | G10: 인건비 호봉승급에 따른 예산증액
C11: 운영비 | D11: ='나.세입세출(총괄)'!D19 -> 872615072 | E11: ='나.세입세출(총괄)'!E19 -> 9.0914303e+08 | F11: =E11-D11 -> 36527958 | G11: 실수입대비 예산 감액
C12: 생계비 | D12: ='나.세입세출(총괄)'!D20 -> 5290000 | E12: ='나.세입세출(총괄)'!E20 -> 5290000 | F12: =E12-D12 -> 0 | G12: 실수입대비 예산증액
B13: 자본보조금수입 | C13: 자본보조금 | D13: 0 | E13: ='나.세입세출(총괄)'!E21 -> 0 | F13: =E13-D13 -> 0
B14: 기타보조금 | C14: 재활프로그램사업비 | D14: 0 | E14: ='나.세입세출(총괄)'!E24 -> 0 | F14: =E14-D14 -> 0 | G14: 2015년 재활프로그램 사업
C15: 공동모금회사업비 | D15: 0 | E15: ='나.세입세출(총괄)'!E25 -> 0 | F15: =E15-D15 -> 0
D16: 0 | E16: ='나.세입세출(총괄)'!E26 -> 0 | F16: =E16-D16 -> 0
D17: 0 | E17: ='나.세입세출(총괄)'!E27 -> 0 | F17: =E17-D17 -> 0
B18: 후원금수입 | C18: 후원금수입 | D18: 0 | E18: ='나.세입세출(총괄)'!E28 -> 0 | F18: =E18-D18 -> 0
A19: 후원금 | B19: 후원금수입 | C19: 지정후원금 | D19: ='나.세입세출(총괄)'!D32 -> 6100000 | E19: ='나.세입세출(총괄)'!E32 -> 6100000 | F19: =E19-D19 -> 0 | G19: 공동모금회 지정후원금 실수입 대비 예산 감액
C20: 비지정후원금 | D20: ='나.세입세출(총괄)'!D33 -> 310000000 | E20: ='나.세입세출(총괄)'!E33 -> 310000000 | F20: =E20-D20 -> 0
B21: 결연후원금수입 | C21: 결연후원금 | D21: ='나.세입세출(총괄)'!D34 -> 1000000 | E21: ='나.세입세출(총괄)'!E34 -> 1000000 | F21: =E21-D21 -> 0
A22: 전입금 | B22: 전입금 | C22: 법인전입금 | D22: ='나.세입세출(총괄)'!D36 -> 20000000 | E22: ='나.세입세출(총괄)'!E36 -> 20000000 | F22: =E22-D22 -> 0
A23: 이월금 | B23: 이월금 | C23: 전년도이월금 | D23: ='나.세입세출(총괄)'!D41 -> 284604921 | E23: ='나.세입세출(총괄)'!E41 -> 284604921 | F23: =E23-D23 -> 0 | G23: 실제 이월금 발생액
C24: 이월사업비 | D24: ='나.세입세출(총괄)'!D42 -> 0 | E24: ='나.세입세출(총괄)'!E42 -> 0 | F24: =E24-D24 -> 0
A25: 잡수입 | B25: 잡수입 | C25: 불용품매각대 | D25: ='나.세입세출(총괄)'!D45 -> 500000 | E25: ='나.세입세출(총괄)'!E45 -> 500000 | F25: =E25-D25 -> 0
C26: 기타예금이자수입 | D26: ='나.세입세출(총괄)'!D46 -> 2352219 | E26: ='나.세입세출(총괄)'!E46 -> 2404727 | F26: =E26-D26 -> 52508 | G26: 실수입대비 예산증액
C27: 기타잡수입 | D27: ='나.세입세출(총괄)'!D47 -> 38500000 | E27: ='나.세입세출(총괄)'!E47 -> 38589000 | F27: =E27-D27 -> 89000
A30: 세 출
A31: 과 목 | D31: =D4 -> 2015년도 당초예산 ( A ) | E31: =E4 -> 2015년도 1차추경 ( B ) | F31: 증감 | G31: 내 용
A32: 관 | B32: 항 | C32: 목
A33: 총 계 | D33: =SUM(D34:D79) -> 3123200000 | E33: =SUM(E34:E79) -> 3126390000 | F33: =SUM(F34:F79) -> 3190000
A34: 사무비 | B34: 인건비 | C34: 급여 | D34: ='나.세입세출(총괄)'!K9 -> 1158682000 | E34: ='나.세입세출(총괄)'!L9 -> 1141381000 | F34: =E34-D34 -> -17301000 | G34: 인건비 호봉 승급에 따른 예산 증액
C35: 상여금 | D35: ='나.세입세출(총괄)'!K10 -> 0 | E35: ='나.세입세출(총괄)'!L10 -> 0 | F35: =E35-D35 -> 0
C36: 일용잡금 | D36: ='나.세입세출(총괄)'!K11 -> 9600000 | E36: ='나.세입세출(총괄)'!L11 -> 2000000 | F36: =E36-D36 -> -7600000
C37: 제수당 | D37: ='나.세입세출(총괄)'!K12 -> 437179850 | E37: ='나.세입세출(총괄)'!L12 -> 406531500 | F37: =E37-D37 -> -30648350 | G37: 인건비 호봉 승급에 따른 예산 증액
C38: 퇴직금및퇴직적립금 | D38: ='나.세입세출(총괄)'!K13 -> 144744530 | E38: ='나.세입세출(총괄)'!L13 -> 140594430 | F38: =E38-D38 -> -4150100 | G38: 인건비 호봉 승급에 따른 예산 증액
C39: 사회보험부담비용 | D39: ='나.세입세출(총괄)'!K14 -> 160813100 | E39: ='나.세입세출(총괄)'!L14 -> 156991380 | F39: =E39-D39 -> -3821720 | G39: 인건비 호봉 승급에 따른 예산 증액
C40: 기타후생경비 | D40: ='나.세입세출(총괄)'!K15 -> 44200000 | E40: ='나.세입세출(총괄)'!L15 -> 50000000 | F40: =E40-D40 -> 5800000 | G40: 실지출대비 예산 감액
B41: 업무추진비 | C41: 기관운영비 | D41: ='나.세입세출(총괄)'!K17 -> 0 | E41: ='나.세입세출(총괄)'!L17 -> 0 | F41: =E41-D41 -> 0
C42: 직책보조비 | D42: ='나.세입세출(총괄)'!K18 -> 0 | E42: ='나.세입세출(총괄)'!L18 -> 0 | F42: =E42-D42 -> 0
C43: 홍보비 | D43: ='나.세입세출(총괄)'!K19 -> 26000000 | E43: ='나.세입세출(총괄)'!L19 -> 25000000 | F43: =E43-D43 -> -1000000
...

Sheet 인건비총계표(보조금)
A1: ▣ 2015년 종사자 인건비 총계표
A3: (1) 국도시비 | AC3: (단위 : 원)
A4: 연 번 | B4: 직 종 | C4: 호 봉 | D4: 명 수 | E4: 구분 (월) | F4: 기본급 | G4: 기말수당 (50%씩 연4회 -3,6,9,12월) | H4: 정근수당 (1,7월) | I4: 장기근속 수 당 | J4: 가계지원비 (50%씩 연4회 -4,5,10,11월) | K4: 가계보조 수 당 (50,000원) | L4: 교통급식비 (110,000원) | M4: 명절휴가비 (60%씩 연2회) | N4: 특수근무 수 당 (국비) | O4: 가족수당 (40,000원) (20,000원) | P4: 명절휴가비 연평균액 | Q4: 연장근로수당 | R4: 연장근로수당 (보수월액*1/ 209*1.5*20or40) | S4: 추가지원수당 (보수월액*1/ 209*1.5*5 | T4: 특수근무 수 당 (도비) | U4: 소 계 | V4: 비 고 | W4: 퇴직적립금 | X4: 국민연금 | Y4: 의료보험 | Z4: 의료보험 (장기요양보험) | AA4: 고용보험 | AB4: 산재보험 | AC4: 공제액합계 | AD4: 실수령액 (갑근세미반영)
A5: 합 계 | F5: =F6+F19+F32+F45+F58+F71+F84+F97+F110+F123+F136+F149+F162+F175+F188+F201+F214+F227+F240+F253+F266+F279+F292+F305+F318+F331+F344+F357+F370+F383+F396+F409+F422+F435+F448+F461+F474+F487+F500+F513+F526+F539+F552+F565+F591+F604+F617+F630+F643+F578 -> 1141381000 | G5: =G6+G19+G32+G45+G58+G71+G84+G97+G110+G123+G136+G149+G162+G175+G188+G201+G214+G227+G240+G253+G266+G279+G292+G305+G318+G331+G344+G357+G370+G383+G396+G409+G422+G435+G448+G461+G474+G487+G500+G513+G526+G539+G552+G565+G591+G604+G617+G630+G643+G578 -> 0 | H5: =H6+H19+H32+H45+H58+H71+H84+H97+H110+H123+H136+H149+H162+H175+H188+H201+H214+H227+H240+H253+H266+H279+H292+H305+H318+H331+H344+H357+H370+H383+H396+H409+H422+H435+H448+H461+H474+H487+H500+H513+H526+H539+H552+H565+H591+H604+H617+H630+H643+H578 -> 0 | I5: =I6+I19+I32+I45+I58+I71+I84+I97+I110+I123+I136+I149+I162+I175+I188+I201+I214+I227+I240+I253+I266+I279+I292+I305+I318+I331+I344+I357+I370+I383+I396+I409+I422+I435+I448+I461+I474+I487+I500+I513+I526+I539+I552+I565+I591+I604+I617+I630+I643+I578 -> 0 | J5: =J6+J19+J32+J45+J58+J71+J84+J97+J110+J123+J136+J149+J162+J175+J188+J201+J214+J227+J240+J253+J266+J279+J292+J305+J318+J331+J344+J357+J370+J383+J396+J409+J422+J435+J448+J461+J474+J487+J500+J513+J526+J539+J552+J565+J591+J604+J617+J630+J643+J578 -> 0 | K5: =K6+K19+K32+K45+K58+K71+K84+K97+K110+K123+K136+K149+K162+K175+K188+K201+K214+K227+K240+K253+K266+K279+K292+K305+K318+K331+K344+K357+K370+K383+K396+K409+K422+K435+K448+K461+K474+K487+K500+K513+K526+K539+K552+K565+K591+K604+K617+K630+K643+K578 -> 0 | L5: =L6+L19+L32+L45+L58+L71+L84+L97+L110+L123+L136+L149+L162+L175+L188+L201+L214+L227+L240+L253+L266+L279+L292+L305+L318+L331+L344+L357+L370+L383+L396+L409+L422+L435+L448+L461+L474+L487+L500+L513+L526+L539+L552+L565+L591+L604+L617+L630+L643+L578 -> 0 | M5: =M6+M19+M32+M45+M58+M71+M84+M97+M110+M123+M136+M149+M162+M175+M188+M201+M214+M227+M240+M253+M266+M279+M292+M305+M318+M331+M344+M357+M370+M383+M396+M409+M422+M435+M448+M461+M474+M487+M500+M513+M526+M539+M552+M565+M591+M604+M617+M630+M643+M578 -> 109854000 | ... U5: =U6+U19+U32+U45+U58+U71+U84+U97+U110+U123+U136+U149+U162+U175+U188+U201+U214+U227+U240+U253+U266+U279+U292+U305+U318+U331+U344+U357+U370+U383+U396+U409+U422+U435+U448+U461+U474+U487+U500+U513+U526+U539+U552+U565+U591+U604+U617+U630+U643+U578 -> 1668632500 | W5: =W6+W19+W32+W45+W58+W71+W84+W97+W110+W123+W136+W149+W162+W175+W188+W201+W214+W227+W240+W253+W266+W279+W292+W305+W318+W331+W344+W357+W370+W383+W396+W409+W422+W435+W448+W461+W474+W487+W500+W513+W526+W539+W552+W565+W591+W604+W617+W630+W643+W578 -> 139887770 | X5: =X6+X19+X32+X45+X58+X71+X84+X97+X110+X123+X136+X149+X162+X175+X188+X201+X214+X227+X240+X253+X266+X279+X292+X305+X318+X331+X344+X357+X370+X383+X396+X409+X422+X435+X448+X461+X474+X487+X500+X513+X526+X539+X552+X565+X591+X604+X617+X630+X643+X578 -> 75089230 | Y5: =Y6+Y19+Y32+Y45+Y58+Y71+Y84+Y97+Y110+Y123+Y136+Y149+Y162+Y175+Y188+Y201+Y214+Y227+Y240+Y253+Y266+Y279+Y292+Y305+Y318+Y331+Y344+Y357+Y370+Y383+Y396+Y409+Y422+Y435+Y448+Y461+Y474+Y487+Y500+Y513+Y526+Y539+Y552+Y565+Y591+Y604+Y617+Y630+Y643+Y578 -> 50645830 | Z5: =Z6+Z19+Z32+Z45+Z58+Z71+Z84+Z97+Z110+Z123+Z136+Z149+Z162+Z175+Z188+Z201+Z214+Z227+Z240+Z253+Z266+Z279+Z292+Z305+Z318+Z331+Z344+Z357+Z370+Z383+Z396+Z409+Z422+Z435+Z448+Z461+Z474+Z487+Z500+Z513+Z526+Z539+Z552+Z565+Z591+Z604+Z617+Z630+Z643+Z578 -> 3319920 | AA5: =AA6+AA19+AA32+AA45+AA58+AA71+AA84+AA97+AA110+AA123+AA136+AA149+AA162+AA175+AA188+AA201+AA214+AA227+AA240+AA253+AA266+AA279+AA292+AA305+AA318+AA331+AA344+AA357+AA370+AA383+AA396+AA409+AA422+AA435+AA448+AA461+AA474+AA487+AA500+AA513+AA526+AA539+AA552+AA565+AA591+AA604+AA617+AA630+AA643+AA578 -> 14594080 | AB5: =AB6+AB19+AB32+AB45+AB58+AB71+AB84+AB97+AB110+AB123+AB136+AB149+AB162+AB175+AB188+AB201+AB214+AB227+AB240+AB253+AB266+AB279+AB292+AB305+AB318+AB331+AB344+AB357+AB370+AB383+AB396+AB409+AB422+AB435+AB448+AB461+AB474+AB487+AB500+AB513+AB526+AB539+AB552+AB565+AB591+AB604+AB617+AB630+AB643+AB578 -> 12972230 | AC5: =AC6+AC19+AC32+AC45+AC58+AC71+AC84+AC97+AC110+AC123+AC136+AC149+AC162+AC175+AC188+AC201+AC214+AC227+AC240+AC253+AC266+AC279+AC292+AC305+AC318+AC331+AC344+AC357+AC370+AC383+AC396+AC409+AC422+AC435+AC448+AC461+AC474+AC487+AC500+AC513+AC526+AC539+AC552+AC565+AC591+AC604+AC617+AC630+AC643+AC578 -> 296509060 | AD5: =AD6+AD19+AD32+AD45+AD58+AD71+AD84+AD97+AD110+AD123+AD136+AD149+AD162+AD175+AD188+AD201+AD214+AD227+AD240+AD253+AD266+AD279+AD292+AD305+AD318+AD331+AD344+AD357+AD370+AD383+AD396+AD409+AD422+AD435+AD448+AD461+AD474+AD487+AD500+AD513+AD526+AD539+AD552+AD565+AD591+AD604+AD617+AD630+AD643+AD578 -> 1372123440
A6: 1 | B6: 시 설 장 | C6: 8,9 | D6: 1 | E6: 소계 | F6: =SUM(F7:F18) -> 35147000 | G6: =SUM(G7:G18) -> 0 | H6: =SUM(H7:H18) -> 0 | I6: =SUM(I7:I18) -> 0 | J6: =SUM(J7:J18) -> 0 | K6: =SUM(K7:K18) -> 0 | L6: =SUM(L7:L18) -> 0 | M6: =SUM(M7:M18) -> 3503400 | ... O6: =SUM(O7:O18) -> 0 | R6: =SUM(R7:R18) -> 5475000 | S6: =SUM(S7:S18) -> 1253000 | T6: =SUM(T7:T18) -> 3000000 | U6: =SUM(U7:U18) -> 47125400 | W6: =SUM(W7:W18) -> 3947980 | X6: =SUM(X7:X18) -> 2120670 | Y6: =SUM(Y7:Y18) -> 1430310 | Z6: =SUM(Z7:Z18) -> 93750 | AA6: =SUM(AA7:AA18) -> 0 | AB6: =SUM(AB7:AB18) -> 0 | AC6: =SUM(AC7:AC18) -> 7592710 | AD6: =U6-AC6 -> 39532690
B7: 이기수 | C7: 8 | E7: 1월 | F7: 2863000 | O7: - | T7: 250000 | U7: =SUM(F7,M7,O7,R7,T7) -> 3113000 | W7: =ROUNDUP(U7*1/12,-1) -> 259420 | X7: =ROUND(U7*4.5%,-1) -> 140090 | Y7: =ROUNDUP((U7-L7)*3.035%,-1) -> 94480 | Z7: =ROUNDUP(Y7*6.55%,-1) -> 6190 | AA7: 0 | AB7: 0 | AC7: =SUM(W7:AB7) -> 500180 | AD7: =U7-AC7 -> 2612820
E8: 2월 | F8: =F7 -> 2863000 | M8: =F8*60% -> 1717800 | O8: - | Q8: =ROUND((F7+T7)*1/209*1.5,-1) -> 22340 | R8: =Q8*20 -> 446800 | S8: =Q8*5 -> 111700 | T8: =T7 -> 250000 | U8: =SUM(F8,M8,O8,R8,T8) -> 5277600 | W8: =ROUNDUP((T8+U8)*1/12,-1) -> 460640 | X8: =ROUND(U8*4.5%,-1) -> 237490 | Y8: =ROUNDUP((U8-L8)*3.035%,-1) -> 160180 | Z8: =ROUNDUP(Y8*6.55%,-1) -> 10500 | AA8: 0 | AB8: 0 | AC8: =SUM(W8:AB8) -> 868810 | AD8: =U8-AC8 -> 4408790
E9: 3월 | F9: =F7 -> 2863000 | O9: - | Q9: =ROUND((F8+T8)*1/209*1.5,-1) -> 22340 | R9: =Q9*20 -> 446800 | S9: =Q9*5 -> 111700 | T9: =T8 -> 250000 | U9: =SUM(F9,M9,O9,R9,T9) -> 3559800 | W9: =ROUNDUP(U9*1/12,-1) -> 296650 | X9: =ROUND(U9*4.5%,-1) -> 160190 | Y9: =ROUNDUP((U9-L9)*3.035%,-1) -> 108040 | Z9: =ROUNDUP(Y9*6.55%,-1) -> 7080 | AA9: 0 | AB9: 0 | AC9: =SUM(W9:AB9) -> 571960 | AD9: =U9-AC9 -> 2987840
E10: 4월 | F10: =F8 -> 2863000 | O10: - | Q10: =ROUND((F9+T9)*1/209*1.5,-1) -> 22340 | R10: =Q10*20 -> 446800 | S10: =Q10*5 -> 111700 | T10: =T9 -> 250000 | U10: =SUM(F10,M10,O10,R10,T10) -> 3559800 | W10: =ROUNDUP(U10*1/12,-1) -> 296650 | X10: =ROUND(U10*4.5%,-1) -> 160190 | Y10: =ROUNDUP((U10-L10)*3.035%,-1) -> 108040 | Z10: =ROUNDUP(Y10*6.55%,-1) -> 7080 | AA10: 0 | AB10: 0 | AC10: =SUM(W10:AB10) -> 571960 | AD10: =U10-AC10 -> 2987840
E11: 5월 | F11: =F9 -> 2863000 | O11: - | Q11: =ROUND((F10+T10)*1/209*1.5,-1) -> 22340 | R11: =Q11*20 -> 446800 | S11: =Q11*5 -> 111700 | T11: =T10 -> 250000 | U11: =SUM(F11,M11,O11,R11,T11) -> 3559800 | W11: =ROUNDUP(U11*1/12,-1) -> 296650 | X11: =ROUND(U11*4.5%,-1) -> 160190 | Y11: =ROUNDUP((U11-L11)*3.035%,-1) -> 108040 | Z11: =ROUNDUP(Y11*6.55%,-1) -> 7080 | AA11: 0 | AB11: 0 | AC11: =SUM(W11:AB11) -> 571960 | AD11: =U11-AC11 -> 2987840
C12: 9 | E12: 6월 | F12: 2976000 | O12: - | Q12: =ROUND((F11+T11)*1/209*1.5,-1) -> 22340 | R12: =Q12*20 -> 446800 | S12: =Q12*5 -> 111700 | T12: =T11 -> 250000 | U12: =SUM(F12,M12,O12,R12,T12) -> 3672800 | W12: =ROUNDUP(U12*1/12,-1) -> 306070 | X12: =ROUND(U12*4.5%,-1) -> 165280 | Y12: =ROUNDUP((U12-L12)*3.035%,-1) -> 111470 | Z12: =ROUNDUP(Y12*6.55%,-1) -> 7310 | AA12: 0 | AB12: 0 | AC12: =SUM(W12:AB12) -> 590130 | AD12: =U12-AC12 -> 3082670
E13: 7월 | F13: =F12 -> 2976000 | O13: - | Q13: =ROUND((F12+T12)*1/209*1.5,-1) -> 23150 | R13: =Q13*20 -> 463000 | S13: =Q13*5 -> 115750 | T13: =T12 -> 250000 | U13: =SUM(F13,M13,O13,R13,T13) -> 3689000 | W13: =ROUNDUP(U13*1/12,-1) -> 307420 | X13: =ROUND(U13*4.5%,-1) -> 166010 | Y13: =ROUNDUP((U13-L13)*3.035%,-1) -> 111970 | Z13: =ROUNDUP(Y13*6.55%,-1) -> 7340 | AA13: 0 | AB13: 0 | AC13: =SUM(W13:AB13) -> 592740 | AD13: =U13-AC13 -> 3096260
E14: 8월 | F14: =F13 -> 2976000 | O14: - | Q14: =ROUND((F13+T13)*1/209*1.5,-1) -> 23150 | R14: =Q14*20 -> 463000 | S14: =Q14*5 -> 115750 | T14: =T13 -> 250000 | U14: =SUM(F14,M14,O14,R14,T14) -> 3689000 | W14: =ROUNDUP(U14*1/12,-1) -> 307420 | X14: =ROUND(U14*4.5%,-1) -> 166010 | Y14: =ROUNDUP((U14-L14)*3.035%,-1) -> 111970 | Z14: =ROUNDUP(Y14*6.55%,-1) -> 7340 | AA14: 0 | AB14: 0 | AC14: =SUM(W14:AB14) -> 592740 | AD14: =U14-AC14 -> 3096260
E15: 9월 | F15: =F13 -> 2976000 | M15: =F15*60% -> 1785600 | O15: - | Q15: =ROUND((F14+T14)*1/209*1.5,-1) -> 23150 | R15: =Q15*20 -> 463000 | S15: =Q15*5 -> 115750 | T15: =T14 -> 250000 | U15: =SUM(F15,M15,O15,R15,T15) -> 5474600 | W15: =ROUNDUP(U15*1/12,-1) -> 456220 | X15: =ROUND(U15*4.5%,-1) -> 246360 | Y15: =ROUNDUP((U15-L15)*3.035%,-1) -> 166160 | Z15: =ROUNDUP(Y15*6.55%,-1) -> 10890 | AA15: 0 | AB15: 0 | AC15: =SUM(W15:AB15) -> 879630 | AD15: =U15-AC15 -> 4594970
E16: 10월 | F16: =F13 -> 2976000 | O16: - | Q16: =ROUND((F15+T15)*1/209*1.5,-1) -> 23150 | R16: =Q16*20 -> 463000 | S16: =Q16*5 -> 115750 | T16: =T15 -> 250000 | U16: =SUM(F16,M16,O16,R16,T16) -> 3689000 | W16: =ROUNDUP(U16*1/12,-1) -> 307420 | X16: =ROUND(U16*4.5%,-1) -> 166010 | Y16: =ROUNDUP((U16-L16)*3.035%,-1) -> 111970 | Z16: =ROUNDUP(Y16*6.55%,-1) -> 7340 | AA16: 0 | AB16: 0 | AC16: =SUM(W16:AB16) -> 592740 | AD16: =U16-AC16 -> 3096260
