Workbook
Name F: #REF!
Name F: #REF!
Name F: #REF!

Sheet 표지
A4: 2015년도
A11: 2차 추가경정
A12: 세입ㆍ세출 예산서(안)
A23: 천주교수원교구사회복지회
A24: 둘 다 섯 해 누 리
E67: 0

Sheet 가.예산총칙
A1: 가. 예 산 총 칙
A4: 제 1 조 | C4: 본 예산은 사회복지법인 천주교 수원교구 사회복지회 소속 장애인거주시설 "둘다섯해누리"의
C5: 2015년(2015.01.01 ~ 2015.12.31) 기간의 예산으로 사회복지 법인 재무회계규칙 제9조 1항에
C6: 의한다.
A8: 제 2 조 | C8: 세입세출 예산총액은 | G8: ='나.세입세출(총괄)'!E6 -> 3126390000 | I8: 원으로 하며「세입 · 세출예산서」와 같다.
C10: 1. 세입의 주요재원은 다음과 같다. (관 기준)
D11: 1) | E11: 입소자부담금 | H11: ='나.세입세출(총괄)'!E7 -> 104400000 | J11: 원
D12: 2) | E12: 사업수입 | H12: ='나.세입세출(총괄)'!E10 -> 0 | J12: 원
D13: 3) | E13: 보조금수입 | H13: ='나.세입세출(총괄)'!E17+'나.세입세출(총괄)'!E21+'나.세입세출(총괄)'!E21 -> 2358791352 | J13: 원
D14: 4) | E14: 후원금수입 | H14: ='다-2.후원금세입내역 '!E16 -> 317100000 | J14: 원
D15: 5) | E15: 차입금 | J15: 원
D16: 6) | E16: 전입금 | H16: ='다-1.자부담세입내역'!E23 -> 20000000 | J16: 원
D17: 7) | E17: 이월금 | H17: ='나.세입세출(총괄)'!E39 -> 284604921 | J17: 원
D18: 8) | E18: 잡수입 | H18: ='나.세입세출(총괄)'!E43 -> 41493727 | J18: 원
C19: 2. 세출의 내용은 다음과 같다. (관 또는 항기준)
D20: 1) | E20: 사무비 | H20: =라.보조금세출내역!F7 -> 1894861560 | J20: 원
D21: 2) | E21: 재산조성비 | H21: =라.보조금세출내역!F47 -> 9300000 | J21: 원
D22: 3) | E22: 사업비 | H22: =라.보조금세출내역!F52 -> 454718792 | J22: 원
D23: 4) | E23: 부채상환금 | H23: 0 | J23: 원
D24: 5) | E24: 잡지출 | H24: =라.보조금세출내역!F119 -> 692243 | J24: 원
D25: 6) | E25: 과년도지출 | H25: ='나.세입세출(총괄)'!L66 -> 25617405 | J25: 원
D26: 7) | E26: 예비비 및 기타 | H26: =마.개요!E19+마.개요!E20 -> 86300000 | J26: 원
B28: 3. 명시이월사업은 | G28: 해당없으며 | I28: 예산은 | J28: 0 | L28: 원이다.
B30: 4. 신설사업은 | F30: 공동모금회 | G30: 난타프로그램이며, | I30: 예산은 | J30: 총 6,600,000 | L30: 원이다.
F31: 재활프로그램 | G31: 도보트래킹이며, | I31: 예산은 | J31: 총 6,100,000 | L31: 원이다.
A33: 제3조 | B33: 2차 추경예산(안)은 법인 이사회의 승인을 얻어 확정한다.
A35: 제4조 | B35: 법인이사회의 예산승인을 받기 전에 일반경비 및 긴급을 요하는 예산집행은 직전예산에 준하여
B36: 지출할 수 있으며, 그 집행된 예산은 당해 연도의 확정예산에 의하여 집행된 것으로 간주한다.
A38: 제5조 | B38: 각 계정과목 내의 항목의 예산집행은 당해 계정과목의 승인예산의 범위 내에서 항목간 예산을
B39: 일부 조정하여 사용할 수 있다.
A41: 제6조 | B41: 세출경비의 조정이 필요한 경우 「사회복지법인 및 사회복지시설 재무회계규칙」 제16조에
B42: 의거하여 예산을 전용할 수 있다.
A44: 제7조 | B44: 국가 또는 지방자치단체로부터 교부된 보조금 및 지정후원금, 수익자부담 경비 등은
B45: 추가경정예산의 성립 이전이라도 보조 및 후원 목적에 적절한 경우 먼저 사용할 수 있으며,
B46: 이는 반드시 차기 추가경정예산에 반영하여야 한다.
A48: 제8조 | B48: 인건비 집행을 위한 사무비 내 항간 전용사항은 승인받은 것으로 간주하고, 이는 반드시 차기
B49: 추가경정예산에 반영하여야 한다.
A51: 제9조 | B51: 국가, 지방자치단체 및 사회복지기금 등에서 공모사업 선정으로 받은 보조금은 사회복지법인
B52: 및 사회복지시설 재무회계규칙에 따라 기타보조금에 편성되어야 한다.
B53: (만약, 지정후원금 또는 별도 사업비 편성이 용이하다는 지차체의 증빙자료(공문)가 있을시에만
B54: 별도 편성 가능)
A56: 제10조 | B56: 기타 회계 관련 규정의 개정으로 예산과목이 변경된 경우에는 당해연도 변경된 과목으로 승인
B57: 된 것으로 하며, 그 외의 예산총칙에 명시되지 아니한 사항은 「사회복지법인
B58: 및 사회복지시설 재무회계규칙」에 따라 집행한다.

Sheet 나.세입세출(총괄)
A1: 나. 세입·세출 총괄
N2: (단위:원)
H3: 세 출
A4: 과 목 | D4: 2015년도 1차추경 ( A ) | E4: 2015년도 2차추경 ( B ) | F4: 구성비 ( ％ ) | G4: 비교증감 ( B-A ) | H4: 과 목 | K4: =D4 -> 2015년도 1차추경 ( A ) | L4: =E4 -> 2015년도 2차추경 ( B ) | M4: 구성비 ( ％ ) | N4: 비교증감 ( B-A )
A5: 관 | B5: 항 | C5: 목 | H5: 관 | I5: 항 | J5: 목
A6: 총 계 | D6: =D7+D13+D16+D36+D39+D43+D10+D30 -> 3123200000 | E6: =E7+E13+E16+E36+E39+E43+E10+E30 -> 3126390000 | F6: =F7+F13+F16+F36+F39+F43+F30+F10 -> 100 | G6: =G7+G13+G16+G36+G39+G43+G10+G30 -> 3190000 | H6: 총 계 | K6: =SUM(K7,K28,K33,K52,K58,K61,K64) -> 3123200000 | L6: =SUM(L7,L28,L33,L52,L58,L61,L64) -> 3126390000 | M6: =M7+M28+M33+M55+M58+M61+M64+M52 -> 100 | N6: =N7+N28+N33+N55+N58+N61+N52+N64 -> 3190000
A7: 입소자부담금 | B7: 계 | D7: 104400000 | E7: =E8 -> 104400000 | F7: =F8 -> 3.3393147 | G7: =G8 -> 0 | H7: 사무비 | I7: 계 | K7: =SUM(K8,K16,K21) -> 2243140480 | L7: =SUM(L8,L16,L21) -> 2180051560 | M7: =M8+M16+M21 -> 69.730634 | N7: =N8+N16+N21 -> -63088920 | R7: 1194682000
B8: 입소비용수입 | C8: 소계 | D8: 104400000 | E8: =E9 -> 104400000 | F8: =F9 -> 3.3393147 | G8: =G9 -> 0 | I8: 인건비 | J8: 소계 | K8: =SUM(K9:K15) -> 1955219480 | L8: =SUM(L9:L15) -> 1897498310 | M8: =SUM(M9:M15) -> 60.69295 | N8: =SUM(N9:N15) -> -57721170
C9: 입소비용수입 | D9: 104400000 | E9: ='다-1.자부담세입내역'!E9 -> 104400000 | F9: =E9/$E$6*100 -> 3.3393147 | G9: =E9-D9 -> 0 | J9: 급여 | K9: =라.보조금세출내역!E9+'라-2.후원금세출내역'!E9 -> 1158682000 | L9: =라.보조금세출내역!F9+'라-2.후원금세출내역'!F9 -> 1141381000 | M9: =L9/$L$6*100 -> 36.507953 | N9: =L9-K9 -> -17301000
A10: 사업수입 | B10: 계 | D10: 0 | E10: =E11 -> 0 | F10: =F11 -> 0 | G10: =G11 -> 0 | J10: 상여금 | K10: =라.보조금세출내역!E10+'라-2.후원금세출내역'!E10 -> 0 | L10: =라.보조금세출내역!F10+'라-2.후원금세출내역'!F10 -> 0 | M10: =L10/$L$6*100 -> 0 | N10: =L10-K10 -> 0
B11: 사업수입 | C11: 소계 | D11: 0 | E11: =E12 -> 0 | F11: =F12 -> 0 | G11: =G12 -> 0 | J11: 일용잡금 | K11: =라.보조금세출내역!E11+'라-2.후원금세출내역'!E11 -> 9600000 | L11: =라.보조금세출내역!F11+'라-2.후원금세출내역'!F11 -> 2000000 | M11: =L11/$L$6*100 -> 0.063971545 | N11: =L11-K11 -> -7600000
C12: 프로그램사업수입 | D12: 0 | E12: ='다-1.자부담세입내역'!E12 -> 0 | F12: =E12/$E$6*100 -> 0 | G12: =E12-D12 -> 0 | J12: 제수당 | K12: =라.보조금세출내역!E16+'라-2.후원금세출내역'!E12 -> 437179850 | L12: =라.보조금세출내역!F16+'라-2.후원금세출내역'!F12+'라-1.자부담세출내역'!F12 -> 406531500 | M12: =L12/$L$6*100 -> 13.003224 | N12: =L12-K12 -> -30648350
A13: 과년도수입 | B13: 계 | D13: 0 | E13: =E14 -> 0 | F13: =F14 -> 0 | G13: =G14 -> 0 | J13: 퇴직금및퇴직적립금 | K13: =라.보조금세출내역!E26+'라-2.후원금세출내역'!E26 -> 144744530 | L13: =라.보조금세출내역!F26+'라-2.후원금세출내역'!F26+'라-1.자부담세출내역'!F26 -> 140594430 | M13: =L13/$L$6*100 -> 4.4970215 | N13: =L13-K13 -> -4150100
B14: 과년도수입 | C14: 소계 | D14: 0 | E14: =E15 -> 0 | F14: =F15 -> 0 | G14: =G15 -> 0 | J14: 사회보험부담비용 | K14: =라.보조금세출내역!E27+'라-2.후원금세출내역'!E27 -> 160813100 | L14: =라.보조금세출내역!F27+'라-2.후원금세출내역'!F27+'라-1.자부담세출내역'!F27 -> 156991380 | M14: =L14/$L$6*100 -> 5.0214906 | N14: =L14-K14 -> -3821720
C15: 과년도수입 | D15: 0 | E15: =다.보조금세입내역!F12+'다-1.자부담세입내역'!E15 -> 0 | F15: =E15/$E$6*100 -> 0 | G15: =E15-D15 -> 0 | J15: 기타후생경비 | K15: =라.보조금세출내역!E32+'라-1.자부담세출내역'!E32+'라-2.후원금세출내역'!E32 -> 44200000 | L15: =라.보조금세출내역!F32+'라-1.자부담세출내역'!F32+'라-2.후원금세출내역'!F32 -> 50000000 | M15: =L15/$L$6*100 -> 1.5992886 | N15: =L15-K15 -> 5800000
A16: 보조금수입 | B16: 계 | D16: =D17+D21+D23+D28 -> 2355742860 | E16: =E17+E21+E23+E28 -> 2358791352 | F16: =F17+F21+F23+F28 -> 75.447764 | G16: =G17+G21+G23+G28 -> 3048492 | I16: 업무추진비 | J16: 소계 | K16: =SUM(K17:K20) -> 30000000 | L16: =SUM(L17:L20) -> 29000000 | M16: =SUM(M17:M20) -> 0.92758741 | N16: =SUM(N17:N20) -> -1000000
B17: =다.보조금세입내역!B14 -> 보조금수입 | C17: 소계 | D17: =SUM(D18:D20) -> 2355742860 | E17: =SUM(E18:E20) -> 2358791352 | F17: =SUM(F18:F20) -> 75.447764 | G17: =SUM(G18:G20) -> 3048492 | J17: 기관운영비 | K17: 0 | L17: 0 | M17: =L17/$L$6*100 -> 0 | N17: =L17-K17 -> 0
C18: =다.보조금세입내역!C15 -> 국고보조금 | D18: =다.보조금세입내역!E15 -> 1477837788 | E18: =다.보조금세입내역!F15 -> 1.4443583e+09 | F18: =E18/$E$6*100 -> 46.198917 | G18: =E18-D18 -> -33479466 | J18: 직책보조비 | K18: ='라-1.자부담세출내역'!E35 -> 0 | L18: ='라-1.자부담세출내역'!F35 -> 0 | M18: =L18/$L$6*100 -> 0 | N18: =L18-K18 -> 0
C19: =다.보조금세입내역!C19 -> 시도(군)보조금 | D19: =다.보조금세입내역!E19 -> 872615072 | E19: =다.보조금세입내역!F19 -> 9.0914303e+08 | F19: =E19/$E$6*100 -> 29.079642 | G19: =E19-D19 -> 36527958 | J19: 홍보비 | K19: ='라-1.자부담세출내역'!E36+'라-2.후원금세출내역'!E36 -> 26000000 | L19: ='라-1.자부담세출내역'!F36+'라-2.후원금세출내역'!F36 -> 25000000 | M19: =L19/$L$6*100 -> 0.79964432 | N19: =L19-K19 -> -1000000
C20: =다.보조금세입내역!C28 -> 기타보조금 | D20: =다.보조금세입내역!E28 -> 5290000 | E20: =다.보조금세입내역!F28 -> 5290000 | F20: =E20/$E$6*100 -> 0.16920474 | G20: =E20-D20 -> 0 | J20: 회의비 | K20: =라.보조금세출내역!E36+'라-1.자부담세출내역'!E37+'라-2.후원금세출내역'!E37 -> 4000000 | L20: =라.보조금세출내역!F36+'라-1.자부담세출내역'!F37+'라-2.후원금세출내역'!F37 -> 4000000 | M20: =L20/$L$6*100 -> 0.12794309 | N20: =L20-K20 -> 0
D21: 0 | E21: 0 | F21: =F22 -> 0 | G21: =G22 -> 0 | I21: 운영비 | J21: 소계 | K21: =SUM(K22:K27) -> 257921000 | L21: =SUM(L22:L27) -> 253553250 | M21: =SUM(M22:M27) -> 8.1100966 | N21: =SUM(N22:N27) -> -4367750
D22: 0 | E22: 0 | F22: =E22/$E$6*100 -> 0 | G22: =E22-D22 -> 0 | J22: 여비 | K22: =라.보조금세출내역!E38+'라-2.후원금세출내역'!E39 -> 10000000 | L22: =라.보조금세출내역!F38+'라-2.후원금세출내역'!F39 -> 10000000 | M22: =L22/$L$6*100 -> 0.31985773 | N22: =L22-K22 -> 0
D23: 0 | E23: =SUM(E24:E27) -> 0 | F23: =SUM(F24:F27) -> 0 | G23: =SUM(G24:G27) -> 0 | J23: 수용비및수수료 | K23: =라.보조금세출내역!E39+'라-1.자부담세출내역'!E40+'라-2.후원금세출내역'!E40 -> 39390000 | L23: =라.보조금세출내역!F39+'라-1.자부담세출내역'!F40+'라-2.후원금세출내역'!F40 -> 39922250 | M23: =L23/$L$6*100 -> 1.276944 | N23: =L23-K23 -> 532250
D24: 0 | E24: =다.보조금세입내역!F31 -> 0 | F24: =E24/$E$6*100 -> 0 | G24: =E24-D24 -> 0 | J24: 공공요금 | K24: =라.보조금세출내역!E40+'라-1.자부담세출내역'!E41+'라-2.후원금세출내역'!E41 -> 118131000 | L24: =라.보조금세출내역!F40+'라-1.자부담세출내역'!F41+'라-2.후원금세출내역'!F41 -> 118131000 | M24: =L24/$L$6*100 -> 3.7785113 | N24: =L24-K24 -> 0
D25: 0 | E25: =다.보조금세입내역!F32 -> 0 | F25: =E25/$E$6*100 -> 0 | G25: =E25-D25 -> 0 | J25: 제세공과금 | K25: =라.보조금세출내역!E41+'라-1.자부담세출내역'!E42+'라-2.후원금세출내역'!E42 -> 21000000 | L25: =라.보조금세출내역!F41+'라-1.자부담세출내역'!F42+'라-2.후원금세출내역'!F42 -> 19000000 | M25: =L25/$L$6*100 -> 0.60772968 | N25: =L25-K25 -> -2000000
D26: 0 | E26: =다.보조금세입내역!F33 -> 0 | F26: =E26/$E$6*100 -> 0 | G26: =E26-D26 -> 0 | J26: 차량비 | K26: =라.보조금세출내역!E45+'라-1.자부담세출내역'!E43+'라-2.후원금세출내역'!E43 -> 53400000 | L26: =라.보조금세출내역!F45+'라-1.자부담세출내역'!F43+'라-2.후원금세출내역'!F43 -> 51000000 | M26: =L26/$L$6*100 -> 1.6312744 | N26: =L26-K26 -> -2400000
D27: 0 | E27: =다.보조금세입내역!F34 -> 0 | F27: =E27/$E$6*100 -> 0 | G27: =E27-D27 -> 0 | J27: 기타운영비 | K27: =라.보조금세출내역!E46+'라-1.자부담세출내역'!E44+'라-2.후원금세출내역'!E44 -> 16000000 | L27: =라.보조금세출내역!F46+'라-1.자부담세출내역'!F44+'라-2.후원금세출내역'!F44 -> 15500000 | M27: =L27/$L$6*100 -> 0.49577948 | N27: =L27-K27 -> -500000
C28: 소계 | D28: 0 | E28: =E29 -> 0 | F28: =F29 -> 0 | G28: =G29 -> 0 | H28: 재산조성비 | I28: 계 | K28: =SUM(K29) -> 206400000 | L28: =SUM(L29) -> 223900000 | M28: =M29 -> 7.1616145 | N28: =N29 -> 17500000
C29: 후원금수입 | D29: 0 | E29: ='다-2.후원금세입내역 '!E14 -> 0 | F29: =E29/$E$6*100 -> 0 | G29: =E29-D29 -> 0 | I29: 시설비 | J29: 소계 | K29: =SUM(K30:K32) -> 206400000 | L29: =SUM(L30:L32) -> 223900000 | M29: =SUM(M30:M32) -> 7.1616145 | N29: =SUM(N30:N32) -> 17500000
A30: 후원금 | B30: 계 | D30: =D31+D34 -> 317100000 | E30: =E31+E34 -> 317100000 | F30: =F31+F34 -> 10.142689 | G30: =G31+G34 -> 0 | J30: 시설비 | K30: =라.보조금세출내역!E49+'라-1.자부담세출내역'!E47+'라-2.후원금세출내역'!E47 -> 16000000 | L30: =라.보조금세출내역!F49+'라-1.자부담세출내역'!F47+'라-2.후원금세출내역'!F47 -> 9000000 | M30: =L30/$L$6*100 -> 0.28787195 | N30: =L30-K30 -> -7000000
B31: 후원금수입 | C31: 소계 | D31: =SUM(D32:D33) -> 316100000 | E31: =SUM(E32:E33) -> 316100000 | F31: =SUM(F32:F33) -> 10.110703 | G31: =SUM(G32:G33) -> 0 | J31: 자산취득비 | K31: =라.보조금세출내역!E50+'라-1.자부담세출내역'!E48+'라-2.후원금세출내역'!E48 -> 40000000 | L31: =라.보조금세출내역!F50+'라-1.자부담세출내역'!F48+'라-2.후원금세출내역'!F48 -> 24000000 | M31: =L31/$L$6*100 -> 0.76765855 | N31: =L31-K31 -> -16000000
C32: 지정후원금 | D32: ='다-2.후원금세입내역 '!D18 -> 6100000 | E32: ='다-2.후원금세입내역 '!E18 -> 6100000 | F32: =E32/$E$6*100 -> 0.19511321 | G32: =E32-D32 -> 0 | J32: 시설장비유지비 | K32: =라.보조금세출내역!E51+'라-1.자부담세출내역'!E49+'라-2.후원금세출내역'!E49 -> 150400000 | L32: =라.보조금세출내역!F51+'라-1.자부담세출내역'!F49+'라-2.후원금세출내역'!F49 -> 190900000 | M32: =L32/$L$6*100 -> 6.106084 | N32: =L32-K32 -> 40500000
C33: 비지정후원금 | D33: 310000000 | E33: ='다-2.후원금세입내역 '!E19 -> 310000000 | F33: =E33/$E$6*100 -> 9.9155895 | G33: =E33-D33 -> 0 | H33: 사업비 | I33: 계 | K33: =SUM(K34,K40,K41) -> 646402380 | L33: =SUM(L34,L40,L41) -> 695128792 | M33: =M34+M40+M41 -> 22.234232 | N33: =N34+N40+N41 -> 48726412
B34: 결연후원금수입 | C34: 소계 | D34: 1000000 | E34: =E35 -> 1000000 | F34: =F35 -> 0.031985773 | G34: =G35 -> 0 | I34: 운영비 | J34: 소계 | K34: =SUM(K35:K39) -> 287146360 | L34: =SUM(L35:L39) -> 284996472 | M34: =SUM(M35:M39) -> 9.1158324 | N34: =SUM(N35:N39) -> -2149888
C35: 결연후원금 | D35: 1000000 | E35: ='다-2.후원금세입내역 '!E20 -> 1000000 | F35: =E35/$E$6*100 -> 0.031985773 | G35: =E35-D35 -> 0 | J35: 생계비 | K35: =라.보조금세출내역!E55+라.보조금세출내역!E59+라.보조금세출내역!E60+'라-1.자부담세출내역'!E52+'라-2.후원금세출내역'!E52 -> 228527360 | L35: =라.보조금세출내역!F55+라.보조금세출내역!F59+라.보조금세출내역!F60+'라-1.자부담세출내역'!F52+'라-2.후원금세출내역'!F52 -> 238277472 | M35: =L35/$L$6*100 -> 7.6214891 | N35: =L35-K35 -> 9750112
A36: 전입금 | B36: 계 | D36: =D37 -> 20000000 | E36: =E37 -> 20000000 | F36: =F37 -> 0.63971545 | G36: =G37 -> 0 | J36: 피복비 | K36: =라.보조금세출내역!E63+'라-1.자부담세출내역'!E53 -> 8800000 | L36: =라.보조금세출내역!F63+'라-1.자부담세출내역'!F53 -> 2400000 | M36: =L36/$L$6*100 -> 0.076765855 | N36: =L36-K36 -> -6400000
B37: 전입금 | C37: 소계 | D37: =D38 -> 20000000 | E37: =E38 -> 20000000 | F37: =F38 -> 0.63971545 | G37: =G38 -> 0 | J37: ='라-1.자부담세출내역'!C54 -> 수용기관경비 | K37: =라.보조금세출내역!E65+'라-1.자부담세출내역'!E54+'라-1.자부담세출내역'!E55+'라-2.후원금세출내역'!E53+'라-2.후원금세출내역'!E54 -> 45819000 | L37: =라.보조금세출내역!F65+'라-1.자부담세출내역'!F54+'라-1.자부담세출내역'!F55+'라-2.후원금세출내역'!F53+'라-2.후원금세출내역'!F54 -> 40819000 | M37: =L37/$L$6*100 -> 1.3056273 | N37: =L37-K37 -> -5000000
C38: 법인전입금 | D38: 20000000 | E38: ='다-1.자부담세입내역'!E25 -> 20000000 | F38: =E38/$E$6*100 -> 0.63971545 | G38: =E38-D38 -> 0 | J38: 의료비 | K38: ='라-1.자부담세출내역'!E56+'라-2.후원금세출내역'!E56 -> 3500000 | L38: ='라-1.자부담세출내역'!F56+'라-2.후원금세출내역'!F56 -> 3500000 | M38: =L38/$L$6*100 -> 0.1119502 | N38: =L38-K38 -> 0
A39: 이월금 | B39: 계 | D39: =D40 -> 284604921 | E39: =E40 -> 284604921 | F39: =F40 -> 9.1033083 | G39: =G40 -> 0 | J39: 연료비 | K39: ='라-2.후원금세출내역'!E61 -> 500000 | L39: ='라-2.후원금세출내역'!F61 -> 0 | M39: =L39/$L$6*100 -> 0 | N39: =L39-K39 -> -500000
B40: 이월금 | C40: 소계 | D40: =SUM(D41:D42) -> 284604921 | E40: =SUM(E41:E42) -> 284604921 | F40: =SUM(F41:F42) -> 9.1033083 | G40: =SUM(G41:G42) -> 0 | I40: 교육비 | J40: 소계 | K40: 0 | L40: 0 | M40: =라.보조금세출내역!G75+'라-1.자부담세출내역'!G61 -> 0 | N40: =L40-K40 -> 0
C41: 전년도이월금 | D41: =다.보조금세입내역!E37+'다-1.자부담세입내역'!D28+'다-2.후원금세입내역 '!D31 -> 284604921 | E41: =다.보조금세입내역!F37+'다-1.자부담세입내역'!E28+'다-2.후원금세입내역 '!E31 -> 284604921 | F41: =E41/$E$6*100 -> 9.1033083 | G41: =E41-D41 -> 0 | I41: 사업비 | J41: 소계 | K41: =SUM(K42:K51) -> 359256020 | L41: =SUM(L42:L51) -> 410132320 | M41: =SUM(M42:M51) -> 13.118399 | N41: =SUM(N42:N51) -> 50876300
C42: 이월사업비 | D42: 0 | E42: =다.보조금세입내역!F38+'다-1.자부담세입내역'!E29 -> 0 | F42: =E42/$E$6*100 -> 0 | G42: =E42-D42 -> 0 | J42: 의료재활사업비 | K42: 0 | L42: 0 | M42: =L42/$L$6*100 -> 0 | N42: =L42-K42 -> 0
A43: 잡수입 | B43: 계 | D43: =D44 -> 41352219 | E43: =E44 -> 41493727 | F43: =F44 -> 1.3272089 | G43: =G44 -> 141508 | J43: 사회심리재활사업비 | K43: =라.보조금세출내역!E88+'라-1.자부담세출내역'!E74+'라-2.후원금세출내역'!E75 -> 77500000 | L43: =라.보조금세출내역!F88+'라-1.자부담세출내역'!F74+'라-2.후원금세출내역'!F75 -> 77500000 | M43: =L43/$L$6*100 -> 2.4788974 | N43: =L43-K43 -> 0
B44: 잡수입 | C44: 소계 | D44: =SUM(D45:D47) -> 41352219 | E44: =SUM(E45:E47) -> 41493727 | F44: =SUM(F45:F47) -> 1.3272089 | G44: =SUM(G45:G47) -> 141508 | J44: 교육재활사업비 | K44: 0 | L44: 0 | M44: =L44/$L$6*100 -> 0 | N44: =L44-K44 -> 0
C45: 불용품매각대 | D45: 500000 | E45: =다.보조금세입내역!F41+'다-1.자부담세입내역'!E32 -> 500000 | F45: =E45/$E$6*100 -> 0.015992886 | G45: =E45-D45 -> 0 | J45: 직업재활사업비 | K45: ='라-1.자부담세출내역'!E76+'라-2.후원금세출내역'!E77 -> 30000000 | L45: ='라-1.자부담세출내역'!F76+'라-2.후원금세출내역'!F77 -> 30000000 | M45: =L45/$L$6*100 -> 0.95957318 | N45: =L45-K45 -> 0
C46: 기타예금이자수입 | D46: =다.보조금세입내역!E42+'다-1.자부담세입내역'!D33+'다-2.후원금세입내역 '!D36 -> 2352219 | E46: =다.보조금세입내역!F42+'다-1.자부담세입내역'!E33+'다-2.후원금세입내역 '!E36 -> 2404727 | F46: =E46/$E$6*100 -> 0.076917051 | G46: =E46-D46 -> 52508 | J46: 4종운영지원사업비 | K46: =라.보조금세출내역!E93 -> 32840000 | L46: =라.보조금세출내역!F93 -> 32840000 | M46: =L46/$L$6*100 -> 1.0504128 | N46: =L46-K46 -> 0
C47: 기타잡수입 | D47: 38500000 | E47: =다.보조금세입내역!F43+'다-1.자부담세입내역'!E34 -> 38589000 | F47: =E47/$E$6*100 -> 1.234299 | G47: =E47-D47 -> 89000 | J47: 7종운영지원사업비 | K47: =라.보조금세출내역!E99 -> 206416020 | L47: =라.보조금세출내역!F99 -> 237019070 | M47: =L47/$L$6*100 -> 7.5812381 | N47: =L47-K47 -> 30603050
J48: =라.보조금세출내역!C107 -> 추가지원사업비 | K48: =라.보조금세출내역!E107 -> 0 | L48: =라.보조금세출내역!F107 -> 20273250 | M48: =L48/$L$6*100 -> 0.64845557 | N48: =L48-K48 -> 20273250
J49: 재활프로그램사업비 | K49: =라.보조금세출내역!E110+'라-2.후원금세출내역'!E78 -> 5900000 | L49: =라.보조금세출내역!F110+'라-2.후원금세출내역'!F78 -> 5900000 | M49: =L49/$L$6*100 -> 0.18871606 | N49: =L49-K49 -> 0
K50: 0 | L50: 0 | M50: =L50/$L$6*100 -> 0 | N50: =L50-K50 -> 0
J51: 공동모금회사업비 | K51: ='라-2.후원금세출내역'!E82 -> 6600000 | L51: ='라-2.후원금세출내역'!F82 -> 6600000 | M51: =L51/$L$6*100 -> 0.2111061 | N51: =L51-K51 -> 0
H52: 결연후원금 | I52: 계 | K52: =SUM(K53) -> 1000000 | L52: =SUM(L53) -> 1000000 | M52: =M53 -> 0.031985773 | N52: =N53 -> 0
I53: 결연후원금 | J53: 소계 | K53: =SUM(K54) -> 1000000 | L53: =SUM(L54) -> 1000000 | M53: =M54 -> 0.031985773 | N53: =N54 -> 0
J54: 결연후원금지급 | K54: 1000000 | L54: ='라-2.후원금세출내역'!F86 -> 1000000 | M54: =L54/$L$6*100 -> 0.031985773 | N54: =L54-K54 -> 0
H55: 과년도지출 | I55: 계 | K55: 0 | L55: 0 | M55: =M56 -> 0 | N55: =N56 -> 0
I56: 과년도지출 | J56: 소계 | K56: 0 | L56: =SUM(L57) -> 0 | M56: =M57 -> 0 | N56: =N57 -> 0
J57: 과년도지출 | K57: 0 | L57: 0 | M57: =L57/$L$6*100 -> 0 | N57: =L57-K57 -> 0
H58: 잡지출 | I58: 계 | K58: =SUM(K59) -> 639735 | L58: =SUM(L59) -> 692243 | M58: =M59 -> 0.022141927 | N58: =N59 -> 52508
I59: 잡지출 | J59: 소계 | K59: =SUM(K60) -> 639735 | L59: =SUM(L60) -> 692243 | M59: =M60 -> 0.022141927 | N59: =N60 -> 52508
J60: 잡지출 | K60: =라.보조금세출내역!E121 -> 639735 | L60: =라.보조금세출내역!F121 -> 692243 | M60: =L60/$L$6*100 -> 0.022141927 | N60: =L60-K60 -> 52508
H61: 예비비 | I61: 계 | K61: 0 | L61: =SUM(L62) -> 0 | M61: =M62 -> 0 | N61: =N62 -> 0
I62: 예비비 | J62: 소계 | K62: 0 | L62: =SUM(L63) -> 0 | M62: =M63 -> 0 | N62: =N63 -> 0
J63: 예비비 | K63: 0 | L63: 0 | M63: =L63/$L$6*100 -> 0 | N63: =L63-K63 -> 0
I64: 계 | K64: =SUM(K65) -> 25617405 | L64: =SUM(L65) -> 25617405 | M64: =M65 -> 0.81939249 | N64: =N65 -> 0
I65: 보조금반환 | J65: 소계 | K65: =SUM(K66) -> 25617405 | L65: =SUM(L66) -> 25617405 | M65: =M66 -> 0.81939249 | N65: =N66 -> 0
J66: 보조금반환 | K66: =라.보조금세출내역!E124 -> 25617405 | L66: =라.보조금세출내역!F124 -> 25617405 | M66: =L66/$L$6*100 -> 0.81939249 | N66: =L66-K66 -> 0
E67: 0

Sheet 다.보조금세입내역
A1: 다. 세 입
A2: 1) 보조금세입내역
I3: (단위:원)
A4: 과 목 | E4: ='나.세입세출(총괄)'!D4:D5 -> 2015년도 1차추경 ( A ) | F4: ='나.세입세출(총괄)'!E4:E5 -> 2015년도 2차추경 ( B ) | G4: 구성비 ( ％ ) | H4: 비교증감 ( B-A ) | I4: 산 출 내 역
A5: 관 | B5: 항 | C5: 목
A6: 총 계 | E6: 2382000000 | F6: =F7+F10+F13+F35+F39 -> 2385190000 | G6: =G7+G10+G13+G35+G39+G28 -> 99.778215 | H6: =H7+H10+H13+H35+H39 -> 3190000 | K6: =F6-라.보조금세출내역!F6 -> 0
A7: 입소자부담금 | B7: 계 | E7: 0 | F7: =F8 -> 0 | G7: =G8 -> 0 | H7: =H8 -> 0
B8: 입소비용수입 | C8: 소계 | E8: 0 | F8: =F9 -> 0 | G8: =G9 -> 0 | H8: =F8-E8 -> 0
C9: 입소비용수입 | E9: 0 | F9: 0 | G9: =F9/F6*100 -> 0 | H9: =F9-E9 -> 0
A10: 과년도수입 | B10: 계 | E10: 0 | F10: =F11 -> 0 | G10: =G11 -> 0 | H10: =H11 -> 0
B11: 과년도수입 | C11: 소계 | E11: 0 | F11: =F12 -> 0 | G11: =G12 -> 0 | H11: =H12 -> 0
C12: 과년도수입 | E12: 0 | F12: 0 | G12: =F12/F6*100 -> 0 | H12: =F12-E12 -> 0
A13: 보조금수입 | B13: 계 | E13: 2355742860 | F13: =F14 -> 2358791352 | G13: =G14+G28+G30+G41 -> 98.671441 | H13: =H14+H28+H30+H41 -> 3048492
B14: 보조금수입 | C14: 소계 | E14: =SUM(E15,E19,E28) -> 2355742860 | F14: =SUM(F15,F19,F28) -> 2358791352 | G14: =SUM(G15:G22) -> 98.671441 | H14: =F14-E14 -> 3048492
C15: 국고보조금 | D15: 소 계 | E15: =SUM(E16:E18) -> 1477837788 | F15: =SUM(F16:F18) -> 1.4443583e+09 | G15: =F15/F6*100 -> 60.555273 | H15: =F15-E15 -> -33479466
D16: =라.보조금세출내역!B8 -> 인건비 | E16: =라.보조금세출내역!E8*70% -> 1320983636 | F16: =라.보조금세출내역!F8*70% -> 1285159092 | H16: =F16-E16 -> -35824544
D17: 운영비 | E17: =라.보조금세출내역!Q7*70% -> 65905000 | F17: =라.보조금세출내역!Q7*70% -> 65905000 | H17: =F17-E17 -> 0
D18: 생계비 | E18: =라.보조금세출내역!E54*70% -> 90949152 | F18: =라.보조금세출내역!F54*70% -> 93294230 | H18: =F18-E18 -> 2345078.4
C19: 시도(군)보조금 | D19: 소 계 | E19: =SUM(E20:E25) -> 872615072 | F19: =SUM(F20:F25) -> 9.0914303e+08 | G19: =F19/F6*100 -> 38.116168 | H19: =F19-E19 -> 36527958
D20: =D16 -> 인건비 | E20: =라.보조금세출내역!E8*30% -> 566135844 | F20: =라.보조금세출내역!F8*30% -> 550782468 | H20: =F20-E20 -> -15353376
D21: =D17 -> 운영비 | E21: =라.보조금세출내역!Q7*30% -> 28245000 | F21: =라.보조금세출내역!Q7*30% -> 28245000 | H21: =F21-E21 -> 0
D22: =D18 -> 생계비 | E22: =라.보조금세출내역!E54*30% -> 38978208 | F22: =라.보조금세출내역!F54*30% -> 39983242 | H22: =F22-E22 -> 1005033.6
D23: =라.보조금세출내역!C93 -> 4종운영지원사업비 | E23: =라.보조금세출내역!E93 -> 32840000 | F23: =라.보조금세출내역!F93 -> 32840000 | H23: =F23-E23 -> 0
D24: =라.보조금세출내역!C99 -> 7종운영지원 사업비 | E24: =라.보조금세출내역!E99 -> 206416020 | F24: =라.보조금세출내역!F99 -> 237019070 | H24: =F24-E24 -> 30603050
D25: =라.보조금세출내역!C107 -> 추가지원사업비 | F25: =라.보조금세출내역!G107 -> 20273250 | H25: =F25-E25 -> 20273250
C28: 기타보조금 | D28: 소 계 | E28: 5290000 | F28: =SUM(F29) -> 5290000 | G28: =G29 -> 0 | H28: =H29 -> 0 | I28: 2015년 재활프로그램사업 (테마트래킹)
D29: 재활프로그램사업비 | E29: 5290000 | F29: =라.보조금세출내역!F110 -> 5290000
E32: 0 | F32: 0 | G32: =F32/F6*100 -> 0 | H32: =F32-E32 -> 0
G33: =F33/F6*100 -> 0 | H33: =F33-E33 -> 0
E34: 0 | F34: 0 | G34: =F34/F6*100 -> 0 | H34: =F34-E34 -> 0
A35: 이월금 | B35: 계 | E35: 25617405 | F35: =F36 -> 25617405 | G35: =G36 -> 1.0740195 | H35: =H36 -> 0
B36: 이월금 | C36: 소계 | E36: 25617405 | F36: =SUM(F37:F38) -> 25617405 | G36: =SUM(G37:G38) -> 1.0740195 | H36: =SUM(H37:H38) -> 0
C37: 전년도이월금 | E37: 25617405 | F37: 25617405 | G37: =F37/F6*100 -> 1.0740195 | H37: =F37-E37 -> 0 | I37: 실제 이월금액
C38: 이월사업비 | E38: 0 | F38: 0 | G38: =F38/F6*100 -> 0 | H38: =F38-E38 -> 0
A39: 잡수입 | B39: 계 | E39: 639735 | F39: =F40 -> 781243 | G39: =G40 -> 0.032753911 | H39: =H40 -> 141508
B40: 잡수입 | C40: 소계 | E40: 639735 | F40: =SUM(F41:F43) -> 781243 | G40: =SUM(G41:G43) -> 0.032753911 | H40: =SUM(H41:H43) -> 141508
C41: 불용품매각대 | E41: 0 | F41: 0 | G41: =F41/F6*100 -> 0 | H41: =F41-E41 -> 0
C42: 기타예금이자수입 | E42: 639735 | F42: =라.보조금세출내역!F119 -> 692243 | G42: =F42/F6*100 -> 0.029022552 | H42: =F42-E42 -> 52508
C43: 기타잡수입 | F43: 89000 | G43: =F43/F6*100 -> 0.0037313589 | H43: =F43-E43 -> 89000
E44: =E13+E35+E39 -> 2382000000
F77: 0

Sheet 다-1.자부담세입내역
A1: 다. 세 입
A2: 2) 자부담세입내역
H3: (단위:원)
A4: 과 목 | D4: =다.보조금세입내역!E4:E5 -> 2015년도 1차추경 ( A ) | E4: =다.보조금세입내역!F4:F5 -> 2015년도 2차추경 ( B ) | F4: 구성비 ( ％ ) | G4: 비교증감 ( B-A ) | H4: 산 출 내 역
A5: 관 | B5: 항 | C5: 목
A6: 총 계 | D6: 236600000 | E6: =E7+E10+E13+E16+E19+E23+E26+E30 -> 236600000 | F6: =F13+F19+F23+F26+F30+F16+F7+F10 -> 100 | G6: =G7+G10+G13+G16+G19+G23+G26+G30 -> 0 | J6: =E6-'라-1.자부담세출내역'!F6 -> 0
A7: 입소자부담금 | B7: 계 | D7: 104400000 | E7: =E8 -> 104400000 | F7: =F8 -> 44.125106 | G7: =G8 -> 0
B8: 입소비용수입 | C8: 소계 | D8: 104400000 | E8: =E9 -> 104400000 | F8: =F9 -> 44.125106 | G8: =E8-D8 -> 0
C9: 입소비용수입 | D9: 104400000 | E9: 104400000 | F9: =E9/E6*100 -> 44.125106 | G9: =E9-D9 -> 0 | H9: 29명*300,000원*12개월=104,400,000원 (실비정원 29명)
A10: 사업수입 | B10: 계 | D10: 0 | E10: =E11 -> 0 | F10: =F11 -> 0 | G10: =G11 -> 0
B11: 사업수입 | C11: 소계 | D11: 0 | E11: =E12 -> 0 | F11: =F12 -> 0 | G11: =G12 -> 0
C12: 프로그램사업수입 | D12: 0 | E12: 0 | F12: =E12/E6*100 -> 0 | G12: =E12-D12 -> 0 | H12: 0
A13: 과년도수입 | B13: 계 | D13: 0 | E13: =E14 -> 0 | F13: =F14 -> 0 | G13: =G14 -> 0
B14: 과년도수입 | C14: 소계 | D14: 0 | E14: =E15 -> 0 | F14: =F15 -> 0 | G14: =G15 -> 0
C15: 과년도수입 | D15: 0 | E15: 0 | F15: =E15/E6*100 -> 0 | G15: =E15-D15 -> 0
A16: 보조금수입 | B16: 계 | D16: 0 | E16: =E17 -> 0 | F16: =F17 -> 0 | G16: =G17 -> 0
C17: 소계 | D17: 0 | E17: =E18 -> 0 | F17: =F18 -> 0 | G17: =G18 -> 0
D18: 0 | E18: 0 | F18: =E18/E6*100 -> 0 | G18: =E18-D18 -> 0
A19: 차입금 | B19: 계 | D19: 0 | E19: =E20 -> 0 | F19: =F20 -> 0 | G19: =G20 -> 0
B20: 차입금 | C20: 소계 | D20: 0 | E20: =SUM(E21:E22) -> 0 | F20: =SUM(F21:F22) -> 0 | G20: =SUM(G21:G22) -> 0
C21: 금융기관차입 | D21: 0 | E21: 0 | F21: =E21/E6*100 -> 0 | G21: =E21-D21 -> 0
C22: 기타차입금 | D22: 0 | E22: 0 | F22: =E22/E6*100 -> 0 | G22: =E22-D22 -> 0
A23: 전입금 | B23: 계 | D23: 20000000 | E23: =E24 -> 20000000 | F23: =F24 -> 8.4530854 | G23: =G24 -> 0
B24: 전입금 | C24: 소계 | D24: 20000000 | E24: =E25 -> 20000000 | F24: =E24/E6*100 -> 8.4530854 | G24: =E24-D24 -> 0
C25: 법인전입금 | D25: 20000000 | E25: 20000000 | F25: =E25/E6*100 -> 8.4530854 | G25: =E25-D25 -> 0
A26: 이월금 | B26: 계 | D26: 72654412 | E26: =E27 -> 72654412 | F26: =F27 -> 30.707697 | G26: =G27 -> 0
B27: 이월금 | C27: 소계 | D27: 72654412 | E27: =SUM(E28:E29) -> 72654412 | F27: =SUM(F28:F29) -> 30.707697 | G27: =SUM(G28:G29) -> 0
C28: 전년도이월금 | D28: 72654412 | E28: 72654412 | F28: =E28/E6*100 -> 30.707697 | G28: =E28-D28 -> 0 | H28: 실제 이월액
C29: 이월사업비 | D29: 0 | E29: 0 | F29: =E29/E6*100 -> 0 | G29: =E29-D29 -> 0
A30: 잡수입 | B30: 계 | D30: 39545588 | E30: =E31 -> 39545588 | F30: =F31 -> 16.714112 | G30: =G31 -> 0
B31: 잡수입 | C31: 소계 | D31: 39545588 | E31: =SUM(E32:E34) -> 39545588 | F31: =SUM(F32:F34) -> 16.714112 | G31: =SUM(G32:G34) -> 0
C32: 불용품매각대 | D32: 500000 | E32: 500000 | F32: =E32/E6*100 -> 0.21132713 | G32: =E32-D32 -> 0
C33: 기타예금이자수입 | D33: 545588 | E33: 545588 | F33: =E33/E6*100 -> 0.2305951 | G33: =E33-D33 -> 0
C34: 기타잡수입 | D34: 38500000 | E34: 38500000 | F34: =E34/E6*100 -> 16.272189 | G34: =E34-D34 -> 0 | H34: 종사자급식비27,600,000/ 임대료(SK,LG) 5,900,000/ 기타 5,000,000
E67: 0

Sheet 다-2.후원금세입내역 
A1: 다. 세 입
A2: 3) 후원금세입내역
H3: (단위:원)
A4: 과 목 | D4: ='다-1.자부담세입내역'!D4:D5 -> 2015년도 1차추경 ( A ) | E4: ='다-1.자부담세입내역'!E4:E5 -> 2015년도 2차추경 ( B ) | F4: 구성비 ( ％ ) | G4: 비교증감 ( B-A ) | H4: 산 출 내 역
A5: 관 | B5: 항 | C5: 목
A6: 총 계 | D6: 504600000 | E6: =E7+E10+E13+E16+E22+E26+E29+E33 -> 504600000 | F6: =F10+F22+F26+F29+F33+F13+F7+F16 -> 100 | G6: =G10+G22+G26+G29+G33+G13+G7+G16 -> 0 | J6: =E6-'라-2.후원금세출내역'!F6 -> 0
A7: 입소자부담금 | B7: 계 | D7: 0 | E7: =E8 -> 0 | F7: =F8 -> 0 | G7: =G8 -> 0
B8: 입소비용수입 | C8: 소계 | D8: 0 | E8: =E9 -> 0 | F8: =F9 -> 0 | G8: =E8-D8 -> 0
C9: 입소비용수입 | D9: 0 | E9: 0 | F9: =E9/E6*100 -> 0 | G9: =E9-D9 -> 0
A10: 과년도수입 | B10: 계 | D10: 0 | E10: =E11 -> 0 | F10: =F11 -> 0 | G10: =G11 -> 0
B11: 과년도수입 | C11: 소계 | D11: 0 | E11: =E12 -> 0 | F11: =F12 -> 0 | G11: =G12 -> 0
C12: 과년도수입 | D12: 0 | E12: 0 | F12: =E12/E6*100 -> 0 | G12: =E12-D12 -> 0
A13: 보조금수입 | B13: 계 | D13: 0 | E13: =E14 -> 0 | F13: =F14 -> 0 | G13: =G14 -> 0
B14: 후원금수입 | C14: 소계 | D14: 0 | E14: =E15 -> 0 | F14: =F15 -> 0 | G14: =G15 -> 0
C15: 후원금수입 | D15: 0 | E15: 0 | F15: =E15/E6*100 -> 0 | G15: =E15-D15 -> 0
A16: 후원금수입 | B16: 계 | D16: 317100000 | E16: =E17+E20 -> 317100000 | F16: =F17+F20 -> 62.841855 | G16: =E16-D16 -> 0
B17: 후원금수입 | C17: 소계 | D17: 316100000 | E17: =SUM(E18:E19) -> 316100000 | F17: =SUM(F18:F19) -> 62.643678 | G17: =E17-D17 -> 0
C18: 지정후원금 | D18: 6100000 | E18: 6100000 | F18: =E18/E6*100 -> 1.2088783 | G18: =E18-D18 -> 0 | H18: 2015년 공동모금회 신청사업선정 지정후원금
C19: 비지정후원금 | D19: 310000000 | E19: 310000000 | F19: =E19/E6*100 -> 61.4348 | G19: =E19-D19 -> 0
B20: 결연후원금수입 | C20: 소계 | D20: 1000000 | E20: =SUM(E21:E22) -> 1000000 | F20: =SUM(F21:F22) -> 0.19817677 | G20: =E20-D20 -> 0
C21: 결연후원금 | D21: 1000000 | E21: 1000000 | F21: =E21/E6*100 -> 0.19817677 | G21: =E21-D21 -> 0
A22: 차입금 | B22: 계 | D22: 0 | E22: =E23 -> 0 | F22: =F23 -> 0 | G22: =G23 -> 0
B23: 차입금 | C23: 소계 | D23: 0 | E23: =SUM(E24:E25) -> 0 | F23: =SUM(F24:F25) -> 0 | G23: =SUM(G24:G25) -> 0
C24: 금융기관차입 | D24: 0 | E24: 0 | F24: =E24/E6*100 -> 0 | G24: =E24-D24 -> 0
C25: 기타차입금 | D25: 0 | E25: 0 | F25: =E25/E6*100 -> 0 | G25: =E25-D25 -> 0
A26: 전입금 | B26: 계 | D26: 0 | E26: =E27 -> 0 | F26: =F27 -> 0 | G26: =G27 -> 0
B27: 전입금 | C27: 소계 | D27: 0 | E27: =E28 -> 0 | F27: =E27/E6*100 -> 0 | G27: =E27-D27 -> 0
C28: 법인전입금 | D28: 0 | E28: 0 | F28: =E28/E6*100 -> 0 | G28: =E28-D28 -> 0
A29: 이월금 | B29: 계 | D29: 186333104 | E29: =E30 -> 186333104 | F29: =F30 -> 36.926893 | G29: =G30 -> 0
B30: 이월금 | C30: 소계 | D30: 186333104 | E30: =SUM(E31:E32) -> 186333104 | F30: =SUM(F31:F32) -> 36.926893 | G30: =SUM(G31:G32) -> 0
C31: 전년도이월금 | D31: 186333104 | E31: 186333104 | F31: =E31/E6*100 -> 36.926893 | G31: =E31-D31 -> 0 | H31: * 비지정후원금 이월금 (181,802,239원), * 지정후원금 이월금 (3,795,950원), * 후원금예금이자 이월금 (734,914원), * 기타 잡수입 이월금 (1원).
C32: 이월사업비 | D32: 0 | E32: 0 | F32: =E32/E6*100 -> 0 | G32: =E32-D32 -> 0
A33: 잡수입 | B33: 계 | D33: 1166896 | E33: =E34 -> 1166896 | F33: =F34 -> 0.23125168 | G33: =G34 -> 0
B34: 잡수입 | C34: 소계 | D34: 1166896 | E34: =SUM(E35:E37) -> 1166896 | F34: =SUM(F35:F37) -> 0.23125168 | G34: =SUM(G35:G37) -> 0
C35: 불용품매각대 | D35: 0 | E35: 0 | F35: =E35/E6*100 -> 0 | G35: =E35-D35 -> 0
C36: 기타예금이자수입 | D36: 1166896 | E36: 1166896 | F36: =E36/E6*100 -> 0.23125168 | G36: =E36-D36 -> 0
C37: 기타잡수입 | D37: 0 | E37: 0 | F37: =E37/E6*100 -> 0 | G37: =E37-D37 -> 0
E67: 0

Sheet 라.보조금세출내역
A1: 라. 세 출
A2: 1) 보조금 세출내역
Q3: (단위:원)
A4: 과 목 | E4: ='다-2.후원금세입내역 '!D4:D5 -> 2015년도 1차추경 ( A ) | F4: ='다-2.후원금세입내역 '!E4:E5 -> 2015년도 2차추경 ( B ) | G4: 비교증감 ( B-A ) | I4: 산 출 내 역
A5: 관 | B5: 항 | C5: 목 | D5: 세목
A6: 총 계 | E6: 2382000000 | F6: =F7+F47+F52+F116+F119+F122 -> 2385190000 | G6: =G7+G47+G52+G116+G119+G122 -> 3190000 | I6: ※ 시설당기본지원(62,700,000원)/생활장애인가중지원(31,450,000원) | T6: =Q7 -> 94150000
A7: 사무비 | B7: 계 | E7: 1945950480 | F7: =F8+F33+F37 -> 1894861560 | G7: =F7-E7 -> -51088920 | I7: 운영비합계액 | Q7: =T10 -> 94150000 | R7: 원 | T7: =SUM(F38,F39,F40,F42,F43,F44,F45,F48,F66,F67,F88) -> 94239000
B8: 인건비 | C8: 소계 | E8: 1887119480 | F8: =F9+F10+F15+F16+F27+F32+F26 -> 1835941560 | G8: =F8-E8 -> -51177920 | T8: =T6-T7 -> -89000
C9: 급여 | E9: 1158682000 | F9: ='인건비총계표(보조금)'!F5 -> 1141381000 | G9: =F9-E9 -> -17301000 | I9: 종사자인건비 총계표 참조 | T9: 94150000 | U9: (매월 7,845,830원)
C10: 상여금 | D10: 소계 | E10: 0 | F10: =SUM(F11:F14) -> 0 | G10: =F10-E10 -> 0 | T10: =T9-T14 -> 94150000
D11: 기말수당 | E11: 0 | F11: ='인건비총계표(보조금)'!G5 -> 0 | G11: =F11-E11 -> 0
D12: 정근수당 | E12: 0 | F12: ='인건비총계표(보조금)'!H5 -> 0 | G12: =F12-E12 -> 0 | T12: =F37+F47+F65+F88 -> 94239000 | U12: 운영비계산
D13: 장기근속수당 | E13: 0 | F13: ='인건비총계표(보조금)'!I5 -> 0 | G13: =F13-E13 -> 0
D14: 가계지원비 | E14: 0 | F14: ='인건비총계표(보조금)'!J5 -> 0 | G14: =F14-E14 -> 0
C15: 일용잡급 | E15: 0 | F15: 0 | G15: =F15-E15 -> 0
C16: 제수당 | D16: 소계 | E16: 423979850 | F16: =SUM(F17:F25) -> 398051500 | G16: =F16-E16 -> -25928350 | H16: =SUM(H17:H24) -> 0
D17: 가계보조비 | E17: 0 | F17: ='인건비총계표(보조금)'!K5 -> 0 | G17: =F17-E17 -> 0
D18: 교통급식비 | E18: 0 | F18: ='인건비총계표(보조금)'!L5 -> 0 | G18: =F18-E18 -> 0
D19: 명절휴가비 | E19: 111204000 | F19: ='인건비총계표(보조금)'!M5 -> 109854000 | G19: =F19-E19 -> -1350000 | I19: 종사자인건비 총계표 참조
D20: 생활복지사수당 | E20: 0 | F20: ='인건비총계표(보조금)'!N32+'인건비총계표(보조금)'!N45+'인건비총계표(보조금)'!N58+'인건비총계표(보조금)'!N71 -> 0 | G20: =F20-E20 -> 0
D21: 생활지도원수당 | E21: 0 | F21: =SUM('인건비총계표(보조금)'!N84:N591)/2 -> 0 | G21: =F21-E21 -> 0
D22: 조리.위생수당 | E22: 0 | F22: ='인건비총계표(보조금)'!N604+'인건비총계표(보조금)'!N617+'인건비총계표(보조금)'!N630 -> 0 | G22: =F22-E22 -> 0 | I22: 종사자인건비 총계표 참조
D23: 연장근로수당 | E23: 295395850 | F23: ='인건비총계표(보조금)'!R5 -> 271637500 | G23: =F23-E23 -> -23758350 | I23: 종사자인건비 총계표 참조 | T23: 세입대세출
D24: 가족수당 | E24: 17380000 | F24: ='인건비총계표(보조금)'!O5 -> 16560000 | G24: =F24-E24 -> -820000 | I24: 종사자인건비 총계표 참조 | T24: =다.보조금세입내역!F6-라.보조금세출내역!F6 -> 0
E25: 0 | G25: =F25-E25 -> 0
C26: 퇴직적립금 | E26: 143644530 | F26: ='인건비총계표(보조금)'!W5 -> 139887770 | G26: =F26-E26 -> -3756760
C27: 사회보험부담금 | D27: 소계 | E27: 160813100 | F27: =SUM(F28:F31) -> 156621290 | G27: =F27-E27 -> -4191810
D28: 건강보험부담금 | E28: 55410810 | F28: ='인건비총계표(보조금)'!Y5+'인건비총계표(보조금)'!Z5 -> 53965750 | G28: =F28-E28 -> -1445060 | H28: =F9+#REF!+#REF!+#REF!+#REF!+#REF!+#REF!+#REF!+#REF!+F10+#REF!+#REF!-#REF! -> #REF! | I28: 3.035%+6.55%
D29: 국민연금부담금 | E29: 77099740 | F29: ='인건비총계표(보조금)'!X5 -> 75089230 | G29: =F29-E29 -> -2010510 | I29: 4.5%
D30: 고용보험부담금 | E30: 14983900 | F30: ='인건비총계표(보조금)'!AA5 -> 14594080 | G30: =F30-E30 -> -389820 | H30: =H28-#REF! -> #REF! | I30: 0.9%
D31: 산재보험부담금 | E31: 13318650 | F31: ='인건비총계표(보조금)'!AB5 -> 12972230 | G31: =F31-E31 -> -346420 | I31: 0.8%
C32: 기타후생경비 | E32: 0 | F32: 0 | G32: =F32-E32 -> 0
B33: 업무추진비 | C33: 소계 | E33: 0 | F33: =SUM(F34:F36) -> 0 | G33: =F33-E33 -> 0
C34: 기관운영비 | E34: 0 | F34: 0 | G34: =F34-E34 -> 0
C35: 직책보조비 | E35: 0 | F35: 0 | G35: =F35-E35 -> 0
C36: 회의비 | E36: 0 | F36: 0 | G36: =F36-E36 -> 0
B37: 운영비 | C37: 소계 | E37: 58831000 | F37: =F38+F39+F40+F41+F45+F46 -> 58920000 | G37: =F37-E37 -> 89000
C38: 여비 | E38: 0 | F38: 0 | G38: =F38-E38 -> 0
C39: 수용비및수수료 | E39: 8700000 | F39: 8789000 | G39: =F39-E39 -> 89000 | I39: 사무용품비, 인쇄비, 수수료 등
C40: 공공요금 | E40: 38131000 | F40: 38131000 | G40: =F40-E40 -> 0 | I40: 수도료,전기료,우편료,전화료,운송료 등 | T40: 2931420 | U40: =T40*12 -> 35177040
C41: 제세공과금 | E41: 6000000 | F41: =SUM(F42:F44) -> 6000000 | G41: =F41-E41 -> 0 | T41: 43916 | U41: =T41*80*12 -> 42159360
D42: 화재보험료 | G42: =F42-E42 -> 0 | I42: 소멸성 보험에 가입 | U42: =SUM(U40:U41) -> 77336400
D43: 상해보험료 | E43: 0 | F43: 0 | G43: =F43-E43 -> 0
D44: 제세공과금 | E44: 6000000 | F44: 6000000 | G44: =F44-E44 -> 0 | I44: 화재, 음식물, 영업배상책임, 자동차보험료 등
C45: 차량비 | E45: 6000000 | F45: 6000000 | G45: =F45-E45 -> 0 | I45: 실제 운행중인 시설 업무용 소형 승합자동차와 특수차량의 연료비, 소모품 등
C46: 기타운영비 | E46: 0 | F46: 0 | G46: =F46-E46 -> 0
A47: 재산조성비 | B47: 계 | E47: 9300000 | F47: =F48 -> 9300000 | G47: =F47-E47 -> 0
B48: 시설비 | C48: 소계 | E48: 9300000 | F48: =SUM(F49:F51) -> 9300000 | G48: =F48-E48 -> 0
C49: 시설비 | E49: 0 | F49: 0 | G49: =F49-E49 -> 0
C50: 자산취득비 | E50: 0 | F50: 0 | G50: =F50-E50 -> 0
C51: 시설장비유지비 | D51: 건물유지비 | E51: 9300000 | F51: 9300000 | G51: =F51-E51 -> 0 | I51: 건물 유지 관리비
A52: 사업비 | B52: 계 | E52: 400492380 | F52: =F53+F75+F86 -> 454718792 | G52: =F52-E52 -> 54226412
B53: 운영비 | C53: 소계 | E53: 148746360 | F53: =F54+F65+F68+F69+F70+F71+F72+F73+F74 -> 152096472 | G53: =F53-E53 -> 3350112
C54: 생계비 | D54: 소계 | E54: 129927360 | F54: =SUM(F55:F64) -> 133277472 | G54: =F54-E54 -> 3350112 | I54: 생활보장급여
D55: 특별위로금 | E55: 3060000 | F55: =생활보장급여!G8 -> 3305922 | G55: =F55-E55 -> 245922 | I55: '국민기초생활보장급여'월별 산출내역표 참조
D56: 주식비 | E56: 0 | F56: 0 | G56: =F56-E56 -> 0 | I56: '국민기초생활보장급여'월별 산출내역표 참조
D57: 부식비 | E57: 0 | F57: 0 | G57: =F57-E57 -> 0 | I57: '국민기초생활보장급여'월별 산출내역표 참조
D58: 취사연료비 | E58: 0 | F58: 0 | G58: =F58-E58 -> 0 | I58: '국민기초생활보장급여'월별 산출내역표 참조
D59: 주부식비 | E59: 119000600 | F59: =생활보장급여!G10 -> 128423900 | G59: =F59-E59 -> 9423300
D60: 월동대책비 | E60: 1466760 | F60: =생활보장급여!G11 -> 1547650 | G60: =F60-E60 -> 80890 | I60: '국민기초생활보장급여'월별 산출내역표 참조
D61: 일반피복비 | E61: 0 | F61: 0 | G61: =F61-E61 -> 0 | I61: '국민기초생활보장급여'월별 산출내역표 참조
D62: 런닝팬티비 | E62: 0 | F62: 0 | G62: =F62-E62 -> 0 | I62: '국민기초생활보장급여'월별 산출내역표 참조
D63: 피복비 | E63: 6400000 | F63: =생활보장급여!G13 -> 0 | G63: =F63-E63 -> -6400000 | I63: '국민기초생활보장급여'월별 산출내역표 참조
D64: 동내의 | E64: 0 | F64: 0 | G64: =F64-E64 -> 0 | I64: '국민기초생활보장급여'월별 산출내역표 참조
C65: 수용기관경비 | D65: 소계 | E65: 18819000 | F65: =SUM(F66:F67) -> 18819000 | G65: =F65-E65 -> 0
D66: 위생재료비 | E66: 6500000 | F66: 6500000 | G66: =F66-E66 -> 0 | I66: 장애인의 위생관리를 위한 용품 구입비 등
D67: 일상용품비 | E67: 12319000 | F67: 12319000 | G67: =F67-E67 -> 0 | I67: 일상 생활용품 경비
C68: 피복비 | E68: 0 | F68: 0 | G68: =F68-E68 -> 0
C69: 의료비 | D69: 의약품비 | E69: 0 | F69: 0 | G69: =F69-E69 -> 0
C70: 장의비 | E70: 0 | F70: 0 | G70: =F70-E70 -> 0
C71: 직업재활비 | E71: 0 | F71: 0 | G71: =F71-E71 -> 0
C72: 자활사업비 | E72: 0 | F72: 0 | G72: =F72-E72 -> 0
C73: 특별급식비 | D73: 장애인영양급식비 | G73: =F73-E73 -> 0
C74: 연료비 | E74: 0 | F74: 0 | G74: =F74-E74 -> 0
B75: 교육비 | C75: 소계 | E75: 0 | F75: =SUM(F76:F85) -> 0 | G75: =F75-E75 -> 0
C76: 수업료 | E76: 0 | F76: 0 | G76: =F76-E76 -> 0
C77: 학용품비 | E77: 0 | F77: 0 | G77: =F77-E77 -> 0
C78: 도서구입비 | E78: 0 | F78: 0 | G78: =F78-E78 -> 0
C79: 교통비 | E79: 0 | F79: 0 | G79: =F79-E79 -> 0
C80: 급식비 | E80: 0 | F80: 0 | G80: =F80-E80 -> 0
C81: 학습지원비 | E81: 0 | F81: 0 | G81: =F81-E81 -> 0
C82: 수학여행비 | E82: 0 | F82: 0 | G82: =F82-E82 -> 0
C83: 교복비 | E83: 0 | F83: 0 | G83: =F83-E83 -> 0
C84: 이미용비 | E84: 0 | F84: 0 | G84: =F84-E84 -> 0
C85: 기타교육비 | E85: 0 | F85: 0 | G85: =F85-E85 -> 0
B86: 사업비 | C86: 소계 | E86: 251746020 | F86: =F87+F88+F89+F92+F93+F99+F107+F109+F113+F111 -> 302622320 | G86: =F86-E86 -> 50876300 | H86: =H87+H88+H90+H92+H93+H99+H107+H109 -> 0
C87: 의료재활사업비 | E87: 0 | F87: 0 | G87: =F87-E87 -> 0
C88: 사회심리 재활사업비 | D88: 여행경비등 | E88: 7200000 | F88: 7200000 | G88: =F88-E88 -> 0 | I88: 여름캠프 및 가을여행등 소요경비.
C89: 교육재활사업비 | D89: 소계 | E89: 0 | F89: =F90+F91 -> 0 | G89: =F89-E89 -> 0
D90: 부교재및교양도서비 | E90: 0 | F90: 0 | G90: =F90-E90 -> 0
E91: 0 | F91: 0 | G91: =F91-E91 -> 0
C92: 직업재활사업비 | D92: 실습재료비 | G92: =F92-E92 -> 0
C93: 4종운영지원사업비 | D93: 소계 | E93: 32840000 | F93: =SUM(F94:F98) -> 32840000 | G93: =F93-E93 -> 0
D94: 입소자부식비 | E94: 14600000 | F94: ='4종'!O5 -> 14600000 | G94: =F94-E94 -> 0 | I94: '장애인복지시설 입소자지원 (4종)' 산출내역표 참조
D95: 입소자간식비 | E95: 4800000 | F95: ='4종'!O19 -> 4800000 | G95: =F95-E95 -> 0 | I95: '장애인복지시설 입소자지원 (4종)' 산출내역표 참조
D96: 입소자피복비 | E96: 6400000 | F96: ='4종'!O34 -> 6400000 | G96: =F96-E96 -> 0 | I96: '장애인복지시설 입소자지원 (4종)' 산출내역표 참조
D97: 입소자 특별급식비 | E97: 3840000 | F97: ='4종'!O35 -> 3840000 | I97: '장애인복지시설 입소자지원 (4종)' 산출내역표 참조
D98: 입소자 건강진단비 | E98: 3200000 | F98: ='4종'!O40 -> 3200000 | G98: =F98-E98 -> 0 | I98: '장애인복지시설 입소자지원 (4종)' 산출내역표 참조
C99: 7종운영지원 사업비 | D99: 소계 | E99: 206416020 | F99: =SUM(F100:F106) -> 237019070 | G99: =F99-E99 -> 30603050 | H99: =SUM(H100:H106) -> 0
D100: 종사자 특수근무수당 | E100: 135650000 | F100: ='인건비총계표(보조금)'!T5+'인건비총계표(보조금)'!T659+'인건비총계표(보조금)'!T676 -> 134200000 | G100: =F100-E100 -> -1450000 | I100: 종사자인건비 총계표 참조
...

Sheet 라-1.자부담세출내역
A1: 라. 세 출
A2: 2) 자부담 세출내역
H3: (단위:원)
A4: 과 목 | E4: =라.보조금세출내역!E4:E5 -> 2015년도 1차추경 ( A ) | F4: =라.보조금세출내역!F4:F5 -> 2015년도 2차추경 ( B ) | G4: 비교증감 ( B-A ) | H4: 산 출 내 역
A5: 관 | B5: 항 | C5: 목 | D5: 세목 | S5: 이월금 포함
A6: 총 계 | E6: =E7+E45+E50+E89+E86+E83 -> 236600000 | F6: =F7+F45+F50+F89+F86+F83 -> 236600000 | G6: =G7+G45+G50+G89+G86+G83 -> 0 | T6: =SUM(T7:T12) -> 181508600 | U6: =SUM(U7:U12) -> 206503690 | V6: =SUM(V32:V91) -> 198008600 | Y6: ='다-1.자부담세입내역'!E6 -> 236600000
A7: 사무비 | B7: 계 | E7: 73300000 | F7: =F8+F33+F38 -> 86300000 | G7: =G8+G33+G38 -> 13000000 | S7: 유료입소 | T7: ='다-1.자부담세입내역'!E8 -> 104400000 | U7: =T41+T52+T74+T76+T77+T53 -> 86500000 | V7: =T7-U7 -> 17900000
B8: 인건비 | C8: 소계 | E8: 19200000 | F8: =F9+F10+F11+F12+F26+F27+F32 -> 33495090 | G8: =G9+G10+G11+G12+G26+G27+G32 -> 14295090 | S8: 법인전입-승마 | T8: 0 | U8: =F79 -> 0 | V8: =T8-U8 -> 0 | Y8: =F6-Y6 -> 0
C9: 급여 | E9: 0 | F9: 0 | G9: =F9-E9 -> 0 | S9: 법인전입 | T9: 43648948 | U9: =F9+F10+F11+F12+F26+F27+S32+S41+S40+S42+S44+S47+S48+S49+S35+S37+S43+S74+S75+S76+S53+S89 -> 86544038 | V9: =T9-U9 -> -42895090
C10: 상여금 | E10: 0 | F10: 0 | G10: =F10-E10 -> 0 | S10: 잡수입-식대 | T10: 19000000 | U10: =U52 -> 19000000 | V10: =T10-U10 -> 0
C11: 일용잡급 | F11: 0 | G11: =F11-E11 -> 0 | S11: 잡수입 | T11: 9283923 | U11: =U89+U86+U53+U40+U41+U42+U43+U44+U49+U34+U37+U77 -> 9283923 | V11: =T11-U11 -> 0
C12: 제수당 | D12: 소계 | E12: 0 | F12: =SUM(F13:F25) -> 7500000 | G12: =SUM(G13:G22) -> 7500000 | S12: 프로그램수입 | T12: 5175729 | U12: =U73+U74+U75+U76 -> 5175729 | V12: =T12-U12 -> 0
D13: 가계보조수당 | E13: 0 | F13: 0 | G13: =F13-E13 -> 0
D14: 교통급식비 | E14: 0 | F14: 0 | G14: =F14-E14 -> 0
D15: 명절휴가비 | E15: 0 | F15: 0 | G15: =F15-E15 -> 0
D16: 생활복지사수당 | E16: 0 | F16: 0 | G16: =F16-E16 -> 0
D17: 생활지도원수당 | E17: 0 | F17: 0
D18: 조리.위생수당 | E18: 0 | F18: 0
D19: 연장근로수당 | E19: 0 | F19: 0 | G19: =F19-E19 -> 0
D20: 가족수당 | E20: 0 | F20: 0 | G20: =F20-E20 -> 0
D21: 직책수당 | E21: 0 | F21: ='인건비총계표(자부담)'!S5 -> 7500000 | G21: =F21-E21 -> 7500000 | H21: 기관장,사무국장,과장,팀장 직책수당신설
D22: 자가운전보조금 | E22: 0 | F22: 0 | G22: =F22-E22 -> 0
D23: 특수근무수당(도) | E23: 0 | F23: 0 | G23: =F23-E23 -> 0
D24: 처우개선비(자) | E24: 0 | F24: 0 | G24: =F24-E24 -> 0
D25: 보전수당(자) | E25: 0 | F25: 0 | G25: =F25-E25 -> 0
C26: 퇴직금및적립금 | E26: 0 | F26: ='인건비총계표(자부담)'!U5 -> 625000 | G26: =F26-E26 -> 625000
C27: 사회보험부담비용 | D27: 소계 | E27: 0 | F27: =SUM(F28:F31) -> 370090 | G27: =F27-E27 -> 370090
D28: 건강보험부담금 | F28: ='인건비총계표(자부담)'!W5+'인건비총계표(자부담)'!X5 -> 242590 | G28: =F28-E28 -> 242590
D29: 국민연금부담금 | E29: 0 | F29: 0 | G29: =F29-E29 -> 0
D30: 고용보험부담금 | E30: 0 | F30: ='인건비총계표(자부담)'!Y5 -> 67500 | G30: =F30-E30 -> 67500
D31: 산재보험부담금 | E31: 0 | F31: ='인건비총계표(자부담)'!Z5 -> 60000 | G31: =F31-E31 -> 60000
C32: 기타후생경비 | E32: 19200000 | F32: 25000000 | G32: =F32-E32 -> 5800000 | H32: 역량강화훈련,연찬회,체육대회,기타상해보험등복리후생비 등 | R32: 법인 | S32: =F32 -> 25000000 | V32: =S32+T32+U32 -> 25000000
B33: 업무추진비 | C33: 소계 | E33: =SUM(E34:E37) -> 3000000 | F33: =SUM(F34:F37) -> 4000000 | G33: =SUM(G34:G37) -> 1000000 | V33: =S33+T33+U33 -> 0
C34: 기관운영비 | E34: 0 | F34: 0 | G34: =F34-E34 -> 0 | R34: 기타 | U34: 300000 | V34: =S34+T34+U34 -> 300000
C35: 직책보조비 | E35: 0 | F35: 0 | G35: =F35-E35 -> 0 | S35: =F35 -> 0 | V35: =S35+T35+U35 -> 0
C36: 홍보비 | E36: 1000000 | F36: 0 | G36: =F36-E36 -> -1000000 | V36: =S36+T36+U36 -> 0
C37: 회의비 | E37: 2000000 | F37: 4000000 | G37: =F37-E37 -> 2000000 | H37: 인권지킴이, 운영위원회등 경비 | R37: 기타,법인 | S37: 1000000 | U37: 1000000 | V37: =S37+T37+U37 -> 2000000
B38: 운영비 | C38: 소계 | E38: =SUM(E39:E44) -> 51100000 | F38: =SUM(F39:F44) -> 48804910 | G38: =SUM(G39:G44) -> -2295090 | V38: =S38+T38+U38 -> 0
C39: 여비 | E39: 0 | F39: 0 | G39: =F39-E39 -> 0 | V39: =S39+T39+U39 -> 0
C40: 수용비및수수료 | E40: 7100000 | F40: =5070250+234660 -> 5304910 | G40: =F40-E40 -> -1795090 | H40: 사무용품비, 인쇄비, 수수료 등 | R40: 기타,법인 | S40: 324677 | U40: 223923 | V40: =S40+T40+U40 -> 548600
C41: 공공요금 | E41: 30000000 | F41: 30000000 | G41: =F41-E41 -> 0 | H41: 수도료,전기료,우편료,전화료,운송료 등 | R41: 입소,법인 | S41: 4540000 | T41: 35500000 | U41: 0 | V41: =S41+T41+U41 -> 40040000
C42: 제세공과금 | E42: 5000000 | F42: 3000000 | G42: =F42-E42 -> -2000000 | R42: 기타 | S42: 500000 | U42: 500000 | V42: =S42+T42+U42 -> 1000000
C43: 차량비 | E43: 3000000 | F43: 5000000 | G43: =F43-E43 -> 2000000 | R43: 법인 | S43: 1000000 | U43: 0 | V43: =S43+T43+U43 -> 1000000
C44: 기타운영비 | E44: 6000000 | F44: 5500000 | G44: =F44-E44 -> -500000 | H44: 개원기념행사 및 기타행사비 | U44: 0 | V44: =S44+T44+U44 -> 0
A45: 재산조성비 | B45: 계 | E45: 42600000 | F45: =F46 -> 29600000 | G45: =G46 -> -13000000 | V45: =S45+T45+U45 -> 0
B46: 시설비 | C46: 소계 | E46: =SUM(E47:E49) -> 42600000 | F46: =SUM(F47:F49) -> 29600000 | G46: =SUM(G47:G49) -> -13000000 | V46: =S46+T46+U46 -> 0
C47: 시설비 | E47: 6000000 | F47: 4000000 | G47: =F47-E47 -> -2000000 | R47: 법인 | S47: =F47 -> 4000000 | V47: =S47+T47+U47 -> 4000000
C48: 자산취득비 | E48: 10000000 | F48: 4000000 | G48: =F48-E48 -> -6000000 | H48: 생활동 가구 교체 구입비용 등 | R48: 법인 | S48: 4000000 | V48: =S48+T48+U48 -> 4000000
C49: 시설장비유지비 | E49: 26600000 | F49: 21600000 | G49: =F49-E49 -> -5000000 | H49: 전기안전점검료, 정화조유지비,승강기유지비 | R49: 기타,법인 | S49: =F49-U49 -> 16100000 | U49: 5500000 | V49: =S49+T49+U49 -> 21600000
A50: 사업비 | B50: 계 | E50: =E51+E61+E72 -> 120700000 | F50: =F51+F61+F72 -> 120700000 | G50: =F50-E50 -> 0 | V50: =S50+T50+U50 -> 0
B51: 운영비 | C51: 소계 | E51: 85400000 | F51: =SUM(F52:F60) -> 85400000 | G51: =SUM(G52:G60) -> 0 | V51: =S51+T51+U51 -> 0
C52: 생계비 | E52: 70000000 | F52: 70000000 | G52: =F52-E52 -> 0 | R52: 기타(식대),입소 | T52: 42000000 | U52: 19000000 | V52: =S52+T52+U52 -> 61000000
C53: 피복비 | E53: 2400000 | F53: 2400000 | G53: =F53-E53 -> 0 | R53: 기타 | S53: 200000 | T53: 500000 | U53: 300000 | V53: =S53+T53+U53 -> 1000000
C54: 수용기관경비 | E54: 6000000 | F54: 6000000 | G54: =F54-E54 -> 0 | V54: =S54+T54+U54 -> 0
C55: 일상용품비 | E55: 5000000 | F55: 5000000 | G55: =F55-E55 -> 0 | V55: =S55+T55+U55 -> 0
C56: 의료비 | E56: 2000000 | F56: 2000000 | G56: =F56-E56 -> 0 | V56: =S56+T56+U56 -> 0
C57: 직업재활비 | E57: 0 | F57: 0 | G57: =F57-E57 -> 0 | V57: =S57+T57+U57 -> 0
C58: 자활사업비 | E58: 0 | F58: 0 | G58: =F58-E58 -> 0 | V58: =S58+T58+U58 -> 0
C59: 특별급식비 | E59: 0 | F59: 0 | G59: =F59-E59 -> 0 | V59: =S59+T59+U59 -> 0
C60: 연료비 | E60: 0 | F60: 0 | G60: =F60-E60 -> 0 | V60: =S60+T60+U60 -> 0
B61: 교육비 | C61: 소계 | E61: 0 | F61: =SUM(F62:F71) -> 0 | G61: =SUM(G62:G71) -> 0 | V61: =S61+T61+U61 -> 0
C62: 수업료 | E62: 0 | F62: 0 | G62: =F62-E62 -> 0 | V62: =S62+T62+U62 -> 0
C63: 학용품비 | E63: 0 | F63: 0 | G63: =F63-E63 -> 0 | V63: =S63+T63+U63 -> 0
C64: 도서구입비 | E64: 0 | F64: 0 | G64: =F64-E64 -> 0 | V64: =S64+T64+U64 -> 0
C65: 교통비 | E65: 0 | F65: 0 | G65: =F65-E65 -> 0 | V65: =S65+T65+U65 -> 0
C66: 급식비 | E66: 0 | F66: 0 | G66: =F66-E66 -> 0 | V66: =S66+T66+U66 -> 0
C67: 학습지원비 | E67: 0 | F67: 0 | G67: =F67-E67 -> 0 | V67: =S67+T67+U67 -> 0
C68: 수학여행비 | E68: 0 | F68: 0 | G68: =F68-E68 -> 0 | V68: =S68+T68+U68 -> 0
C69: 교복비 | E69: 0 | F69: 0 | G69: =F69-E69 -> 0 | V69: =S69+T69+U69 -> 0
C70: 이미용비 | E70: 0 | F70: 0 | G70: =F70-E70 -> 0 | V70: =S70+T70+U70 -> 0
C71: 기타교육비 | E71: 0 | F71: 0 | G71: =F71-E71 -> 0 | V71: =S71+T71+U71 -> 0
B72: 사업비 | C72: 소계 | E72: 35300000 | F72: =F73+F74+F75+F76+F77+F79 -> 35300000 | G72: =G73+G74+G75+G76+G77+G79 -> 0 | V72: =S72+T72+U72 -> 0
C73: 의료재활사업비 | E73: 0 | F73: 0 | G73: =F73-E73 -> 0 | V73: =S73+T73+U73 -> 0
C74: 사회심리 재활사업비 | E74: 20300000 | F74: 20300000 | G74: =F74-E74 -> 0 | H74: 여행,등산,놀이 등에 소요되는 여비,기구 구입비 | R74: 입소,법인,사업 | S74: =F74-T74-U74 -> 12800000 | T74: 4500000 | U74: 3000000 | V74: =S74+T74+U74 -> 20300000
C75: 교육재활사업비 | E75: 0 | F75: 0 | G75: =F75-E75 -> 0 | H75: 생활장애인의 교육 및 교양함양을 위한 교재/도서 구입비 (미술,한글교실 등) | R75: 입소,법인,사업 | S75: =F75-T75-U75 -> 0 | U75: 0 | V75: =S75+T75+U75 -> 0
C76: 직업재활사업비 | E76: 15000000 | F76: 15000000 | G76: =F76-E76 -> 0 | H76: 직업재활활동에 소요되는 비용 | R76: 입소,법인,사업 | S76: =F76-T76-U76-U77 -> 7824271 | T76: 4000000 | U76: 2175729 | V76: =S76+T76+U76+U77 -> 15000000
C77: 재활프로그램사업비 | D77: 소계 | E77: 0 | F77: =F78 -> 0 | G77: =G78 -> 0 | T77: 0 | U77: 1000000
D78: 재활프로그램사업비 | E78: 0 | F78: 0 | G78: =F78-E78 -> 0 | V78: =S78+T78+U78 -> 0
C79: 재활승마사업비 | D79: 소계 | E79: 0 | F79: =F80 -> 0 | G79: =G80 -> 0 | V79: =S79+T79+U79 -> 0
D80: 재활승마사업비 | G80: =F80-E80 -> 0 | R80: 법인 | V80: =S80+T80+U80 -> 0
C81: 공동모금회사업비 | D81: 소계 | E81: 0 | F81: =F82 -> 0 | G81: =G82 -> 0 | V81: =S81+T81+U81 -> 0
D82: 공동모금회사업비 | E82: 0 | F82: 0 | G82: =F82-E82 -> 0 | V82: =S82+T82+U82 -> 0
A83: 과년도지출 | B83: 계 | E83: 0 | F83: =F84 -> 0 | G83: =G84 -> 0 | V83: =S83+T83+U83 -> 0
B84: 과년도지출 | C84: 소계 | E84: 0 | F84: =F85 -> 0 | G84: =F84-E84 -> 0 | V84: =S84+T84+U84 -> 0
C85: 과년도지출 | E85: 0 | F85: 0 | G85: =F85-E85 -> 0 | V85: =S85+T85+U85 -> 0
A86: 잡지출 | B86: 계 | E86: 0 | F86: =F87 -> 0 | G86: =F86-E86 -> 0 | U86: 220000 | V86: =S86+T86+U86 -> 220000
B87: 잡지출 | C87: 소계 | E87: 0 | F87: =F88 -> 0 | G87: =F87-E87 -> 0 | V87: =S87+T87+U87 -> 0
C88: 잡지출 | E88: 0 | F88: 0 | G88: =F88-E88 -> 0 | R88: 기타 | V88: =S88+T88+U88 -> 0
A89: 예비비 | B89: 계 | E89: 0 | F89: =F90 -> 0 | G89: =G90 -> 0 | S89: 760000 | U89: 240000 | V89: =S89+T89+U89 -> 1000000
B90: 예비비 | C90: 소계 | E90: 0 | F90: =F91 -> 0 | G90: =F90-E90 -> 0 | V90: =S90+T90+U90 -> 0
C91: 예비비 | G91: =F91-E91 -> 0 | R91: 기타 | V91: =S91+T91+U91 -> 0

Sheet 라-2.후원금세출내역
A1: 라. 세 출
A2: 3) 후원금 세출내역
H3: (단위:원) | S3: =S6/U6 -> 0.79027281 | T3: =T6/U6 -> 0.20972719 | U3: =SUM(S3:T3) -> 1
A4: 과 목 | E4: ='라-1.자부담세출내역'!E4:E5 -> 2015년도 1차추경 ( A ) | F4: ='라-1.자부담세출내역'!F4:F5 -> 2015년도 2차추경 ( B ) | G4: 비교증감 ( B-A ) | H4: 산 출 내 역 | S4: 직접 | T4: 간접 | U4: 계
A5: 관 | B5: 항 | C5: 목 | D5: 세목
A6: 총 계 | E6: =E7+E45+E50+E93+E90+E87+E84 -> 504600000 | F6: =F7+F45+F50+F93+F90+F87+F84 -> 504600000 | G6: =G7+G45+G50+G93+G90+G87+G84 -> 0 | S6: =SUM(S7:S95) -> 398771660 | T6: =SUM(T7:T95) -> 105828340 | U6: =SUM(S6:T6) -> 504600000
A7: 사무비 | B7: 계 | E7: 223890000 | F7: =F8+F33+F38 -> 198890000 | G7: =G8+G33+G38 -> -25000000
B8: 인건비 | C8: 소계 | E8: 48900000 | F8: =F9+F10+F11+F12+F26+F27+F32 -> 28061660 | G8: =G9+G10+G11+G12+G26+G27+G32 -> -20838340 | W8: ='다-2.후원금세입내역 '!E6 -> 504600000
C9: 급여 | E9: 0 | F9: ='인건비총계표(후원금)'!F49 -> 0 | G9: =F9-E9 -> 0 | S9: =F9 -> 0 | W9: =W8-F6 -> 0
C10: 상여금 | E10: 0 | F10: ='인건비총계표(후원금)'!G49+'인건비총계표(후원금)'!J49+'인건비총계표(후원금)'!H49 -> 0 | G10: =F10-E10 -> 0 | S10: =F10 -> 0
C11: 일용잡급 | E11: 9600000 | F11: ='인건비총계표(후원금)'!S115 -> 2000000 | G11: =F11-E11 -> -7600000 | H11: 일용직(1명) | S11: =F11 -> 2000000
C12: 제수당 | D12: 소계 | E12: 13200000 | F12: =SUM(F13:F25) -> 980000 | G12: =SUM(G13:G25) -> -12220000 | S12: =F12 -> 980000
D13: 가계보조수당 | E13: 0 | F13: ='인건비총계표(후원금)'!K49 -> 0 | G13: =F13-E13 -> 0
D14: 교통급식비 | E14: 13200000 | F14: ='인건비총계표(후원금)'!L6+'인건비총계표(후원금)'!L49 -> 980000 | G14: =F14-E14 -> -12220000 | H14: 기관장(200,000),사무국장(160,000), 과장, 선임팀장(100,000),팀장(60,000)
D15: 명절휴가비 | E15: 0 | F15: ='인건비총계표(후원금)'!M49 -> 0 | G15: =F15-E15 -> 0
D16: 생활복지사수당 | E16: 0 | F16: 0 | G16: =F16-E16 -> 0
D17: 생활지도원수당 | E17: 0 | F17: ='인건비총계표(후원금)'!N49 -> 0 | G17: =F17-E17 -> 0
D18: 조리.위생수당 | E18: 0 | F18: 0 | G18: =F18-E18 -> 0
D19: 연장근로수당 | E19: 0 | F19: ='인건비총계표(후원금)'!P49 -> 0 | G19: =F19-E19 -> 0
D20: 가족수당 | E20: 0 | F20: ='인건비총계표(후원금)'!O49 -> 0 | G20: =F20-E20 -> 0
D21: 직책보조비 | E21: 0 | F21: ='인건비총계표(후원금)'!R49 -> 0 | G21: =F21-E21 -> 0
D22: 자가운전보조금 | E22: 0 | F22: 0 | G22: =F22-E22 -> 0
D23: 특수근무수당(도) | E23: 0 | F23: ='인건비총계표(후원금)'!S49 -> 0 | G23: =F23-E23 -> 0
D24: 처우개선비 | E24: 0 | F24: 0 | G24: =F24-E24 -> 0
D25: 보전수당 | G25: =F25-E25 -> 0
C26: 퇴직금및적립금 | E26: 1100000 | F26: ='인건비총계표(후원금)'!U5+'인건비총계표(후원금)'!V49 -> 81660 | G26: =F26-E26 -> -1018340 | S26: =F26 -> 81660
C27: 사회보험부담비용 | D27: 소계 | E27: 0 | F27: =SUM(F28:F31) -> 0 | G27: =SUM(G28:G31) -> 0 | S27: =F27 -> 0
D28: 건강보험부담금 | E28: 0 | F28: 0 | G28: =F28-E28 -> 0
D29: 국민연금부담금 | E29: 0 | F29: ='인건비총계표(후원금)'!W49 -> 0 | G29: =F29-E29 -> 0
D30: 고용보험부담금 | E30: 0 | F30: ='인건비총계표(후원금)'!Y5+'인건비총계표(후원금)'!Z49 -> 0 | G30: =F30-E30 -> 0
D31: 산재보험부담금 | E31: 0 | F31: 0 | G31: =F31-E31 -> 0
C32: 기타후생경비 | E32: 25000000 | F32: 25000000 | G32: =F32-E32 -> 0 | H32: 직원 동아리지원 및 역량강화훈련비,보수교육비 등 | S32: =F32 -> 25000000
B33: 업무추진비 | C33: 소계 | E33: 27000000 | F33: =SUM(F34:F37) -> 25000000 | G33: =SUM(G34:G37) -> -2000000 | T33: =F33 -> 25000000
C34: 기관운영비 | E34: 0 | F34: 0 | G34: =F34-E34 -> 0
C35: 직책보조비 | E35: 0 | F35: 0 | G35: =F35-E35 -> 0
C36: 홍보비 | E36: 25000000 | F36: 25000000 | G36: =F36-E36 -> 0 | H36: 기관홍보물제작,소식지,성탄카드 등
C37: 회의비 | E37: 2000000 | F37: 0 | G37: =F37-E37 -> -2000000
B38: 운영비 | C38: 소계 | E38: 147990000 | F38: =SUM(F39:F44) -> 145828340 | G38: =SUM(G39:G44) -> -2161660
C39: 여비 | E39: 10000000 | F39: 10000000 | G39: =F39-E39 -> 0 | H39: 교육참가비 및 여비 등 | T39: =F39 -> 10000000
C40: 수용비및수수료 | E40: 23590000 | F40: 25828340 | G40: =F40-E40 -> 2238340 | H40: CMS관리)/소모품구입 | T40: =F40 -> 25828340
C41: 공공요금 | E41: 50000000 | F41: 50000000 | G41: =F41-E41 -> 0 | H41: 전기,전화,수도요금.DM발송,우편물발송요금 등 | S41: =F41 -> 50000000
C42: 제세공과금 | E42: 10000000 | F42: 10000000 | G42: =F42-E42 -> 0 | H42: 음식물배상보험, 가스안전보험, 협회비 보험료 등 | T42: =F42 -> 10000000
C43: 차량비 | E43: 44400000 | F43: 40000000 | G43: =F43-E43 -> -4400000 | H43: 기관보유차량 유류비용 및 점검등 유지비용 | S43: =F43 -> 40000000
C44: 기타운영비 | E44: 10000000 | F44: 10000000 | G44: =F44-E44 -> 0 | H44: 종사자 단체복 구입등 | T44: =F44 -> 10000000
A45: 재산조성비 | B45: 계 | E45: 154500000 | F45: =F46 -> 185000000 | G45: =SUM(G47:G49) -> 30500000
B46: 시설비 | C46: 소계 | E46: 154500000 | F46: =SUM(F47:F49) -> 185000000 | G46: =SUM(G47:G49) -> 30500000
C47: 시설비 | E47: 10000000 | F47: 5000000 | G47: =F47-E47 -> -5000000 | H47: 시설 내외부 환경개선 | T47: =F47 -> 5000000
C48: 자산취득비 | E48: 30000000 | F48: 20000000 | G48: =F48-E48 -> -10000000 | H48: 생활동 가구 및 기타 고정자산 구입비용 | T48: =F48 -> 20000000
C49: 시설장비유지비 | E49: 114500000 | F49: 160000000 | G49: =F49-E49 -> 45500000 | H49: 전기안전점검료, 정화조유지비,승강기유지비 등 | S49: =F49 -> 160000000
A50: 사업비 | B50: 계 | E50: 125210000 | F50: =F51+F62+F73 -> 119710000 | G50: =F50-E50 -> -5500000 | S50: =F50 -> 119710000
B51: 운영비 | C51: 소계 | E51: 53000000 | F51: =SUM(F52:F61) -> 47500000 | G51: =SUM(G52:G61) -> -5500000
C52: 생계비 | E52: 35000000 | F52: 35000000 | G52: =F52-E52 -> 0
C53: 수용기관경비 | E53: 15000000 | F53: 10000000 | G53: =F53-E53 -> -5000000
C54: 위생재료비 | E54: 1000000 | F54: 1000000 | G54: =F54-E54 -> 0
C55: 피복비 | E55: 0 | F55: 0 | G55: =F55-E55 -> 0
C56: 의료비 | E56: 1500000 | F56: 1500000 | G56: =F56-E56 -> 0
C57: 장의비 | E57: 0 | F57: 0 | G57: =F57-E57 -> 0
C58: 직업재활비 | E58: 0 | F58: 0 | G58: =F58-E58 -> 0
C59: 자활사업비 | E59: 0 | F59: 0 | G59: =F59-E59 -> 0
C60: 특별급식비 | E60: 0 | F60: 0 | G60: =F60-E60 -> 0
C61: 연료비 | E61: 500000 | F61: 0 | G61: =F61-E61 -> -500000
B62: 교육비 | C62: 소계 | E62: 0 | F62: =SUM(F63:F72) -> 0 | G62: =SUM(G63:G72) -> 0
C63: 수업료 | E63: 0 | F63: 0 | G63: =F63-E63 -> 0
C64: 학용품비 | E64: 0 | F64: 0 | G64: =F64-E64 -> 0
C65: 도서구입비 | E65: 0 | F65: 0 | G65: =F65-E65 -> 0
C66: 교통비 | E66: 0 | F66: 0 | G66: =F66-E66 -> 0
C67: 급식비 | E67: 0 | F67: 0 | G67: =F67-E67 -> 0
C68: 학습지원비 | E68: 0 | F68: 0 | G68: =F68-E68 -> 0
C69: 수학여행비 | E69: 0 | F69: 0 | G69: =F69-E69 -> 0
C70: 교복비 | E70: 0 | F70: 0 | G70: =F70-E70 -> 0
C71: 이미용비 | E71: 0 | F71: 0 | G71: =F71-E71 -> 0
C72: 기타교육비 | E72: 0 | F72: 0 | G72: =F72-E72 -> 0
B73: 사업비 | C73: 소계 | E73: 72210000 | F73: =F74+F75+F76+F77+F78+F80+F82 -> 72210000 | G73: =G74+G75+G76+G77+G78 -> 0
C74: 의료재활사업비 | E74: 0 | F74: 0 | G74: =F74-E74 -> 0
C75: 사회심리 재활사업비 | E75: 50000000 | F75: 50000000 | G75: =F75-E75 -> 0 | H75: 여행,등산,놀이 등에 소요되는 여비,기구 구입비
C76: 교육재활사업비 | E76: 0 | F76: 0 | G76: =F76-E76 -> 0 | H76: 생활장애인의 교육 및 교양함양을 위한 교재/도서 구입비
C77: 직업재활사업비 | E77: 15000000 | F77: 15000000 | G77: =F77-E77 -> 0
C78: 재활프로그램사업비 | D78: 소계 | E78: 610000 | F78: =F79 -> 610000 | G78: =G79 -> 0
D79: 재활프로그램사업비 | E79: 610000 | F79: 610000 | G79: =F79-E79 -> 0 | H79: 2015년 경기도재활프로그램사업
D80: 소계 | E80: 0 | F80: =F81 -> 0 | G80: =G81 -> 0
D81: 재활승마사업비 | E81: 0 | F81: 0 | G81: =F81-E81 -> 0
C82: 공동모금회사업비 | D82: 소계 | E82: 6600000 | F82: =F83 -> 6600000 | G82: =G83 -> 0
D83: 공동모금회사업비 | E83: 6600000 | F83: 6600000 | G83: =F83-E83 -> 0
A84: 결연후원금 | B84: 계 | E84: 1000000 | F84: =F85 -> 1000000 | G84: =G85 -> 0 | S84: =F84 -> 1000000
B85: 결연사업비 | C85: 소계 | E85: 1000000 | F85: =F86 -> 1000000 | G85: =F85-E85 -> 0
C86: 결연후원금지급 | E86: 1000000 | F86: 1000000 | G86: =F86-E86 -> 0
A87: 과년도지출 | B87: 계 | E87: 0 | F87: =F88 -> 0 | G87: =G88 -> 0 | T87: =F87 -> 0
B88: 과년도지출 | C88: 소계 | E88: 0 | F88: =F89 -> 0 | G88: =F88-E88 -> 0
C89: 과년도지출 | E89: 0 | F89: 0 | G89: =F89-E89 -> 0
A90: 잡지출 | B90: 계 | E90: 0 | F90: =F91 -> 0 | G90: =F90-E90 -> 0 | T90: =F90 -> 0
B91: 잡지출 | C91: 소계 | E91: 0 | F91: =F92 -> 0 | G91: =F91-E91 -> 0
C92: 잡지출 | G92: =F92-E92 -> 0
A93: 예비비 | B93: 계 | E93: 0 | F93: =F94 -> 0 | G93: =G94 -> 0 | T93: =F93 -> 0
B94: 예비비 | C94: 소계 | E94: 0 | F94: =F95 -> 0 | G94: =F94-E94 -> 0
C95: 예비비 | E95: 0 | F95: 0 | G95: =F95-E95 -> 0

Sheet 마.개요
A1: 마. 세입·세출 개요
E2: (단위:원)
A3: 구 분 | B3: 세 입 | D3: 세 출
A4: 총 계 | B4: =C5+C18+C26 -> 3126390000 | D4: =E5+E18+E26 -> 3126390000
A5: 보 조 금 | B5: 소계 | C5: =SUM(C6:C12) -> 2385190000 | D5: 소계 | E5: =SUM(E6:E17) -> 2385190000
B6: ='나.세입세출(총괄)'!C18 -> 국고보조금 | C6: =다.보조금세입내역!F15 -> 1.4443583e+09 | D6: 인건비 | E6: =라.보조금세출내역!F8 -> 1835941560
B7: =다.보조금세입내역!C19 -> 시도(군)보조금 | C7: =다.보조금세입내역!F19 -> 9.0914303e+08 | D7: 관리운영비 | E7: =라.보조금세출내역!F33+라.보조금세출내역!F37+라.보조금세출내역!F47+라.보조금세출내역!F65+라.보조금세출내역!F68+라.보조금세출내역!F69+라.보조금세출내역!F70+라.보조금세출내역!F71+라.보조금세출내역!F72+라.보조금세출내역!F73+라.보조금세출내역!F74+라.보조금세출내역!F75+라.보조금세출내역!F87+라.보조금세출내역!F88+라.보조금세출내역!F90+라.보조금세출내역!F92 -> 94239000
B8: =다.보조금세입내역!C28 -> 기타보조금 | C8: =다.보조금세입내역!F28 -> 5290000 | D8: 생계비 | E8: =라.보조금세출내역!F54 -> 133277472
B9: =다.보조금세입내역!B36 -> 이월금 | C9: =다.보조금세입내역!F37 -> 25617405 | D9: 사업비 | E9: =라.보조금세출내역!F93+라.보조금세출내역!F99+라.보조금세출내역!F107+라.보조금세출내역!F109 -> 295422320
B10: =다.보조금세입내역!B40 -> 잡수입 | C10: =다.보조금세입내역!F39 -> 781243 | D10: 잡지출 | E10: =라.보조금세출내역!F120 -> 692243
D11: 보조금반환 | E11: =라.보조금세출내역!F122 -> 25617405
A18: 자 부 담 | B18: 소계 | C18: =SUM(C19:C25) -> 236600000 | D18: 소계 | E18: =SUM(E19:E25) -> 236600000
B19: 입소자부담금수입 | C19: ='다-1.자부담세입내역'!E7 -> 104400000 | D19: 인건비 | E19: ='라-1.자부담세출내역'!F8 -> 33495090
B20: 사업수입 | C20: ='다-1.자부담세입내역'!E10 -> 0 | D20: 사무비(업무추진비,운영비) | E20: ='라-1.자부담세출내역'!F33+'라-1.자부담세출내역'!F38 -> 52804910
B21: 법인전입금 | C21: ='다-1.자부담세입내역'!E25 -> 20000000 | D21: 재산조성비 | E21: ='라-1.자부담세출내역'!F45 -> 29600000
B22: 이월금 | C22: ='다-1.자부담세입내역'!E27 -> 72654412 | D22: 사업비 | E22: ='라-1.자부담세출내역'!F50 -> 120700000
B23: 잡수입 | C23: ='다-1.자부담세입내역'!E30 -> 39545588 | D23: 잡지출 | E23: ='라-1.자부담세출내역'!F84 -> 0
E24: ='라-1.자부담세출내역'!F86 -> 0
E25: ='라-1.자부담세출내역'!F89 -> 0
A26: 후 원 금 | B26: 소계 | C26: =SUM(C27:C34) -> 504600000 | D26: 소계 | E26: =SUM(E27:E34) -> 504600000
B27: 지정후원금수입 | C27: ='다-2.후원금세입내역 '!E18 -> 6100000 | D27: 사무비(인건비) | E27: ='라-2.후원금세출내역'!F8 -> 28061660
B28: 비지정후원금수입 | C28: ='다-2.후원금세입내역 '!E19 -> 310000000 | D28: 사무비(업무추진비,운영비) | E28: ='라-2.후원금세출내역'!F33+'라-2.후원금세출내역'!F38 -> 170828340
B29: 결연후원금 | C29: ='다-2.후원금세입내역 '!E20 -> 1000000 | D29: 재산조성비 | E29: ='라-2.후원금세출내역'!F45 -> 185000000
B30: 전년도후원금이월금 | C30: ='다-2.후원금세입내역 '!E29 -> 186333104 | D30: 사업비 | E30: ='라-2.후원금세출내역'!F50 -> 119710000
B31: 잡수입 | C31: ='다-2.후원금세입내역 '!E33 -> 1166896 | D31: 결연후원금 | E31: ='라-2.후원금세출내역'!F84 -> 1000000
E32: ='라-2.후원금세출내역'!F87 -> 0
E33: ='라-2.후원금세출내역'!F90 -> 0
E34: ='라-2.후원금세출내역'!F93 -> 0
E67: 0

Sheet 바.증감사유
A1: 바. 증감사유
N2: (단위:원)
A3: 세 입 | H3: 세 출
A4: 과 목 | D4: 2015년도 1차추경 ( A ) | E4: 2015년도 2차추경 ( B ) | F4: 증감 (B-A) | G4: 증감사유 | H4: 과 목 | K4: =D4 -> 2015년도 1차추경 ( A ) | L4: =E4 -> 2015년도 2차추경 ( B ) | M4: 증감 (B-A) | N4: 증감사유
A5: 관 | B5: 항 | C5: 목 | H5: 관 | I5: 항 | J5: 목
A6: 총 계 | D6: =D7+D13+D16+D36+D39+D43+D10+D30 -> 3123200000 | E6: =E7+E13+E16+E36+E39+E43+E10+E30 -> 3126390000 | F6: =E6-D6 -> 3190000 | H6: 총 계 | K6: =SUM(K7,K28,K33,K52,K58,K61,K64) -> 3123200000 | L6: =SUM(L7,L28,L33,L52,L58,L61,L64) -> 3118890000 | M6: =L6-K6 -> -4310000
A7: 입소자부담금 | B7: 계 | D7: 104400000 | E7: =E8 -> 104400000 | F7: =E7-D7 -> 0 | H7: 사무비 | I7: 계 | K7: =SUM(K8,K16,K21) -> 2243140480 | L7: =SUM(L8,L16,L21) -> 2172551560 | M7: =L7-K7 -> -70588920 | R7: 1194682000
B8: 입소비용수입 | C8: 소계 | D8: 104400000 | E8: =E9 -> 104400000 | F8: =E8-D8 -> 0 | I8: 인건비 | J8: 소계 | K8: =SUM(K9:K15) -> 1955219480 | L8: =SUM(L9:L15) -> 1889998310 | M8: =L8-K8 -> -65221170
C9: 입소비용수입 | D9: 104400000 | E9: ='다-1.자부담세입내역'!E9 -> 104400000 | F9: =E9-D9 -> 0 | J9: 급여 | K9: =라.보조금세출내역!E9+'라-2.후원금세출내역'!E9 -> 1158682000 | L9: =라.보조금세출내역!F9+'라-2.후원금세출내역'!F9 -> 1141381000 | M9: =L9-K9 -> -17301000 | N9: 종사자변동에따른호봉반영
A10: 사업수입 | B10: 계 | D10: 0 | E10: =E11 -> 0 | F10: =E10-D10 -> 0 | J10: 상여금 | K10: =라.보조금세출내역!E10+'라-2.후원금세출내역'!E10 -> 0 | L10: =라.보조금세출내역!F10+'라-2.후원금세출내역'!F10 -> 0 | M10: =L10-K10 -> 0
B11: 사업수입 | C11: 소계 | D11: 0 | E11: =E12 -> 0 | F11: =E11-D11 -> 0 | J11: 일용잡금 | K11: =라.보조금세출내역!E11+'라-2.후원금세출내역'!E11 -> 9600000 | L11: =라.보조금세출내역!F11+'라-2.후원금세출내역'!F11 -> 2000000 | M11: =L11-K11 -> -7600000
C12: 프로그램사업수입 | D12: 0 | E12: ='다-1.자부담세입내역'!E12 -> 0 | F12: =E12-D12 -> 0 | J12: 제수당 | K12: =라.보조금세출내역!E16+'라-2.후원금세출내역'!E12 -> 437179850 | L12: =라.보조금세출내역!F16+'라-2.후원금세출내역'!F12 -> 399031500 | M12: =L12-K12 -> -38148350 | N12: 직책수당신설
A13: 과년도수입 | B13: 계 | D13: 0 | E13: =E14 -> 0 | F13: =E13-D13 -> 0 | J13: 퇴직금및퇴직적립금 | K13: =라.보조금세출내역!E26+'라-2.후원금세출내역'!E26 -> 144744530 | L13: =라.보조금세출내역!F26+'라-2.후원금세출내역'!F26+'라-1.자부담세출내역'!F26 -> 140594430 | M13: =L13-K13 -> -4150100
B14: 과년도수입 | C14: 소계 | D14: 0 | E14: =E15 -> 0 | F14: =E14-D14 -> 0 | J14: 사회보험부담비용 | K14: =라.보조금세출내역!E27+'라-2.후원금세출내역'!E27 -> 160813100 | L14: =라.보조금세출내역!F27+'라-2.후원금세출내역'!F27+'라-1.자부담세출내역'!F27 -> 156991380 | M14: =L14-K14 -> -3821720
C15: 과년도수입 | D15: 0 | E15: =다.보조금세입내역!F12+'다-1.자부담세입내역'!E15 -> 0 | F15: =E15-D15 -> 0 | J15: 기타후생경비 | K15: =라.보조금세출내역!E32+'라-1.자부담세출내역'!E32+'라-2.후원금세출내역'!E32 -> 44200000 | L15: =라.보조금세출내역!F32+'라-1.자부담세출내역'!F32+'라-2.후원금세출내역'!F32 -> 50000000 | M15: =L15-K15 -> 5800000 | N15: 실지출반영예산증액
A16: 보조금수입 | B16: 계 | D16: =D17+D21+D23+D28 -> 2355742860 | E16: =E17+E21+E23+E28 -> 2358791352 | F16: =E16-D16 -> 3048492 | I16: 업무추진비 | J16: 소계 | K16: =SUM(K17:K20) -> 30000000 | L16: =SUM(L17:L20) -> 29000000 | M16: =L16-K16 -> -1000000
B17: =다.보조금세입내역!B14 -> 보조금수입 | C17: 소계 | D17: =SUM(D18:D20) -> 2355742860 | E17: =SUM(E18:E20) -> 2358791352 | F17: =E17-D17 -> 3048492 | J17: 기관운영비 | K17: 0 | L17: 0 | M17: =L17-K17 -> 0
C18: =다.보조금세입내역!C15 -> 국고보조금 | D18: =다.보조금세입내역!E15 -> 1477837788 | E18: =다.보조금세입내역!F15 -> 1.4443583e+09 | F18: =E18-D18 -> -33479466 | G18: 국도비 분류에의한 예산반영 | J18: 직책보조비 | K18: ='라-1.자부담세출내역'!E35 -> 0 | L18: ='라-1.자부담세출내역'!F35 -> 0 | M18: =L18-K18 -> 0
C19: =다.보조금세입내역!C19 -> 시도(군)보조금 | D19: =다.보조금세입내역!E19 -> 872615072 | E19: =다.보조금세입내역!F19 -> 9.0914303e+08 | F19: =E19-D19 -> 36527958 | G19: 국도비 분류에의한 예산반영 | J19: 홍보비 | K19: ='라-1.자부담세출내역'!E36+'라-2.후원금세출내역'!E36 -> 26000000 | L19: ='라-1.자부담세출내역'!F36+'라-2.후원금세출내역'!F36 -> 25000000 | M19: =L19-K19 -> -1000000 | N19: 실지출반영예산감액
C20: =다.보조금세입내역!C28 -> 기타보조금 | D20: =다.보조금세입내역!E28 -> 5290000 | E20: =다.보조금세입내역!F28 -> 5290000 | F20: =E20-D20 -> 0 | J20: 회의비 | K20: =라.보조금세출내역!E36+'라-1.자부담세출내역'!E37+'라-2.후원금세출내역'!E37 -> 4000000 | L20: =라.보조금세출내역!F36+'라-1.자부담세출내역'!F37+'라-2.후원금세출내역'!F37 -> 4000000 | M20: =L20-K20 -> 0
D21: 0 | E21: 0 | F21: =E21-D21 -> 0 | I21: 운영비 | J21: 소계 | K21: =SUM(K22:K27) -> 257921000 | L21: =SUM(L22:L27) -> 253553250 | M21: =L21-K21 -> -4367750
D22: 0 | E22: 0 | F22: =E22-D22 -> 0 | J22: 여비 | K22: =라.보조금세출내역!E38+'라-2.후원금세출내역'!E39 -> 10000000 | L22: =라.보조금세출내역!F38+'라-2.후원금세출내역'!F39 -> 10000000 | M22: =L22-K22 -> 0
D23: 0 | E23: =SUM(E24:E27) -> 0 | F23: =E23-D23 -> 0 | J23: 수용비및수수료 | K23: =라.보조금세출내역!E39+'라-1.자부담세출내역'!E40+'라-2.후원금세출내역'!E40 -> 39390000 | L23: =라.보조금세출내역!F39+'라-1.자부담세출내역'!F40+'라-2.후원금세출내역'!F40 -> 39922250 | M23: =L23-K23 -> 532250 | N23: 실지출반영예산증액
D24: 0 | E24: =다.보조금세입내역!F31 -> 0 | F24: =E24-D24 -> 0 | J24: 공공요금 | K24: =라.보조금세출내역!E40+'라-1.자부담세출내역'!E41+'라-2.후원금세출내역'!E41 -> 118131000 | L24: =라.보조금세출내역!F40+'라-1.자부담세출내역'!F41+'라-2.후원금세출내역'!F41 -> 118131000 | M24: =L24-K24 -> 0
D25: 0 | E25: =다.보조금세입내역!F32 -> 0 | F25: =E25-D25 -> 0 | J25: 제세공과금 | K25: =라.보조금세출내역!E41+'라-1.자부담세출내역'!E42+'라-2.후원금세출내역'!E42 -> 21000000 | L25: =라.보조금세출내역!F41+'라-1.자부담세출내역'!F42+'라-2.후원금세출내역'!F42 -> 19000000 | M25: =L25-K25 -> -2000000 | N25: 실지출반영예산감액
D26: 0 | E26: =다.보조금세입내역!F33 -> 0 | F26: =E26-D26 -> 0 | J26: 차량비 | K26: =라.보조금세출내역!E45+'라-1.자부담세출내역'!E43+'라-2.후원금세출내역'!E43 -> 53400000 | L26: =라.보조금세출내역!F45+'라-1.자부담세출내역'!F43+'라-2.후원금세출내역'!F43 -> 51000000 | M26: =L26-K26 -> -2400000 | N26: 실지출반영예산감액
D27: 0 | E27: =다.보조금세입내역!F34 -> 0 | F27: =E27-D27 -> 0 | J27: 기타운영비 | K27: =라.보조금세출내역!E46+'라-1.자부담세출내역'!E44+'라-2.후원금세출내역'!E44 -> 16000000 | L27: =라.보조금세출내역!F46+'라-1.자부담세출내역'!F44+'라-2.후원금세출내역'!F44 -> 15500000 | M27: =L27-K27 -> -500000
D28: 0 | E28: =E29 -> 0 | F28: =E28-D28 -> 0 | H28: 재산조성비 | I28: 계 | K28: =SUM(K29) -> 206400000 | L28: =SUM(L29) -> 223900000 | M28: =L28-K28 -> 17500000
D29: 0 | E29: ='다-2.후원금세입내역 '!E14 -> 0 | F29: =E29-D29 -> 0 | I29: 시설비 | J29: 소계 | K29: =SUM(K30:K32) -> 206400000 | L29: =SUM(L30:L32) -> 223900000 | M29: =L29-K29 -> 17500000
A30: 후원금 | B30: 계 | D30: =D31+D34 -> 317100000 | E30: =E31+E34 -> 317100000 | F30: =E30-D30 -> 0 | J30: 시설비 | K30: =라.보조금세출내역!E49+'라-1.자부담세출내역'!E47+'라-2.후원금세출내역'!E47 -> 16000000 | L30: =라.보조금세출내역!F49+'라-1.자부담세출내역'!F47+'라-2.후원금세출내역'!F47 -> 9000000 | M30: =L30-K30 -> -7000000 | N30: 실지출반영예산감액
B31: 후원금수입 | C31: 소계 | D31: =SUM(D32:D33) -> 316100000 | E31: =SUM(E32:E33) -> 316100000 | F31: =E31-D31 -> 0 | J31: 자산취득비 | K31: =라.보조금세출내역!E50+'라-1.자부담세출내역'!E48+'라-2.후원금세출내역'!E48 -> 40000000 | L31: =라.보조금세출내역!F50+'라-1.자부담세출내역'!F48+'라-2.후원금세출내역'!F48 -> 24000000 | M31: =L31-K31 -> -16000000 | N31: 실지출반영예산감액
C32: 지정후원금 | D32: ='다-2.후원금세입내역 '!D18 -> 6100000 | E32: ='다-2.후원금세입내역 '!E18 -> 6100000 | F32: =E32-D32 -> 0 | J32: 시설장비유지비 | K32: =라.보조금세출내역!E51+'라-1.자부담세출내역'!E49+'라-2.후원금세출내역'!E49 -> 150400000 | L32: =라.보조금세출내역!F51+'라-1.자부담세출내역'!F49+'라-2.후원금세출내역'!F49 -> 190900000 | M32: =L32-K32 -> 40500000 | N32: 실지출반영예산증액
C33: 비지정후원금 | D33: 310000000 | E33: ='다-2.후원금세입내역 '!E19 -> 310000000 | F33: =E33-D33 -> 0 | H33: 사업비 | I33: 계 | K33: =SUM(K34,K40,K41) -> 646402380 | L33: =SUM(L34,L40,L41) -> 695128792 | M33: =L33-K33 -> 48726412
B34: 결연후원금수입 | C34: 소계 | D34: 1000000 | E34: =E35 -> 1000000 | F34: =E34-D34 -> 0 | I34: 운영비 | J34: 소계 | K34: =SUM(K35:K39) -> 287146360 | L34: =SUM(L35:L39) -> 284996472 | M34: =L34-K34 -> -2149888
C35: 결연후원금 | D35: 1000000 | E35: ='다-2.후원금세입내역 '!E20 -> 1000000 | F35: =E35-D35 -> 0 | J35: 생계비 | K35: =라.보조금세출내역!E55+라.보조금세출내역!E59+라.보조금세출내역!E60+'라-1.자부담세출내역'!E52+'라-2.후원금세출내역'!E52 -> 228527360 | L35: =라.보조금세출내역!F55+라.보조금세출내역!F59+라.보조금세출내역!F60+'라-1.자부담세출내역'!F52+'라-2.후원금세출내역'!F52 -> 238277472 | M35: =L35-K35 -> 9750112 | N35: 실지출반영예산증액
A36: 전입금 | B36: 계 | D36: =D37 -> 20000000 | E36: =E37 -> 20000000 | F36: =E36-D36 -> 0 | J36: 피복비 | K36: =라.보조금세출내역!E63+'라-1.자부담세출내역'!E53 -> 8800000 | L36: =라.보조금세출내역!F63+'라-1.자부담세출내역'!F53 -> 2400000 | M36: =L36-K36 -> -6400000 | N36: 실지출반영예산감액
B37: 전입금 | C37: 소계 | D37: =D38 -> 20000000 | E37: =E38 -> 20000000 | F37: =E37-D37 -> 0 | J37: ='라-1.자부담세출내역'!C54 -> 수용기관경비 | K37: =라.보조금세출내역!E65+'라-1.자부담세출내역'!E54+'라-1.자부담세출내역'!E55+'라-2.후원금세출내역'!E53+'라-2.후원금세출내역'!E54 -> 45819000 | L37: =라.보조금세출내역!F65+'라-1.자부담세출내역'!F54+'라-1.자부담세출내역'!F55+'라-2.후원금세출내역'!F53+'라-2.후원금세출내역'!F54 -> 40819000 | M37: =L37-K37 -> -5000000 | N37: 실지출반영예산감액
C38: 법인전입금 | D38: 20000000 | E38: ='다-1.자부담세입내역'!E25 -> 20000000 | F38: =E38-D38 -> 0 | J38: 의료비 | K38: ='라-1.자부담세출내역'!E56+'라-2.후원금세출내역'!E56 -> 3500000 | L38: ='라-1.자부담세출내역'!F56+'라-2.후원금세출내역'!F56 -> 3500000 | M38: =L38-K38 -> 0
A39: 이월금 | B39: 계 | D39: =D40 -> 284604921 | E39: =E40 -> 284604921 | F39: =E39-D39 -> 0 | J39: 연료비 | K39: ='라-2.후원금세출내역'!E61 -> 500000 | L39: ='라-2.후원금세출내역'!F61 -> 0 | M39: =L39-K39 -> -500000 | N39: 실지출반영예산감액
B40: 이월금 | C40: 소계 | D40: =SUM(D41:D42) -> 284604921 | E40: =SUM(E41:E42) -> 284604921 | F40: =E40-D40 -> 0 | I40: 교육비 | J40: 소계 | K40: 0 | L40: 0 | M40: =L40-K40 -> 0
C41: 전년도이월금 | D41: =다.보조금세입내역!E37+'다-1.자부담세입내역'!D28+'다-2.후원금세입내역 '!D31 -> 284604921 | E41: =다.보조금세입내역!F37+'다-1.자부담세입내역'!E28+'다-2.후원금세입내역 '!E31 -> 284604921 | F41: =E41-D41 -> 0 | I41: 사업비 | J41: 소계 | K41: =SUM(K42:K51) -> 359256020 | L41: =SUM(L42:L51) -> 410132320 | M41: =L41-K41 -> 50876300
C42: 이월사업비 | D42: 0 | E42: =다.보조금세입내역!F38+'다-1.자부담세입내역'!E29 -> 0 | F42: =E42-D42 -> 0 | J42: 의료재활사업비 | K42: 0 | L42: 0 | M42: =L42-K42 -> 0
A43: 잡수입 | B43: 계 | D43: =D44 -> 41352219 | E43: =E44 -> 41493727 | F43: =E43-D43 -> 141508 | J43: 사회심리재활사업비 | K43: =라.보조금세출내역!E88+'라-1.자부담세출내역'!E74+'라-2.후원금세출내역'!E75 -> 77500000 | L43: =라.보조금세출내역!F88+'라-1.자부담세출내역'!F74+'라-2.후원금세출내역'!F75 -> 77500000 | M43: =L43-K43 -> 0
B44: 잡수입 | C44: 소계 | D44: =SUM(D45:D47) -> 41352219 | E44: =SUM(E45:E47) -> 41493727 | F44: =E44-D44 -> 141508 | J44: 교육재활사업비 | K44: 0 | L44: 0 | M44: =L44-K44 -> 0
C45: 불용품매각대 | D45: 500000 | E45: =다.보조금세입내역!F41+'다-1.자부담세입내역'!E32 -> 500000 | F45: =E45-D45 -> 0 | J45: 직업재활사업비 | K45: ='라-1.자부담세출내역'!E76+'라-2.후원금세출내역'!E77 -> 30000000 | L45: ='라-1.자부담세출내역'!F76+'라-2.후원금세출내역'!F77 -> 30000000 | M45: =L45-K45 -> 0
C46: 기타예금이자수입 | D46: =다.보조금세입내역!E42+'다-1.자부담세입내역'!D33+'다-2.후원금세입내역 '!D36 -> 2352219 | E46: =다.보조금세입내역!F42+'다-1.자부담세입내역'!E33+'다-2.후원금세입내역 '!E36 -> 2404727 | F46: =E46-D46 -> 52508 | J46: 4종운영지원사업비 | K46: =라.보조금세출내역!E93 -> 32840000 | L46: =라.보조금세출내역!F93 -> 32840000 | M46: =L46-K46 -> 0
C47: 기타잡수입 | D47: 38500000 | E47: =다.보조금세입내역!F43+'다-1.자부담세입내역'!E34 -> 38589000 | F47: =E47-D47 -> 89000 | G47: 법인카드포인트수입 | J47: 7종운영지원사업비 | K47: =라.보조금세출내역!E99 -> 206416020 | L47: =라.보조금세출내역!F99 -> 237019070 | M47: =L47-K47 -> 30603050 | N47: 생활재활교사추가채용
J48: =라.보조금세출내역!C107 -> 추가지원사업비 | K48: =라.보조금세출내역!E107 -> 0 | L48: =라.보조금세출내역!F107 -> 20273250 | M48: =L48-K48 -> 20273250 | N48: 도비시간외수당지출분
J49: 재활프로그램사업비 | K49: =라.보조금세출내역!E110+'라-2.후원금세출내역'!E78 -> 5900000 | L49: =라.보조금세출내역!F110+'라-2.후원금세출내역'!F78 -> 5900000 | M49: =L49-K49 -> 0
K50: 0 | L50: 0 | M50: =L50-K50 -> 0
J51: 공동모금회사업비 | K51: ='라-2.후원금세출내역'!E82 -> 6600000 | L51: ='라-2.후원금세출내역'!F82 -> 6600000 | M51: =L51-K51 -> 0
H52: 결연후원금 | I52: 계 | K52: =SUM(K53) -> 1000000 | L52: =SUM(L53) -> 1000000 | M52: =L52-K52 -> 0
I53: 결연후원금 | J53: 소계 | K53: =SUM(K54) -> 1000000 | L53: =SUM(L54) -> 1000000 | M53: =L53-K53 -> 0
J54: 결연후원금지급 | K54: 1000000 | L54: ='라-2.후원금세출내역'!F86 -> 1000000 | M54: =L54-K54 -> 0
H55: 과년도지출 | I55: 계 | K55: 0 | L55: 0 | M55: =L55-K55 -> 0
I56: 과년도지출 | J56: 소계 | K56: 0 | L56: =SUM(L57) -> 0 | M56: =L56-K56 -> 0
J57: 과년도지출 | K57: 0 | L57: 0 | M57: =L57-K57 -> 0
H58: 잡지출 | I58: 계 | K58: =SUM(K59) -> 639735 | L58: =SUM(L59) -> 692243 | M58: =L58-K58 -> 52508
I59: 잡지출 | J59: 소계 | K59: =SUM(K60) -> 639735 | L59: =SUM(L60) -> 692243 | M59: =L59-K59 -> 52508
J60: 잡지출 | K60: =라.보조금세출내역!E121 -> 639735 | L60: =라.보조금세출내역!F121 -> 692243 | M60: =L60-K60 -> 52508
H61: 예비비 | I61: 계 | K61: 0 | L61: =SUM(L62) -> 0 | M61: =L61-K61 -> 0
I62: 예비비 | J62: 소계 | K62: 0 | L62: =SUM(L63) -> 0 | M62: =L62-K62 -> 0
J63: 예비비 | K63: 0 | L63: 0 | M63: =L63-K63 -> 0
I64: 계 | K64: =SUM(K65) -> 25617405 | L64: =SUM(L65) -> 25617405 | M64: =L64-K64 -> 0
I65: 보조금반환 | J65: 소계 | K65: =SUM(K66) -> 25617405 | L65: =SUM(L66) -> 25617405 | M65: =L65-K65 -> 0
J66: 보조금반환 | K66: =라.보조금세출내역!E124 -> 25617405 | L66: =라.보조금세출내역!F124 -> 25617405 | M66: =L66-K66 -> 0
E67: 0

Sheet 예산증감내역
A1: 둘다섯해누리 2015년 2차추가경정 예산(안) 증감 내역
A3: 세 입
A4: 과 목 | D4: 2015년도 당초예산 ( A ) | E4: 2015년도 1차추경 ( B ) | F4: 증감 | G4: 내 용
A5: 관 | B5: 항 | C5: 목
A6: 총 계 | D6: =SUM(D7:D27) -> 3123200000 | E6: =SUM(E7:E27) -> 3126390000 | F6: =SUM(F7:F27) -> 3190000
A7: 입소자부담금 | B7: 입소비용수입 | C7: 입소비용수입 | D7: ='나.세입세출(총괄)'!D7 -> 104400000 | E7: ='나.세입세출(총괄)'!E7 -> 104400000 | F7: =E7-D7 -> 0
A8: 사업수입 | B8: 사업수입 | C8: 프로그램사업수입 | D8: 0 | E8: ='나.세입세출(총괄)'!E10 -> 0 | F8: =E8-D8 -> 0
A9: 과년도수입 | B9: 과년도수입 | C9: 과년도수입 | D9: 0 | E9: ='나.세입세출(총괄)'!E13 -> 0 | F9: =E9-D9 -> 0
A10: 보조금수입 | B10: 경상보조금수입 | C10: 인건비 | D10: ='나.세입세출(총괄)'!D18 -> 1477837788 | E10: ='나.세입세출(총괄)'!E18 -> 1.4443583e+09 | F10: =E10-D10 -> -33479466 | G10: 인건비 호봉승급에 따른 예산증액
C11: 운영비 | D11: ='나.세입세출(총괄)'!D19 -> 872615072 | E11: ='나.세입세출(총괄)'!E19 -> 9.0914303e+08 | F11: =E11-D11 -> 36527958 | G11: 실수입대비 예산 감액
C12: 생계비 | D12: ='나.세입세출(총괄)'!D20 -> 5290000 | E12: ='나.세입세출(총괄)'!E20 -> 5290000 | F12: =E12-D12 -> 0 | G12: 실수입대비 예산증액
B13: 자본보조금수입 | C13: 자본보조금 | D13: 0 | E13: ='나.세입세출(총괄)'!E21 -> 0 | F13: =E13-D13 -> 0
B14: 기타보조금 | C14: 재활프로그램사업비 | D14: 0 | E14: ='나.세입세출(총괄)'!E24 -> 0 | F14: =E14-D14 -> 0 | G14: 2015년 재활프로그램 사업
C15: 공동모금회사업비 | D15: 0 | E15: ='나.세입세출(총괄)'!E25 -> 0 | F15: =E15-D15 -> 0
D16: 0 | E16: ='나.세입세출(총괄)'!E26 -> 0 | F16: =E16-D16 -> 0
D17: 0 | E17: ='나.세입세출(총괄)'!E27 -> 0 | F17: =E17-D17 -> 0
B18: 후원금수입 | C18: 후원금수입 | D18: 0 | E18: ='나.세입세출(총괄)'!E28 -> 0 | F18: =E18-D18 -> 0
A19: 후원금 | B19: 후원금수입 | C19: 지정후원금 | D19: ='나.세입세출(총괄)'!D32 -> 6100000 | E19: ='나.세입세출(총괄)'!E32 -> 6100000 | F19: =E19-D19 -> 0 | G19: 공동모금회 지정후원금 실수입 대비 예산 감액
C20: 비지정후원금 | D20: ='나.세입세출(총괄)'!D33 -> 310000000 | E20: ='나.세입세출(총괄)'!E33 -> 310000000 | F20: =E20-D20 -> 0
B21: 결연후원금수입 | C21: 결연후원금 | D21: ='나.세입세출(총괄)'!D34 -> 1000000 | E21: ='나.세입세출(총괄)'!E34 -> 1000000 | F21: =E21-D21 -> 0
A22: 전입금 | B22: 전입금 | C22: 법인전입금 | D22: ='나.세입세출(총괄)'!D36 -> 20000000 | E22: ='나.세입세출(총괄)'!E36 -> 20000000 | F22: =E22-D22 -> 0
A23: 이월금 | B23: 이월금 | C23: 전년도이월금 | D23: ='나.세입세출(총괄)'!D41 -> 284604921 | E23: ='나.세입세출(총괄)'!E41 -> 284604921 | F23: =E23-D23 -> 0 | G23: 실제 이월금 발생액
C24: 이월사업비 | D24: ='나.세입세출(총괄)'!D42 -> 0 | E24: ='나.세입세출(총괄)'!E42 -> 0 | F24: =E24-D24 -> 0
A25: 잡수입 | B25: 잡수입 | C25: 불용품매각대 | D25: ='나.세입세출(총괄)'!D45 -> 500000 | E25: ='나.세입세출(총괄)'!E45 -> 500000 | F25: =E25-D25 -> 0
C26: 기타예금이자수입 | D26: ='나.세입세출(총괄)'!D46 -> 2352219 | E26: ='나.세입세출(총괄)'!E46 -> 2404727 | F26: =E26-D26 -> 52508 | G26: 실수입대비 예산증액
C27: 기타잡수입 | D27: ='나.세입세출(총괄)'!D47 -> 38500000 | E27: ='나.세입세출(총괄)'!E47 -> 38589000 | F27: =E27-D27 -> 89000
A30: 세 출
A31: 과 목 | D31: =D4 -> 2015년도 당초예산 ( A ) | E31: =E4 -> 2015년도 1차추경 ( B ) | F31: 증감 | G31: 내 용
A32: 관 | B32: 항 | C32: 목
A33: 총 계 | D33: =SUM(D34:D79) -> 3123200000 | E33: =SUM(E34:E79) -> 3126390000 | F33: =SUM(F34:F79) -> 3190000
A34: 사무비 | B34: 인건비 | C34: 급여 | D34: ='나.세입세출(총괄)'!K9 -> 1158682000 | E34: ='나.세입세출(총괄)'!L9 -> 1141381000 | F34: =E34-D34 -> -17301000 | G34: 인건비 호봉 승급에 따른 예산 증액
C35: 상여금 | D35: ='나.세입세출(총괄)'!K10 -> 0 | E35: ='나.세입세출(총괄)'!L10 -> 0 | F35: =E35-D35 -> 0
C36: 일용잡금 | D36: ='나.세입세출(총괄)'!K11 -> 9600000 | E36: ='나.세입세출(총괄)'!L11 -> 2000000 | F36: =E36-D36 -> -7600000
C37: 제수당 | D37: ='나.세입세출(총괄)'!K12 -> 437179850 | E37: ='나.세입세출(총괄)'!L12 -> 406531500 | F37: =E37-D37 -> -30648350 | G37: 인건비 호봉 승급에 따른 예산 증액
C38: 퇴직금및퇴직적립금 | D38: ='나.세입세출(총괄)'!K13 -> 144744530 | E38: ='나.세입세출(총괄)'!L13 -> 140594430 | F38: =E38-D38 -> -4150100 | G38: 인건비 호봉 승급에 따른 예산 증액
C39: 사회보험부담비용 | D39: ='나.세입세출(총괄)'!K14 -> 160813100 | E39: ='나.세입세출(총괄)'!L14 -> 156991380 | F39: =E39-D39 -> -3821720 | G39: 인건비 호봉 승급에 따른 예산 증액
C40: 기타후생경비 | D40: ='나.세입세출(총괄)'!K15 -> 44200000 | E40: ='나.세입세출(총괄)'!L15 -> 50000000 | F40: =E40-D40 -> 5800000 | G40: 실지출대비 예산 감액
B41: 업무추진비 | C41: 기관운영비 | D41: ='나.세입세출(총괄)'!K17 -> 0 | E41: ='나.세입세출(총괄)'!L17 -> 0 | F41: =E41-D41 -> 0
C42: 직책보조비 | D42: ='나.세입세출(총괄)'!K18 -> 0 | E42: ='나.세입세출(총괄)'!L18 -> 0 | F42: =E42-D42 -> 0
C43: 홍보비 | D43: ='나.세입세출(총괄)'!K19 -> 26000000 | E43: ='나.세입세출(총괄)'!L19 -> 25000000 | F43: =E43-D43 -> -1000000
C44: 회의비 | D44: ='나.세입세출(총괄)'!K20 -> 4000000 | E44: ='나.세입세출(총괄)'!L20 -> 4000000 | F44: =E44-D44 -> 0 | G44: 실지출대비 예산 감액
B45: 운영비 | C45: 여비 | D45: ='나.세입세출(총괄)'!K22 -> 10000000 | E45: ='나.세입세출(총괄)'!L22 -> 10000000 | F45: =E45-D45 -> 0
C46: 수용비및수수료 | D46: ='나.세입세출(총괄)'!K23 -> 39390000 | E46: ='나.세입세출(총괄)'!L23 -> 39922250 | F46: =E46-D46 -> 532250 | G46: 실지출대비 예산 증액
C47: 공공요금 | D47: ='나.세입세출(총괄)'!K24 -> 118131000 | E47: ='나.세입세출(총괄)'!L24 -> 118131000 | F47: =E47-D47 -> 0
C48: 제세공과금 | D48: ='나.세입세출(총괄)'!K25 -> 21000000 | E48: ='나.세입세출(총괄)'!L25 -> 19000000 | F48: =E48-D48 -> -2000000
C49: 차량비 | D49: ='나.세입세출(총괄)'!K26 -> 53400000 | E49: ='나.세입세출(총괄)'!L26 -> 51000000 | F49: =E49-D49 -> -2400000 | G49: 실지출반영 예산 감액
C50: 기타운영비 | D50: ='나.세입세출(총괄)'!K27 -> 16000000 | E50: ='나.세입세출(총괄)'!L27 -> 15500000 | F50: =E50-D50 -> -500000
A51: 재산조성비 | B51: 시설비 | C51: 시설비 | D51: ='나.세입세출(총괄)'!K30 -> 16000000 | E51: ='나.세입세출(총괄)'!L30 -> 9000000 | F51: =E51-D51 -> -7000000 | G51: 실지출대비 예산 감액
C52: 자산취득비 | D52: ='나.세입세출(총괄)'!K31 -> 40000000 | E52: ='나.세입세출(총괄)'!L31 -> 24000000 | F52: =E52-D52 -> -16000000 | G52: 실지출대비 예산 감액
C53: 시설장비유지비 | D53: ='나.세입세출(총괄)'!K32 -> 150400000 | E53: ='나.세입세출(총괄)'!L32 -> 190900000 | F53: =E53-D53 -> 40500000 | G53: 실지출대비 예산 증액
A54: 사업비 | B54: 운영비 | C54: 생계비 | D54: ='나.세입세출(총괄)'!K35 -> 228527360 | E54: ='나.세입세출(총괄)'!L35 -> 238277472 | F54: =E54-D54 -> 9750112 | G54: 기초생활보장급여 증액에 따른 예산 증액
C55: 피복비 | D55: ='나.세입세출(총괄)'!K36 -> 8800000 | E55: ='나.세입세출(총괄)'!L36 -> 2400000 | F55: =E55-D55 -> -6400000
C56: 수용기관경비 | D56: ='나.세입세출(총괄)'!K37 -> 45819000 | E56: ='나.세입세출(총괄)'!L37 -> 40819000 | F56: =E56-D56 -> -5000000 | G56: 실지출대비 예산 증액
C57: 의료비 | D57: ='나.세입세출(총괄)'!K38 -> 3500000 | E57: ='나.세입세출(총괄)'!L38 -> 3500000 | F57: =E57-D57 -> 0
C58: 연료비 | D58: ='나.세입세출(총괄)'!K39 -> 500000 | E58: ='나.세입세출(총괄)'!L39 -> 0 | F58: =E58-D58 -> -500000
C59: 직업재활비 | D59: ='나.세입세출(총괄)'!K40 -> 0 | E59: ='나.세입세출(총괄)'!L40 -> 0 | F59: =E59-D59 -> 0
C60: 자활사업비 | F60: =E60-D60 -> 0
C61: 특별급식비 | D61: ='나.세입세출(총괄)'!K42 -> 0 | E61: ='나.세입세출(총괄)'!L42 -> 0 | F61: =E61-D61 -> 0
C62: 연료비 | F62: =E62-D62 -> 0
B63: 교육비 | C63: 학용품비 | D63: ='나.세입세출(총괄)'!K40 -> 0 | E63: ='나.세입세출(총괄)'!L40 -> 0 | F63: =E63-D63 -> 0
B64: 사업비 | C64: 의료재활사업비 | D64: ='나.세입세출(총괄)'!K42 -> 0 | E64: ='나.세입세출(총괄)'!L42 -> 0 | F64: =E64-D64 -> 0
C65: 사회심리재활사업비 | D65: ='나.세입세출(총괄)'!K43 -> 77500000 | E65: ='나.세입세출(총괄)'!L43 -> 77500000 | F65: =E65-D65 -> 0
C66: 교육재활사업비 | D66: ='나.세입세출(총괄)'!K44 -> 0 | E66: ='나.세입세출(총괄)'!L44 -> 0 | F66: =E66-D66 -> 0
D67: 0 | E67: 0 | F67: =E67-D67 -> 0
C68: 직업재활사업비 | D68: ='나.세입세출(총괄)'!K45 -> 30000000 | E68: ='나.세입세출(총괄)'!L45 -> 30000000 | F68: =E68-D68 -> 0
C69: 4종운영지원사업비 | D69: ='나.세입세출(총괄)'!K46 -> 32840000 | E69: ='나.세입세출(총괄)'!L46 -> 32840000 | F69: =E69-D69 -> 0
C70: 7종운영지원사업비 | D70: ='나.세입세출(총괄)'!K47 -> 206416020 | E70: ='나.세입세출(총괄)'!L47 -> 237019070 | F70: =E70-D70 -> 30603050 | G70: 신입 조리보조원 호봉에 따른 예산감액
C71: ='나.세입세출(총괄)'!J48 -> 추가지원사업비 | D71: ='나.세입세출(총괄)'!K48 -> 0 | E71: ='나.세입세출(총괄)'!L48 -> 20273250 | F71: =E71-D71 -> 20273250
C72: 재활프로그램사업비 | D72: ='나.세입세출(총괄)'!K49 -> 5900000 | E72: ='나.세입세출(총괄)'!L49 -> 5900000 | F72: =E72-D72 -> 0 | G72: 2015년 재활프로그램 예산반영 (도보트래킹)
D73: ='나.세입세출(총괄)'!K50 -> 0 | E73: ='나.세입세출(총괄)'!L50 -> 0 | F73: =E73-D73 -> 0
C74: 공동모금회사업비 | D74: ='나.세입세출(총괄)'!K51 -> 6600000 | E74: ='나.세입세출(총괄)'!L51 -> 6600000 | F74: =E74-D74 -> 0 | G74: 2015년 공동모금회 사업선정 예산반영(난타)
A75: 결연후원금 | B75: 결연후원금 | C75: 결연후원금지급 | D75: ='나.세입세출(총괄)'!K52 -> 1000000 | E75: ='나.세입세출(총괄)'!L52 -> 1000000 | F75: =E75-D75 -> 0
A76: 과년도지출 | B76: 과년도지출 | C76: 과년도지출 | D76: ='나.세입세출(총괄)'!K55 -> 0 | E76: ='나.세입세출(총괄)'!L55 -> 0 | F76: =E76-D76 -> 0
A77: 잡지출 | B77: 잡지출 | C77: 잡지출 | D77: ='나.세입세출(총괄)'!K58 -> 639735 | E77: ='나.세입세출(총괄)'!L58 -> 692243 | F77: =E77-D77 -> 52508 | G77: 실수입반영 잡지출 예산증액
A78: 예비비 | B78: 예비비 | C78: 예비비 | D78: ='나.세입세출(총괄)'!K61 -> 0 | E78: ='나.세입세출(총괄)'!L61 -> 0 | F78: =E78-D78 -> 0
B79: 보조금반환 | C79: 보조금반환 | D79: ='나.세입세출(총괄)'!K64 -> 25617405 | E79: ='나.세입세출(총괄)'!L64 -> 25617405 | F79: =E79-D79 -> 0 | G79: 보조금 반환금 예상액 산출 반영

Sheet 인건비총계표(보조금)
A1: ▣ 2015년 종사자 인건비 총계표
A3: (1) 국도시비 | AC3: (단위 : 원)
A4: 연 번 | B4: 직 종 | C4: 호 봉 | D4: 명 수 | E4: 구분 (월) | F4: 기본급 | G4: 기말수당 (50%씩 연4회 -3,6,9,12월) | H4: 정근수당 (1,7월) | I4: 장기근속 수 당 | J4: 가계지원비 (50%씩 연4회 -4,5,10,11월) | K4: 가계보조 수 당 (50,000원) | L4: 교통급식비 (110,000원) | M4: 명절휴가비 (60%씩 연2회) | N4: 특수근무 수 당 (국비) | O4: 가족수당 (40,000원) (20,000원) | P4: 명절휴가비 연평균액 | Q4: 연장근로수당 | R4: 연장근로수당 (보수월액*1/ 209*1.5*20or40) | S4: 추가지원수당 (보수월액*1/ 209*1.5*5 | T4: 특수근무 수 당 (도비) | U4: 소 계 | V4: 비 고 | W4: 퇴직적립금 | X4: 국민연금 | Y4: 의료보험 | Z4: 의료보험 (장기요양보험) | AA4: 고용보험 | AB4: 산재보험 | AC4: 공제액합계 | AD4: 실수령액 (갑근세미반영)
A5: 합 계 | F5: =F6+F19+F32+F45+F58+F71+F84+F97+F110+F123+F136+F149+F162+F175+F188+F201+F214+F227+F240+F253+F266+F279+F292+F305+F318+F331+F344+F357+F370+F383+F396+F409+F422+F435+F448+F461+F474+F487+F500+F513+F526+F539+F552+F565+F591+F604+F617+F630+F643+F578 -> 1141381000 | G5: =G6+G19+G32+G45+G58+G71+G84+G97+G110+G123+G136+G149+G162+G175+G188+G201+G214+G227+G240+G253+G266+G279+G292+G305+G318+G331+G344+G357+G370+G383+G396+G409+G422+G435+G448+G461+G474+G487+G500+G513+G526+G539+G552+G565+G591+G604+G617+G630+G643+G578 -> 0 | H5: =H6+H19+H32+H45+H58+H71+H84+H97+H110+H123+H136+H149+H162+H175+H188+H201+H214+H227+H240+H253+H266+H279+H292+H305+H318+H331+H344+H357+H370+H383+H396+H409+H422+H435+H448+H461+H474+H487+H500+H513+H526+H539+H552+H565+H591+H604+H617+H630+H643+H578 -> 0 | I5: =I6+I19+I32+I45+I58+I71+I84+I97+I110+I123+I136+I149+I162+I175+I188+I201+I214+I227+I240+I253+I266+I279+I292+I305+I318+I331+I344+I357+I370+I383+I396+I409+I422+I435+I448+I461+I474+I487+I500+I513+I526+I539+I552+I565+I591+I604+I617+I630+I643+I578 -> 0 | J5: =J6+J19+J32+J45+J58+J71+J84+J97+J110+J123+J136+J149+J162+J175+J188+J201+J214+J227+J240+J253+J266+J279+J292+J305+J318+J331+J344+J357+J370+J383+J396+J409+J422+J435+J448+J461+J474+J487+J500+J513+J526+J539+J552+J565+J591+J604+J617+J630+J643+J578 -> 0 | K5: =K6+K19+K32+K45+K58+K71+K84+K97+K110+K123+K136+K149+K162+K175+K188+K201+K214+K227+K240+K253+K266+K279+K292+K305+K318+K331+K344+K357+K370+K383+K396+K409+K422+K435+K448+K461+K474+K487+K500+K513+K526+K539+K552+K565+K591+K604+K617+K630+K643+K578 -> 0 | L5: =L6+L19+L32+L45+L58+L71+L84+L97+L110+L123+L136+L149+L162+L175+L188+L201+L214+L227+L240+L253+L266+L279+L292+L305+L318+L331+L344+L357+L370+L383+L396+L409+L422+L435+L448+L461+L474+L487+L500+L513+L526+L539+L552+L565+L591+L604+L617+L630+L643+L578 -> 0 | M5: =M6+M19+M32+M45+M58+M71+M84+M97+M110+M123+M136+M149+M162+M175+M188+M201+M214+M227+M240+M253+M266+M279+M292+M305+M318+M331+M344+M357+M370+M383+M396+M409+M422+M435+M448+M461+M474+M487+M500+M513+M526+M539+M552+M565+M591+M604+M617+M630+M643+M578 -> 109854000 | ... U5: =U6+U19+U32+U45+U58+U71+U84+U97+U110+U123+U136+U149+U162+U175+U188+U201+U214+U227+U240+U253+U266+U279+U292+U305+U318+U331+U344+U357+U370+U383+U396+U409+U422+U435+U448+U461+U474+U487+U500+U513+U526+U539+U552+U565+U591+U604+U617+U630+U643+U578 -> 1668632500 | W5: =W6+W19+W32+W45+W58+W71+W84+W97+W110+W123+W136+W149+W162+W175+W188+W201+W214+W227+W240+W253+W266+W279+W292+W305+W318+W331+W344+W357+W370+W383+W396+W409+W422+W435+W448+W461+W474+W487+W500+W513+W526+W539+W552+W565+W591+W604+W617+W630+W643+W578 -> 139887770 | X5: =X6+X19+X32+X45+X58+X71+X84+X97+X110+X123+X136+X149+X162+X175+X188+X201+X214+X227+X240+X253+X266+X279+X292+X305+X318+X331+X344+X357+X370+X383+X396+X409+X422+X435+X448+X461+X474+X487+X500+X513+X526+X539+X552+X565+X591+X604+X617+X630+X643+X578 -> 75089230 | Y5: =Y6+Y19+Y32+Y45+Y58+Y71+Y84+Y97+Y110+Y123+Y136+Y149+Y162+Y175+Y188+Y201+Y214+Y227+Y240+Y253+Y266+Y279+Y292+Y305+Y318+Y331+Y344+Y357+Y370+Y383+Y396+Y409+Y422+Y435+Y448+Y461+Y474+Y487+Y500+Y513+Y526+Y539+Y552+Y565+Y591+Y604+Y617+Y630+Y643+Y578 -> 50645830 | Z5: =Z6+Z19+Z32+Z45+Z58+Z71+Z84+Z97+Z110+Z123+Z136+Z149+Z162+Z175+Z188+Z201+Z214+Z227+Z240+Z253+Z266+Z279+Z292+Z305+Z318+Z331+Z344+Z357+Z370+Z383+Z396+Z409+Z422+Z435+Z448+Z461+Z474+Z487+Z500+Z513+Z526+Z539+Z552+Z565+Z591+Z604+Z617+Z630+Z643+Z578 -> 3319920 | AA5: =AA6+AA19+AA32+AA45+AA58+AA71+AA84+AA97+AA110+AA123+AA136+AA149+AA162+AA175+AA188+AA201+AA214+AA227+AA240+AA253+AA266+AA279+AA292+AA305+AA318+AA331+AA344+AA357+AA370+AA383+AA396+AA409+AA422+AA435+AA448+AA461+AA474+AA487+AA500+AA513+AA526+AA539+AA552+AA565+AA591+AA604+AA617+AA630+AA643+AA578 -> 14594080 | AB5: =AB6+AB19+AB32+AB45+AB58+AB71+AB84+AB97+AB110+AB123+AB136+AB149+AB162+AB175+AB188+AB201+AB214+AB227+AB240+AB253+AB266+AB279+AB292+AB305+AB318+AB331+AB344+AB357+AB370+AB383+AB396+AB409+AB422+AB435+AB448+AB461+AB474+AB487+AB500+AB513+AB526+AB539+AB552+AB565+AB591+AB604+AB617+AB630+AB643+AB578 -> 12972230 | AC5: =AC6+AC19+AC32+AC45+AC58+AC71+AC84+AC97+AC110+AC123+AC136+AC149+AC162+AC175+AC188+AC201+AC214+AC227+AC240+AC253+AC266+AC279+AC292+AC305+AC318+AC331+AC344+AC357+AC370+AC383+AC396+AC409+AC422+AC435+AC448+AC461+AC474+AC487+AC500+AC513+AC526+AC539+AC552+AC565+AC591+AC604+AC617+AC630+AC643+AC578 -> 296509060 | AD5: =AD6+AD19+AD32+AD45+AD58+AD71+AD84+AD97+AD110+AD123+AD136+AD149+AD162+AD175+AD188+AD201+AD214+AD227+AD240+AD253+AD266+AD279+AD292+AD305+AD318+AD331+AD344+AD357+AD370+AD383+AD396+AD409+AD422+AD435+AD448+AD461+AD474+AD487+AD500+AD513+AD526+AD539+AD552+AD565+AD591+AD604+AD617+AD630+AD643+AD578 -> 1372123440
A6: 1 | B6: 시 설 장 | C6: 8,9 | D6: 1 | E6: 소계 | F6: =SUM(F7:F18) -> 35147000 | G6: =SUM(G7:G18) -> 0 | H6: =SUM(H7:H18) -> 0 | I6: =SUM(I7:I18) -> 0 | J6: =SUM(J7:J18) -> 0 | K6: =SUM(K7:K18) -> 0 | L6: =SUM(L7:L18) -> 0 | M6: =SUM(M7:M18) -> 3503400 | ... O6: =SUM(O7:O18) -> 0 | R6: =SUM(R7:R18) -> 5475000 | S6: =SUM(S7:S18) -> 1253000 | T6: =SUM(T7:T18) -> 3000000 | U6: =SUM(U7:U18) -> 47125400 | W6: =SUM(W7:W18) -> 3947980 | X6: =SUM(X7:X18) -> 2120670 | Y6: =SUM(Y7:Y18) -> 1430310 | Z6: =SUM(Z7:Z18) -> 93750 | AA6: =SUM(AA7:AA18) -> 0 | AB6: =SUM(AB7:AB18) -> 0 | AC6: =SUM(AC7:AC18) -> 7592710 | AD6: =U6-AC6 -> 39532690
B7: 이기수 | C7: 8 | E7: 1월 | F7: 2863000 | O7: - | T7: 250000 | U7: =SUM(F7,M7,O7,R7,T7) -> 3113000 | W7: =ROUNDUP(U7*1/12,-1) -> 259420 | X7: =ROUND(U7*4.5%,-1) -> 140090 | Y7: =ROUNDUP((U7-L7)*3.035%,-1) -> 94480 | Z7: =ROUNDUP(Y7*6.55%,-1) -> 6190 | AA7: 0 | AB7: 0 | AC7: =SUM(W7:AB7) -> 500180 | AD7: =U7-AC7 -> 2612820
E8: 2월 | F8: =F7 -> 2863000 | M8: =F8*60% -> 1717800 | O8: - | Q8: =ROUND((F7+T7)*1/209*1.5,-1) -> 22340 | R8: =Q8*20 -> 446800 | S8: =Q8*5 -> 111700 | T8: =T7 -> 250000 | U8: =SUM(F8,M8,O8,R8,T8) -> 5277600 | W8: =ROUNDUP((T8+U8)*1/12,-1) -> 460640 | X8: =ROUND(U8*4.5%,-1) -> 237490 | Y8: =ROUNDUP((U8-L8)*3.035%,-1) -> 160180 | Z8: =ROUNDUP(Y8*6.55%,-1) -> 10500 | AA8: 0 | AB8: 0 | AC8: =SUM(W8:AB8) -> 868810 | AD8: =U8-AC8 -> 4408790
E9: 3월 | F9: =F7 -> 2863000 | O9: - | Q9: =ROUND((F8+T8)*1/209*1.5,-1) -> 22340 | R9: =Q9*20 -> 446800 | S9: =Q9*5 -> 111700 | T9: =T8 -> 250000 | U9: =SUM(F9,M9,O9,R9,T9) -> 3559800 | W9: =ROUNDUP(U9*1/12,-1) -> 296650 | X9: =ROUND(U9*4.5%,-1) -> 160190 | Y9: =ROUNDUP((U9-L9)*3.035%,-1) -> 108040 | Z9: =ROUNDUP(Y9*6.55%,-1) -> 7080 | AA9: 0 | AB9: 0 | AC9: =SUM(W9:AB9) -> 571960 | AD9: =U9-AC9 -> 2987840
E10: 4월 | F10: =F8 -> 2863000 | O10: - | Q10: =ROUND((F9+T9)*1/209*1.5,-1) -> 22340 | R10: =Q10*20 -> 446800 | S10: =Q10*5 -> 111700 | T10: =T9 -> 250000 | U10: =SUM(F10,M10,O10,R10,T10) -> 3559800 | W10: =ROUNDUP(U10*1/12,-1) -> 296650 | X10: =ROUND(U10*4.5%,-1) -> 160190 | Y10: =ROUNDUP((U10-L10)*3.035%,-1) -> 108040 | Z10: =ROUNDUP(Y10*6.55%,-1) -> 7080 | AA10: 0 | AB10: 0 | AC10: =SUM(W10:AB10) -> 571960 | AD10: =U10-AC10 -> 2987840
E11: 5월 | F11: =F9 -> 2863000 | O11: - | Q11: =ROUND((F10+T10)*1/209*1.5,-1) -> 22340 | R11: =Q11*20 -> 446800 | S11: =Q11*5 -> 111700 | T11: =T10 -> 250000 | U11: =SUM(F11,M11,O11,R11,T11) -> 3559800 | W11: =ROUNDUP(U11*1/12,-1) -> 296650 | X11: =ROUND(U11*4.5%,-1) -> 160190 | Y11: =ROUNDUP((U11-L11)*3.035%,-1) -> 108040 | Z11: =ROUNDUP(Y11*6.55%,-1) -> 7080 | AA11: 0 | AB11: 0 | AC11: =SUM(W11:AB11) -> 571960 | AD11: =U11-AC11 -> 2987840
C12: 9 | E12: 6월 | F12: 2976000 | O12: - | Q12: =ROUND((F11+T11)*1/209*1.5,-1) -> 22340 | R12: =Q12*20 -> 446800 | S12: =Q12*5 -> 111700 | T12: =T11 -> 250000 | U12: =SUM(F12,M12,O12,R12,T12) -> 3672800 | W12: =ROUNDUP(U12*1/12,-1) -> 306070 | X12: =ROUND(U12*4.5%,-1) -> 165280 | Y12: =ROUNDUP((U12-L12)*3.035%,-1) -> 111470 | Z12: =ROUNDUP(Y12*6.55%,-1) -> 7310 | AA12: 0 | AB12: 0 | AC12: =SUM(W12:AB12) -> 590130 | AD12: =U12-AC12 -> 3082670
E13: 7월 | F13: =F12 -> 2976000 | O13: - | Q13: =ROUND((F12+T12)*1/209*1.5,-1) -> 23150 | R13: =Q13*20 -> 463000 | S13: =Q13*5 -> 115750 | T13: =T12 -> 250000 | U13: =SUM(F13,M13,O13,R13,T13) -> 3689000 | W13: =ROUNDUP(U13*1/12,-1) -> 307420 | X13: =ROUND(U13*4.5%,-1) -> 166010 | Y13: =ROUNDUP((U13-L13)*3.035%,-1) -> 111970 | Z13: =ROUNDUP(Y13*6.55%,-1) -> 7340 | AA13: 0 | AB13: 0 | AC13: =SUM(W13:AB13) -> 592740 | AD13: =U13-AC13 -> 3096260
E14: 8월 | F14: =F13 -> 2976000 | O14: - | Q14: =ROUND((F13+T13)*1/209*1.5,-1) -> 23150 | R14: =Q14*20 -> 463000 | S14: =Q14*5 -> 115750 | T14: =T13 -> 250000 | U14: =SUM(F14,M14,O14,R14,T14) -> 3689000 | W14: =ROUNDUP(U14*1/12,-1) -> 307420 | X14: =ROUND(U14*4.5%,-1) -> 166010 | Y14: =ROUNDUP((U14-L14)*3.035%,-1) -> 111970 | Z14: =ROUNDUP(Y14*6.55%,-1) -> 7340 | AA14: 0 | AB14: 0 | AC14: =SUM(W14:AB14) -> 592740 | AD14: =U14-AC14 -> 3096260
E15: 9월 | F15: =F13 -> 2976000 | M15: =F15*60% -> 1785600 | O15: - | Q15: =ROUND((F14+T14)*1/209*1.5,-1) -> 23150 | R15: =Q15*20 -> 463000 | S15: =Q15*5 -> 115750 | T15: =T14 -> 250000 | U15: =SUM(F15,M15,O15,R15,T15) -> 5474600 | W15: =ROUNDUP(U15*1/12,-1) -> 456220 | X15: =ROUND(U15*4.5%,-1) -> 246360 | Y15: =ROUNDUP((U15-L15)*3.035%,-1) -> 166160 | Z15: =ROUNDUP(Y15*6.55%,-1) -> 10890 | AA15: 0 | AB15: 0 | AC15: =SUM(W15:AB15) -> 879630 | AD15: =U15-AC15 -> 4594970
E16: 10월 | F16: =F13 -> 2976000 | O16: - | Q16: =ROUND((F15+T15)*1/209*1.5,-1) -> 23150 | R16: =Q16*20 -> 463000 | S16: =Q16*5 -> 115750 | T16: =T15 -> 250000 | U16: =SUM(F16,M16,O16,R16,T16) -> 3689000 | W16: =ROUNDUP(U16*1/12,-1) -> 307420 | X16: =ROUND(U16*4.5%,-1) -> 166010 | Y16: =ROUNDUP((U16-L16)*3.035%,-1) -> 111970 | Z16: =ROUNDUP(Y16*6.55%,-1) -> 7340 | AA16: 0 | AB16: 0 | AC16: =SUM(W16:AB16) -> 592740 | AD16: =U16-AC16 -> 3096260
E17: 11월 | F17: =F13 -> 2976000 | O17: - | Q17: =ROUND((F16+T16)*1/209*1.5,-1) -> 23150 | R17: =Q17*20 -> 463000 | S17: =Q17*5 -> 115750 | T17: =T16 -> 250000 | U17: =SUM(F17,M17,O17,R17,T17) -> 3689000 | W17: =ROUNDUP(U17*1/12,-1) -> 307420 | X17: =ROUND(U17*4.5%,-1) -> 166010 | Y17: =ROUNDUP((U17-L17)*3.035%,-1) -> 111970 | Z17: =ROUNDUP(Y17*6.55%,-1) -> 7340 | AA17: 0 | AB17: 0 | AC17: =SUM(W17:AB17) -> 592740 | AD17: =U17-AC17 -> 3096260
E18: 12월 | F18: =F13 -> 2976000 | O18: - | Q18: =ROUND((F17+T17)*1/209*1.5,-1) -> 23150 | R18: =Q18*20*2 -> 926000 | S18: =Q18*5 -> 115750 | T18: =T17 -> 250000 | U18: =SUM(F18,M18,O18,R18,T18) -> 4152000 | W18: =ROUNDUP(U18*1/12,-1) -> 346000 | X18: =ROUND(U18*4.5%,-1) -> 186840 | Y18: =ROUNDUP((U18-L18)*3.035%,-1) -> 126020 | Z18: =ROUNDUP(Y18*6.55%,-1) -> 8260 | AA18: 0 | AB18: 0 | AC18: =SUM(W18:AB18) -> 667120 | AD18: =U18-AC18 -> 3484880
A19: 2 | B19: 사무국장 | C19: 17,14 | D19: 1 | E19: 소계 | F19: =SUM(F20:F31) -> 38180000 | G19: =SUM(G20:G31) -> 0 | H19: =SUM(H20:H31) -> 0 | I19: =SUM(I20:I31) -> 0 | J19: =SUM(J20:J31) -> 0 | K19: =SUM(K20:K31) -> 0 | L19: =SUM(L20:L31) -> 0 | M19: =SUM(M20:M31) -> 3857400 | ... O19: =SUM(O20:O31) -> 880000 | R19: =SUM(R20:R31) -> 5911200 | S19: =SUM(S20:S31) -> 1357000 | T19: =SUM(T20:T31) -> 3000000 | U19: =SUM(U20:U31) -> 51828600 | W19: =SUM(W20:W31) -> 4339950 | X19: =SUM(X20:X31) -> 2332280 | Y19: =SUM(Y20:Y31) -> 1573060 | Z19: =SUM(Z20:Z31) -> 103110 | AA19: =SUM(AA20:AA31) -> 466450 | AB19: =SUM(AB20:AB31) -> 414620 | AC19: =SUM(AC20:AC31) -> 9229470 | AD19: =U19-AC19 -> 42599130
B20: 조성숙 | C20: 17 | E20: 1월 | F20: 3313000 | O20: 60000 | T20: 250000 | U20: =SUM(F20,M20,O20,R20,T20) -> 3623000 | W20: =ROUNDUP(U20*1/12,-1) -> 301920 | X20: =ROUND(U20*4.5%,-1) -> 163040 | Y20: =ROUNDUP((U20-L20)*3.035%,-1) -> 109960 | Z20: =ROUNDUP(Y20*6.55%,-1) -> 7210 | AA20: =ROUND(U20*0.9%,-1) -> 32610 | AB20: =ROUND(U20*0.8%,-1) -> 28980 | AC20: =SUM(W20:AB20) -> 643720 | AD20: =U20-AC20 -> 2979280
E21: 2월 | F21: =F20 -> 3313000 | M21: =F21*60% -> 1987800 | O21: 60000 | Q21: =ROUND((F20+T20)*1/209*1.5,-1) -> 25570 | R21: =Q21*20 -> 511400 | S21: =Q21*5 -> 127850 | T21: =T20 -> 250000 | U21: =SUM(F21,M21,O21,R21,T21) -> 6122200 | W21: =ROUNDUP((T21+U21)*1/12,-1) -> 531020 | X21: =ROUND(U21*4.5%,-1) -> 275500 | Y21: =ROUNDUP((U21-L21)*3.035%,-1) -> 185810 | Z21: =ROUNDUP(Y21*6.55%,-1) -> 12180 | AA21: =ROUND(U21*0.9%,-1) -> 55100 | AB21: =ROUND(U21*0.8%,-1) -> 48980 | AC21: =SUM(W21:AB21) -> 1108590 | AD21: =U21-AC21 -> 5013610
E22: 3월 | F22: =F20 -> 3313000 | O22: =O21 -> 60000 | Q22: =ROUND((F21+T21)*1/209*1.5,-1) -> 25570 | R22: =Q22*20 -> 511400 | S22: =Q22*5 -> 127850 | T22: =T21 -> 250000 | U22: =SUM(F22,M22,O22,R22,T22) -> 4134400 | W22: =ROUNDUP(U22*1/12,-1) -> 344540 | X22: =ROUND(U22*4.5%,-1) -> 186050 | Y22: =ROUNDUP((U22-L22)*3.035%,-1) -> 125480 | Z22: =ROUNDUP(Y22*6.55%,-1) -> 8220 | AA22: =ROUND(U22*0.9%,-1) -> 37210 | AB22: =ROUND(U22*0.8%,-1) -> 33080 | AC22: =SUM(W22:AB22) -> 734580 | AD22: =U22-AC22 -> 3399820
E23: 4월 | F23: =F20 -> 3313000 | O23: =O22 -> 60000 | Q23: =ROUND((F22+T22)*1/209*1.5,-1) -> 25570 | R23: =Q23*20 -> 511400 | S23: =Q23*5 -> 127850 | T23: =T22 -> 250000 | U23: =SUM(F23,M23,O23,R23,T23) -> 4134400 | W23: =ROUNDUP(U23*1/12,-1) -> 344540 | X23: =ROUND(U23*4.5%,-1) -> 186050 | Y23: =ROUNDUP((U23-L23)*3.035%,-1) -> 125480 | Z23: =ROUNDUP(Y23*6.55%,-1) -> 8220 | AA23: =ROUND(U23*0.9%,-1) -> 37210 | AB23: =ROUND(U23*0.8%,-1) -> 33080 | AC23: =SUM(W23:AB23) -> 734580 | AD23: =U23-AC23 -> 3399820
B24: 금형민 | C24: 14 | E24: 5월 | F24: 3116000 | O24: 80000 | Q24: =ROUND((F23+T23)*1/209*1.5,-1) -> 25570 | R24: =Q24*20 -> 511400 | S24: =Q24*5 -> 127850 | T24: =T23 -> 250000 | U24: =SUM(F24,M24,O24,R24,T24) -> 3957400 | W24: =ROUNDUP(U24*1/12,-1) -> 329790 | X24: =ROUND(U24*4.5%,-1) -> 178080 | Y24: =ROUNDUP((U24-L24)*3.035%,-1) -> 120110 | Z24: =ROUNDUP(Y24*6.55%,-1) -> 7870 | AA24: =ROUND(U24*0.9%,-1) -> 35620 | AB24: =ROUND(U24*0.8%,-1) -> 31660 | AC24: =SUM(W24:AB24) -> 703130 | AD24: =U24-AC24 -> 3254270
E25: 6월 | F25: =F24 -> 3116000 | O25: =O24 -> 80000 | Q25: =ROUND((F24+T24)*1/209*1.5,-1) -> 24160 | R25: =Q25*20 -> 483200 | S25: =Q25*5 -> 120800 | T25: =T24 -> 250000 | U25: =SUM(F25,M25,O25,R25,T25) -> 3929200 | W25: =ROUNDUP(U25*1/12,-1) -> 327440 | X25: =ROUND(U25*4.5%,-1) -> 176810 | Y25: =ROUNDUP((U25-L25)*3.035%,-1) -> 119260 | Z25: =ROUNDUP(Y25*6.55%,-1) -> 7820 | AA25: =ROUND(U25*0.9%,-1) -> 35360 | AB25: =ROUND(U25*0.8%,-1) -> 31430 | AC25: =SUM(W25:AB25) -> 698120 | AD25: =U25-AC25 -> 3231080
E26: 7월 | F26: =F25 -> 3116000 | O26: =O25 -> 80000 | Q26: =ROUND((F25+T25)*1/209*1.5,-1) -> 24160 | R26: =Q26*20 -> 483200 | S26: =Q26*5 -> 120800 | T26: =T25 -> 250000 | U26: =SUM(F26,M26,O26,R26,T26) -> 3929200 | W26: =ROUNDUP(U26*1/12,-1) -> 327440 | X26: =ROUND(U26*4.5%,-1) -> 176810 | Y26: =ROUNDUP((U26-L26)*3.035%,-1) -> 119260 | Z26: =ROUNDUP(Y26*6.55%,-1) -> 7820 | AA26: =ROUND(U26*0.9%,-1) -> 35360 | AB26: =ROUND(U26*0.8%,-1) -> 31430 | AC26: =SUM(W26:AB26) -> 698120 | AD26: =U26-AC26 -> 3231080
E27: 8월 | F27: =F26 -> 3116000 | O27: =O26 -> 80000 | Q27: =ROUND((F26+T26)*1/209*1.5,-1) -> 24160 | R27: =Q27*20 -> 483200 | S27: =Q27*5 -> 120800 | T27: =T26 -> 250000 | U27: =SUM(F27,M27,O27,R27,T27) -> 3929200 | W27: =ROUNDUP(U27*1/12,-1) -> 327440 | X27: =ROUND(U27*4.5%,-1) -> 176810 | Y27: =ROUNDUP((U27-L27)*3.035%,-1) -> 119260 | Z27: =ROUNDUP(Y27*6.55%,-1) -> 7820 | AA27: =ROUND(U27*0.9%,-1) -> 35360 | AB27: =ROUND(U27*0.8%,-1) -> 31430 | AC27: =SUM(W27:AB27) -> 698120 | AD27: =U27-AC27 -> 3231080
E28: 9월 | F28: =F27 -> 3116000 | M28: =F28*60% -> 1869600 | O28: =O27 -> 80000 | Q28: =ROUND((F27+T27)*1/209*1.5,-1) -> 24160 | R28: =Q28*20 -> 483200 | S28: =Q28*5 -> 120800 | T28: =T27 -> 250000 | U28: =SUM(F28,M28,O28,R28,T28) -> 5798800 | W28: =ROUNDUP(U28*1/12,-1) -> 483240 | X28: =ROUND(U28*4.5%,-1) -> 260950 | Y28: =ROUNDUP((U28-L28)*3.035%,-1) -> 176000 | Z28: =ROUNDUP(Y28*6.55%,-1) -> 11530 | AA28: =ROUND(U28*0.9%,-1) -> 52190 | AB28: =ROUND(U28*0.8%,-1) -> 46390 | AC28: =SUM(W28:AB28) -> 1030300 | AD28: =U28-AC28 -> 4768500
E29: 10월 | F29: =F27 -> 3116000 | O29: =O28 -> 80000 | Q29: =ROUND((F28+T28)*1/209*1.5,-1) -> 24160 | R29: =Q29*20 -> 483200 | S29: =Q29*5 -> 120800 | T29: =T28 -> 250000 | U29: =SUM(F29,M29,O29,R29,T29) -> 3929200 | W29: =ROUNDUP(U29*1/12,-1) -> 327440 | X29: =ROUND(U29*4.5%,-1) -> 176810 | Y29: =ROUNDUP((U29-L29)*3.035%,-1) -> 119260 | Z29: =ROUNDUP(Y29*6.55%,-1) -> 7820 | AA29: =ROUND(U29*0.9%,-1) -> 35360 | AB29: =ROUND(U29*0.8%,-1) -> 31430 | AC29: =SUM(W29:AB29) -> 698120 | AD29: =U29-AC29 -> 3231080
E30: 11월 | F30: =F29 -> 3116000 | O30: =O29 -> 80000 | Q30: =ROUND((F29+T29)*1/209*1.5,-1) -> 24160 | R30: =Q30*20 -> 483200 | S30: =Q30*5 -> 120800 | T30: =T29 -> 250000 | U30: =SUM(F30,M30,O30,R30,T30) -> 3929200 | W30: =ROUNDUP(U30*1/12,-1) -> 327440 | X30: =ROUND(U30*4.5%,-1) -> 176810 | Y30: =ROUNDUP((U30-L30)*3.035%,-1) -> 119260 | Z30: =ROUNDUP(Y30*6.55%,-1) -> 7820 | AA30: =ROUND(U30*0.9%,-1) -> 35360 | AB30: =ROUND(U30*0.8%,-1) -> 31430 | AC30: =SUM(W30:AB30) -> 698120 | AD30: =U30-AC30 -> 3231080
E31: 12월 | F31: =F30 -> 3116000 | O31: =O30 -> 80000 | Q31: =ROUND((F30+T30)*1/209*1.5,-1) -> 24160 | R31: =Q31*20*2 -> 966400 | S31: =Q31*5 -> 120800 | T31: =T30 -> 250000 | U31: =SUM(F31,M31,O31,R31,T31) -> 4412400 | W31: =ROUNDUP(U31*1/12,-1) -> 367700 | X31: =ROUND(U31*4.5%,-1) -> 198560 | Y31: =ROUNDUP((U31-L31)*3.035%,-1) -> 133920 | Z31: =ROUNDUP(Y31*6.55%,-1) -> 8780 | AA31: =ROUND(U31*0.9%,-1) -> 39710 | AB31: =ROUND(U31*0.8%,-1) -> 35300 | AC31: =SUM(W31:AB31) -> 783970 | AD31: =U31-AC31 -> 3628430
A32: 3 | B32: 사회재활교사 | C32: 11,12 | D32: 1 | E32: 소계 | F32: =SUM(F33:F44) -> 31866000 | G32: =SUM(G33:G44) -> 0 | H32: =SUM(H33:H44) -> 0 | I32: =SUM(I33:I44) -> 0 | J32: =SUM(J33:J44) -> 0 | K32: =SUM(K33:K44) -> 0 | L32: =SUM(L33:L44) -> 0 | M32: =SUM(M33:M44) -> 3186600 | ... O32: =SUM(O33:O44) -> 480000 | R32: =SUM(R33:R44) -> 5004000 | S32: =SUM(S33:S44) -> 1145450 | T32: =SUM(T33:T44) -> 3000000 | U32: =SUM(U33:U44) -> 43536600 | W32: =SUM(W33:W44) -> 3648950 | X32: =SUM(X33:X44) -> 1959170 | Y32: =SUM(Y33:Y44) -> 1321380 | Z32: =SUM(Z33:Z44) -> 86610 | AA32: =SUM(AA33:AA44) -> 391840 | AB32: =SUM(AB33:AB44) -> 348300 | AC32: =SUM(AC33:AC44) -> 7756250 | AD32: =U32-AC32 -> 35780350
B33: 김정윤 | C33: 11 | E33: 1월 | F33: 2619000 | O33: 40000 | T33: 250000 | U33: =SUM(F33,M33,O33,R33,T33) -> 2909000 | W33: =ROUNDUP(U33*1/12,-1) -> 242420 | X33: =ROUND(U33*4.5%,-1) -> 130910 | Y33: =ROUNDUP((U33-L33)*3.035%,-1) -> 88290 | Z33: =ROUNDUP(Y33*6.55%,-1) -> 5790 | AA33: =ROUND(U33*0.9%,-1) -> 26180 | AB33: =ROUND(U33*0.8%,-1) -> 23270 | AC33: =SUM(W33:AB33) -> 516860 | AD33: =U33-AC33 -> 2392140
E34: 2월 | F34: =F33 -> 2619000 | M34: =F34*60% -> 1571400 | O34: =O33 -> 40000 | Q34: =ROUND((F33+T33)*1/209*1.5,-1) -> 20590 | R34: =Q34*20 -> 411800 | S34: =Q34*5 -> 102950 | T34: =T33 -> 250000 | U34: =SUM(F34,M34,O34,R34,T34) -> 4892200 | W34: =ROUNDUP((T34+U34)*1/12,-1) -> 428520 | X34: =ROUND(U34*4.5%,-1) -> 220150 | Y34: =ROUNDUP((U34-L34)*3.035%,-1) -> 148480 | Z34: =ROUNDUP(Y34*6.55%,-1) -> 9730 | AA34: =ROUND(U34*0.9%,-1) -> 44030 | AB34: =ROUND(U34*0.8%,-1) -> 39140 | AC34: =SUM(W34:AB34) -> 890050 | AD34: =U34-AC34 -> 4002150
E35: 3월 | F35: =F33 -> 2619000 | O35: =O33 -> 40000 | Q35: =ROUND((F34+T34)*1/209*1.5,-1) -> 20590 | R35: =Q35*20 -> 411800 | S35: =Q35*5 -> 102950 | T35: =T34 -> 250000 | U35: =SUM(F35,M35,O35,R35,T35) -> 3320800 | W35: =ROUNDUP(U35*1/12,-1) -> 276740 | X35: =ROUND(U35*4.5%,-1) -> 149440 | Y35: =ROUNDUP((U35-L35)*3.035%,-1) -> 100790 | Z35: =ROUNDUP(Y35*6.55%,-1) -> 6610 | AA35: =ROUND(U35*0.9%,-1) -> 29890 | AB35: =ROUND(U35*0.8%,-1) -> 26570 | AC35: =SUM(W35:AB35) -> 590040 | AD35: =U35-AC35 -> 2730760
E36: 4월 | F36: =F33 -> 2619000 | O36: =O33 -> 40000 | Q36: =ROUND((F35+T35)*1/209*1.5,-1) -> 20590 | R36: =Q36*20 -> 411800 | S36: =Q36*5 -> 102950 | T36: =T35 -> 250000 | U36: =SUM(F36,M36,O36,R36,T36) -> 3320800 | W36: =ROUNDUP(U36*1/12,-1) -> 276740 | X36: =ROUND(U36*4.5%,-1) -> 149440 | Y36: =ROUNDUP((U36-L36)*3.035%,-1) -> 100790 | Z36: =ROUNDUP(Y36*6.55%,-1) -> 6610 | AA36: =ROUND(U36*0.9%,-1) -> 29890 | AB36: =ROUND(U36*0.8%,-1) -> 26570 | AC36: =SUM(W36:AB36) -> 590040 | AD36: =U36-AC36 -> 2730760
E37: 5월 | F37: =F33 -> 2619000 | O37: =O33 -> 40000 | Q37: =ROUND((F36+T36)*1/209*1.5,-1) -> 20590 | R37: =Q37*20 -> 411800 | S37: =Q37*5 -> 102950 | T37: =T36 -> 250000 | U37: =SUM(F37,M37,O37,R37,T37) -> 3320800 | W37: =ROUNDUP(U37*1/12,-1) -> 276740 | X37: =ROUND(U37*4.5%,-1) -> 149440 | Y37: =ROUNDUP((U37-L37)*3.035%,-1) -> 100790 | Z37: =ROUNDUP(Y37*6.55%,-1) -> 6610 | AA37: =ROUND(U37*0.9%,-1) -> 29890 | AB37: =ROUND(U37*0.8%,-1) -> 26570 | AC37: =SUM(W37:AB37) -> 590040 | AD37: =U37-AC37 -> 2730760
E38: 6월 | F38: =F37 -> 2619000 | O38: =O33 -> 40000 | Q38: =ROUND((F37+T37)*1/209*1.5,-1) -> 20590 | R38: =Q38*20 -> 411800 | S38: =Q38*5 -> 102950 | T38: =T37 -> 250000 | U38: =SUM(F38,M38,O38,R38,T38) -> 3320800 | W38: =ROUNDUP(U38*1/12,-1) -> 276740 | X38: =ROUND(U38*4.5%,-1) -> 149440 | Y38: =ROUNDUP((U38-L38)*3.035%,-1) -> 100790 | Z38: =ROUNDUP(Y38*6.55%,-1) -> 6610 | AA38: =ROUND(U38*0.9%,-1) -> 29890 | AB38: =ROUND(U38*0.8%,-1) -> 26570 | AC38: =SUM(W38:AB38) -> 590040 | AD38: =U38-AC38 -> 2730760
C39: 12 | E39: 7월 | F39: 2692000 | O39: =O38 -> 40000 | Q39: =ROUND((F38+T38)*1/209*1.5,-1) -> 20590 | R39: =Q39*20 -> 411800 | S39: =Q39*5 -> 102950 | T39: 250000 | U39: =SUM(F39,M39,O39,R39,T39) -> 3393800 | W39: =ROUNDUP(U39*1/12,-1) -> 282820 | X39: =ROUND(U39*4.5%,-1) -> 152720 | Y39: =ROUNDUP((U39-L39)*3.035%,-1) -> 103010 | Z39: =ROUNDUP(Y39*6.55%,-1) -> 6750 | AA39: =ROUND(U39*0.9%,-1) -> 30540 | AB39: =ROUND(U39*0.8%,-1) -> 27150 | AC39: =SUM(W39:AB39) -> 602990 | AD39: =U39-AC39 -> 2790810
E40: 8월 | F40: =F39 -> 2692000 | O40: =O39 -> 40000 | Q40: =ROUND((F39+T39)*1/209*1.5,-1) -> 21110 | R40: =Q40*20 -> 422200 | S40: =Q40*5 -> 105550 | T40: =T39 -> 250000 | U40: =SUM(F40,M40,O40,R40,T40) -> 3404200 | W40: =ROUNDUP(U40*1/12,-1) -> 283690 | X40: =ROUND(U40*4.5%,-1) -> 153190 | Y40: =ROUNDUP((U40-L40)*3.035%,-1) -> 103320 | Z40: =ROUNDUP(Y40*6.55%,-1) -> 6770 | AA40: =ROUND(U40*0.9%,-1) -> 30640 | AB40: =ROUND(U40*0.8%,-1) -> 27230 | AC40: =SUM(W40:AB40) -> 604840 | AD40: =U40-AC40 -> 2799360
E41: 9월 | F41: =F39 -> 2692000 | M41: =F41*60% -> 1615200 | O41: =O39 -> 40000 | Q41: =ROUND((F40+T40)*1/209*1.5,-1) -> 21110 | R41: =Q41*20 -> 422200 | S41: =Q41*5 -> 105550 | T41: =T40 -> 250000 | U41: =SUM(F41,M41,O41,R41,T41) -> 5019400 | W41: =ROUNDUP(U41*1/12,-1) -> 418290 | X41: =ROUND(U41*4.5%,-1) -> 225870 | Y41: =ROUNDUP((U41-L41)*3.035%,-1) -> 152340 | Z41: =ROUNDUP(Y41*6.55%,-1) -> 9980 | AA41: =ROUND(U41*0.9%,-1) -> 45170 | AB41: =ROUND(U41*0.8%,-1) -> 40160 | AC41: =SUM(W41:AB41) -> 891810 | AD41: =U41-AC41 -> 4127590
E42: 10월 | F42: =F40 -> 2692000 | O42: =O39 -> 40000 | Q42: =ROUND((F41+T41)*1/209*1.5,-1) -> 21110 | R42: =Q42*20 -> 422200 | S42: =Q42*5 -> 105550 | T42: =T41 -> 250000 | U42: =SUM(F42,M42,O42,R42,T42) -> 3404200 | W42: =ROUNDUP(U42*1/12,-1) -> 283690 | X42: =ROUND(U42*4.5%,-1) -> 153190 | Y42: =ROUNDUP((U42-L42)*3.035%,-1) -> 103320 | Z42: =ROUNDUP(Y42*6.55%,-1) -> 6770 | AA42: =ROUND(U42*0.9%,-1) -> 30640 | AB42: =ROUND(U42*0.8%,-1) -> 27230 | AC42: =SUM(W42:AB42) -> 604840 | AD42: =U42-AC42 -> 2799360
E43: 11월 | F43: =F42 -> 2692000 | O43: =O39 -> 40000 | Q43: =ROUND((F42+T42)*1/209*1.5,-1) -> 21110 | R43: =Q43*20 -> 422200 | S43: =Q43*5 -> 105550 | T43: =T42 -> 250000 | U43: =SUM(F43,M43,O43,R43,T43) -> 3404200 | W43: =ROUNDUP(U43*1/12,-1) -> 283690 | X43: =ROUND(U43*4.5%,-1) -> 153190 | Y43: =ROUNDUP((U43-L43)*3.035%,-1) -> 103320 | Z43: =ROUNDUP(Y43*6.55%,-1) -> 6770 | AA43: =ROUND(U43*0.9%,-1) -> 30640 | AB43: =ROUND(U43*0.8%,-1) -> 27230 | AC43: =SUM(W43:AB43) -> 604840 | AD43: =U43-AC43 -> 2799360
E44: 12월 | F44: =F43 -> 2692000 | O44: =O39 -> 40000 | Q44: =ROUND((F43+T43)*1/209*1.5,-1) -> 21110 | R44: =Q44*20*2 -> 844400 | S44: =Q44*5 -> 105550 | T44: =T43 -> 250000 | U44: =SUM(F44,M44,O44,R44,T44) -> 3826400 | W44: =ROUNDUP(U44*1/12,-1) -> 318870 | X44: =ROUND(U44*4.5%,-1) -> 172190 | Y44: =ROUNDUP((U44-L44)*3.035%,-1) -> 116140 | Z44: =ROUNDUP(Y44*6.55%,-1) -> 7610 | AA44: =ROUND(U44*0.9%,-1) -> 34440 | AB44: =ROUND(U44*0.8%,-1) -> 30610 | AC44: =SUM(W44:AB44) -> 679860 | AD44: =U44-AC44 -> 3146540
A45: 4 | B45: 영 양 사 | C45: 18,19 | D45: 1 | E45: 소계 | F45: =SUM(F46:F57) -> 37191000 | G45: =SUM(G46:G57) -> 0 | H45: =SUM(H46:H57) -> 0 | I45: =SUM(I46:I57) -> 0 | J45: =SUM(J46:J57) -> 0 | K45: =SUM(K46:K57) -> 0 | L45: =SUM(L46:L57) -> 0 | M45: =SUM(M46:M57) -> 3703800 | ... O45: =SUM(O46:O57) -> 720000 | R45: =SUM(R46:R57) -> 5769000 | S45: =SUM(S46:S57) -> 1321600 | T45: =SUM(T46:T57) -> 3000000 | U45: =SUM(U46:U57) -> 50383800 | W45: =SUM(W46:W57) -> 4219540 | X45: =SUM(X46:X57) -> 2267290 | Y45: =SUM(Y46:Y57) -> 1529220 | Z45: =SUM(Z46:Z57) -> 100240 | AA45: =SUM(AA46:AA57) -> 453450 | AB45: =SUM(AB46:AB57) -> 403090 | AC45: =SUM(AC46:AC57) -> 8972830 | AD45: =U45-AC45 -> 41410970
B46: 김혜영 | C46: 18 | E46: 1월 | F46: 3061000 | O46: 60000 | T46: 250000 | U46: =SUM(F46,M46,O46,R46,T46) -> 3371000 | W46: =ROUNDUP(U46*1/12,-1) -> 280920 | X46: =ROUND(U46*4.5%,-1) -> 151700 | Y46: =ROUNDUP((U46-L46)*3.035%,-1) -> 102310 | Z46: =ROUNDUP(Y46*6.55%,-1) -> 6710 | AA46: =ROUND(U46*0.9%,-1) -> 30340 | AB46: =ROUND(U46*0.8%,-1) -> 26970 | AC46: =SUM(W46:AB46) -> 598950 | AD46: =U46-AC46 -> 2772050
E47: 2월 | F47: =F46 -> 3061000 | M47: =F47*60% -> 1836600 | O47: =O46 -> 60000 | Q47: =ROUND((F46+T46)*1/209*1.5,-1) -> 23760 | R47: =Q47*20 -> 475200 | S47: =Q47*5 -> 118800 | T47: =T46 -> 250000 | U47: =SUM(F47,M47,O47,R47,T47) -> 5682800 | W47: =ROUNDUP((T47+U47)*1/12,-1) -> 494400 | X47: =ROUND(U47*4.5%,-1) -> 255730 | Y47: =ROUNDUP((U47-L47)*3.035%,-1) -> 172480 | Z47: =ROUNDUP(Y47*6.55%,-1) -> 11300 | AA47: =ROUND(U47*0.9%,-1) -> 51150 | AB47: =ROUND(U47*0.8%,-1) -> 45460 | AC47: =SUM(W47:AB47) -> 1030520 | AD47: =U47-AC47 -> 4652280
E48: 3월 | F48: =F46 -> 3061000 | O48: =O46 -> 60000 | Q48: =ROUND((F47+T47)*1/209*1.5,-1) -> 23760 | R48: =Q48*20 -> 475200 | S48: =Q48*5 -> 118800 | T48: =T47 -> 250000 | U48: =SUM(F48,M48,O48,R48,T48) -> 3846200 | W48: =ROUNDUP(U48*1/12,-1) -> 320520 | X48: =ROUND(U48*4.5%,-1) -> 173080 | Y48: =ROUNDUP((U48-L48)*3.035%,-1) -> 116740 | Z48: =ROUNDUP(Y48*6.55%,-1) -> 7650 | AA48: =ROUND(U48*0.9%,-1) -> 34620 | AB48: =ROUND(U48*0.8%,-1) -> 30770 | AC48: =SUM(W48:AB48) -> 683380 | AD48: =U48-AC48 -> 3162820
C49: 19 | E49: 4월 | F49: 3112000 | O49: =O46 -> 60000 | Q49: =ROUND((F48+T48)*1/209*1.5,-1) -> 23760 | R49: =Q49*20 -> 475200 | S49: =Q49*5 -> 118800 | T49: =T48 -> 250000 | U49: =SUM(F49,M49,O49,R49,T49) -> 3897200 | W49: =ROUNDUP(U49*1/12,-1) -> 324770 | X49: =ROUND(U49*4.5%,-1) -> 175370 | Y49: =ROUNDUP((U49-L49)*3.035%,-1) -> 118290 | Z49: =ROUNDUP(Y49*6.55%,-1) -> 7750 | AA49: =ROUND(U49*0.9%,-1) -> 35070 | AB49: =ROUND(U49*0.8%,-1) -> 31180 | AC49: =SUM(W49:AB49) -> 692430 | AD49: =U49-AC49 -> 3204770
E50: 5월 | F50: =F49 -> 3112000 | O50: =O46 -> 60000 | Q50: =ROUND((F49+T49)*1/209*1.5,-1) -> 24130 | R50: =Q50*20 -> 482600 | S50: =Q50*5 -> 120650 | T50: =T49 -> 250000 | U50: =SUM(F50,M50,O50,R50,T50) -> 3904600 | W50: =ROUNDUP(U50*1/12,-1) -> 325390 | X50: =ROUND(U50*4.5%,-1) -> 175710 | Y50: =ROUNDUP((U50-L50)*3.035%,-1) -> 118510 | Z50: =ROUNDUP(Y50*6.55%,-1) -> 7770 | AA50: =ROUND(U50*0.9%,-1) -> 35140 | AB50: =ROUND(U50*0.8%,-1) -> 31240 | AC50: =SUM(W50:AB50) -> 693760 | AD50: =U50-AC50 -> 3210840
E51: 6월 | F51: =F50 -> 3112000 | O51: =O46 -> 60000 | Q51: =ROUND((F50+T50)*1/209*1.5,-1) -> 24130 | R51: =Q51*20 -> 482600 | S51: =Q51*5 -> 120650 | T51: =T50 -> 250000 | U51: =SUM(F51,M51,O51,R51,T51) -> 3904600 | W51: =ROUNDUP(U51*1/12,-1) -> 325390 | X51: =ROUND(U51*4.5%,-1) -> 175710 | Y51: =ROUNDUP((U51-L51)*3.035%,-1) -> 118510 | Z51: =ROUNDUP(Y51*6.55%,-1) -> 7770 | AA51: =ROUND(U51*0.9%,-1) -> 35140 | AB51: =ROUND(U51*0.8%,-1) -> 31240 | AC51: =SUM(W51:AB51) -> 693760 | AD51: =U51-AC51 -> 3210840
E52: 7월 | F52: =F51 -> 3112000 | O52: =O51 -> 60000 | Q52: =ROUND((F51+T51)*1/209*1.5,-1) -> 24130 | R52: =Q52*20 -> 482600 | S52: =Q52*5 -> 120650 | T52: 250000 | U52: =SUM(F52,M52,O52,R52,T52) -> 3904600 | W52: =ROUNDUP(U52*1/12,-1) -> 325390 | X52: =ROUND(U52*4.5%,-1) -> 175710 | Y52: =ROUNDUP((U52-L52)*3.035%,-1) -> 118510 | Z52: =ROUNDUP(Y52*6.55%,-1) -> 7770 | AA52: =ROUND(U52*0.9%,-1) -> 35140 | AB52: =ROUND(U52*0.8%,-1) -> 31240 | AC52: =SUM(W52:AB52) -> 693760 | AD52: =U52-AC52 -> 3210840
E53: 8월 | F53: =F52 -> 3112000 | O53: =O52 -> 60000 | Q53: =ROUND((F52+T52)*1/209*1.5,-1) -> 24130 | R53: =Q53*20 -> 482600 | S53: =Q53*5 -> 120650 | T53: =T52 -> 250000 | U53: =SUM(F53,M53,O53,R53,T53) -> 3904600 | W53: =ROUNDUP(U53*1/12,-1) -> 325390 | X53: =ROUND(U53*4.5%,-1) -> 175710 | Y53: =ROUNDUP((U53-L53)*3.035%,-1) -> 118510 | Z53: =ROUNDUP(Y53*6.55%,-1) -> 7770 | AA53: =ROUND(U53*0.9%,-1) -> 35140 | AB53: =ROUND(U53*0.8%,-1) -> 31240 | AC53: =SUM(W53:AB53) -> 693760 | AD53: =U53-AC53 -> 3210840
E54: 9월 | F54: =F52 -> 3112000 | M54: =F54*60% -> 1867200 | O54: =O52 -> 60000 | Q54: =ROUND((F53+T53)*1/209*1.5,-1) -> 24130 | R54: =Q54*20 -> 482600 | S54: =Q54*5 -> 120650 | T54: =T53 -> 250000 | U54: =SUM(F54,M54,O54,R54,T54) -> 5771800 | W54: =ROUNDUP(U54*1/12,-1) -> 480990 | X54: =ROUND(U54*4.5%,-1) -> 259730 | Y54: =ROUNDUP((U54-L54)*3.035%,-1) -> 175180 | Z54: =ROUNDUP(Y54*6.55%,-1) -> 11480 | AA54: =ROUND(U54*0.9%,-1) -> 51950 | AB54: =ROUND(U54*0.8%,-1) -> 46170 | AC54: =SUM(W54:AB54) -> 1025500 | AD54: =U54-AC54 -> 4746300
E55: 10월 | F55: =F52 -> 3112000 | O55: =O52 -> 60000 | Q55: =ROUND((F54+T54)*1/209*1.5,-1) -> 24130 | R55: =Q55*20 -> 482600 | S55: =Q55*5 -> 120650 | T55: =T54 -> 250000 | U55: =SUM(F55,M55,O55,R55,T55) -> 3904600 | W55: =ROUNDUP(U55*1/12,-1) -> 325390 | X55: =ROUND(U55*4.5%,-1) -> 175710 | Y55: =ROUNDUP((U55-L55)*3.035%,-1) -> 118510 | Z55: =ROUNDUP(Y55*6.55%,-1) -> 7770 | AA55: =ROUND(U55*0.9%,-1) -> 35140 | AB55: =ROUND(U55*0.8%,-1) -> 31240 | AC55: =SUM(W55:AB55) -> 693760 | AD55: =U55-AC55 -> 3210840
E56: 11월 | F56: =F52 -> 3112000 | O56: =O52 -> 60000 | Q56: =ROUND((F55+T55)*1/209*1.5,-1) -> 24130 | R56: =Q56*20 -> 482600 | S56: =Q56*5 -> 120650 | T56: =T55 -> 250000 | U56: =SUM(F56,M56,O56,R56,T56) -> 3904600 | W56: =ROUNDUP(U56*1/12,-1) -> 325390 | X56: =ROUND(U56*4.5%,-1) -> 175710 | Y56: =ROUNDUP((U56-L56)*3.035%,-1) -> 118510 | Z56: =ROUNDUP(Y56*6.55%,-1) -> 7770 | AA56: =ROUND(U56*0.9%,-1) -> 35140 | AB56: =ROUND(U56*0.8%,-1) -> 31240 | AC56: =SUM(W56:AB56) -> 693760 | AD56: =U56-AC56 -> 3210840
E57: 12월 | F57: =F52 -> 3112000 | O57: =O52 -> 60000 | Q57: =ROUND((F56+T56)*1/209*1.5,-1) -> 24130 | R57: =Q57*20*2 -> 965200 | S57: =Q57*5 -> 120650 | T57: =T56 -> 250000 | U57: =SUM(F57,M57,O57,R57,T57) -> 4387200 | W57: =ROUNDUP(U57*1/12,-1) -> 365600 | X57: =ROUND(U57*4.5%,-1) -> 197420 | Y57: =ROUNDUP((U57-L57)*3.035%,-1) -> 133160 | Z57: =ROUNDUP(Y57*6.55%,-1) -> 8730 | AA57: =ROUND(U57*0.9%,-1) -> 39480 | AB57: =ROUND(U57*0.8%,-1) -> 35100 | AC57: =SUM(W57:AB57) -> 779490 | AD57: =U57-AC57 -> 3607710
A58: 5 | B58: 간 호 사 | C58: 18 | D58: 1 | E58: 소계 | F58: =SUM(F59:F70) -> 36732000 | G58: =SUM(G59:G70) -> 0 | H58: =SUM(H59:H70) -> 0 | I58: =SUM(I59:I70) -> 0 | J58: =SUM(J59:J70) -> 0 | K58: =SUM(K59:K70) -> 0 | L58: =SUM(L59:L70) -> 0 | M58: =SUM(M59:M70) -> 3673200 | ... O58: =SUM(O59:O70) -> 720000 | R58: =SUM(R59:R70) -> 5702400 | S58: =SUM(S59:S70) -> 1306800 | T58: =SUM(T59:T70) -> 3000000 | U58: =SUM(U59:U70) -> 49827600 | W58: =SUM(W59:W70) -> 4173170 | X58: =SUM(X59:X70) -> 2242260 | Y58: =SUM(Y59:Y70) -> 1512350 | Z58: =SUM(Z59:Z70) -> 99110 | AA58: =SUM(AA59:AA70) -> 448490 | AB58: =SUM(AB59:AB70) -> 398620 | AC58: =SUM(AC59:AC70) -> 8874000 | AD58: =U58-AC58 -> 40953600
B59: 전광숙 | C59: 18 | E59: 1월 | F59: 3061000 | O59: 60000 | T59: 250000 | U59: =SUM(F59,M59,O59,R59,T59) -> 3371000 | W59: =ROUNDUP(U59*1/12,-1) -> 280920 | X59: =ROUND(U59*4.5%,-1) -> 151700 | Y59: =ROUNDUP((U59-L59)*3.035%,-1) -> 102310 | Z59: =ROUNDUP(Y59*6.55%,-1) -> 6710 | AA59: =ROUND(U59*0.9%,-1) -> 30340 | AB59: =ROUND(U59*0.8%,-1) -> 26970 | AC59: =SUM(W59:AB59) -> 598950 | AD59: =U59-AC59 -> 2772050
E60: 2월 | F60: =F59 -> 3061000 | M60: =F60*60% -> 1836600 | O60: =O59 -> 60000 | Q60: =ROUND((F59+T59)*1/209*1.5,-1) -> 23760 | R60: =Q60*20 -> 475200 | S60: =Q60*5 -> 118800 | T60: 250000 | U60: =SUM(F60,M60,O60,R60,T60) -> 5682800 | W60: =ROUNDUP((T60+U60)*1/12,-1) -> 494400 | X60: =ROUND(U60*4.5%,-1) -> 255730 | Y60: =ROUNDUP((U60-L60)*3.035%,-1) -> 172480 | Z60: =ROUNDUP(Y60*6.55%,-1) -> 11300 | AA60: =ROUND(U60*0.9%,-1) -> 51150 | AB60: =ROUND(U60*0.8%,-1) -> 45460 | AC60: =SUM(W60:AB60) -> 1030520 | AD60: =U60-AC60 -> 4652280
E61: 3월 | F61: =F60 -> 3061000 | O61: =O60 -> 60000 | Q61: =ROUND((F60+T60)*1/209*1.5,-1) -> 23760 | R61: =Q61*20 -> 475200 | S61: =Q61*5 -> 118800 | T61: 250000 | U61: =SUM(F61,M61,O61,R61,T61) -> 3846200 | W61: =ROUNDUP(U61*1/12,-1) -> 320520 | X61: =ROUND(U61*4.5%,-1) -> 173080 | Y61: =ROUNDUP((U61-L61)*3.035%,-1) -> 116740 | Z61: =ROUNDUP(Y61*6.55%,-1) -> 7650 | AA61: =ROUND(U61*0.9%,-1) -> 34620 | AB61: =ROUND(U61*0.8%,-1) -> 30770 | AC61: =SUM(W61:AB61) -> 683380 | AD61: =U61-AC61 -> 3162820
E62: 4월 | F62: =F61 -> 3061000 | O62: =O61 -> 60000 | Q62: =ROUND((F61+T61)*1/209*1.5,-1) -> 23760 | R62: =Q62*20 -> 475200 | S62: =Q62*5 -> 118800 | T62: =T61 -> 250000 | U62: =SUM(F62,M62,O62,R62,T62) -> 3846200 | W62: =ROUNDUP(U62*1/12,-1) -> 320520 | X62: =ROUND(U62*4.5%,-1) -> 173080 | Y62: =ROUNDUP((U62-L62)*3.035%,-1) -> 116740 | Z62: =ROUNDUP(Y62*6.55%,-1) -> 7650 | AA62: =ROUND(U62*0.9%,-1) -> 34620 | AB62: =ROUND(U62*0.8%,-1) -> 30770 | AC62: =SUM(W62:AB62) -> 683380 | AD62: =U62-AC62 -> 3162820
E63: 5월 | F63: =F62 -> 3061000 | O63: =O62 -> 60000 | Q63: =ROUND((F62+T62)*1/209*1.5,-1) -> 23760 | R63: =Q63*20 -> 475200 | S63: =Q63*5 -> 118800 | T63: =T62 -> 250000 | U63: =SUM(F63,M63,O63,R63,T63) -> 3846200 | W63: =ROUNDUP(U63*1/12,-1) -> 320520 | X63: =ROUND(U63*4.5%,-1) -> 173080 | Y63: =ROUNDUP((U63-L63)*3.035%,-1) -> 116740 | Z63: =ROUNDUP(Y63*6.55%,-1) -> 7650 | AA63: =ROUND(U63*0.9%,-1) -> 34620 | AB63: =ROUND(U63*0.8%,-1) -> 30770 | AC63: =SUM(W63:AB63) -> 683380 | AD63: =U63-AC63 -> 3162820
E64: 6월 | F64: =F63 -> 3061000 | O64: =O63 -> 60000 | Q64: =ROUND((F63+T63)*1/209*1.5,-1) -> 23760 | R64: =Q64*20 -> 475200 | S64: =Q64*5 -> 118800 | T64: =T63 -> 250000 | U64: =SUM(F64,M64,O64,R64,T64) -> 3846200 | W64: =ROUNDUP(U64*1/12,-1) -> 320520 | X64: =ROUND(U64*4.5%,-1) -> 173080 | Y64: =ROUNDUP((U64-L64)*3.035%,-1) -> 116740 | Z64: =ROUNDUP(Y64*6.55%,-1) -> 7650 | AA64: =ROUND(U64*0.9%,-1) -> 34620 | AB64: =ROUND(U64*0.8%,-1) -> 30770 | AC64: =SUM(W64:AB64) -> 683380 | AD64: =U64-AC64 -> 3162820
E65: 7월 | F65: =F64 -> 3061000 | O65: =O64 -> 60000 | Q65: =ROUND((F64+T64)*1/209*1.5,-1) -> 23760 | R65: =Q65*20 -> 475200 | S65: =Q65*5 -> 118800 | T65: 250000 | U65: =SUM(F65,M65,O65,R65,T65) -> 3846200 | W65: =ROUNDUP(U65*1/12,-1) -> 320520 | X65: =ROUND(U65*4.5%,-1) -> 173080 | Y65: =ROUNDUP((U65-L65)*3.035%,-1) -> 116740 | Z65: =ROUNDUP(Y65*6.55%,-1) -> 7650 | AA65: =ROUND(U65*0.9%,-1) -> 34620 | AB65: =ROUND(U65*0.8%,-1) -> 30770 | AC65: =SUM(W65:AB65) -> 683380 | AD65: =U65-AC65 -> 3162820
E66: 8월 | F66: =F65 -> 3061000 | O66: =O65 -> 60000 | Q66: =ROUND((F65+T65)*1/209*1.5,-1) -> 23760 | R66: =Q66*20 -> 475200 | S66: =Q66*5 -> 118800 | T66: =T65 -> 250000 | U66: =SUM(F66,M66,O66,R66,T66) -> 3846200 | W66: =ROUNDUP(U66*1/12,-1) -> 320520 | X66: =ROUND(U66*4.5%,-1) -> 173080 | Y66: =ROUNDUP((U66-L66)*3.035%,-1) -> 116740 | Z66: =ROUNDUP(Y66*6.55%,-1) -> 7650 | AA66: =ROUND(U66*0.9%,-1) -> 34620 | AB66: =ROUND(U66*0.8%,-1) -> 30770 | AC66: =SUM(W66:AB66) -> 683380 | AD66: =U66-AC66 -> 3162820
E67: 0 | F67: =F66 -> 3061000 | M67: =F67*60% -> 1836600 | O67: =O66 -> 60000 | Q67: =ROUND((F66+T66)*1/209*1.5,-1) -> 23760 | R67: =Q67*20 -> 475200 | S67: =Q67*5 -> 118800 | T67: =T66 -> 250000 | U67: =SUM(F67,M67,O67,R67,T67) -> 5682800 | W67: =ROUNDUP(U67*1/12,-1) -> 473570 | X67: =ROUND(U67*4.5%,-1) -> 255730 | Y67: =ROUNDUP((U67-L67)*3.035%,-1) -> 172480 | Z67: =ROUNDUP(Y67*6.55%,-1) -> 11300 | AA67: =ROUND(U67*0.9%,-1) -> 51150 | AB67: =ROUND(U67*0.8%,-1) -> 45460 | AC67: =SUM(W67:AB67) -> 1009690 | AD67: =U67-AC67 -> 4673110
E68: 10월 | F68: =F67 -> 3061000 | O68: =O67 -> 60000 | Q68: =ROUND((F67+T67)*1/209*1.5,-1) -> 23760 | R68: =Q68*20 -> 475200 | S68: =Q68*5 -> 118800 | T68: =T67 -> 250000 | U68: =SUM(F68,M68,O68,R68,T68) -> 3846200 | W68: =ROUNDUP(U68*1/12,-1) -> 320520 | X68: =ROUND(U68*4.5%,-1) -> 173080 | Y68: =ROUNDUP((U68-L68)*3.035%,-1) -> 116740 | Z68: =ROUNDUP(Y68*6.55%,-1) -> 7650 | AA68: =ROUND(U68*0.9%,-1) -> 34620 | AB68: =ROUND(U68*0.8%,-1) -> 30770 | AC68: =SUM(W68:AB68) -> 683380 | AD68: =U68-AC68 -> 3162820
E69: 11월 | F69: =F68 -> 3061000 | O69: =O68 -> 60000 | Q69: =ROUND((F68+T68)*1/209*1.5,-1) -> 23760 | R69: =Q69*20 -> 475200 | S69: =Q69*5 -> 118800 | T69: =T68 -> 250000 | U69: =SUM(F69,M69,O69,R69,T69) -> 3846200 | W69: =ROUNDUP(U69*1/12,-1) -> 320520 | X69: =ROUND(U69*4.5%,-1) -> 173080 | Y69: =ROUNDUP((U69-L69)*3.035%,-1) -> 116740 | Z69: =ROUNDUP(Y69*6.55%,-1) -> 7650 | AA69: =ROUND(U69*0.9%,-1) -> 34620 | AB69: =ROUND(U69*0.8%,-1) -> 30770 | AC69: =SUM(W69:AB69) -> 683380 | AD69: =U69-AC69 -> 3162820
E70: 12월 | F70: =F69 -> 3061000 | O70: =O69 -> 60000 | Q70: =ROUND((F69+T69)*1/209*1.5,-1) -> 23760 | R70: =Q70*20*2 -> 950400 | S70: =Q70*5 -> 118800 | T70: =T69 -> 250000 | U70: =SUM(F70,M70,O70,R70,T70) -> 4321400 | W70: =ROUNDUP(U70*1/12,-1) -> 360120 | X70: =ROUND(U70*4.5%,-1) -> 194460 | Y70: =ROUNDUP((U70-L70)*3.035%,-1) -> 131160 | Z70: =ROUNDUP(Y70*6.55%,-1) -> 8600 | AA70: =ROUND(U70*0.9%,-1) -> 38890 | AB70: =ROUND(U70*0.8%,-1) -> 34570 | AC70: =SUM(W70:AB70) -> 767800 | AD70: =U70-AC70 -> 3553600
A71: 6 | B71: 물리치료사 | C71: 6,7 | D71: 1 | E71: 소계 | F71: =SUM(F72:F83) -> 26589000 | G71: =SUM(G72:G83) -> 0 | H71: =SUM(H72:H83) -> 0 | I71: =SUM(I72:I83) -> 0 | J71: =SUM(J72:J83) -> 0 | K71: =SUM(K72:K83) -> 0 | L71: =SUM(L72:L83) -> 0 | M71: =SUM(M72:M83) -> 2629800 | ... O71: =SUM(O72:O83) -> 440000 | R71: =SUM(R72:R83) -> 4246800 | S71: =SUM(S72:S83) -> 972350 | T71: =SUM(T72:T83) -> 3000000 | U71: =SUM(U72:U83) -> 36905600 | W71: =SUM(W72:W83) -> 3096330 | X71: =SUM(X72:X83) -> 1660740 | Y71: =SUM(Y72:Y83) -> 1120150 | Z71: =SUM(Z72:Z83) -> 73460 | AA71: =SUM(AA72:AA83) -> 332170 | AB71: =SUM(AB72:AB83) -> 295250 | AC71: =SUM(AC72:AC83) -> 6578100 | AD71: =U71-AC71 -> 30327500
B72: 최두영 | C72: 6 | E72: 1월 | F72: 2143000 | G72: 0 | T72: 250000 | U72: =SUM(F72,M72,O72,R72,T72) -> 2393000 | W72: =ROUNDUP(U72*1/12,-1) -> 199420 | X72: =ROUND(U72*4.5%,-1) -> 107690 | Y72: =ROUNDUP((U72-L72)*3.035%,-1) -> 72630 | Z72: =ROUNDUP(Y72*6.55%,-1) -> 4760 | AA72: =ROUND(U72*0.9%,-1) -> 21540 | AB72: =ROUND(U72*0.8%,-1) -> 19140 | AC72: =SUM(W72:AB72) -> 425180 | AD72: =U72-AC72 -> 1967820
E73: 2월 | F73: =F72 -> 2143000 | M73: =F73*60% -> 1285800 | O73: 40000 | Q73: =ROUND((F72+T72)*1/209*1.5,-1) -> 17170 | R73: =Q73*20 -> 343400 | S73: =Q73*5 -> 85850 | T73: 250000 | U73: =SUM(F73,M73,O73,R73,T73) -> 4062200 | W73: =ROUNDUP((T73+U73)*1/12,-1) -> 359350 | X73: =ROUND(U73*4.5%,-1) -> 182800 | Y73: =ROUNDUP((U73-L73)*3.035%,-1) -> 123290 | Z73: =ROUNDUP(Y73*6.55%,-1) -> 8080 | AA73: =ROUND(U73*0.9%,-1) -> 36560 | AB73: =ROUND(U73*0.8%,-1) -> 32500 | AC73: =SUM(W73:AB73) -> 742580 | AD73: =U73-AC73 -> 3319620
E74: 3월 | F74: =F73 -> 2143000 | O74: =O73 -> 40000 | Q74: =ROUND((F73+T73)*1/209*1.5,-1) -> 17170 | R74: =Q74*20 -> 343400 | S74: =Q74*5 -> 85850 | T74: 250000 | U74: =SUM(F74,M74,O74,R74,T74) -> 2776400 | W74: =ROUNDUP(U74*1/12,-1) -> 231370 | X74: =ROUND(U74*4.5%,-1) -> 124940 | Y74: =ROUNDUP((U74-L74)*3.035%,-1) -> 84270 | Z74: =ROUNDUP(Y74*6.55%,-1) -> 5520 | AA74: =ROUND(U74*0.9%,-1) -> 24990 | AB74: =ROUND(U74*0.8%,-1) -> 22210 | AC74: =SUM(W74:AB74) -> 493300 | AD74: =U74-AC74 -> 2283100
C75: 7 | E75: 4월 | F75: 2240000 | O75: =O74 -> 40000 | Q75: =ROUND((F74+T74)*1/209*1.5,-1) -> 17170 | R75: =Q75*20 -> 343400 | S75: =Q75*5 -> 85850 | T75: 250000 | U75: =SUM(F75,M75,O75,R75,T75) -> 2873400 | W75: =ROUNDUP(U75*1/12,-1) -> 239450 | X75: =ROUND(U75*4.5%,-1) -> 129300 | Y75: =ROUNDUP((U75-L75)*3.035%,-1) -> 87210 | Z75: =ROUNDUP(Y75*6.55%,-1) -> 5720 | AA75: =ROUND(U75*0.9%,-1) -> 25860 | AB75: =ROUND(U75*0.8%,-1) -> 22990 | AC75: =SUM(W75:AB75) -> 510530 | AD75: =U75-AC75 -> 2362870
E76: 5월 | F76: =F75 -> 2240000 | O76: =O75 -> 40000 | Q76: =ROUND((F75+T75)*1/209*1.5,-1) -> 17870 | R76: =Q76*20 -> 357400 | S76: =Q76*5 -> 89350 | T76: 250000 | U76: =SUM(F76,M76,O76,R76,T76) -> 2887400 | W76: =ROUNDUP(U76*1/12,-1) -> 240620 | X76: =ROUND(U76*4.5%,-1) -> 129930 | Y76: =ROUNDUP((U76-L76)*3.035%,-1) -> 87640 | Z76: =ROUNDUP(Y76*6.55%,-1) -> 5750 | AA76: =ROUND(U76*0.9%,-1) -> 25990 | AB76: =ROUND(U76*0.8%,-1) -> 23100 | AC76: =SUM(W76:AB76) -> 513030 | AD76: =U76-AC76 -> 2374370
E77: 6월 | F77: =F76 -> 2240000 | O77: =O76 -> 40000 | Q77: =ROUND((F76+T76)*1/209*1.5,-1) -> 17870 | R77: =Q77*20 -> 357400 | S77: =Q77*5 -> 89350 | T77: =T76 -> 250000 | U77: =SUM(F77,M77,O77,R77,T77) -> 2887400 | W77: =ROUNDUP(U77*1/12,-1) -> 240620 | X77: =ROUND(U77*4.5%,-1) -> 129930 | Y77: =ROUNDUP((U77-L77)*3.035%,-1) -> 87640 | Z77: =ROUNDUP(Y77*6.55%,-1) -> 5750 | AA77: =ROUND(U77*0.9%,-1) -> 25990 | AB77: =ROUND(U77*0.8%,-1) -> 23100 | AC77: =SUM(W77:AB77) -> 513030 | AD77: =U77-AC77 -> 2374370
E78: 7월 | F78: =F77 -> 2240000 | O78: =O77 -> 40000 | Q78: =ROUND((F77+T77)*1/209*1.5,-1) -> 17870 | R78: =Q78*20 -> 357400 | S78: =Q78*5 -> 89350 | T78: =T77 -> 250000 | U78: =SUM(F78,M78,O78,R78,T78) -> 2887400 | W78: =ROUNDUP(U78*1/12,-1) -> 240620 | X78: =ROUND(U78*4.5%,-1) -> 129930 | Y78: =ROUNDUP((U78-L78)*3.035%,-1) -> 87640 | Z78: =ROUNDUP(Y78*6.55%,-1) -> 5750 | AA78: =ROUND(U78*0.9%,-1) -> 25990 | AB78: =ROUND(U78*0.8%,-1) -> 23100 | AC78: =SUM(W78:AB78) -> 513030 | AD78: =U78-AC78 -> 2374370
E79: 8월 | F79: =F78 -> 2240000 | O79: =O78 -> 40000 | Q79: =ROUND((F78+T78)*1/209*1.5,-1) -> 17870 | R79: =Q79*20 -> 357400 | S79: =Q79*5 -> 89350 | T79: =T78 -> 250000 | U79: =SUM(F79,M79,O79,R79,T79) -> 2887400 | W79: =ROUNDUP(U79*1/12,-1) -> 240620 | X79: =ROUND(U79*4.5%,-1) -> 129930 | Y79: =ROUNDUP((U79-L79)*3.035%,-1) -> 87640 | Z79: =ROUNDUP(Y79*6.55%,-1) -> 5750 | AA79: =ROUND(U79*0.9%,-1) -> 25990 | AB79: =ROUND(U79*0.8%,-1) -> 23100 | AC79: =SUM(W79:AB79) -> 513030 | AD79: =U79-AC79 -> 2374370
E80: 9월 | F80: =F79 -> 2240000 | M80: =F80*60% -> 1344000 | O80: =O79 -> 40000 | Q80: =ROUND((F79+T79)*1/209*1.5,-1) -> 17870 | R80: =Q80*20 -> 357400 | S80: =Q80*5 -> 89350 | T80: =T79 -> 250000 | U80: =SUM(F80,M80,O80,R80,T80) -> 4231400 | W80: =ROUNDUP(U80*1/12,-1) -> 352620 | X80: =ROUND(U80*4.5%,-1) -> 190410 | Y80: =ROUNDUP((U80-L80)*3.035%,-1) -> 128430 | Z80: =ROUNDUP(Y80*6.55%,-1) -> 8420 | AA80: =ROUND(U80*0.9%,-1) -> 38080 | AB80: =ROUND(U80*0.8%,-1) -> 33850 | AC80: =SUM(W80:AB80) -> 751810 | AD80: =U80-AC80 -> 3479590
E81: 10월 | F81: =F80 -> 2240000 | O81: =O80 -> 40000 | Q81: =ROUND((F80+T80)*1/209*1.5,-1) -> 17870 | R81: =Q81*20 -> 357400 | S81: =Q81*5 -> 89350 | T81: =T80 -> 250000 | U81: =SUM(F81,M81,O81,R81,T81) -> 2887400 | W81: =ROUNDUP(U81*1/12,-1) -> 240620 | X81: =ROUND(U81*4.5%,-1) -> 129930 | Y81: =ROUNDUP((U81-L81)*3.035%,-1) -> 87640 | Z81: =ROUNDUP(Y81*6.55%,-1) -> 5750 | AA81: =ROUND(U81*0.9%,-1) -> 25990 | AB81: =ROUND(U81*0.8%,-1) -> 23100 | AC81: =SUM(W81:AB81) -> 513030 | AD81: =U81-AC81 -> 2374370
E82: 11월 | F82: =F81 -> 2240000 | O82: =O81 -> 40000 | Q82: =ROUND((F81+T81)*1/209*1.5,-1) -> 17870 | R82: =Q82*20 -> 357400 | S82: =Q82*5 -> 89350 | T82: =T81 -> 250000 | U82: =SUM(F82,M82,O82,R82,T82) -> 2887400 | W82: =ROUNDUP(U82*1/12,-1) -> 240620 | X82: =ROUND(U82*4.5%,-1) -> 129930 | Y82: =ROUNDUP((U82-L82)*3.035%,-1) -> 87640 | Z82: =ROUNDUP(Y82*6.55%,-1) -> 5750 | AA82: =ROUND(U82*0.9%,-1) -> 25990 | AB82: =ROUND(U82*0.8%,-1) -> 23100 | AC82: =SUM(W82:AB82) -> 513030 | AD82: =U82-AC82 -> 2374370
C83: 8 | E83: 12월 | F83: =F82 -> 2240000 | O83: =O82 -> 40000 | Q83: =ROUND((F82+T82)*1/209*1.5,-1) -> 17870 | R83: =Q83*20*2 -> 714800 | S83: =Q83*5 -> 89350 | T83: =T82 -> 250000 | U83: =SUM(F83,M83,O83,R83,T83) -> 3244800 | W83: =ROUNDUP(U83*1/12,-1) -> 270400 | X83: =ROUND(U83*4.5%,-1) -> 146020 | Y83: =ROUNDUP((U83-L83)*3.035%,-1) -> 98480 | Z83: =ROUNDUP(Y83*6.55%,-1) -> 6460 | AA83: =ROUND(U83*0.9%,-1) -> 29200 | AB83: =ROUND(U83*0.8%,-1) -> 25960 | AC83: =SUM(W83:AB83) -> 576520 | AD83: =U83-AC83 -> 2668280
A84: 7 | B84: 사무원 | C84: 7,8 | D84: 1 | E84: 소계 | F84: =SUM(F85:F96) -> 23408000 | G84: =SUM(G85:G96) -> 0 | H84: =SUM(H85:H96) -> 0 | I84: =SUM(I85:I96) -> 0 | J84: =SUM(J85:J96) -> 0 | K84: =SUM(K85:K96) -> 0 | L84: =SUM(L85:L96) -> 0 | M84: =SUM(M85:M96) -> 2328000 | ... O84: =SUM(O85:O96) -> 720000 | R84: =SUM(R85:R96) -> 3791200 | S84: =SUM(S85:S96) -> 866900 | T84: =SUM(T85:T96) -> 3000000 | U84: =SUM(U85:U96) -> 33247200 | W84: =SUM(W85:W96) -> 2791450 | X84: =SUM(X85:X96) -> 1496140 | Y84: =SUM(Y85:Y96) -> 1009080 | Z84: =SUM(Z85:Z96) -> 66140 | AA84: =SUM(AA85:AA96) -> 299240 | AB84: =SUM(AB85:AB96) -> 266020 | AC84: =SUM(AC85:AC96) -> 5928070 | AD84: =U84-AC84 -> 27319130
B85: 이선이 | C85: 7 | E85: 1월 | F85: 1940000 | O85: 60000 | T85: 250000 | U85: =SUM(F85,M85,O85,R85,T85) -> 2250000 | W85: =ROUNDUP(U85*1/12,-1) -> 187500 | X85: =ROUND(U85*4.5%,-1) -> 101250 | Y85: =ROUNDUP((U85-L85)*3.035%,-1) -> 68290 | Z85: =ROUNDUP(Y85*6.55%,-1) -> 4480 | AA85: =ROUND(U85*0.9%,-1) -> 20250 | AB85: =ROUND(U85*0.8%,-1) -> 18000 | AC85: =SUM(W85:AB85) -> 399770 | AD85: =U85-AC85 -> 1850230
E86: 2월 | F86: =F85 -> 1940000 | M86: =F86*60% -> 1164000 | O86: =O85 -> 60000 | Q86: =ROUND((F85+T85)*1/209*1.5,-1) -> 15720 | R86: =Q86*20 -> 314400 | S86: =Q86*5 -> 78600 | T86: =T85 -> 250000 | U86: =SUM(F86,M86,O86,R86,T86) -> 3728400 | W86: =ROUNDUP((T86+U86)*1/12,-1) -> 331540 | X86: =ROUND(U86*4.5%,-1) -> 167780 | Y86: =ROUNDUP((U86-L86)*3.035%,-1) -> 113160 | Z86: =ROUNDUP(Y86*6.55%,-1) -> 7420 | AA86: =ROUND(U86*0.9%,-1) -> 33560 | AB86: =ROUND(U86*0.8%,-1) -> 29830 | AC86: =SUM(W86:AB86) -> 683290 | AD86: =U86-AC86 -> 3045110
E87: 3월 | F87: =F85 -> 1940000 | O87: =O86 -> 60000 | Q87: =ROUND((F86+T86)*1/209*1.5,-1) -> 15720 | R87: =Q87*20 -> 314400 | S87: =Q87*5 -> 78600 | T87: =T86 -> 250000 | U87: =SUM(F87,M87,O87,R87,T87) -> 2564400 | W87: =ROUNDUP(U87*1/12,-1) -> 213700 | X87: =ROUND(U87*4.5%,-1) -> 115400 | Y87: =ROUNDUP((U87-L87)*3.035%,-1) -> 77830 | Z87: =ROUNDUP(Y87*6.55%,-1) -> 5100 | AA87: =ROUND(U87*0.9%,-1) -> 23080 | AB87: =ROUND(U87*0.8%,-1) -> 20520 | AC87: =SUM(W87:AB87) -> 455630 | AD87: =U87-AC87 -> 2108770
E88: 4월 | F88: =F85 -> 1940000 | O88: =O87 -> 60000 | Q88: =ROUND((F87+T87)*1/209*1.5,-1) -> 15720 | R88: =Q88*20 -> 314400 | S88: =Q88*5 -> 78600 | T88: =T87 -> 250000 | U88: =SUM(F88,M88,O88,R88,T88) -> 2564400 | W88: =ROUNDUP(U88*1/12,-1) -> 213700 | X88: =ROUND(U88*4.5%,-1) -> 115400 | Y88: =ROUNDUP((U88-L88)*3.035%,-1) -> 77830 | Z88: =ROUNDUP(Y88*6.55%,-1) -> 5100 | AA88: =ROUND(U88*0.9%,-1) -> 23080 | AB88: =ROUND(U88*0.8%,-1) -> 20520 | AC88: =SUM(W88:AB88) -> 455630 | AD88: =U88-AC88 -> 2108770
E89: 5월 | F89: =F85 -> 1940000 | O89: =O88 -> 60000 | Q89: =ROUND((F88+T88)*1/209*1.5,-1) -> 15720 | R89: =Q89*20 -> 314400 | S89: =Q89*5 -> 78600 | T89: =T88 -> 250000 | U89: =SUM(F89,M89,O89,R89,T89) -> 2564400 | W89: =ROUNDUP(U89*1/12,-1) -> 213700 | X89: =ROUND(U89*4.5%,-1) -> 115400 | Y89: =ROUNDUP((U89-L89)*3.035%,-1) -> 77830 | Z89: =ROUNDUP(Y89*6.55%,-1) -> 5100 | AA89: =ROUND(U89*0.9%,-1) -> 23080 | AB89: =ROUND(U89*0.8%,-1) -> 20520 | AC89: =SUM(W89:AB89) -> 455630 | AD89: =U89-AC89 -> 2108770
E90: 6월 | F90: =F85 -> 1940000 | O90: =O89 -> 60000 | Q90: =ROUND((F89+T89)*1/209*1.5,-1) -> 15720 | R90: =Q90*20 -> 314400 | S90: =Q90*5 -> 78600 | T90: =T89 -> 250000 | U90: =SUM(F90,M90,O90,R90,T90) -> 2564400 | W90: =ROUNDUP(U90*1/12,-1) -> 213700 | X90: =ROUND(U90*4.5%,-1) -> 115400 | Y90: =ROUNDUP((U90-L90)*3.035%,-1) -> 77830 | Z90: =ROUNDUP(Y90*6.55%,-1) -> 5100 | AA90: =ROUND(U90*0.9%,-1) -> 23080 | AB90: =ROUND(U90*0.8%,-1) -> 20520 | AC90: =SUM(W90:AB90) -> 455630 | AD90: =U90-AC90 -> 2108770
E91: 7월 | F91: =F85 -> 1940000 | O91: =O90 -> 60000 | Q91: =ROUND((F90+T90)*1/209*1.5,-1) -> 15720 | R91: =Q91*20 -> 314400 | S91: =Q91*5 -> 78600 | T91: =T90 -> 250000 | U91: =SUM(F91,M91,O91,R91,T91) -> 2564400 | W91: =ROUNDUP(U91*1/12,-1) -> 213700 | X91: =ROUND(U91*4.5%,-1) -> 115400 | Y91: =ROUNDUP((U91-L91)*3.035%,-1) -> 77830 | Z91: =ROUNDUP(Y91*6.55%,-1) -> 5100 | AA91: =ROUND(U91*0.9%,-1) -> 23080 | AB91: =ROUND(U91*0.8%,-1) -> 20520 | AC91: =SUM(W91:AB91) -> 455630 | AD91: =U91-AC91 -> 2108770
E92: 8월 | F92: =F85 -> 1940000 | O92: =O91 -> 60000 | Q92: =ROUND((F91+T91)*1/209*1.5,-1) -> 15720 | R92: =Q92*20 -> 314400 | S92: =Q92*5 -> 78600 | T92: =T91 -> 250000 | U92: =SUM(F92,M92,O92,R92,T92) -> 2564400 | W92: =ROUNDUP(U92*1/12,-1) -> 213700 | X92: =ROUND(U92*4.5%,-1) -> 115400 | Y92: =ROUNDUP((U92-L92)*3.035%,-1) -> 77830 | Z92: =ROUNDUP(Y92*6.55%,-1) -> 5100 | AA92: =ROUND(U92*0.9%,-1) -> 23080 | AB92: =ROUND(U92*0.8%,-1) -> 20520 | AC92: =SUM(W92:AB92) -> 455630 | AD92: =U92-AC92 -> 2108770
E93: 9월 | F93: =F85 -> 1940000 | M93: =F93*60% -> 1164000 | O93: =O92 -> 60000 | Q93: =ROUND((F92+T92)*1/209*1.5,-1) -> 15720 | R93: =Q93*20 -> 314400 | S93: =Q93*5 -> 78600 | T93: =T92 -> 250000 | U93: =SUM(F93,M93,O93,R93,T93) -> 3728400 | W93: =ROUNDUP(U93*1/12,-1) -> 310700 | X93: =ROUND(U93*4.5%,-1) -> 167780 | Y93: =ROUNDUP((U93-L93)*3.035%,-1) -> 113160 | Z93: =ROUNDUP(Y93*6.55%,-1) -> 7420 | AA93: =ROUND(U93*0.9%,-1) -> 33560 | AB93: =ROUND(U93*0.8%,-1) -> 29830 | AC93: =SUM(W93:AB93) -> 662450 | AD93: =U93-AC93 -> 3065950
E94: 10월 | F94: =F85 -> 1940000 | O94: =O93 -> 60000 | Q94: =ROUND((F93+T93)*1/209*1.5,-1) -> 15720 | R94: =Q94*20 -> 314400 | S94: =Q94*5 -> 78600 | T94: =T93 -> 250000 | U94: =SUM(F94,M94,O94,R94,T94) -> 2564400 | W94: =ROUNDUP(U94*1/12,-1) -> 213700 | X94: =ROUND(U94*4.5%,-1) -> 115400 | Y94: =ROUNDUP((U94-L94)*3.035%,-1) -> 77830 | Z94: =ROUNDUP(Y94*6.55%,-1) -> 5100 | AA94: =ROUND(U94*0.9%,-1) -> 23080 | AB94: =ROUND(U94*0.8%,-1) -> 20520 | AC94: =SUM(W94:AB94) -> 455630 | AD94: =U94-AC94 -> 2108770
C95: 8 | E95: 11월 | F95: 2004000 | O95: =O94 -> 60000 | Q95: =ROUND((F94+T94)*1/209*1.5,-1) -> 15720 | R95: =Q95*20 -> 314400 | S95: =Q95*5 -> 78600 | T95: 250000 | U95: =SUM(F95,M95,O95,R95,T95) -> 2628400 | W95: =ROUNDUP(U95*1/12,-1) -> 219040 | X95: =ROUND(U95*4.5%,-1) -> 118280 | Y95: =ROUNDUP((U95-L95)*3.035%,-1) -> 79780 | Z95: =ROUNDUP(Y95*6.55%,-1) -> 5230 | AA95: =ROUND(U95*0.9%,-1) -> 23660 | AB95: =ROUND(U95*0.8%,-1) -> 21030 | AC95: =SUM(W95:AB95) -> 467020 | AD95: =U95-AC95 -> 2161380
E96: 12월 | F96: =F95 -> 2004000 | O96: =O95 -> 60000 | Q96: =ROUND((F95+T95)*1/209*1.5,-1) -> 16180 | R96: =Q96*20*2 -> 647200 | S96: =Q96*5 -> 80900 | T96: =T95 -> 250000 | U96: =SUM(F96,M96,O96,R96,T96) -> 2961200 | W96: =ROUNDUP(U96*1/12,-1) -> 246770 | X96: =ROUND(U96*4.5%,-1) -> 133250 | Y96: =ROUNDUP((U96-L96)*3.035%,-1) -> 89880 | Z96: =ROUNDUP(Y96*6.55%,-1) -> 5890 | AA96: =ROUND(U96*0.9%,-1) -> 26650 | AB96: =ROUND(U96*0.8%,-1) -> 23690 | AC96: =SUM(W96:AB96) -> 526130 | AD96: =U96-AC96 -> 2435070
A97: 8 | B97: 선임팀장 | C97: 9,10 | D97: 1 | E97: 소계 | F97: =SUM(F98:F109) -> 26928000 | G97: =SUM(G98:G109) -> 0 | H97: =SUM(H98:H109) -> 0 | I97: =SUM(I98:I109) -> 0 | J97: =SUM(J98:J109) -> 0 | K97: =SUM(K98:K109) -> 0 | L97: =SUM(L98:L109) -> 0 | M97: =SUM(M98:M109) -> 2709600 | ... O97: =SUM(O98:O109) -> 480000 | R97: =SUM(R98:R109) -> 4296000 | S97: =SUM(S98:S109) -> 1074000 | T97: =SUM(T98:T109) -> 3000000 | U97: =SUM(U98:U109) -> 37413600 | W97: =SUM(W98:W109) -> 3138710 | X97: =SUM(X98:X109) -> 1683610 | Y97: =SUM(Y98:Y109) -> 1135590 | Z97: =SUM(Z98:Z109) -> 74430 | AA97: =SUM(AA98:AA109) -> 336720 | AB97: =SUM(AB98:AB109) -> 299320 | AC97: =SUM(AC98:AC109) -> 6668380 | AD97: =U97-AC97 -> 30745220
B98: 최숙렬 | C98: 9 | E98: 1월 | F98: 2216000 | O98: 40000 | T98: 250000 | U98: =SUM(F98,M98,O98,R98,T98) -> 2506000 | W98: =ROUNDUP(U98*1/12,-1) -> 208840 | X98: =ROUND(U98*4.5%,-1) -> 112770 | Y98: =ROUNDUP((U98-L98)*3.035%,-1) -> 76060 | Z98: =ROUNDUP(Y98*6.55%,-1) -> 4990 | AA98: =ROUND(U98*0.9%,-1) -> 22550 | AB98: =ROUND(U98*0.8%,-1) -> 20050 | AC98: =SUM(W98:AB98) -> 445260 | AD98: =U98-AC98 -> 2060740
E99: 2월 | F99: =F98 -> 2216000 | M99: =F99*60% -> 1329600 | O99: =O98 -> 40000 | Q99: =ROUND((F98+T98)*1/209*1.5,-1) -> 17700 | R99: =Q99*20 -> 354000 | S99: =Q99*5 -> 88500 | T99: =T98 -> 250000 | U99: =SUM(F99,M99,O99,R99,T99) -> 4189600 | W99: =ROUNDUP((T99+U99)*1/12,-1) -> 369970 | X99: =ROUND(U99*4.5%,-1) -> 188530 | Y99: =ROUNDUP((U99-L99)*3.035%,-1) -> 127160 | Z99: =ROUNDUP(Y99*6.55%,-1) -> 8330 | AA99: =ROUND(U99*0.9%,-1) -> 37710 | AB99: =ROUND(U99*0.8%,-1) -> 33520 | AC99: =SUM(W99:AB99) -> 765220 | AD99: =U99-AC99 -> 3424380
E100: 3월 | F100: =F98 -> 2216000 | O100: =O99 -> 40000 | Q100: =ROUND((F99+T99)*1/209*1.5,-1) -> 17700 | R100: =Q100*20 -> 354000 | S100: =Q100*5 -> 88500 | T100: =T99 -> 250000 | U100: =SUM(F100,M100,O100,R100,T100) -> 2860000 | W100: =ROUNDUP(U100*1/12,-1) -> 238340 | X100: =ROUND(U100*4.5%,-1) -> 128700 | Y100: =ROUNDUP((U100-L100)*3.035%,-1) -> 86810 | Z100: =ROUNDUP(Y100*6.55%,-1) -> 5690 | AA100: =ROUND(U100*0.9%,-1) -> 25740 | AB100: =ROUND(U100*0.8%,-1) -> 22880 | AC100: =SUM(W100:AB100) -> 508160 | AD100: =U100-AC100 -> 2351840
E101: 4월 | F101: =F98 -> 2216000 | O101: =O100 -> 40000 | Q101: =ROUND((F100+T100)*1/209*1.5,-1) -> 17700 | R101: =Q101*20 -> 354000 | S101: =Q101*5 -> 88500 | T101: =T100 -> 250000 | U101: =SUM(F101,M101,O101,R101,T101) -> 2860000 | W101: =ROUNDUP(U101*1/12,-1) -> 238340 | X101: =ROUND(U101*4.5%,-1) -> 128700 | Y101: =ROUNDUP((U101-L101)*3.035%,-1) -> 86810 | Z101: =ROUNDUP(Y101*6.55%,-1) -> 5690 | AA101: =ROUND(U101*0.9%,-1) -> 25740 | AB101: =ROUND(U101*0.8%,-1) -> 22880 | AC101: =SUM(W101:AB101) -> 508160 | AD101: =U101-AC101 -> 2351840
...

Sheet 인건비총계표(자부담)
A1: ▣ 2015년 종사자 인건비 총계표
A3: (1) 자부담 | AA3: (단위 : 원)
A4: 연 번 | B4: 직 종 | C4: 호 봉 | D4: 명 수 | E4: 구분 (월) | F4: 기본급 | G4: 기말수당 (50%씩 연4회 -3,6,9,12월) | H4: 정근수당 (1,7월) | I4: 장기근속 수 당 | J4: 가계지원비 (50%씩 연4회 -4,5,10,11월) | K4: 시간당 연장근로수당 | L4: 직책수당 | M4: 명절휴가비 (50%씩 연2회) | N4: 명절휴가비 연평균액 | O4: 가족수당 (30,000원) (20,000원) | P4: 연장근로수당 (기본급*1/ 209*1.5*40/22) | Q4: 처우개선비 | R4: 특수근무 수 당 (도비) | S4: 지급액합계 | T4: 비 고 | U4: 퇴직적립금 | V4: 국민연금 | W4: 의료보험 | X4: 의료보험 (장기요양보험) | Y4: 고용보험 | Z4: 산재보험 | AA4: 공제액합계
A5: 합 계 | G5: =G6+G19+G32 -> 0 | H5: =H6+H19+H32 -> 0 | I5: =I6+I19+I32 -> 0 | J5: =J6+J19+J32 -> 0 | K5: =K6+K19+K32 -> 0 | L5: =L6+L19+L32 -> 7500000 | M5: =M6+M19+M32 -> 0 | N5: =N6+N19+N32 -> 0 | ... S5: =S6+S19+S32 -> 7500000 | U5: =U6+U19+U32 -> 625000 | V5: =V6+V19+V32 -> 0 | W5: =W6+W19+W32 -> 227650 | X5: =X6+X19+X32 -> 14940 | Y5: =Y6+Y19+Y32 -> 67500 | Z5: =Z6+Z19+Z32 -> 60000 | AA5: =AA6+AA19+AA32 -> 995090
A6: 1 | B6: 교통급식비 | D6: 11 | E6: 소계 | F6: =SUM(F7:F18) -> 0 | G6: =SUM(G7:G18) -> 0 | H6: =SUM(H7:H18) -> 0 | I6: =SUM(I7:I18) -> 0 | J6: =SUM(J7:J18) -> 0 | K6: =SUM(K7:K18) -> 0 | L6: =SUM(L7:L18) -> 7500000 | M6: =SUM(M7:M18) -> 0 | ... S6: =SUM(S7:S18) -> 7500000 | U6: =SUM(U7:U18) -> 625000 | V6: =SUM(V7:V18) -> 0 | W6: =SUM(W7:W18) -> 227650 | X6: =SUM(X7:X18) -> 14940 | Y6: =SUM(Y7:Y18) -> 67500 | Z6: =SUM(Z7:Z18) -> 60000 | AA6: =SUM(AA7:AA18) -> 995090
B7: 200,000원 | D7: 1 | E7: 기관장 | L7: =300000*5 -> 1500000 | S7: =SUM(F7:R7) -> 1500000 | U7: =ROUNDUP(S7*1/12,-1) -> 125000 | W7: =ROUNDUP((S7-J7)*3.035%,-1) -> 45530 | X7: =ROUNDUP(W7*6.55%,-1) -> 2990 | Y7: =ROUND(S7*0.9%,-1) -> 13500 | Z7: =ROUND(S7*0.8%,-1) -> 12000 | AA7: =SUM(U7:Z7) -> 199020
B8: 160,000원 | D8: 1 | E8: 사무국장 | L8: =200000*5 -> 1000000 | S8: =SUM(F8:R8) -> 1000000 | U8: =ROUND(S8*1/12,-1) -> 83330 | W8: =ROUNDUP((S8-J8)*3.035%,-1) -> 30350 | X8: =ROUNDUP(W8*6.55%,-1) -> 1990 | Y8: =ROUND(S8*0.9%,-1) -> 9000 | Z8: =ROUND(S8*0.8%,-1) -> 8000 | AA8: =SUM(U8:Z8) -> 132670
B9: 100,000원 | D9: 1 | E9: 과장 | L9: =150000*5 -> 750000 | S9: =SUM(F9:R9) -> 750000 | U9: =ROUND(S9*1/12,-1) -> 62500 | W9: =ROUNDUP((S9-J9)*3.035%,-1) -> 22770 | X9: =ROUNDUP(W9*6.55%,-1) -> 1500 | Y9: =ROUND(S9*0.9%,-1) -> 6750 | Z9: =ROUND(S9*0.8%,-1) -> 6000 | AA9: =SUM(U9:Z9) -> 99520
B10: 60,000원 | D10: 1 | E10: 선임팀장 | L10: =150000*5 -> 750000 | S10: =SUM(F10:R10) -> 750000 | U10: =ROUND(S10*1/12,-1) -> 62500 | W10: =ROUNDUP((S10-J10)*3.035%,-1) -> 22770 | X10: =ROUNDUP(W10*6.55%,-1) -> 1500 | Y10: =ROUND(S10*0.9%,-1) -> 6750 | Z10: =ROUND(S10*0.8%,-1) -> 6000 | AA10: =SUM(U10:Z10) -> 99520
B11: 40,000원 | D11: 7 | E11: 팀장 | L11: =100000*5*D11 -> 3500000 | S11: =SUM(F11:R11) -> 3500000 | U11: =ROUND(S11*1/12,-1) -> 291670 | W11: =ROUNDUP((S11-J11)*3.035%,-1) -> 106230 | X11: =ROUNDUP(W11*6.55%,-1) -> 6960 | Y11: =ROUND(S11*0.9%,-1) -> 31500 | Z11: =ROUND(S11*0.8%,-1) -> 28000 | AA11: =SUM(U11:Z11) -> 464360
F12: =F11 -> 0 | G12: =F12*50% -> 0 | H12: 0 | I12: =I7 -> 0 | J12: 0 | K12: =K11 -> 0 | L12: 0 | M12: 0 | N12: =N7 -> 0 | O12: =O7 -> 0 | P12: =ROUND((F12)*1/209*1.5*40,-1) -> 0 | R12: =R11 -> 0 | S12: =SUM(F12:R12) -> 0 | U12: =ROUND(S12*1/12,-1) -> 0 | V12: =ROUND(S12*4.5%,-1) -> 0 | W12: =ROUND(S12*2.665%,-1) -> 0 | X12: =ROUND(W12*6.55%,-1) -> 0 | Y12: =ROUND(S12*0.7%,-1) -> 0 | Z12: =ROUND(S12*0.7%,-1) -> 0 | AA12: =SUM(U12:Z12) -> 0
F13: =F12 -> 0 | G13: 0 | H13: =F13*90% -> 0 | I13: - | J13: 0 | K13: =K12 -> 0 | L13: =L12 -> 0 | M13: 0 | N13: =N12 -> 0 | O13: =O12 -> 0 | P13: =ROUND((F13)*1/209*1.5*40,-1) -> 0 | R13: =R12 -> 0 | S13: =SUM(F13:R13) -> 0 | U13: =ROUND(S13*1/12,-1) -> 0 | V13: =ROUND(S13*4.5%,-1) -> 0 | W13: =ROUND(S13*2.665%,-1) -> 0 | X13: =ROUND(W13*6.55%,-1) -> 0 | Y13: =ROUND(S13*0.7%,-1) -> 0 | Z13: =ROUND(S13*0.7%,-1) -> 0 | AA13: =SUM(U13:Z13) -> 0
F14: =F13 -> 0 | G14: 0 | H14: 0 | I14: =I13 -> - | J14: 0 | K14: =K13 -> 0 | L14: =L13 -> 0 | M14: 0 | N14: =N13 -> 0 | O14: =O13 -> 0 | P14: =ROUND((F14)*1/209*1.5*40,-1) -> 0 | R14: =R13 -> 0 | S14: =SUM(F14:R14) -> 0 | U14: =ROUND(S14*1/12,-1) -> 0 | V14: =ROUND(S14*4.5%,-1) -> 0 | W14: =ROUND(S14*2.665%,-1) -> 0 | X14: =ROUND(W14*6.55%,-1) -> 0 | Y14: =ROUND(S14*0.7%,-1) -> 0 | Z14: =ROUND(S14*0.7%,-1) -> 0 | AA14: =SUM(U14:Z14) -> 0
F15: =F13 -> 0 | G15: =F15*50% -> 0 | H15: 0 | I15: =I13 -> - | J15: 0 | K15: =K14 -> 0 | L15: =L14 -> 0 | M15: =F15*50% -> 0 | N15: =N13 -> 0 | O15: =O13 -> 0 | P15: =ROUND((F15)*1/209*1.5*40,-1) -> 0 | R15: =R14 -> 0 | S15: =SUM(F15:R15) -> 0 | U15: =ROUND(S15*1/12,-1) -> 0 | V15: =ROUND(S15*4.5%,-1) -> 0 | W15: =ROUND(S15*2.665%,-1) -> 0 | X15: =ROUND(W15*6.55%,-1) -> 0 | Y15: =ROUND(S15*0.7%,-1) -> 0 | Z15: =ROUND(S15*0.7%,-1) -> 0 | AA15: =SUM(U15:Z15) -> 0
F16: =F13 -> 0 | G16: 0 | H16: 0 | I16: =I13 -> - | J16: =F16*50% -> 0 | K16: =K15 -> 0 | L16: =L15 -> 0 | M16: 0 | N16: =N13 -> 0 | O16: =O13 -> 0 | P16: =ROUND((F16)*1/209*1.5*40,-1) -> 0 | R16: =R15 -> 0 | S16: =SUM(F16:R16) -> 0 | U16: =ROUND(S16*1/12,-1) -> 0 | V16: =ROUND(S16*4.5%,-1) -> 0 | W16: =ROUND(S16*2.665%,-1) -> 0 | X16: =ROUND(W16*6.55%,-1) -> 0 | Y16: =ROUND(S16*0.7%,-1) -> 0 | Z16: =ROUND(S16*0.7%,-1) -> 0 | AA16: =SUM(U16:Z16) -> 0
F17: =F13 -> 0 | G17: 0 | H17: 0 | I17: =I13 -> - | J17: =F17*50% -> 0 | K17: =K16 -> 0 | L17: =L16 -> 0 | M17: 0 | N17: =N13 -> 0 | O17: =O13 -> 0 | P17: =ROUND((F17)*1/209*1.5*40,-1) -> 0 | R17: =R16 -> 0 | S17: =SUM(F17:R17) -> 0 | U17: =ROUND(S17*1/12,-1) -> 0 | V17: =ROUND(S17*4.5%,-1) -> 0 | W17: =ROUND(S17*2.665%,-1) -> 0 | X17: =ROUND(W17*6.55%,-1) -> 0 | Y17: =ROUND(S17*0.7%,-1) -> 0 | Z17: =ROUND(S17*0.7%,-1) -> 0 | AA17: =SUM(U17:Z17) -> 0
F18: =F13 -> 0 | G18: =F18*50% -> 0 | H18: 0 | I18: =I13 -> - | J18: 0 | K18: =K17 -> 0 | L18: =L17 -> 0 | M18: 0 | N18: =N13 -> 0 | O18: =O13 -> 0 | P18: =ROUND((F18)*1/209*1.5*40*2,-1) -> 0 | R18: =R17 -> 0 | S18: =SUM(F18:R18) -> 0 | U18: =ROUND(S18*1/12,-1) -> 0 | V18: =ROUND(S18*4.5%,-1) -> 0 | W18: =ROUND(S18*2.665%,-1) -> 0 | X18: =ROUND(W18*6.55%,-1) -> 0 | Y18: =ROUND(S18*0.7%,-1) -> 0 | Z18: =ROUND(S18*0.7%,-1) -> 0 | AA18: =SUM(U18:Z18) -> 0
A19: 1 | B19: 운전원 | C19: 3,4 | D19: 1 | E19: 소계 | F19: =SUM(F20:F31) -> 0 | G19: =SUM(G20:G31) -> 0 | H19: =SUM(H20:H31) -> 0 | I19: =SUM(I20:I31) -> 0 | J19: =SUM(J20:J31) -> 0 | K19: =SUM(K20:K31) -> 0 | L19: =SUM(L20:L31) -> 0 | M19: =SUM(M20:M31) -> 0 | ... S19: =SUM(S20:S31) -> 0 | T19: 3월지급종료 | U19: =SUM(U20:U31) -> 0 | V19: =SUM(V20:V31) -> 0 | W19: =SUM(W20:W31) -> 0 | X19: =SUM(X20:X31) -> 0 | Y19: =SUM(Y20:Y31) -> 0 | Z19: =SUM(Z20:Z31) -> 0 | AA19: =SUM(AA20:AA31) -> 0
C20: 3 | E20: 1월 | R20: - | S20: =SUM(F20:R20) -> 0 | U20: =ROUND(S20*1/12,-1) -> 0 | V20: =ROUND(S20*4.5%,-1) -> 0 | W20: =ROUND(S20*2.665%,-1) -> 0 | X20: =ROUND(W20*6.55%,-1) -> 0 | Y20: =ROUND(S20*0.7%,-1) -> 0 | Z20: =ROUND(S20*0.7%,-1) -> 0 | AA20: =SUM(U20:Z20) -> 0
E21: 2월 | R21: =R20 -> - | S21: =SUM(F21:R21) -> 0 | U21: =ROUND(S21*1/12,-1) -> 0 | V21: =ROUND(S21*4.5%,-1) -> 0 | W21: =ROUND(S21*2.665%,-1) -> 0 | X21: =ROUND(W21*6.55%,-1) -> 0 | Y21: =ROUND(S21*0.7%,-1) -> 0 | Z21: =ROUND(S21*0.7%,-1) -> 0 | AA21: =SUM(U21:Z21) -> 0
E22: 3월 | R22: =R21 -> - | S22: =SUM(F22:R22) -> 0 | U22: =ROUND(S22*1/12,-1) -> 0 | V22: =ROUND(S22*4.5%,-1) -> 0 | W22: =ROUND(S22*2.665%,-1) -> 0 | X22: =ROUND(W22*6.55%,-1) -> 0 | Y22: =ROUND(S22*0.7%,-1) -> 0 | Z22: =ROUND(S22*0.7%,-1) -> 0 | AA22: =SUM(U22:Z22) -> 0
E23: 4월 | R23: =R22 -> - | S23: =SUM(F23:R23) -> 0 | U23: =ROUND(S23*1/12,-1) -> 0 | V23: =ROUND(S23*4.5%,-1) -> 0 | W23: =ROUND(S23*2.665%,-1) -> 0 | X23: =ROUND(W23*6.55%,-1) -> 0 | Y23: =ROUND(S23*0.7%,-1) -> 0 | Z23: =ROUND(S23*0.7%,-1) -> 0 | AA23: =SUM(U23:Z23) -> 0
E24: 5월 | R24: =R23 -> - | S24: =SUM(F24:R24) -> 0 | U24: =ROUND(S24*1/12,-1) -> 0 | V24: =ROUND(S24*4.5%,-1) -> 0 | W24: =ROUND(S24*2.665%,-1) -> 0 | X24: =ROUND(W24*6.55%,-1) -> 0 | Y24: =ROUND(S24*0.7%,-1) -> 0 | Z24: =ROUND(S24*0.7%,-1) -> 0 | AA24: =SUM(U24:Z24) -> 0
E25: 6월 | R25: =R24 -> - | S25: =SUM(F25:R25) -> 0 | U25: =ROUND(S25*1/12,-1) -> 0 | V25: =ROUND(S25*4.5%,-1) -> 0 | W25: =ROUND(S25*2.665%,-1) -> 0 | X25: =ROUND(W25*6.55%,-1) -> 0 | Y25: =ROUND(S25*0.7%,-1) -> 0 | Z25: =ROUND(S25*0.7%,-1) -> 0 | AA25: =SUM(U25:Z25) -> 0
E26: 7월 | R26: =R25 -> - | S26: =SUM(F26:R26) -> 0 | U26: =ROUND(S26*1/12,-1) -> 0 | V26: =ROUND(S26*4.5%,-1) -> 0 | W26: =ROUND(S26*2.665%,-1) -> 0 | X26: =ROUND(W26*6.55%,-1) -> 0 | Y26: =ROUND(S26*0.7%,-1) -> 0 | Z26: =ROUND(S26*0.7%,-1) -> 0 | AA26: =SUM(U26:Z26) -> 0
E27: 8월 | R27: =R26 -> - | S27: =SUM(F27:R27) -> 0 | U27: =ROUND(S27*1/12,-1) -> 0 | V27: =ROUND(S27*4.5%,-1) -> 0 | W27: =ROUND(S27*2.665%,-1) -> 0 | X27: =ROUND(W27*6.55%,-1) -> 0 | Y27: =ROUND(S27*0.7%,-1) -> 0 | Z27: =ROUND(S27*0.7%,-1) -> 0 | AA27: =SUM(U27:Z27) -> 0
E28: 9월 | R28: =R27 -> - | S28: =SUM(F28:R28) -> 0 | U28: =ROUND(S28*1/12,-1) -> 0 | V28: =ROUND(S28*4.5%,-1) -> 0 | W28: =ROUND(S28*2.665%,-1) -> 0 | X28: =ROUND(W28*6.55%,-1) -> 0 | Y28: =ROUND(S28*0.7%,-1) -> 0 | Z28: =ROUND(S28*0.7%,-1) -> 0 | AA28: =SUM(U28:Z28) -> 0
C29: 4 | E29: 10월 | R29: =R28 -> - | S29: =SUM(F29:R29) -> 0 | U29: =ROUND(S29*1/12,-1) -> 0 | V29: =ROUND(S29*4.5%,-1) -> 0 | W29: =ROUND(S29*2.665%,-1) -> 0 | X29: =ROUND(W29*6.55%,-1) -> 0 | Y29: =ROUND(S29*0.7%,-1) -> 0 | Z29: =ROUND(S29*0.7%,-1) -> 0 | AA29: =SUM(U29:Z29) -> 0
E30: 11월 | R30: =R29 -> - | S30: =SUM(F30:R30) -> 0 | U30: =ROUND(S30*1/12,-1) -> 0 | V30: =ROUND(S30*4.5%,-1) -> 0 | W30: =ROUND(S30*2.665%,-1) -> 0 | X30: =ROUND(W30*6.55%,-1) -> 0 | Y30: =ROUND(S30*0.7%,-1) -> 0 | Z30: =ROUND(S30*0.7%,-1) -> 0 | AA30: =SUM(U30:Z30) -> 0
E31: 12월 | R31: =R30 -> - | S31: =SUM(F31:R31) -> 0 | U31: =ROUND(S31*1/12,-1) -> 0 | V31: =ROUND(S31*4.5%,-1) -> 0 | W31: =ROUND(S31*2.665%,-1) -> 0 | X31: =ROUND(W31*6.55%,-1) -> 0 | Y31: =ROUND(S31*0.7%,-1) -> 0 | Z31: =ROUND(S31*0.7%,-1) -> 0 | AA31: =SUM(U31:Z31) -> 0
A32: 1 | B32: 처우개선비 | D32: 9 | E32: 소계 | F32: =SUM(F33:F44) -> 0 | G32: =SUM(G33:G44) -> 0 | H32: =SUM(H33:H44) -> 0 | I32: =SUM(I33:I44) -> 0 | J32: =SUM(J33:J44) -> 0 | K32: =SUM(K33:K44) -> 0 | L32: =SUM(L33:L44) -> 0 | M32: =SUM(M33:M44) -> 0 | ... S32: =SUM(S33:S44) -> 0 | T32: 7월주임신설 | U32: =SUM(U33:U44) -> 0 | V32: =SUM(V33:V44) -> 0 | W32: =SUM(W33:W44) -> 0 | X32: =SUM(X33:X44) -> 0 | Y32: =SUM(Y33:Y44) -> 0 | Z32: =SUM(Z33:Z44) -> 0 | AA32: =SUM(AA33:AA44) -> 0
E33: 기관장 | R33: - | S33: =SUM(F33:R33) -> 0 | U33: =ROUND(S33*1/12,-1) -> 0 | V33: =ROUND(S33*4.5%,-1) -> 0 | W33: =ROUND(S33*2.665%,-1) -> 0 | X33: =ROUND(W33*6.55%,-1) -> 0 | Y33: =ROUND(S33*0.7%,-1) -> 0 | Z33: =ROUND(S33*0.7%,-1) -> 0 | AA33: =SUM(U33:Z33) -> 0
E34: 사무국장 | R34: =R33 -> - | S34: =SUM(F34:R34) -> 0 | U34: =ROUND(S34*1/12,-1) -> 0 | V34: =ROUND(S34*4.5%,-1) -> 0 | W34: =ROUND(S34*2.665%,-1) -> 0 | X34: =ROUND(W34*6.55%,-1) -> 0 | Y34: =ROUND(S34*0.7%,-1) -> 0 | Z34: =ROUND(S34*0.7%,-1) -> 0 | AA34: =SUM(U34:Z34) -> 0
E35: 과장(2) | R35: =R34 -> - | S35: =SUM(F35:R35) -> 0 | U35: =ROUND(S35*1/12,-1) -> 0 | V35: =ROUND(S35*4.5%,-1) -> 0 | W35: =ROUND(S35*2.665%,-1) -> 0 | X35: =ROUND(W35*6.55%,-1) -> 0 | Y35: =ROUND(S35*0.7%,-1) -> 0 | Z35: =ROUND(S35*0.7%,-1) -> 0 | AA35: =SUM(U35:Z35) -> 0
E36: 팀장(5) | R36: =R35 -> - | S36: =SUM(F36:R36) -> 0 | U36: =ROUND(S36*1/12,-1) -> 0 | V36: =ROUND(S36*4.5%,-1) -> 0 | W36: =ROUND(S36*2.665%,-1) -> 0 | X36: =ROUND(W36*6.55%,-1) -> 0 | Y36: =ROUND(S36*0.7%,-1) -> 0 | Z36: =ROUND(S36*0.7%,-1) -> 0 | AA36: =SUM(U36:Z36) -> 0
E37: 주임(3) | R37: =R36 -> - | S37: =SUM(F37:R37) -> 0 | T37: 7월신설 | U37: =ROUND(S37*1/12,-1) -> 0 | V37: =ROUND(S37*4.5%,-1) -> 0 | W37: =ROUND(S37*2.665%,-1) -> 0 | X37: =ROUND(W37*6.55%,-1) -> 0 | Y37: =ROUND(S37*0.7%,-1) -> 0 | Z37: =ROUND(S37*0.7%,-1) -> 0 | AA37: =SUM(U37:Z37) -> 0
R38: =R37 -> - | S38: =SUM(F38:R38) -> 0 | U38: =ROUND(S38*1/12,-1) -> 0 | V38: =ROUND(S38*4.5%,-1) -> 0 | W38: =ROUND(S38*2.665%,-1) -> 0 | X38: =ROUND(W38*6.55%,-1) -> 0 | Y38: =ROUND(S38*0.7%,-1) -> 0 | Z38: =ROUND(S38*0.7%,-1) -> 0 | AA38: =SUM(U38:Z38) -> 0
R39: =R38 -> - | S39: =SUM(F39:R39) -> 0 | U39: =ROUND(S39*1/12,-1) -> 0 | V39: =ROUND(S39*4.5%,-1) -> 0 | W39: =ROUND(S39*2.665%,-1) -> 0 | X39: =ROUND(W39*6.55%,-1) -> 0 | Y39: =ROUND(S39*0.7%,-1) -> 0 | Z39: =ROUND(S39*0.7%,-1) -> 0 | AA39: =SUM(U39:Z39) -> 0
R40: =R39 -> - | S40: =SUM(F40:R40) -> 0 | U40: =ROUND(S40*1/12,-1) -> 0 | V40: =ROUND(S40*4.5%,-1) -> 0 | W40: =ROUND(S40*2.665%,-1) -> 0 | X40: =ROUND(W40*6.55%,-1) -> 0 | Y40: =ROUND(S40*0.7%,-1) -> 0 | Z40: =ROUND(S40*0.7%,-1) -> 0 | AA40: =SUM(U40:Z40) -> 0
R41: =R40 -> - | S41: =SUM(F41:R41) -> 0 | U41: =ROUND(S41*1/12,-1) -> 0 | V41: =ROUND(S41*4.5%,-1) -> 0 | W41: =ROUND(S41*2.665%,-1) -> 0 | X41: =ROUND(W41*6.55%,-1) -> 0 | Y41: =ROUND(S41*0.7%,-1) -> 0 | Z41: =ROUND(S41*0.7%,-1) -> 0 | AA41: =SUM(U41:Z41) -> 0
R42: =R41 -> - | S42: =SUM(F42:R42) -> 0 | U42: =ROUND(S42*1/12,-1) -> 0 | V42: =ROUND(S42*4.5%,-1) -> 0 | W42: =ROUND(S42*2.665%,-1) -> 0 | X42: =ROUND(W42*6.55%,-1) -> 0 | Y42: =ROUND(S42*0.7%,-1) -> 0 | Z42: =ROUND(S42*0.7%,-1) -> 0 | AA42: =SUM(U42:Z42) -> 0
R43: =R42 -> - | S43: =SUM(F43:R43) -> 0 | U43: =ROUND(S43*1/12,-1) -> 0 | V43: =ROUND(S43*4.5%,-1) -> 0 | W43: =ROUND(S43*2.665%,-1) -> 0 | X43: =ROUND(W43*6.55%,-1) -> 0 | Y43: =ROUND(S43*0.7%,-1) -> 0 | Z43: =ROUND(S43*0.7%,-1) -> 0 | AA43: =SUM(U43:Z43) -> 0
R44: =R43 -> - | S44: =SUM(F44:R44) -> 0 | U44: =ROUND(S44*1/12,-1) -> 0 | V44: =ROUND(S44*4.5%,-1) -> 0 | W44: =ROUND(S44*2.665%,-1) -> 0 | X44: =ROUND(W44*6.55%,-1) -> 0 | Y44: =ROUND(S44*0.7%,-1) -> 0 | Z44: =ROUND(S44*0.7%,-1) -> 0 | AA44: =SUM(U44:Z44) -> 0
A47: (2) 후원금 | AB47: (단위 : 원)
A48: 연 번 | B48: 직 종 | C48: 호 봉 | D48: 명 수 | E48: 구분 (월) | F48: 기본급 | G48: 기말수당 (50%씩 연4회 -3,6,9,12월) | H48: 정근수당 (1,7월) | I48: 장기근속 수 당 | J48: 가계지원비 (50%씩 연4회 -4,5,10,11월) | K48: 시간당 연장근로수당 | L48: 교통급식비 (110,000원) | M48: 명절휴가비 (50%씩 연2회) | N48: 명절휴가비 연평균액 | O48: 가족수당 (30,000원) (20,000원) | P48: 연장근로수당 | Q48: 처우개선비 | R48: 직책보조비 | S48: 특수근무 수 당 (도비) | T48: 소 계 | U48: 비 고 | V48: 퇴직적립금 | W48: 국민연금 | X48: 의료보험 | Y48: 의료보험 (장기요양보험) | Z48: 고용보험 | AA48: 산재보험 | AB48: 합계
A50: 1 | B50: 생활재활교사 | C50: 1 | D50: 1 | E50: 소계 | F50: =SUM(F51:F62) -> 0 | G50: =SUM(G51:G62) -> 0 | H50: =SUM(H51:H62) -> 0 | I50: =SUM(I51:I62) -> 0 | J50: =SUM(J51:J62) -> 0 | K50: =SUM(K51:K62) -> 0 | L50: =SUM(L51:L62) -> 0 | M50: =SUM(M51:M62) -> 0 | ... O50: =SUM(O51:O62) -> 0 | Q50: =SUM(Q51:Q62) -> 0 | R50: =SUM(R51:R62) -> 0 | S50: =SUM(S51:S62) -> 0 | T50: =SUM(T51:T62) -> 0 | V50: =SUM(V51:V62) -> 0 | W50: =SUM(W51:W62) -> 0 | X50: =SUM(X51:X62) -> 0 | Y50: =SUM(Y51:Y62) -> 0 | Z50: =SUM(Z51:Z62) -> 0 | AA50: =SUM(AA51:AA62) -> 0 | AB50: =SUM(AB51:AB62) -> 0
B51: 유선주 | E51: 1월 | V51: =ROUNDUP(T51*1/12,-1) -> 0 | W51: =ROUND(T51*4.5%,-1) -> 0 | X51: =ROUNDUP((T51-L51)*2.82%,-1) -> 0 | Y51: =ROUNDUP(X51*6.55%,-1) -> 0 | Z51: =ROUND(T51*0.8%,-1) -> 0 | AA51: =ROUND(T51*0.785%,-1) -> 0 | AB51: =SUM(V51:AA51) -> 0
E52: 2월 | V52: =ROUNDUP(T52*1/12,-1) -> 0 | W52: =ROUND(T52*4.5%,-1) -> 0 | X52: =ROUNDUP((T52-L52)*2.82%,-1) -> 0 | Y52: =ROUNDUP(X52*6.55%,-1) -> 0 | Z52: =ROUND(T52*0.8%,-1) -> 0 | AA52: =ROUND(T52*0.785%,-1) -> 0 | AB52: =SUM(V52:AA52) -> 0
E53: 3월 | V53: =ROUNDUP(T53*1/12,-1) -> 0 | W53: =ROUND(T53*4.5%,-1) -> 0 | X53: =ROUNDUP((T53-L53)*2.82%,-1) -> 0 | Y53: =ROUNDUP(X53*6.55%,-1) -> 0 | Z53: =ROUND(T53*0.8%,-1) -> 0 | AA53: =ROUND(T53*0.785%,-1) -> 0 | AB53: =SUM(V53:AA53) -> 0
E54: 4월 | V54: =ROUNDUP(T54*1/12,-1) -> 0 | W54: =ROUND(T54*4.5%,-1) -> 0 | X54: =ROUNDUP((T54-L54)*2.82%,-1) -> 0 | Y54: =ROUNDUP(X54*6.55%,-1) -> 0 | Z54: =ROUND(T54*0.8%,-1) -> 0 | AA54: =ROUND(T54*0.785%,-1) -> 0 | AB54: =SUM(V54:AA54) -> 0
E55: 5월 | V55: =ROUNDUP(T55*1/12,-1) -> 0 | W55: =ROUND(T55*4.5%,-1) -> 0 | X55: =ROUNDUP((T55-L55)*2.82%,-1) -> 0 | Y55: =ROUNDUP(X55*6.55%,-1) -> 0 | Z55: =ROUND(T55*0.8%,-1) -> 0 | AA55: =ROUND(T55*0.785%,-1) -> 0 | AB55: =SUM(V55:AA55) -> 0
E56: 6월 | V56: =ROUNDUP(T56*1/12,-1) -> 0 | W56: =ROUND(T56*4.5%,-1) -> 0 | X56: =ROUNDUP((T56-L56)*2.82%,-1) -> 0 | Y56: =ROUNDUP(X56*6.55%,-1) -> 0 | Z56: =ROUND(T56*0.8%,-1) -> 0 | AA56: =ROUND(T56*0.785%,-1) -> 0 | AB56: =SUM(V56:AA56) -> 0
C57: 1 | E57: 7월 | V57: =ROUNDUP(T57*1/12,-1) -> 0 | W57: =ROUND(T57*4.5%,-1) -> 0 | X57: =ROUNDUP((T57-L57)*2.82%,-1) -> 0 | Y57: =ROUNDUP(X57*6.55%,-1) -> 0 | Z57: =ROUND(T57*0.8%,-1) -> 0 | AA57: =ROUND(T57*0.785%,-1) -> 0 | AB57: =SUM(V57:AA57) -> 0
E58: 8월 | V58: =ROUNDUP(T58*1/12,-1) -> 0 | W58: =ROUND(T58*4.5%,-1) -> 0 | X58: =ROUNDUP((T58-L58)*2.82%,-1) -> 0 | Y58: =ROUNDUP(X58*6.55%,-1) -> 0 | Z58: =ROUND(T58*0.8%,-1) -> 0 | AA58: =ROUND(T58*0.785%,-1) -> 0 | AB58: =SUM(V58:AA58) -> 0
E59: 9월 | V59: =ROUNDUP(T59*1/12,-1) -> 0 | W59: =ROUND(T59*4.5%,-1) -> 0 | X59: =ROUNDUP((T59-L59)*2.82%,-1) -> 0 | Y59: =ROUNDUP(X59*6.55%,-1) -> 0 | Z59: =ROUND(T59*0.8%,-1) -> 0 | AA59: =ROUND(T59*0.785%,-1) -> 0 | AB59: =SUM(V59:AA59) -> 0
E60: 10월 | V60: =ROUNDUP(T60*1/12,-1) -> 0 | W60: =ROUND(T60*4.5%,-1) -> 0 | X60: =ROUNDUP((T60-L60)*2.82%,-1) -> 0 | Y60: =ROUNDUP(X60*6.55%,-1) -> 0 | Z60: =ROUND(T60*0.8%,-1) -> 0 | AA60: =ROUND(T60*0.785%,-1) -> 0 | AB60: =SUM(V60:AA60) -> 0
E61: 11월 | V61: =ROUNDUP(T61*1/12,-1) -> 0 | W61: =ROUND(T61*4.5%,-1) -> 0 | X61: =ROUNDUP((T61-L61)*2.82%,-1) -> 0 | Y61: =ROUNDUP(X61*6.55%,-1) -> 0 | Z61: =ROUND(T61*0.8%,-1) -> 0 | AA61: =ROUND(T61*0.785%,-1) -> 0 | AB61: =SUM(V61:AA61) -> 0
E62: 12월 | V62: =ROUNDUP(T62*1/12,-1) -> 0 | W62: =ROUND(T62*4.5%,-1) -> 0 | X62: =ROUNDUP((T62-L62)*2.82%,-1) -> 0 | Y62: =ROUNDUP(X62*6.55%,-1) -> 0 | Z62: =ROUND(T62*0.8%,-1) -> 0 | AA62: =ROUND(T62*0.785%,-1) -> 0 | AB62: =SUM(V62:AA62) -> 0
E67: 0
A89: 1 | B89: 생활재활교사 | C89: 1 | D89: 1 | E89: 소계 | F89: =SUM(F90:F101) -> 0 | G89: =SUM(G90:G101) -> 0 | H89: =SUM(H90:H101) -> 0 | I89: =SUM(I90:I101) -> 0 | J89: =SUM(J90:J101) -> 0 | K89: =SUM(K90:K101) -> 0 | L89: =SUM(L90:L101) -> 0 | M89: =SUM(M90:M101) -> 0 | ... O89: =SUM(O90:O101) -> 0 | Q89: =SUM(Q90:Q101) -> 0 | R89: =SUM(R90:R101) -> 0 | S89: =SUM(S90:S101) -> 0 | T89: =SUM(T90:T101) -> 0 | V89: =SUM(V90:V101) -> 0 | W89: =SUM(W90:W101) -> 0 | X89: =SUM(X90:X101) -> 0 | Y89: =SUM(Y90:Y101) -> 0 | Z89: =SUM(Z90:Z101) -> 0 | AA89: =SUM(AA90:AA101) -> 0 | AB89: =SUM(AB90:AB101) -> 0
B90: 안가람 | E90: 1월
E91: 2월
E92: 3월 | T92: =SUM(S92,P92,O92,M92,L92,F92) -> 0
E93: 4월 | T93: =SUM(S93,P93,O93,M93,L93,F93) -> 0
E94: 5월 | T94: =SUM(S94,P94,O94,M94,L94,F94) -> 0 | V94: =ROUNDUP(T94*1/12,-1) -> 0 | W94: =ROUND(T94*4.5%,-1) -> 0 | X94: =ROUNDUP((T94-L94)*2.82%,-1) -> 0 | Y94: =ROUNDUP(X94*6.55%,-1) -> 0 | Z94: =ROUND(T94*0.8%,-1) -> 0 | AA94: =ROUND(T94*0.785%,-1) -> 0 | AB94: =SUM(V94:AA94) -> 0
E95: 6월 | T95: =SUM(S95,P95,O95,M95,L95,F95) -> 0 | V95: =ROUNDUP(T95*1/12,-1) -> 0 | W95: =ROUND(T95*4.5%,-1) -> 0 | X95: =ROUNDUP((T95-L95)*2.82%,-1) -> 0 | Y95: =ROUNDUP(X95*6.55%,-1) -> 0 | Z95: =ROUND(T95*0.8%,-1) -> 0 | AA95: =ROUND(T95*0.785%,-1) -> 0 | AB95: =SUM(V95:AA95) -> 0
E96: 7월 | T96: =SUM(S96,P96,O96,M96,L96,F96) -> 0 | V96: =ROUNDUP(T96*1/12,-1) -> 0 | W96: =ROUND(T96*4.5%,-1) -> 0 | X96: =ROUNDUP((T96-L96)*2.82%,-1) -> 0 | Y96: =ROUNDUP(X96*6.55%,-1) -> 0 | Z96: =ROUND(T96*0.8%,-1) -> 0 | AA96: =ROUND(T96*0.785%,-1) -> 0 | AB96: =SUM(V96:AA96) -> 0
E97: 8월 | T97: =SUM(S97,P97,O97,M97,L97,F97) -> 0 | V97: =ROUNDUP(T97*1/12,-1) -> 0 | W97: =ROUND(T97*4.5%,-1) -> 0 | X97: =ROUNDUP((T97-L97)*2.82%,-1) -> 0 | Y97: =ROUNDUP(X97*6.55%,-1) -> 0 | Z97: =ROUND(T97*0.8%,-1) -> 0 | AA97: =ROUND(T97*0.785%,-1) -> 0 | AB97: =SUM(V97:AA97) -> 0
E98: 9월 | T98: =SUM(S98,P98,O98,M98,L98,F98) -> 0 | V98: =ROUNDUP(T98*1/12,-1) -> 0 | W98: =ROUND(T98*4.5%,-1) -> 0 | X98: =ROUNDUP((T98-L98)*2.82%,-1) -> 0 | Y98: =ROUNDUP(X98*6.55%,-1) -> 0 | Z98: =ROUND(T98*0.8%,-1) -> 0 | AA98: =ROUND(T98*0.785%,-1) -> 0 | AB98: =SUM(V98:AA98) -> 0
E99: 10월 | T99: =SUM(S99,P99,O99,M99,L99,F99) -> 0 | V99: =ROUNDUP(T99*1/12,-1) -> 0 | W99: =ROUND(T99*4.5%,-1) -> 0 | X99: =ROUNDUP((T99-L99)*2.82%,-1) -> 0 | Y99: =ROUNDUP(X99*6.55%,-1) -> 0 | Z99: =ROUND(T99*0.8%,-1) -> 0 | AA99: =ROUND(T99*0.785%,-1) -> 0 | AB99: =SUM(V99:AA99) -> 0
E100: 11월 | T100: =SUM(S100,P100,O100,M100,L100,F100) -> 0 | V100: =ROUNDUP(T100*1/12,-1) -> 0 | W100: =ROUND(T100*4.5%,-1) -> 0 | X100: =ROUNDUP((T100-L100)*2.82%,-1) -> 0 | Y100: =ROUNDUP(X100*6.55%,-1) -> 0 | Z100: =ROUND(T100*0.8%,-1) -> 0 | AA100: =ROUND(T100*0.785%,-1) -> 0 | AB100: =SUM(V100:AA100) -> 0
E101: 12월 | T101: =SUM(S101,P101,O101,M101,L101,F101) -> 0 | V101: =ROUNDUP(T101*1/12,-1) -> 0 | W101: =ROUND(T101*4.5%,-1) -> 0 | X101: =ROUNDUP((T101-L101)*2.82%,-1) -> 0 | Y101: =ROUNDUP(X101*6.55%,-1) -> 0 | Z101: =ROUND(T101*0.8%,-1) -> 0 | AA101: =ROUND(T101*0.785%,-1) -> 0 | AB101: =SUM(V101:AA101) -> 0
A102: 2 | B102: 생활재활교사 | C102: 1 | D102: 1 | E102: 소계 | F102: =SUM(F103:F114) -> 0 | G102: =SUM(G103:G114) -> 0 | H102: =SUM(H103:H114) -> 0 | I102: =SUM(I103:I114) -> 0 | J102: =SUM(J103:J114) -> 0 | K102: =SUM(K103:K114) -> 0 | L102: =SUM(L103:L114) -> 0 | M102: =SUM(M103:M114) -> 0 | ... O102: =SUM(O103:O114) -> 0 | Q102: =SUM(Q103:Q114) -> 0 | R102: =SUM(R103:R114) -> 0 | S102: =SUM(S103:S114) -> 0 | T102: =SUM(T103:T114) -> 0 | V102: =SUM(V103:V114) -> 0 | W102: =SUM(W103:W114) -> 0 | X102: =SUM(X103:X114) -> 0 | Y102: =SUM(Y103:Y114) -> 0 | Z102: =SUM(Z103:Z114) -> 0 | AA102: =SUM(AA103:AA114) -> 0 | AB102: =SUM(AB103:AB114) -> 0
B103: 변호영 | E103: 1월
E104: 2월
E105: 3월
E106: 4월
E107: 5월
E108: 6월 | T108: =SUM(S108,P108,O108,M108,L108,F108) -> 0 | V108: =ROUNDUP(T108*1/12,-1) -> 0 | W108: =ROUND(T108*4.5%,-1) -> 0 | X108: =ROUNDUP((T108-L108)*2.82%,-1) -> 0 | Y108: =ROUNDUP(X108*6.55%,-1) -> 0 | Z108: =ROUND(T108*0.8%,-1) -> 0 | AA108: =ROUND(T108*0.785%,-1) -> 0 | AB108: =SUM(V108:AA108) -> 0
E109: 7월 | T109: =SUM(S109,P109,O109,M109,L109,F109) -> 0 | V109: =ROUNDUP(T109*1/12,-1) -> 0 | W109: =ROUND(T109*4.5%,-1) -> 0 | X109: =ROUNDUP((T109-L109)*2.82%,-1) -> 0 | Y109: =ROUNDUP(X109*6.55%,-1) -> 0 | Z109: =ROUND(T109*0.8%,-1) -> 0 | AA109: =ROUND(T109*0.785%,-1) -> 0 | AB109: =SUM(V109:AA109) -> 0
E110: 8월 | T110: =SUM(S110,P110,O110,M110,L110,F110) -> 0 | V110: =ROUNDUP(T110*1/12,-1) -> 0 | W110: =ROUND(T110*4.5%,-1) -> 0 | X110: =ROUNDUP((T110-L110)*2.82%,-1) -> 0 | Y110: =ROUNDUP(X110*6.55%,-1) -> 0 | Z110: =ROUND(T110*0.8%,-1) -> 0 | AA110: =ROUND(T110*0.785%,-1) -> 0 | AB110: =SUM(V110:AA110) -> 0
E111: 9월 | T111: =SUM(S111,P111,O111,M111,L111,F111) -> 0 | V111: =ROUNDUP(T111*1/12,-1) -> 0 | W111: =ROUND(T111*4.5%,-1) -> 0 | X111: =ROUNDUP((T111-L111)*2.82%,-1) -> 0 | Y111: =ROUNDUP(X111*6.55%,-1) -> 0 | Z111: =ROUND(T111*0.8%,-1) -> 0 | AA111: =ROUND(T111*0.785%,-1) -> 0 | AB111: =SUM(V111:AA111) -> 0
E112: 10월 | T112: =SUM(S112,P112,O112,M112,L112,F112) -> 0 | V112: =ROUNDUP(T112*1/12,-1) -> 0 | W112: =ROUND(T112*4.5%,-1) -> 0 | X112: =ROUNDUP((T112-L112)*2.82%,-1) -> 0 | Y112: =ROUNDUP(X112*6.55%,-1) -> 0 | Z112: =ROUND(T112*0.8%,-1) -> 0 | AA112: =ROUND(T112*0.785%,-1) -> 0 | AB112: =SUM(V112:AA112) -> 0
E113: 11월 | T113: =SUM(S113,P113,O113,M113,L113,F113) -> 0 | V113: =ROUNDUP(T113*1/12,-1) -> 0 | W113: =ROUND(T113*4.5%,-1) -> 0 | X113: =ROUNDUP((T113-L113)*2.82%,-1) -> 0 | Y113: =ROUNDUP(X113*6.55%,-1) -> 0 | Z113: =ROUND(T113*0.8%,-1) -> 0 | AA113: =ROUND(T113*0.785%,-1) -> 0 | AB113: =SUM(V113:AA113) -> 0
E114: 12월 | T114: =SUM(S114,P114,O114,M114,L114,F114) -> 0 | V114: =ROUNDUP(T114*1/12,-1) -> 0 | W114: =ROUND(T114*4.5%,-1) -> 0 | X114: =ROUNDUP((T114-L114)*2.82%,-1) -> 0 | Y114: =ROUNDUP(X114*6.55%,-1) -> 0 | Z114: =ROUND(T114*0.8%,-1) -> 0 | AA114: =ROUND(T114*0.785%,-1) -> 0 | AB114: =SUM(V114:AA114) -> 0

Sheet 인건비총계표(후원금)
A1: ▣ 2015년 종사자 인건비 총계표
A3: (1) 후원금 | AA3: (단위 : 원)
A4: 연 번 | B4: 직 종 | C4: 호 봉 | D4: 명 수 | E4: 구분 (월) | F4: 기본급 | G4: 기말수당 (50%씩 연4회 -3,6,9,12월) | H4: 정근수당 (1,7월) | I4: 장기근속 수 당 | J4: 가계지원비 (50%씩 연4회 -4,5,10,11월) | K4: 시간당 연장근로수당 | L4: 교통급식비 | M4: 명절휴가비 (50%씩 연2회) | N4: 명절휴가비 연평균액 | O4: 가족수당 (30,000원) (20,000원) | P4: 연장근로수당 (기본급*1/ 209*1.5*40/22) | Q4: 처우개선비 | R4: 특수근무 수 당 (도비) | S4: 소 계 | T4: 비 고 | U4: 퇴직적립금 | V4: 국민연금 | W4: 의료보험 | X4: 의료보험 (장기요양보험) | Y4: 고용보험 | Z4: 산재보험 | AA4: 합계
A5: 합 계 | F5: =SUM(F115) -> 2000000 | G5: =G6+G19+G32 -> 0 | H5: =H6+H19+H32 -> 0 | I5: =I6+I19+I32 -> 0 | J5: =J6+J19+J32 -> 0 | K5: =K6+K19+K32 -> 0 | L5: =L6+L19+L32 -> 980000 | M5: =M6+M19+M32 -> 0 | N5: =N6+N19+N32 -> 0 | ... R5: =R6+R19+R32 -> 0 | S5: =SUM(S6,S115) -> 2980000 | U5: =U6+U19+U32 -> 81660 | V5: =V6+V19+V32 -> 0 | W5: =W6+W19+W32 -> 0 | X5: =X6+X19+X32 -> 0 | Y5: =Y6+Y19+Y32 -> 0 | Z5: =Z6+Z19+Z32 -> 0 | AA5: =AA6+AA19+AA32 -> 81660
A6: 1 | B6: 교통급식비 | D6: 11 | E6: 소계 | F6: =SUM(F7:F18) -> 0 | G6: =SUM(G7:G18) -> 0 | H6: =SUM(H7:H18) -> 0 | I6: =SUM(I7:I18) -> 0 | J6: =SUM(J7:J18) -> 0 | K6: =SUM(K7:K18) -> 0 | L6: =SUM(L7:L18) -> 980000 | M6: =SUM(M7:M18) -> 0 | ... S6: =SUM(S7:S18) -> 980000 | U6: =SUM(U7:U18) -> 81660 | V6: =SUM(V7:V18) -> 0 | W6: =SUM(W7:W18) -> 0 | X6: =SUM(X7:X18) -> 0 | Y6: =SUM(Y7:Y18) -> 0 | Z6: =SUM(Z7:Z18) -> 0 | AA6: =SUM(AA7:AA18) -> 81660
B7: 200,000원 | D7: 1 | E7: 기관장 | L7: 200000 | S7: =SUM(F7:R7) -> 200000 | U7: =ROUND(S7*1/12,-1) -> 16670 | X7: =ROUND(W7*6.55%,-1) -> 0 | AA7: =SUM(U7:Z7) -> 16670
B8: 160,000원 | D8: 1 | E8: 사무국장 | L8: 160000 | S8: =SUM(F8:R8) -> 160000 | U8: =ROUND(S8*1/12,-1) -> 13330 | X8: =ROUND(W8*6.55%,-1) -> 0 | AA8: =SUM(U8:Z8) -> 13330
B9: 100,000원 | D9: 1 | E9: 과장 | L9: 100000 | S9: =SUM(F9:R9) -> 100000 | U9: =ROUND(S9*1/12,-1) -> 8330 | X9: =ROUND(W9*6.55%,-1) -> 0 | AA9: =SUM(U9:Z9) -> 8330
B10: 60,000원 | D10: 1 | E10: 선임팀장 | L10: 100000 | S10: =SUM(F10:R10) -> 100000 | U10: =ROUND(S10*1/12,-1) -> 8330 | X10: =ROUND(W10*6.55%,-1) -> 0 | AA10: =SUM(U10:Z10) -> 8330
B11: 40,000원 | D11: 7 | E11: 팀장 | L11: =60000*1*7 -> 420000 | S11: =SUM(F11:R11) -> 420000 | U11: =ROUND(S11*1/12,-1) -> 35000 | X11: =ROUND(W11*6.55%,-1) -> 0 | AA11: =SUM(U11:Z11) -> 35000
F12: =F11 -> 0 | G12: =F12*50% -> 0 | H12: 0 | I12: =I7 -> 0 | J12: 0 | K12: =K11 -> 0 | L12: 0 | M12: 0 | N12: =N7 -> 0 | O12: =O7 -> 0 | P12: =ROUND((F12)*1/209*1.5*40,-1) -> 0 | R12: =R11 -> 0 | S12: =SUM(F12:R12) -> 0 | U12: =ROUND(S12*1/12,-1) -> 0 | V12: =ROUND(S12*4.5%,-1) -> 0 | W12: =ROUND(S12*2.665%,-1) -> 0 | X12: =ROUND(W12*6.55%,-1) -> 0 | Y12: =ROUND(S12*0.7%,-1) -> 0 | Z12: =ROUND(S12*0.7%,-1) -> 0 | AA12: =SUM(U12:Z12) -> 0
F13: =F12 -> 0 | G13: 0 | H13: =F13*90% -> 0 | I13: - | J13: 0 | K13: =K12 -> 0 | L13: =L12 -> 0 | M13: 0 | N13: =N12 -> 0 | O13: =O12 -> 0 | P13: =ROUND((F13)*1/209*1.5*40,-1) -> 0 | R13: =R12 -> 0 | S13: =SUM(F13:R13) -> 0 | U13: =ROUND(S13*1/12,-1) -> 0 | V13: =ROUND(S13*4.5%,-1) -> 0 | W13: =ROUND(S13*2.665%,-1) -> 0 | X13: =ROUND(W13*6.55%,-1) -> 0 | Y13: =ROUND(S13*0.7%,-1) -> 0 | Z13: =ROUND(S13*0.7%,-1) -> 0 | AA13: =SUM(U13:Z13) -> 0
F14: =F13 -> 0 | G14: 0 | H14: 0 | I14: =I13 -> - | J14: 0 | K14: =K13 -> 0 | L14: =L13 -> 0 | M14: 0 | N14: =N13 -> 0 | O14: =O13 -> 0 | P14: =ROUND((F14)*1/209*1.5*40,-1) -> 0 | R14: =R13 -> 0 | S14: =SUM(F14:R14) -> 0 | U14: =ROUND(S14*1/12,-1) -> 0 | V14: =ROUND(S14*4.5%,-1) -> 0 | W14: =ROUND(S14*2.665%,-1) -> 0 | X14: =ROUND(W14*6.55%,-1) -> 0 | Y14: =ROUND(S14*0.7%,-1) -> 0 | Z14: =ROUND(S14*0.7%,-1) -> 0 | AA14: =SUM(U14:Z14) -> 0
F15: =F13 -> 0 | G15: =F15*50% -> 0 | H15: 0 | I15: =I13 -> - | J15: 0 | K15: =K14 -> 0 | L15: =L14 -> 0 | M15: =F15*50% -> 0 | N15: =N13 -> 0 | O15: =O13 -> 0 | P15: =ROUND((F15)*1/209*1.5*40,-1) -> 0 | R15: =R14 -> 0 | S15: =SUM(F15:R15) -> 0 | U15: =ROUND(S15*1/12,-1) -> 0 | V15: =ROUND(S15*4.5%,-1) -> 0 | W15: =ROUND(S15*2.665%,-1) -> 0 | X15: =ROUND(W15*6.55%,-1) -> 0 | Y15: =ROUND(S15*0.7%,-1) -> 0 | Z15: =ROUND(S15*0.7%,-1) -> 0 | AA15: =SUM(U15:Z15) -> 0
F16: =F13 -> 0 | G16: 0 | H16: 0 | I16: =I13 -> - | J16: =F16*50% -> 0 | K16: =K15 -> 0 | L16: =L15 -> 0 | M16: 0 | N16: =N13 -> 0 | O16: =O13 -> 0 | P16: =ROUND((F16)*1/209*1.5*40,-1) -> 0 | R16: =R15 -> 0 | S16: =SUM(F16:R16) -> 0 | U16: =ROUND(S16*1/12,-1) -> 0 | V16: =ROUND(S16*4.5%,-1) -> 0 | W16: =ROUND(S16*2.665%,-1) -> 0 | X16: =ROUND(W16*6.55%,-1) -> 0 | Y16: =ROUND(S16*0.7%,-1) -> 0 | Z16: =ROUND(S16*0.7%,-1) -> 0 | AA16: =SUM(U16:Z16) -> 0
F17: =F13 -> 0 | G17: 0 | H17: 0 | I17: =I13 -> - | J17: =F17*50% -> 0 | K17: =K16 -> 0 | L17: =L16 -> 0 | M17: 0 | N17: =N13 -> 0 | O17: =O13 -> 0 | P17: =ROUND((F17)*1/209*1.5*40,-1) -> 0 | R17: =R16 -> 0 | S17: =SUM(F17:R17) -> 0 | U17: =ROUND(S17*1/12,-1) -> 0 | V17: =ROUND(S17*4.5%,-1) -> 0 | W17: =ROUND(S17*2.665%,-1) -> 0 | X17: =ROUND(W17*6.55%,-1) -> 0 | Y17: =ROUND(S17*0.7%,-1) -> 0 | Z17: =ROUND(S17*0.7%,-1) -> 0 | AA17: =SUM(U17:Z17) -> 0
F18: =F13 -> 0 | G18: =F18*50% -> 0 | H18: 0 | I18: =I13 -> - | J18: 0 | K18: =K17 -> 0 | L18: =L17 -> 0 | M18: 0 | N18: =N13 -> 0 | O18: =O13 -> 0 | P18: =ROUND((F18)*1/209*1.5*40*2,-1) -> 0 | R18: =R17 -> 0 | S18: =SUM(F18:R18) -> 0 | U18: =ROUND(S18*1/12,-1) -> 0 | V18: =ROUND(S18*4.5%,-1) -> 0 | W18: =ROUND(S18*2.665%,-1) -> 0 | X18: =ROUND(W18*6.55%,-1) -> 0 | Y18: =ROUND(S18*0.7%,-1) -> 0 | Z18: =ROUND(S18*0.7%,-1) -> 0 | AA18: =SUM(U18:Z18) -> 0
A19: 1 | B19: 운전원 | C19: 3,4 | D19: 1 | E19: 소계 | F19: =SUM(F20:F31) -> 0 | G19: =SUM(G20:G31) -> 0 | H19: =SUM(H20:H31) -> 0 | I19: =SUM(I20:I31) -> 0 | J19: =SUM(J20:J31) -> 0 | K19: =SUM(K20:K31) -> 0 | L19: =SUM(L20:L31) -> 0 | M19: =SUM(M20:M31) -> 0 | ... S19: =SUM(S20:S31) -> 0 | T19: 3월지급종료 | U19: =SUM(U20:U31) -> 0 | V19: =SUM(V20:V31) -> 0 | W19: =SUM(W20:W31) -> 0 | X19: =SUM(X20:X31) -> 0 | Y19: =SUM(Y20:Y31) -> 0 | Z19: =SUM(Z20:Z31) -> 0 | AA19: =SUM(AA20:AA31) -> 0
C20: 3 | E20: 1월 | R20: - | S20: =SUM(F20:R20) -> 0 | U20: =ROUND(S20*1/12,-1) -> 0 | V20: =ROUND(S20*4.5%,-1) -> 0 | W20: =ROUND(S20*2.665%,-1) -> 0 | X20: =ROUND(W20*6.55%,-1) -> 0 | Y20: =ROUND(S20*0.7%,-1) -> 0 | Z20: =ROUND(S20*0.7%,-1) -> 0 | AA20: =SUM(U20:Z20) -> 0
E21: 2월 | R21: =R20 -> - | S21: =SUM(F21:R21) -> 0 | U21: =ROUND(S21*1/12,-1) -> 0 | V21: =ROUND(S21*4.5%,-1) -> 0 | W21: =ROUND(S21*2.665%,-1) -> 0 | X21: =ROUND(W21*6.55%,-1) -> 0 | Y21: =ROUND(S21*0.7%,-1) -> 0 | Z21: =ROUND(S21*0.7%,-1) -> 0 | AA21: =SUM(U21:Z21) -> 0
E22: 3월 | R22: =R21 -> - | S22: =SUM(F22:R22) -> 0 | U22: =ROUND(S22*1/12,-1) -> 0 | V22: =ROUND(S22*4.5%,-1) -> 0 | W22: =ROUND(S22*2.665%,-1) -> 0 | X22: =ROUND(W22*6.55%,-1) -> 0 | Y22: =ROUND(S22*0.7%,-1) -> 0 | Z22: =ROUND(S22*0.7%,-1) -> 0 | AA22: =SUM(U22:Z22) -> 0
E23: 4월 | R23: =R22 -> - | S23: =SUM(F23:R23) -> 0 | U23: =ROUND(S23*1/12,-1) -> 0 | V23: =ROUND(S23*4.5%,-1) -> 0 | W23: =ROUND(S23*2.665%,-1) -> 0 | X23: =ROUND(W23*6.55%,-1) -> 0 | Y23: =ROUND(S23*0.7%,-1) -> 0 | Z23: =ROUND(S23*0.7%,-1) -> 0 | AA23: =SUM(U23:Z23) -> 0
E24: 5월 | R24: =R23 -> - | S24: =SUM(F24:R24) -> 0 | U24: =ROUND(S24*1/12,-1) -> 0 | V24: =ROUND(S24*4.5%,-1) -> 0 | W24: =ROUND(S24*2.665%,-1) -> 0 | X24: =ROUND(W24*6.55%,-1) -> 0 | Y24: =ROUND(S24*0.7%,-1) -> 0 | Z24: =ROUND(S24*0.7%,-1) -> 0 | AA24: =SUM(U24:Z24) -> 0
E25: 6월 | R25: =R24 -> - | S25: =SUM(F25:R25) -> 0 | U25: =ROUND(S25*1/12,-1) -> 0 | V25: =ROUND(S25*4.5%,-1) -> 0 | W25: =ROUND(S25*2.665%,-1) -> 0 | X25: =ROUND(W25*6.55%,-1) -> 0 | Y25: =ROUND(S25*0.7%,-1) -> 0 | Z25: =ROUND(S25*0.7%,-1) -> 0 | AA25: =SUM(U25:Z25) -> 0
E26: 7월 | R26: =R25 -> - | S26: =SUM(F26:R26) -> 0 | U26: =ROUND(S26*1/12,-1) -> 0 | V26: =ROUND(S26*4.5%,-1) -> 0 | W26: =ROUND(S26*2.665%,-1) -> 0 | X26: =ROUND(W26*6.55%,-1) -> 0 | Y26: =ROUND(S26*0.7%,-1) -> 0 | Z26: =ROUND(S26*0.7%,-1) -> 0 | AA26: =SUM(U26:Z26) -> 0
E27: 8월 | R27: =R26 -> - | S27: =SUM(F27:R27) -> 0 | U27: =ROUND(S27*1/12,-1) -> 0 | V27: =ROUND(S27*4.5%,-1) -> 0 | W27: =ROUND(S27*2.665%,-1) -> 0 | X27: =ROUND(W27*6.55%,-1) -> 0 | Y27: =ROUND(S27*0.7%,-1) -> 0 | Z27: =ROUND(S27*0.7%,-1) -> 0 | AA27: =SUM(U27:Z27) -> 0
E28: 9월 | R28: =R27 -> - | S28: =SUM(F28:R28) -> 0 | U28: =ROUND(S28*1/12,-1) -> 0 | V28: =ROUND(S28*4.5%,-1) -> 0 | W28: =ROUND(S28*2.665%,-1) -> 0 | X28: =ROUND(W28*6.55%,-1) -> 0 | Y28: =ROUND(S28*0.7%,-1) -> 0 | Z28: =ROUND(S28*0.7%,-1) -> 0 | AA28: =SUM(U28:Z28) -> 0
C29: 4 | E29: 10월 | R29: =R28 -> - | S29: =SUM(F29:R29) -> 0 | U29: =ROUND(S29*1/12,-1) -> 0 | V29: =ROUND(S29*4.5%,-1) -> 0 | W29: =ROUND(S29*2.665%,-1) -> 0 | X29: =ROUND(W29*6.55%,-1) -> 0 | Y29: =ROUND(S29*0.7%,-1) -> 0 | Z29: =ROUND(S29*0.7%,-1) -> 0 | AA29: =SUM(U29:Z29) -> 0
E30: 11월 | R30: =R29 -> - | S30: =SUM(F30:R30) -> 0 | U30: =ROUND(S30*1/12,-1) -> 0 | V30: =ROUND(S30*4.5%,-1) -> 0 | W30: =ROUND(S30*2.665%,-1) -> 0 | X30: =ROUND(W30*6.55%,-1) -> 0 | Y30: =ROUND(S30*0.7%,-1) -> 0 | Z30: =ROUND(S30*0.7%,-1) -> 0 | AA30: =SUM(U30:Z30) -> 0
E31: 12월 | R31: =R30 -> - | S31: =SUM(F31:R31) -> 0 | U31: =ROUND(S31*1/12,-1) -> 0 | V31: =ROUND(S31*4.5%,-1) -> 0 | W31: =ROUND(S31*2.665%,-1) -> 0 | X31: =ROUND(W31*6.55%,-1) -> 0 | Y31: =ROUND(S31*0.7%,-1) -> 0 | Z31: =ROUND(S31*0.7%,-1) -> 0 | AA31: =SUM(U31:Z31) -> 0
A32: 1 | B32: 처우개선비 | D32: 9 | E32: 소계 | F32: =SUM(F33:F44) -> 0 | G32: =SUM(G33:G44) -> 0 | H32: =SUM(H33:H44) -> 0 | I32: =SUM(I33:I44) -> 0 | J32: =SUM(J33:J44) -> 0 | K32: =SUM(K33:K44) -> 0 | L32: =SUM(L33:L44) -> 0 | M32: =SUM(M33:M44) -> 0 | ... S32: =SUM(S33:S44) -> 0 | T32: 7월주임신설 | U32: =SUM(U33:U44) -> 0 | V32: =SUM(V33:V44) -> 0 | W32: =SUM(W33:W44) -> 0 | X32: =SUM(X33:X44) -> 0 | Y32: =SUM(Y33:Y44) -> 0 | Z32: =SUM(Z33:Z44) -> 0 | AA32: =SUM(AA33:AA44) -> 0
E33: 기관장 | R33: - | S33: =SUM(F33:R33) -> 0 | U33: =ROUND(S33*1/12,-1) -> 0 | V33: =ROUND(S33*4.5%,-1) -> 0 | W33: =ROUND(S33*2.665%,-1) -> 0 | X33: =ROUND(W33*6.55%,-1) -> 0 | Y33: =ROUND(S33*0.7%,-1) -> 0 | Z33: =ROUND(S33*0.7%,-1) -> 0 | AA33: =SUM(U33:Z33) -> 0
E34: 사무국장 | R34: =R33 -> - | S34: =SUM(F34:R34) -> 0 | U34: =ROUND(S34*1/12,-1) -> 0 | V34: =ROUND(S34*4.5%,-1) -> 0 | W34: =ROUND(S34*2.665%,-1) -> 0 | X34: =ROUND(W34*6.55%,-1) -> 0 | Y34: =ROUND(S34*0.7%,-1) -> 0 | Z34: =ROUND(S34*0.7%,-1) -> 0 | AA34: =SUM(U34:Z34) -> 0
E35: 과장(2) | R35: =R34 -> - | S35: =SUM(F35:R35) -> 0 | U35: =ROUND(S35*1/12,-1) -> 0 | V35: =ROUND(S35*4.5%,-1) -> 0 | W35: =ROUND(S35*2.665%,-1) -> 0 | X35: =ROUND(W35*6.55%,-1) -> 0 | Y35: =ROUND(S35*0.7%,-1) -> 0 | Z35: =ROUND(S35*0.7%,-1) -> 0 | AA35: =SUM(U35:Z35) -> 0
E36: 팀장(5) | R36: =R35 -> - | S36: =SUM(F36:R36) -> 0 | U36: =ROUND(S36*1/12,-1) -> 0 | V36: =ROUND(S36*4.5%,-1) -> 0 | W36: =ROUND(S36*2.665%,-1) -> 0 | X36: =ROUND(W36*6.55%,-1) -> 0 | Y36: =ROUND(S36*0.7%,-1) -> 0 | Z36: =ROUND(S36*0.7%,-1) -> 0 | AA36: =SUM(U36:Z36) -> 0
E37: 주임(3) | R37: =R36 -> - | S37: =SUM(F37:R37) -> 0 | T37: 7월신설 | U37: =ROUND(S37*1/12,-1) -> 0 | V37: =ROUND(S37*4.5%,-1) -> 0 | W37: =ROUND(S37*2.665%,-1) -> 0 | X37: =ROUND(W37*6.55%,-1) -> 0 | Y37: =ROUND(S37*0.7%,-1) -> 0 | Z37: =ROUND(S37*0.7%,-1) -> 0 | AA37: =SUM(U37:Z37) -> 0
R38: =R37 -> - | S38: =SUM(F38:R38) -> 0 | U38: =ROUND(S38*1/12,-1) -> 0 | V38: =ROUND(S38*4.5%,-1) -> 0 | W38: =ROUND(S38*2.665%,-1) -> 0 | X38: =ROUND(W38*6.55%,-1) -> 0 | Y38: =ROUND(S38*0.7%,-1) -> 0 | Z38: =ROUND(S38*0.7%,-1) -> 0 | AA38: =SUM(U38:Z38) -> 0
R39: =R38 -> - | S39: =SUM(F39:R39) -> 0 | U39: =ROUND(S39*1/12,-1) -> 0 | V39: =ROUND(S39*4.5%,-1) -> 0 | W39: =ROUND(S39*2.665%,-1) -> 0 | X39: =ROUND(W39*6.55%,-1) -> 0 | Y39: =ROUND(S39*0.7%,-1) -> 0 | Z39: =ROUND(S39*0.7%,-1) -> 0 | AA39: =SUM(U39:Z39) -> 0
R40: =R39 -> - | S40: =SUM(F40:R40) -> 0 | U40: =ROUND(S40*1/12,-1) -> 0 | V40: =ROUND(S40*4.5%,-1) -> 0 | W40: =ROUND(S40*2.665%,-1) -> 0 | X40: =ROUND(W40*6.55%,-1) -> 0 | Y40: =ROUND(S40*0.7%,-1) -> 0 | Z40: =ROUND(S40*0.7%,-1) -> 0 | AA40: =SUM(U40:Z40) -> 0
R41: =R40 -> - | S41: =SUM(F41:R41) -> 0 | U41: =ROUND(S41*1/12,-1) -> 0 | V41: =ROUND(S41*4.5%,-1) -> 0 | W41: =ROUND(S41*2.665%,-1) -> 0 | X41: =ROUND(W41*6.55%,-1) -> 0 | Y41: =ROUND(S41*0.7%,-1) -> 0 | Z41: =ROUND(S41*0.7%,-1) -> 0 | AA41: =SUM(U41:Z41) -> 0
R42: =R41 -> - | S42: =SUM(F42:R42) -> 0 | U42: =ROUND(S42*1/12,-1) -> 0 | V42: =ROUND(S42*4.5%,-1) -> 0 | W42: =ROUND(S42*2.665%,-1) -> 0 | X42: =ROUND(W42*6.55%,-1) -> 0 | Y42: =ROUND(S42*0.7%,-1) -> 0 | Z42: =ROUND(S42*0.7%,-1) -> 0 | AA42: =SUM(U42:Z42) -> 0
R43: =R42 -> - | S43: =SUM(F43:R43) -> 0 | U43: =ROUND(S43*1/12,-1) -> 0 | V43: =ROUND(S43*4.5%,-1) -> 0 | W43: =ROUND(S43*2.665%,-1) -> 0 | X43: =ROUND(W43*6.55%,-1) -> 0 | Y43: =ROUND(S43*0.7%,-1) -> 0 | Z43: =ROUND(S43*0.7%,-1) -> 0 | AA43: =SUM(U43:Z43) -> 0
R44: =R43 -> - | S44: =SUM(F44:R44) -> 0 | U44: =ROUND(S44*1/12,-1) -> 0 | V44: =ROUND(S44*4.5%,-1) -> 0 | W44: =ROUND(S44*2.665%,-1) -> 0 | X44: =ROUND(W44*6.55%,-1) -> 0 | Y44: =ROUND(S44*0.7%,-1) -> 0 | Z44: =ROUND(S44*0.7%,-1) -> 0 | AA44: =SUM(U44:Z44) -> 0
A47: (2) 후원금 | AB47: (단위 : 원)
A48: 연 번 | B48: 직 종 | C48: 호 봉 | D48: 명 수 | E48: 구분 (월) | F48: 기본급 | G48: 기말수당 (50%씩 연4회 -3,6,9,12월) | H48: 정근수당 (1,7월) | I48: 장기근속 수 당 | J48: 가계지원비 (50%씩 연4회 -4,5,10,11월) | K48: 시간당 연장근로수당 | L48: 교통급식비 (110,000원) | M48: 명절휴가비 (50%씩 연2회) | N48: 명절휴가비 연평균액 | O48: 가족수당 (30,000원) (20,000원) | P48: 연장근로수당 | Q48: 처우개선비 | R48: 직책보조비 | S48: 특수근무 수 당 (도비) | T48: 소 계 | U48: 비 고 | V48: 퇴직적립금 | W48: 국민연금 | X48: 의료보험 | Y48: 의료보험 (장기요양보험) | Z48: 고용보험 | AA48: 산재보험 | AB48: 합계
A50: 1 | B50: 생활재활교사 | C50: 1 | D50: 1 | E50: 소계 | F50: =SUM(F51:F62) -> 0 | G50: =SUM(G51:G62) -> 0 | H50: =SUM(H51:H62) -> 0 | I50: =SUM(I51:I62) -> 0 | J50: =SUM(J51:J62) -> 0 | K50: =SUM(K51:K62) -> 0 | L50: =SUM(L51:L62) -> 0 | M50: =SUM(M51:M62) -> 0 | ... O50: =SUM(O51:O62) -> 0 | Q50: =SUM(Q51:Q62) -> 0 | R50: =SUM(R51:R62) -> 0 | S50: =SUM(S51:S62) -> 0 | T50: =SUM(T51:T62) -> 0 | V50: =SUM(V51:V62) -> 0 | W50: =SUM(W51:W62) -> 0 | X50: =SUM(X51:X62) -> 0 | Y50: =SUM(Y51:Y62) -> 0 | Z50: =SUM(Z51:Z62) -> 0 | AA50: =SUM(AA51:AA62) -> 0 | AB50: =SUM(AB51:AB62) -> 0
B51: 유선주 | E51: 1월 | V51: =ROUNDUP(T51*1/12,-1) -> 0 | W51: =ROUND(T51*4.5%,-1) -> 0 | X51: =ROUNDUP((T51-L51)*2.82%,-1) -> 0 | Y51: =ROUNDUP(X51*6.55%,-1) -> 0 | Z51: =ROUND(T51*0.8%,-1) -> 0 | AA51: =ROUND(T51*0.785%,-1) -> 0 | AB51: =SUM(V51:AA51) -> 0
E52: 2월 | V52: =ROUNDUP(T52*1/12,-1) -> 0 | W52: =ROUND(T52*4.5%,-1) -> 0 | X52: =ROUNDUP((T52-L52)*2.82%,-1) -> 0 | Y52: =ROUNDUP(X52*6.55%,-1) -> 0 | Z52: =ROUND(T52*0.8%,-1) -> 0 | AA52: =ROUND(T52*0.785%,-1) -> 0 | AB52: =SUM(V52:AA52) -> 0
E53: 3월 | V53: =ROUNDUP(T53*1/12,-1) -> 0 | W53: =ROUND(T53*4.5%,-1) -> 0 | X53: =ROUNDUP((T53-L53)*2.82%,-1) -> 0 | Y53: =ROUNDUP(X53*6.55%,-1) -> 0 | Z53: =ROUND(T53*0.8%,-1) -> 0 | AA53: =ROUND(T53*0.785%,-1) -> 0 | AB53: =SUM(V53:AA53) -> 0
E54: 4월 | V54: =ROUNDUP(T54*1/12,-1) -> 0 | W54: =ROUND(T54*4.5%,-1) -> 0 | X54: =ROUNDUP((T54-L54)*2.82%,-1) -> 0 | Y54: =ROUNDUP(X54*6.55%,-1) -> 0 | Z54: =ROUND(T54*0.8%,-1) -> 0 | AA54: =ROUND(T54*0.785%,-1) -> 0 | AB54: =SUM(V54:AA54) -> 0
E55: 5월 | V55: =ROUNDUP(T55*1/12,-1) -> 0 | W55: =ROUND(T55*4.5%,-1) -> 0 | X55: =ROUNDUP((T55-L55)*2.82%,-1) -> 0 | Y55: =ROUNDUP(X55*6.55%,-1) -> 0 | Z55: =ROUND(T55*0.8%,-1) -> 0 | AA55: =ROUND(T55*0.785%,-1) -> 0 | AB55: =SUM(V55:AA55) -> 0
E56: 6월 | V56: =ROUNDUP(T56*1/12,-1) -> 0 | W56: =ROUND(T56*4.5%,-1) -> 0 | X56: =ROUNDUP((T56-L56)*2.82%,-1) -> 0 | Y56: =ROUNDUP(X56*6.55%,-1) -> 0 | Z56: =ROUND(T56*0.8%,-1) -> 0 | AA56: =ROUND(T56*0.785%,-1) -> 0 | AB56: =SUM(V56:AA56) -> 0
C57: 1 | E57: 7월 | V57: =ROUNDUP(T57*1/12,-1) -> 0 | W57: =ROUND(T57*4.5%,-1) -> 0 | X57: =ROUNDUP((T57-L57)*2.82%,-1) -> 0 | Y57: =ROUNDUP(X57*6.55%,-1) -> 0 | Z57: =ROUND(T57*0.8%,-1) -> 0 | AA57: =ROUND(T57*0.785%,-1) -> 0 | AB57: =SUM(V57:AA57) -> 0
E58: 8월 | V58: =ROUNDUP(T58*1/12,-1) -> 0 | W58: =ROUND(T58*4.5%,-1) -> 0 | X58: =ROUNDUP((T58-L58)*2.82%,-1) -> 0 | Y58: =ROUNDUP(X58*6.55%,-1) -> 0 | Z58: =ROUND(T58*0.8%,-1) -> 0 | AA58: =ROUND(T58*0.785%,-1) -> 0 | AB58: =SUM(V58:AA58) -> 0
E59: 9월 | V59: =ROUNDUP(T59*1/12,-1) -> 0 | W59: =ROUND(T59*4.5%,-1) -> 0 | X59: =ROUNDUP((T59-L59)*2.82%,-1) -> 0 | Y59: =ROUNDUP(X59*6.55%,-1) -> 0 | Z59: =ROUND(T59*0.8%,-1) -> 0 | AA59: =ROUND(T59*0.785%,-1) -> 0 | AB59: =SUM(V59:AA59) -> 0
E60: 10월 | V60: =ROUNDUP(T60*1/12,-1) -> 0 | W60: =ROUND(T60*4.5%,-1) -> 0 | X60: =ROUNDUP((T60-L60)*2.82%,-1) -> 0 | Y60: =ROUNDUP(X60*6.55%,-1) -> 0 | Z60: =ROUND(T60*0.8%,-1) -> 0 | AA60: =ROUND(T60*0.785%,-1) -> 0 | AB60: =SUM(V60:AA60) -> 0
E61: 11월 | V61: =ROUNDUP(T61*1/12,-1) -> 0 | W61: =ROUND(T61*4.5%,-1) -> 0 | X61: =ROUNDUP((T61-L61)*2.82%,-1) -> 0 | Y61: =ROUNDUP(X61*6.55%,-1) -> 0 | Z61: =ROUND(T61*0.8%,-1) -> 0 | AA61: =ROUND(T61*0.785%,-1) -> 0 | AB61: =SUM(V61:AA61) -> 0
E62: 12월 | V62: =ROUNDUP(T62*1/12,-1) -> 0 | W62: =ROUND(T62*4.5%,-1) -> 0 | X62: =ROUNDUP((T62-L62)*2.82%,-1) -> 0 | Y62: =ROUNDUP(X62*6.55%,-1) -> 0 | Z62: =ROUND(T62*0.8%,-1) -> 0 | AA62: =ROUND(T62*0.785%,-1) -> 0 | AB62: =SUM(V62:AA62) -> 0
E67: 0
A89: 1 | B89: 생활재활교사 | C89: 1 | D89: 1 | E89: 소계 | F89: =SUM(F90:F101) -> 0 | G89: =SUM(G90:G101) -> 0 | H89: =SUM(H90:H101) -> 0 | I89: =SUM(I90:I101) -> 0 | J89: =SUM(J90:J101) -> 0 | K89: =SUM(K90:K101) -> 0 | L89: =SUM(L90:L101) -> 0 | M89: =SUM(M90:M101) -> 0 | ... O89: =SUM(O90:O101) -> 0 | Q89: =SUM(Q90:Q101) -> 0 | R89: =SUM(R90:R101) -> 0 | S89: =SUM(S90:S101) -> 0 | T89: =SUM(T90:T101) -> 0 | V89: =SUM(V90:V101) -> 0 | W89: =SUM(W90:W101) -> 0 | X89: =SUM(X90:X101) -> 0 | Y89: =SUM(Y90:Y101) -> 0 | Z89: =SUM(Z90:Z101) -> 0 | AA89: =SUM(AA90:AA101) -> 0 | AB89: =SUM(AB90:AB101) -> 0
B90: 안가람 | E90: 1월
E91: 2월
E92: 3월 | T92: =SUM(S92,P92,O92,M92,L92,F92) -> 0
E93: 4월 | T93: =SUM(S93,P93,O93,M93,L93,F93) -> 0
E94: 5월 | T94: =SUM(S94,P94,O94,M94,L94,F94) -> 0 | V94: =ROUNDUP(T94*1/12,-1) -> 0 | W94: =ROUND(T94*4.5%,-1) -> 0 | X94: =ROUNDUP((T94-L94)*2.82%,-1) -> 0 | Y94: =ROUNDUP(X94*6.55%,-1) -> 0 | Z94: =ROUND(T94*0.8%,-1) -> 0 | AA94: =ROUND(T94*0.785%,-1) -> 0 | AB94: =SUM(V94:AA94) -> 0
E95: 6월 | T95: =SUM(S95,P95,O95,M95,L95,F95) -> 0 | V95: =ROUNDUP(T95*1/12,-1) -> 0 | W95: =ROUND(T95*4.5%,-1) -> 0 | X95: =ROUNDUP((T95-L95)*2.82%,-1) -> 0 | Y95: =ROUNDUP(X95*6.55%,-1) -> 0 | Z95: =ROUND(T95*0.8%,-1) -> 0 | AA95: =ROUND(T95*0.785%,-1) -> 0 | AB95: =SUM(V95:AA95) -> 0
E96: 7월 | T96: =SUM(S96,P96,O96,M96,L96,F96) -> 0 | V96: =ROUNDUP(T96*1/12,-1) -> 0 | W96: =ROUND(T96*4.5%,-1) -> 0 | X96: =ROUNDUP((T96-L96)*2.82%,-1) -> 0 | Y96: =ROUNDUP(X96*6.55%,-1) -> 0 | Z96: =ROUND(T96*0.8%,-1) -> 0 | AA96: =ROUND(T96*0.785%,-1) -> 0 | AB96: =SUM(V96:AA96) -> 0
E97: 8월 | T97: =SUM(S97,P97,O97,M97,L97,F97) -> 0 | V97: =ROUNDUP(T97*1/12,-1) -> 0 | W97: =ROUND(T97*4.5%,-1) -> 0 | X97: =ROUNDUP((T97-L97)*2.82%,-1) -> 0 | Y97: =ROUNDUP(X97*6.55%,-1) -> 0 | Z97: =ROUND(T97*0.8%,-1) -> 0 | AA97: =ROUND(T97*0.785%,-1) -> 0 | AB97: =SUM(V97:AA97) -> 0
E98: 9월 | T98: =SUM(S98,P98,O98,M98,L98,F98) -> 0 | V98: =ROUNDUP(T98*1/12,-1) -> 0 | W98: =ROUND(T98*4.5%,-1) -> 0 | X98: =ROUNDUP((T98-L98)*2.82%,-1) -> 0 | Y98: =ROUNDUP(X98*6.55%,-1) -> 0 | Z98: =ROUND(T98*0.8%,-1) -> 0 | AA98: =ROUND(T98*0.785%,-1) -> 0 | AB98: =SUM(V98:AA98) -> 0
E99: 10월 | T99: =SUM(S99,P99,O99,M99,L99,F99) -> 0 | V99: =ROUNDUP(T99*1/12,-1) -> 0 | W99: =ROUND(T99*4.5%,-1) -> 0 | X99: =ROUNDUP((T99-L99)*2.82%,-1) -> 0 | Y99: =ROUNDUP(X99*6.55%,-1) -> 0 | Z99: =ROUND(T99*0.8%,-1) -> 0 | AA99: =ROUND(T99*0.785%,-1) -> 0 | AB99: =SUM(V99:AA99) -> 0
E100: 11월 | T100: =SUM(S100,P100,O100,M100,L100,F100) -> 0 | V100: =ROUNDUP(T100*1/12,-1) -> 0 | W100: =ROUND(T100*4.5%,-1) -> 0 | X100: =ROUNDUP((T100-L100)*2.82%,-1) -> 0 | Y100: =ROUNDUP(X100*6.55%,-1) -> 0 | Z100: =ROUND(T100*0.8%,-1) -> 0 | AA100: =ROUND(T100*0.785%,-1) -> 0 | AB100: =SUM(V100:AA100) -> 0
E101: 12월 | T101: =SUM(S101,P101,O101,M101,L101,F101) -> 0 | V101: =ROUNDUP(T101*1/12,-1) -> 0 | W101: =ROUND(T101*4.5%,-1) -> 0 | X101: =ROUNDUP((T101-L101)*2.82%,-1) -> 0 | Y101: =ROUNDUP(X101*6.55%,-1) -> 0 | Z101: =ROUND(T101*0.8%,-1) -> 0 | AA101: =ROUND(T101*0.785%,-1) -> 0 | AB101: =SUM(V101:AA101) -> 0
A102: 2 | B102: 생활재활교사 | C102: 1 | D102: 1 | E102: 소계 | F102: =SUM(F103:F114) -> 0 | G102: =SUM(G103:G114) -> 0 | H102: =SUM(H103:H114) -> 0 | I102: =SUM(I103:I114) -> 0 | J102: =SUM(J103:J114) -> 0 | K102: =SUM(K103:K114) -> 0 | L102: =SUM(L103:L114) -> 0 | M102: =SUM(M103:M114) -> 0 | ... O102: =SUM(O103:O114) -> 0 | Q102: =SUM(Q103:Q114) -> 0 | R102: =SUM(R103:R114) -> 0 | S102: =SUM(S103:S114) -> 0 | T102: =SUM(T103:T114) -> 0 | V102: =SUM(V103:V114) -> 0 | W102: =SUM(W103:W114) -> 0 | X102: =SUM(X103:X114) -> 0 | Y102: =SUM(Y103:Y114) -> 0 | Z102: =SUM(Z103:Z114) -> 0 | AA102: =SUM(AA103:AA114) -> 0 | AB102: =SUM(AB103:AB114) -> 0
B103: 변호영 | E103: 1월
E104: 2월
E105: 3월
E106: 4월
E107: 5월
E108: 6월 | T108: =SUM(S108,P108,O108,M108,L108,F108) -> 0 | V108: =ROUNDUP(T108*1/12,-1) -> 0 | W108: =ROUND(T108*4.5%,-1) -> 0 | X108: =ROUNDUP((T108-L108)*2.82%,-1) -> 0 | Y108: =ROUNDUP(X108*6.55%,-1) -> 0 | Z108: =ROUND(T108*0.8%,-1) -> 0 | AA108: =ROUND(T108*0.785%,-1) -> 0 | AB108: =SUM(V108:AA108) -> 0
E109: 7월 | T109: =SUM(S109,P109,O109,M109,L109,F109) -> 0 | V109: =ROUNDUP(T109*1/12,-1) -> 0 | W109: =ROUND(T109*4.5%,-1) -> 0 | X109: =ROUNDUP((T109-L109)*2.82%,-1) -> 0 | Y109: =ROUNDUP(X109*6.55%,-1) -> 0 | Z109: =ROUND(T109*0.8%,-1) -> 0 | AA109: =ROUND(T109*0.785%,-1) -> 0 | AB109: =SUM(V109:AA109) -> 0
E110: 8월 | T110: =SUM(S110,P110,O110,M110,L110,F110) -> 0 | V110: =ROUNDUP(T110*1/12,-1) -> 0 | W110: =ROUND(T110*4.5%,-1) -> 0 | X110: =ROUNDUP((T110-L110)*2.82%,-1) -> 0 | Y110: =ROUNDUP(X110*6.55%,-1) -> 0 | Z110: =ROUND(T110*0.8%,-1) -> 0 | AA110: =ROUND(T110*0.785%,-1) -> 0 | AB110: =SUM(V110:AA110) -> 0
E111: 9월 | T111: =SUM(S111,P111,O111,M111,L111,F111) -> 0 | V111: =ROUNDUP(T111*1/12,-1) -> 0 | W111: =ROUND(T111*4.5%,-1) -> 0 | X111: =ROUNDUP((T111-L111)*2.82%,-1) -> 0 | Y111: =ROUNDUP(X111*6.55%,-1) -> 0 | Z111: =ROUND(T111*0.8%,-1) -> 0 | AA111: =ROUND(T111*0.785%,-1) -> 0 | AB111: =SUM(V111:AA111) -> 0
E112: 10월 | T112: =SUM(S112,P112,O112,M112,L112,F112) -> 0 | V112: =ROUNDUP(T112*1/12,-1) -> 0 | W112: =ROUND(T112*4.5%,-1) -> 0 | X112: =ROUNDUP((T112-L112)*2.82%,-1) -> 0 | Y112: =ROUNDUP(X112*6.55%,-1) -> 0 | Z112: =ROUND(T112*0.8%,-1) -> 0 | AA112: =ROUND(T112*0.785%,-1) -> 0 | AB112: =SUM(V112:AA112) -> 0
E113: 11월 | T113: =SUM(S113,P113,O113,M113,L113,F113) -> 0 | V113: =ROUNDUP(T113*1/12,-1) -> 0 | W113: =ROUND(T113*4.5%,-1) -> 0 | X113: =ROUNDUP((T113-L113)*2.82%,-1) -> 0 | Y113: =ROUNDUP(X113*6.55%,-1) -> 0 | Z113: =ROUND(T113*0.8%,-1) -> 0 | AA113: =ROUND(T113*0.785%,-1) -> 0 | AB113: =SUM(V113:AA113) -> 0
E114: 12월 | T114: =SUM(S114,P114,O114,M114,L114,F114) -> 0 | V114: =ROUNDUP(T114*1/12,-1) -> 0 | W114: =ROUND(T114*4.5%,-1) -> 0 | X114: =ROUNDUP((T114-L114)*2.82%,-1) -> 0 | Y114: =ROUNDUP(X114*6.55%,-1) -> 0 | Z114: =ROUND(T114*0.8%,-1) -> 0 | AA114: =ROUND(T114*0.785%,-1) -> 0 | AB114: =SUM(V114:AA114) -> 0
A115: 2 | B115: 일용직 | C115: 1 | D115: 1 | E115: 일용직 | F115: =SUM(F116:F127) -> 2000000 | G115: =SUM(G116:G127) -> 0 | H115: =SUM(H116:H127) -> 0 | I115: =SUM(I116:I127) -> 0 | J115: =SUM(J116:J127) -> 0 | K115: =SUM(K116:K127) -> 0 | L115: =SUM(L116:L127) -> 0 | M115: =SUM(M116:M127) -> 0 | ... O115: =SUM(O116:O127) -> 0 | Q115: =SUM(Q116:Q127) -> 0 | R115: =SUM(R116:R127) -> 0 | S115: =SUM(F115:M115) -> 2000000 | V115: =SUM(V116:V127) -> 0 | W115: =SUM(W116:W127) -> 0 | X115: =SUM(X116:X127) -> 0 | Y115: =SUM(Y116:Y127) -> 0 | Z115: =SUM(Z116:Z127) -> 0 | AA115: =SUM(AA116:AA127) -> 0 | AB115: =SUM(AB116:AB127) -> 0
B116: 김숙희 | E116: 1월 | F116: 800000 | G116: 0 | I116: - | J116: 0 | K116: 0 | L116: 0 | M116: 0 | N116: 0 | O116: 0 | Q116: 0 | T116: =SUM(S116,P116,O116,M116,F116) -> 800000 | AB116: =SUM(V116:AA116) -> 0
E117: 2월 | F117: =F116 -> 800000 | G117: 0 | H117: 0 | I117: =I116 -> - | J117: 0 | K117: =K116 -> 0 | L117: =L116 -> 0 | N117: =N116 -> 0 | O117: =O116 -> 0 | P117: 0 | Q117: =P117*56 -> 0 | T117: =SUM(S117,P117,O117,M117,F117) -> 800000 | AB117: =SUM(V117:AA117) -> 0
E118: 3월 | F118: 400000 | H118: 0 | I118: =I116 -> - | J118: 0 | M118: - | O118: =O117 -> 0 | P118: 0 | Q118: =P118*56 -> 0 | T118: =SUM(S118,P118,O118,M118,F118) -> 400000 | AB118: =SUM(V118:AA118) -> 0
E119: 4월 | G119: 0 | H119: 0 | I119: =I116 -> - | M119: 0 | O119: =O118 -> 0 | P119: 0 | Q119: =P119*56 -> 0 | T119: =SUM(S119,P119,O119,M119,F119) -> 0 | AB119: =SUM(V119:AA119) -> 0
E120: 5월 | G120: 0 | H120: 0 | I120: =I116 -> - | M120: 0 | O120: =O119 -> 0 | P120: 0 | Q120: =P120*56 -> 0 | T120: =SUM(S120,P120,O120,M120,F120) -> 0 | AB120: =SUM(V120:AA120) -> 0
E121: 6월 | H121: 0 | I121: =I116 -> - | M121: 0 | O121: =O120 -> 0 | P121: 0 | Q121: =P121*56 -> 0 | T121: =SUM(S121,P121,O121,M121,F121) -> 0 | AB121: =SUM(V121:AA121) -> 0
E122: 7월 | G122: 0 | I122: - | M122: 0 | O122: =O121 -> 0 | P122: 0 | Q122: =P122*56 -> 0 | T122: =SUM(S122,P122,O122,M122,F122) -> 0 | AB122: =SUM(V122:AA122) -> 0
E123: 8월 | G123: 0 | H123: 0 | I123: =I122 -> - | M123: 0 | O123: =O122 -> 0 | P123: 0 | Q123: =P123*56 -> 0 | T123: =SUM(S123,P123,O123,M123,F123) -> 0 | AB123: =SUM(V123:AA123) -> 0
E124: 9월 | H124: 0 | I124: =I122 -> - | O124: 0 | P124: 0 | Q124: =P124*56 -> 0 | T124: =SUM(S124,P124,O124,M124,F124) -> 0 | AB124: =SUM(V124:AA124) -> 0
E125: 10월 | G125: 0 | H125: 0 | I125: =I122 -> - | M125: 0 | O125: =O124 -> 0 | P125: 0 | Q125: =P125*56 -> 0 | T125: =SUM(S125,P125,O125,M125,F125) -> 0 | AB125: =SUM(V125:AA125) -> 0
E126: 11월 | G126: 0 | H126: 0 | I126: =I122 -> - | M126: 0 | N126: =N125 -> 0 | O126: =O125 -> 0 | P126: 0 | Q126: =P126*56 -> 0 | T126: =SUM(S126,P126,O126,M126,F126) -> 0 | AB126: =SUM(V126:AA126) -> 0
E127: 12월 | H127: 0 | I127: =I122 -> - | K127: =K126 -> 0 | M127: 0 | N127: =N126 -> 0 | O127: =O126 -> 0 | P127: 0 | Q127: =P127*56*2 -> 0 | T127: =SUM(S127,P127,O127,M127,F127) -> 0 | AB127: =SUM(V127:AA127) -> 0

Sheet 생활보장급여
A2: ※ '국민기초 생활보장 급여'월별 산출내역표
AE3: (단위:원)
A4: 월 | B4: 구 분 | G4: 금 액 | AE4: 비 고
A5: 총 계 | G5: =ROUND(G16+G25+G34+G43+G52+G61+G70+G79+G88+G97+G107+G116,-1) -> 133277470
A6: 총계 | B6: 소계 | G6: =G7+G9+G11+G13 -> 133277472 | AE6: ※생활보장급여입소자 51명
B7: 위로금 | C7: 소계 | G7: =G8 -> 3305922
C8: 특별위로금 | G8: =G18+G27+G36+G45+G54+G63+G72+G81+G90+G99+G109+G118 -> 3305922 | H8: 34820 | I8: 원 | R8: =G8 -> 3305922 | AE8: 2회
B9: 주부식비 | C9: 소계 | G9: =G10 -> 128423900
C10: 주부식비 | G10: =ROUND(G20+G29+G38+G47+G56+G65+G74+G83+G92+G101+G111+G120,-1) -> 128423900 | H10: =G10/12/51 -> 209842.97 | I10: 원 | R10: =G10 -> 128423900 | AE10: 12회
B11: 월동대책비 | C11: 소계 | G11: =G12 -> 1547650
C12: 월동대책비 | G12: =G21+G30+G39+G48+G57+G66+G75+G84+G93+G103+G112+G121 -> 1547650 | H12: 30346 | I12: 원 | R12: =G12 -> 1547650 | AE12: 1회
B13: 소계 | C13: 소계 | G13: =G14+G15 -> 0
B14: 피복비 | C14: 피복비 | H14: =G14/12/51 -> 0 | R14: =G14 -> 0 | AE14: 12회
A16: 1월 | B16: 소계 | G16: =G17+G19+G22 -> 10450050 | AE16: ※생활보장급여입소자 51명
B17: 위로금 | C17: 소계 | G17: =G18 -> 0
C18: 특별위로금 | G18: =R18 -> 0 | I18: 원 | J18: × | L18: 명 | M18: × | O18: 일 | P18: = | R18: =H18*K18*N18 -> 0
B19: 주부식비 | C19: 소계 | G19: =SUM(G20:G21) -> 10450050
C20: 주부식비 | G20: =R20 -> 10450050 | H20: 204903 | I20: 원 | J20: × | K20: 51 | L20: 명 | M20: × | N20: 1 | O20: 월 | P20: = | R20: =ROUND(H20*K20*N20,-1) -> 10450050
C21: 월동대책비
B22: 피복비 | C22: 소계 | G22: =SUM(G23:G24) -> 0
C23: 피복비 | G23: =R23 -> 0 | I23: 원 | J23: × | K23: 51 | L23: 명 | M23: × | N23: 1 | O23: 개월 | P23: = | R23: =ROUND(H23*K23*N23,-1) -> 0
C24: 동내의 | G24: =R24 -> 0 | I24: 원 | J24: × | L24: 명 | M24: × | O24: 회 | P24: = | R24: =H24*K24*N24 -> 0
A25: 2월 | B25: 소계 | G25: =G26+G28+G31 -> 11980050 | AE25: ※생활보장급여입소자 51명
B26: 위로금 | C26: 소계 | G26: =G27 -> 1530000
C27: 특별위로금 | G27: =R27 -> 1530000 | H27: 30000 | I27: 원 | J27: × | K27: 51 | L27: 명 | M27: × | N27: 1 | O27: 일 | P27: = | R27: =H27*K27*N27 -> 1530000 | AE27: 설지급
B28: 주부식비 | C28: 소계 | G28: =SUM(G29:G30) -> 10450050
C29: 주부식비 | G29: =R29 -> 10450050 | H29: =H20 -> 204903 | I29: 원 | J29: × | K29: 51 | L29: 명 | M29: × | N29: 1 | O29: 월 | P29: = | R29: =ROUND(H29*K29*N29,-1) -> 10450050
C30: 월동대책비
B31: 피복비 | C31: 소계 | G31: =SUM(G32:G33) -> 0
C32: 피복비 | G32: =R32 -> 0 | H32: =H23 -> 0 | I32: 원 | J32: × | K32: 51 | L32: 명 | M32: × | N32: 1 | O32: 개월 | P32: = | R32: =ROUND(H32*K32*N32,-1) -> 0
C33: 동내의 | G33: =R33 -> 0 | I33: 원 | J33: × | L33: 명 | M33: × | O33: 회 | P33: = | R33: =H33*K33*N33 -> 0
A34: 3월 | B34: 소계 | G34: =G35+G37+G40 -> 10450050 | AE34: ※생활보장급여입소자 51명
B35: 위로금 | C35: 소계 | G35: =G36 -> 0
C36: 특별위로금 | G36: =R36 -> 0 | I36: 원 | J36: × | L36: 명 | M36: × | O36: 일 | P36: = | R36: =H36*K36*N36 -> 0
B37: 주부식비 | C37: 소계 | G37: =SUM(G38:G39) -> 10450050
C38: 주부식비 | G38: =R38 -> 10450050 | H38: =H29 -> 204903 | I38: 원 | J38: × | K38: 51 | L38: 명 | M38: × | N38: 1 | O38: 월 | P38: = | R38: =ROUND(H38*K38*N38,-1) -> 10450050
C39: 월동대책비
B40: 피복비 | C40: 소계 | G40: =SUM(G41:G42) -> 0
C41: 피복비 | G41: =R41 -> 0 | H41: =H32 -> 0 | I41: 원 | J41: × | K41: 51 | L41: 명 | M41: × | N41: 1 | O41: 개월 | P41: = | R41: =ROUND(H41*K41*N41,-1) -> 0
C42: 동내의 | G42: =R42 -> 0 | I42: 원 | J42: × | L42: 명 | M42: × | O42: 회 | P42: = | R42: =H42*K42*N42 -> 0
A43: 4월 | B43: 소계 | G43: =G44+G46+G49 -> 10450050 | AE43: ※생활보장급여입소자 51명
B44: 위로금 | C44: 소계 | G44: =G45 -> 0
C45: 특별위로금 | G45: =R45 -> 0 | I45: 원 | J45: × | L45: 명 | M45: × | O45: 일 | P45: = | R45: =H45*K45*N45 -> 0
B46: 주부식비 | C46: 소계 | G46: =SUM(G47:G48) -> 10450050
C47: 주부식비 피복비 | G47: =R47 -> 10450050 | H47: =H38 -> 204903 | I47: 원 | J47: × | K47: 51 | L47: 명 | M47: × | N47: 1 | O47: 월 | P47: = | R47: =ROUND(H47*K47*N47,-1) -> 10450050
C48: 월동대책비
B49: 피복비 | C49: 소계 | G49: =SUM(G50:G51) -> 0
C50: 피복비 | G50: =R50 -> 0 | H50: =H41 -> 0 | I50: 원 | J50: × | K50: 51 | L50: 명 | M50: × | N50: 1 | O50: 개월 | P50: = | R50: =ROUND(H50*K50*N50,-1) -> 0
C51: 동내의 | G51: =R51 -> 0 | I51: 원 | J51: × | L51: 명 | M51: × | O51: 회 | P51: = | R51: =H51*K51*N51 -> 0
A52: 5월 | B52: 소계 | G52: =G53+G55+G58 -> 10450050 | AE52: ※생활보장급여입소자 51명
B53: 위로금 | C53: 소계 | G53: =G54 -> 0
C54: 특별위로금 | G54: =R54 -> 0 | I54: 원 | J54: × | L54: 명 | M54: × | O54: 일 | P54: = | R54: =H54*K54*N54 -> 0
B55: 주부식비 | C55: 소계 | G55: =SUM(G56:G57) -> 10450050
C56: 주부식비 | G56: =R56 -> 10450050 | H56: =H47 -> 204903 | I56: 원 | J56: × | K56: 51 | L56: 명 | M56: × | N56: 1 | O56: 월 | P56: = | R56: =ROUND(H56*K56*N56,-1) -> 10450050
C57: 월동대책비
B58: 피복비 | C58: 소계 | G58: =SUM(G59:G60) -> 0
C59: 피복비 | G59: =R59 -> 0 | H59: =H50 -> 0 | I59: 원 | J59: × | K59: 51 | L59: 명 | M59: × | N59: 1 | O59: 개월 | P59: = | R59: =ROUND(H59*K59*N59,-1) -> 0
C60: 동내의 | G60: =R60 -> 0 | I60: 원 | J60: × | L60: 명 | M60: × | O60: 회 | P60: = | R60: =H60*K60*N60 -> 0
A61: 6월 | B61: 소계 | G61: =G62+G64+G67 -> 10450050 | AE61: ※생활보장급여입소자 51명
B62: 위로금 | C62: 소계 | G62: =G63 -> 0
C63: 특별위로금 | G63: =R63 -> 0 | I63: 원 | J63: × | L63: 명 | M63: × | N63: 1 | O63: 회 | P63: = | R63: =H63*K63*N63 -> 0
B64: 주부식비 | C64: 소계 | G64: =SUM(G65:G66) -> 10450050
C65: 주부식비 피복비 | G65: =R65 -> 10450050 | H65: =H56 -> 204903 | I65: 원 | J65: × | K65: 51 | L65: 명 | M65: × | N65: 1 | O65: 월 | P65: = | R65: =ROUND(H65*K65*N65,-1) -> 10450050
C66: 월동대책비
B67: 피복비 | C67: 소계 | E67: 0 | G67: =SUM(G68:G69) -> 0
C68: 피복비 | G68: =R68 -> 0 | H68: =H59 -> 0 | I68: 원 | J68: × | K68: 51 | L68: 명 | M68: × | N68: 1 | O68: 개월 | P68: = | R68: =ROUND(H68*K68*N68,-1) -> 0
C69: 동내의 | G69: =R69 -> 0 | I69: 원 | J69: × | L69: 명 | M69: × | O69: 회 | P69: = | R69: =H69*K69*N69 -> 0
A70: 7월 | B70: 소계 | G70: =G71+G73+G76 -> 10450050 | AE70: ※생활보장급여입소자 51명
B71: 위로금 | C71: 소계 | G71: =G72 -> 0
C72: 특별위로금 | G72: =R72 -> 0 | I72: 원 | J72: × | L72: 명 | M72: × | O72: 일 | P72: = | R72: =H72*K72*N72 -> 0
B73: 주부식비 | C73: 소계 | G73: =SUM(G74:G75) -> 10450050
C74: 주부식비 | G74: =R74 -> 10450050 | H74: =H65 -> 204903 | I74: 원 | J74: × | K74: 51 | L74: 명 | M74: × | N74: 1 | O74: 월 | P74: = | R74: =ROUND(H74*K74*N74,-1) -> 10450050
C75: 월동대책비 | I75: 원 | J75: × | K75: 51 | L75: 명 | M75: × | N75: 1 | O75: 회 | P75: =
B76: 피복비 | C76: 소계 | G76: =SUM(G77:G78) -> 0
C77: 피복비 | G77: =R77 -> 0 | H77: =H68 -> 0 | I77: 원 | J77: × | K77: 51 | L77: 명 | M77: × | N77: 1 | O77: 개월 | P77: = | R77: =ROUND(H77*K77*N77,-1) -> 0
C78: 동내의 | G78: =R78 -> 0 | I78: 원 | J78: × | L78: 명 | M78: × | N78: 1 | O78: 회 | P78: = | R78: =H78*K78*N78 -> 0
A79: 8월 | B79: 소계 | G79: =G80+G82+G85 -> 11054710 | AE79: ※생활보장급여입소자 51명
B80: 위로금 | C80: 소계 | G80: =G81 -> 0
C81: 특별위로금 | G81: =R81 -> 0 | I81: 원 | J81: × | L81: 명 | M81: × | O81: 일 | P81: = | R81: =H81*K81*N81 -> 0
B82: 주부식비 | C82: 소계 | G82: =SUM(G83:G84) -> 11054710
C83: 주부식비 | G83: =R83 -> 11054710 | H83: 216759 | I83: 원 | J83: × | K83: 51 | L83: 명 | M83: × | N83: 1 | O83: 월 | P83: = | R83: =ROUND(H83*K83*N83,-1) -> 11054710
C84: 월동대책비 | I84: 원 | J84: × | L84: 명 | M84: × | O84: 회 | P84: =
B85: 피복비 | C85: 소계 | G85: =SUM(G86:G87) -> 0
C86: 피복비 | G86: =R86 -> 0 | H86: =H77 -> 0 | I86: 원 | J86: × | K86: 51 | L86: 명 | M86: × | N86: 1 | O86: 개월 | P86: = | R86: =ROUND(H86*K86*N86,-1) -> 0
C87: 동내의 | G87: =R87 -> 0 | I87: 원 | J87: × | L87: 명 | M87: × | O87: 회 | P87: = | R87: =H87*K87*N87 -> 0
A88: 9월 | B88: 소계 | G88: =G89+G91+G94 -> 12830632 | AE88: ※생활보장급여입소자 51명
B89: 위로금 | C89: 소계 | G89: =G90 -> 1775922
C90: 특별위로금 | G90: =R90 -> 1775922 | H90: 34822 | I90: 원 | J90: × | K90: 51 | L90: 명 | M90: × | N90: 1 | O90: 일 | P90: = | R90: =H90*K90*N90 -> 1775922 | AE90: 추석지급
B91: 주부식비 | C91: 소계 | G91: =SUM(G92:G93) -> 11054710
C92: 주부식비 | G92: =R92 -> 11054710 | H92: =H83 -> 216759 | I92: 원 | J92: × | K92: 51 | L92: 명 | M92: × | N92: 1 | O92: 월 | P92: = | R92: =ROUND(H92*K92*N92,-1) -> 11054710
C93: 월동대책비 | G93: =R93 -> 0 | I93: 원 | J93: × | L93: 명 | M93: × | N93: 1 | O93: 회 | P93: = | R93: =ROUND(H93*K93*N93,-1) -> 0
B94: 피복비 | C94: 소계 | G94: =SUM(G95:G96) -> 0
C95: 피복비 | G95: =R95 -> 0 | H95: =H86 -> 0 | I95: 원 | J95: × | K95: 51 | L95: 명 | M95: × | N95: 1 | O95: 개월 | P95: = | R95: =ROUND(H95*K95*N95,-1) -> 0
C96: 동내의 | G96: =R96 -> 0 | I96: 원 | J96: × | L96: 명 | M96: × | N96: 1 | O96: 회 | P96: = | R96: =H96*K96*N96 -> 0
A97: 10월 | B97: 소계 | G97: =G98+G100+G102+G104 -> 12602360 | AE97: ※생활보장급여입소자 51명
B98: 위로금 | C98: 소계 | G98: =G99 -> 0
C99: 특별위로금 | G99: =R99 -> 0 | I99: 원 | J99: × | L99: 명 | M99: × | O99: 일 | P99: = | R99: =H99*K99*N99 -> 0
B100: 소계 | C100: 소계 | G100: =G101 -> 11054710
B101: 주부식비 | C101: 주부식비 | G101: =R101 -> 11054710 | H101: =H92 -> 216759 | I101: 원 | J101: × | K101: 51 | L101: 명 | M101: × | N101: 1 | O101: 월 | P101: = | R101: =ROUND(H101*K101*N101,-1) -> 11054710
B102: 소계 | C102: 소계 | G102: =G103 -> 1547650
...

Sheet 4종
A1: ※ '장애인복지시설 입소자지원(4종)'산출내역표
P2: (단위:원)
A3: 관 | B3: 항 | C3: 목 | D3: 산 출 내 역 | O3: 금 액 | P3: 비 고
A4: 소 계 | O4: =O5+O19+O33+O40 -> 32840000
A5: 입소자부식비 | B5: 입소자부식비 | C5: 입소자부식비 | D5: 계 | O5: =SUM(O7:O18) -> 14600000
D6: 12월 | E6: 500 | F6: 원 | G6: × | H6: 80 | I6: 명 | J6: × | K6: 365 | L6: 일 | M6: = | N6: =E6*H6*K6 -> 14600000 | O6: =N6 -> 14600000
D7: 1 월 | E7: 500 | F7: 원 | G7: × | H7: 80 | I7: 명 | J7: × | K7: 31 | L7: 일 | M7: = | N7: =E7*H7*K7 -> 1240000 | O7: =N7 -> 1240000
D8: 2 월 | E8: 500 | F8: 원 | G8: × | H8: 80 | I8: 명 | J8: × | K8: 28 | L8: 일 | M8: = | N8: =E8*H8*K8 -> 1120000 | O8: =N8 -> 1120000
D9: 3 월 | E9: 500 | F9: 원 | G9: × | H9: 80 | I9: 명 | J9: × | K9: 31 | L9: 일 | M9: = | N9: =E9*H9*K9 -> 1240000 | O9: =N9 -> 1240000
D10: 4 월 | E10: 500 | F10: 원 | G10: × | H10: 80 | I10: 명 | J10: × | K10: 30 | L10: 일 | M10: = | N10: =E10*H10*K10 -> 1200000 | O10: =N10 -> 1200000
D11: 5 월 | E11: 500 | F11: 원 | G11: × | H11: 80 | I11: 명 | J11: × | K11: 31 | L11: 일 | M11: = | N11: =E11*H11*K11 -> 1240000 | O11: =N11 -> 1240000
D12: 6 월 | E12: 500 | F12: 원 | G12: × | H12: 80 | I12: 명 | J12: × | K12: 30 | L12: 일 | M12: = | N12: =E12*H12*K12 -> 1200000 | O12: =N12 -> 1200000
D13: 7 월 | E13: 500 | F13: 원 | G13: × | H13: 80 | I13: 명 | J13: × | K13: 31 | L13: 일 | M13: = | N13: =E13*H13*K13 -> 1240000 | O13: =N13 -> 1240000
D14: 8 월 | E14: 500 | F14: 원 | G14: × | H14: 80 | I14: 명 | J14: × | K14: 31 | L14: 일 | M14: = | N14: =E14*H14*K14 -> 1240000 | O14: =N14 -> 1240000
D15: 9 월 | E15: 500 | F15: 원 | G15: × | H15: 80 | I15: 명 | J15: × | K15: 30 | L15: 일 | M15: = | N15: =E15*H15*K15 -> 1200000 | O15: =N15 -> 1200000
D16: 10 월 | E16: 500 | F16: 원 | G16: × | H16: 80 | I16: 명 | J16: × | K16: 31 | L16: 일 | M16: = | N16: =E16*H16*K16 -> 1240000 | O16: =N16 -> 1240000
D17: 11 월 | E17: 500 | F17: 원 | G17: × | H17: 80 | I17: 명 | J17: × | K17: 30 | L17: 일 | M17: = | N17: =E17*H17*K17 -> 1200000 | O17: =N17 -> 1200000
D18: 12 월 | E18: 500 | F18: 원 | G18: × | H18: 80 | I18: 명 | J18: × | K18: 31 | L18: 일 | M18: = | N18: =E18*H18*K18 -> 1240000 | O18: =N18 -> 1240000
A19: 입소자간식비 | B19: 입소자간식비 | C19: 입소자간식비 | D19: 계 | O19: =SUM(O21:O32) -> 4800000
D20: 12월 | E20: 5000 | F20: 원 | G20: × | H20: 80 | I20: 명 | J20: × | K20: 12 | L20: 개월 | M20: = | N20: =E20*H20*K20 -> 4800000 | O20: =N20 -> 4800000
D21: 1 월 | E21: 5000 | F21: 원 | G21: × | H21: 80 | I21: 명 | J21: × | K21: 1 | L21: 개월 | M21: = | N21: =E21*H21*K21 -> 400000 | O21: =N21 -> 400000
D22: 2 월 | E22: 5000 | F22: 원 | G22: × | H22: 80 | I22: 명 | J22: × | K22: 1 | L22: 개월 | M22: = | N22: =E22*H22*K22 -> 400000 | O22: =N22 -> 400000
D23: 3 월 | E23: 5000 | F23: 원 | G23: × | H23: 80 | I23: 명 | J23: × | K23: 1 | L23: 개월 | M23: = | N23: =E23*H23*K23 -> 400000 | O23: =N23 -> 400000
D24: 4 월 | E24: 5000 | F24: 원 | G24: × | H24: 80 | I24: 명 | J24: × | K24: 1 | L24: 개월 | M24: = | N24: =E24*H24*K24 -> 400000 | O24: =N24 -> 400000
D25: 5 월 | E25: 5000 | F25: 원 | G25: × | H25: 80 | I25: 명 | J25: × | K25: 1 | L25: 개월 | M25: = | N25: =E25*H25*K25 -> 400000 | O25: =N25 -> 400000
D26: 6 월 | E26: 5000 | F26: 원 | G26: × | H26: 80 | I26: 명 | J26: × | K26: 1 | L26: 개월 | M26: = | N26: =E26*H26*K26 -> 400000 | O26: =N26 -> 400000
D27: 7 월 | E27: 5000 | F27: 원 | G27: × | H27: 80 | I27: 명 | J27: × | K27: 1 | L27: 개월 | M27: = | N27: =E27*H27*K27 -> 400000 | O27: =N27 -> 400000
D28: 8 월 | E28: 5000 | F28: 원 | G28: × | H28: 80 | I28: 명 | J28: × | K28: 1 | L28: 개월 | M28: = | N28: =E28*H28*K28 -> 400000 | O28: =N28 -> 400000
D29: 9 월 | E29: 5000 | F29: 원 | G29: × | H29: 80 | I29: 명 | J29: × | K29: 1 | L29: 개월 | M29: = | N29: =E29*H29*K29 -> 400000 | O29: =N29 -> 400000
D30: 10 월 | E30: 5000 | F30: 원 | G30: × | H30: 80 | I30: 명 | J30: × | K30: 1 | L30: 개월 | M30: = | N30: =E30*H30*K30 -> 400000 | O30: =N30 -> 400000
D31: 11 월 | E31: 5000 | F31: 원 | G31: × | H31: 80 | I31: 명 | J31: × | K31: 1 | L31: 개월 | M31: = | N31: =E31*H31*K31 -> 400000 | O31: =N31 -> 400000
D32: 12 월 | E32: 5000 | F32: 원 | G32: × | H32: 80 | I32: 명 | J32: × | K32: 1 | L32: 개월 | M32: = | N32: =E32*H32*K32 -> 400000 | O32: =N32 -> 400000
A33: 입소자피복비 및 특별급식비 | B33: 입소자피복비 및 특별급식비 | C33: 입소자피복비 및 특별급식비 | D33: 계 | O33: =SUM(O36:O39) -> 10240000
D34: 피복비 | E34: 20000 | F34: 원 | G34: × | H34: 80 | I34: 명 | J34: × | K34: 4 | L34: 회 | M34: = | N34: =E34*H34*K34 -> 6400000 | O34: =N34 -> 6400000
D35: 특별 급식비 | E35: 12000 | F35: 원 | G35: × | H35: 80 | I35: 명 | J35: × | K35: 4 | L35: 회 | M35: = | N35: =E35*H35*K35 -> 3840000 | O35: =N35 -> 3840000
D36: 설날 | E36: 32000 | F36: 원 | G36: × | H36: 80 | I36: 명 | J36: × | K36: 1 | L36: 회 | M36: = | N36: =E36*H36*K36 -> 2560000 | O36: =N36 -> 2560000
D37: 장애인 의날 | E37: 32000 | F37: 원 | G37: × | H37: 80 | I37: 명 | J37: × | K37: 1 | L37: 회 | M37: = | N37: =E37*H37*K37 -> 2560000 | O37: =N37 -> 2560000
D38: 추석 | E38: 32000 | F38: 원 | G38: × | H38: 80 | I38: 명 | J38: × | K38: 1 | L38: 회 | M38: = | N38: =E38*H38*K38 -> 2560000 | O38: =N38 -> 2560000
D39: 연말 | E39: 32000 | F39: 원 | G39: × | H39: 80 | I39: 명 | J39: × | K39: 1 | L39: 회 | M39: = | N39: =E39*H39*K39 -> 2560000 | O39: =N39 -> 2560000
A40: 입소자 건강진단비 | B40: 입소자 건강진단비 | C40: 입소자 건강진단비 | D40: 계 | O40: =O41 -> 3200000
D41: 년1회 | E41: 40000 | F41: 원 | G41: × | H41: 80 | I41: 명 | J41: × | K41: 1 | L41: 회 | M41: = | N41: =E41*H41*K41 -> 3200000 | O41: =N41 -> 3200000
E67: 0

Sheet Sheet1
