Workbook
Name F: #REF!
Name F: #REF!
Name F: #REF!
Name F: #REF!
Name F: #REF!
Name F: #REF!

Sheet 표지
A4: 2020년도
A11: 2020년
A12: 세입ㆍ세출 예산서(안)
A23: 천주교수원교구사회복지회
A24: 둘 다 섯 해 누 리
E67: 0

Sheet 가.예산총칙
A1: 가. 예 산 총 칙
A4: 제 1 조 | C4: 본 예산은 사회복지법인 천주교 수원교구 사회복지회 소속 장애인거주시설 "둘다섯해누리"의
C5: 2020년(2020.01.01 ~ 2020.12.31) 기간의 예산으로 사회복지 법인 재무회계규칙 제9조 1항에
C6: 의한다.
A8: 제 2 조 | C8: 세입세출 예산총액은 | G8: ='나.세입세출(총괄)'!E6 -> 3230720000 | I8: 원으로 하며「세입 · 세출예산서」와 같다.
C10: 1. 세입의 주요재원은 다음과 같다. (관 기준)
D11: 1) | E11: 입소자부담금 | H11: ='나.세입세출(총괄)'!E7 -> 134400000 | J11: 원
D12: 2) | E12: 사업수입 | H12: ='나.세입세출(총괄)'!E10 -> 0 | J12: 원
D13: 3) | E13: 보조금수입 | H13: ='나.세입세출(총괄)'!E17+'나.세입세출(총괄)'!E21+'나.세입세출(총괄)'!E21 -> 2591323820 | J13: 원
D14: 4) | E14: 후원금수입 | H14: ='다-3.후원금세입'!E16 -> 364200000 | J14: 원
D15: 5) | E15: 차입금 | J15: 원
D16: 6) | E16: 전입금 | H16: ='다-2.자부담세입'!E23 -> 40000000 | J16: 원
D17: 7) | E17: 이월금 | H17: ='나.세입세출(총괄)'!E39 -> 53487000 | J17: 원
D18: 8) | E18: 잡수입 | H18: ='나.세입세출(총괄)'!E43 -> 47309180 | J18: 원
C19: 2. 세출의 내용은 다음과 같다. (관 또는 항기준)
D20: 1) | E20: 사무비 | H20: ='나.세입세출(총괄)'!L7 -> 2628751180 | J20: 원
D21: 2) | E21: 재산조성비 | H21: ='나.세입세출(총괄)'!L24 -> 167900000 | J21: 원
D22: 3) | E22: 사업비 | H22: ='나.세입세출(총괄)'!L29 -> 401372640 | J22: 원
D23: 4) | E23: 잡지출 | H23: ='나.세입세출(총괄)'!L48 -> 609180 | J23: 원
D24: 5) | E24: 과년도지출 | H24: ='나.세입세출(총괄)'!L45 -> 800000 | J24: 원
D25: 6) | E25: 예비비 및 기타 | H25: ='나.세입세출(총괄)'!L51 -> 31287000 | J25: 원
B27: 3. 명시이월사업은 | G27: 해당없으며 | I27: 예산은 0 | L27: 원이다.
B29: 4. 신설사업은 | F29: ①중증장애인의 직업능력개발을 위한 목공프로그램 “우드잡 woodjob”이며 예산은 | K29: 10000000 | L29: 원이다.
F30: ②기능보강사업 1 : 거주시설 공기청정기렌탈지원 사업으로 예산은 | K30: 2100000 | L30: 원이다.
F31: ③기능보강사업 2 : 기관 LED 교체사업으로 예산은 | L31: 원이다.
F32: ④기능보강사업 3 : 거주시설 공기청정기렌탈지원 사업으로 예산은 | L32: 원이다.
A34: 제3조 | B34: 추경예산(안)은 법인 이사회의 승인을 얻어 확정한다.
A36: 제4조 | B36: 법인이사회의 예산승인을 받기 전에 일반경비 및 긴급을 요하는 예산집행은 직전예산에 준하여
B37: 지출할 수 있으며, 그 집행된 예산은 당해 연도의 확정예산에 의하여 집행된 것으로 간주한다.
A39: 제5조 | B39: 각 계정과목 내의 항목의 예산집행은 당해 계정과목의 승인예산의 범위 내에서 항목간 예산을
B40: 일부 조정하여 사용할 수 있다.
A42: 제6조 | B42: 세출경비의 조정이 필요한 경우 「사회복지법인 및 사회복지시설 재무회계규칙」 제16조에
B43: 의거하여 예산을 전용할 수 있다.
A45: 제7조 | B45: 국가 또는 지방자치단체로부터 교부된 보조금 및 지정후원금, 수익자부담 경비 등은
B46: 추가경정예산의 성립 이전이라도 보조 및 후원 목적에 적절한 경우 먼저 사용할 수 있으며,
B47: 이는 반드시 차기 추가경정예산에 반영하여야 한다.
A49: 제8조 | B49: 인건비 집행을 위한 사무비 내 항간 전용사항은 승인받은 것으로 간주하고, 이는 반드시 차기
B50: 추가경정예산에 반영하여야 한다.
A53: 제9조 | B53: 기타 회계 관련 규정의 개정으로 예산과목이 변경된 경우에는 당해연도 변경된 과목으로 승인
B54: 된 것으로 하며, 그 외의 예산총칙에 명시되지 아니한 사항은 「사회복지법인
B55: 및 사회복지시설 재무회계규칙」에 따라 집행한다.

Sheet 나.세입세출(총괄)
A1: 나. 세입·세출 총괄
M2: (단위:원)
A3: 세 입 | H3: 세 출
A4: 과 목 | D4: 전년도예산 ( A ) | E4: 2020년예산 ( B ) | F4: 증감 (B-A) | H4: 과 목 | K4: =D4 -> 전년도예산 ( A ) | L4: =E4 -> 2020년예산 ( B ) | M4: 증감 (B-A)
A5: 관 | B5: 항 | C5: 목 | F5: 금액 | G5: 비율(%) | H5: 관 | I5: 항 | J5: 목 | M5: 금액 | N5: 비율(%)
A6: 총 계 | D6: =D7+D13+D16+D36+D39+D43+D10+D30 -> 3319000000 | E6: =E7+E13+E16+E36+E39+E43+E10+E30 -> 3230720000 | F6: =F7+F13+F16+F36+F39+F43+F10+F30 -> -88280000 | G6: =F6/D6*100 -> -2.6598373 | H6: 총 계 | K6: =SUM(K7,K24,K29,K45,K48,K51) -> 3319000000 | L6: =SUM(L7,L24,L29,L45,L48,L51) -> 3230720000 | M6: =L6-K6 -> -88280000 | N6: =M6/K6*100 -> -2.6598373 | O6: =K6-D6 -> 0 | P6: =E6-L6 -> 0
A7: 입소자부담금 | B7: 계 | D7: 134400000 | E7: =E8 -> 134400000 | F7: =F8 -> 0 | G7: =F7/D7*100 -> 0 | H7: 사무비 | I7: 계 | K7: =SUM(K8,K15,K17) -> 2640134180 | L7: =SUM(L8,L15,L17) -> 2628751180 | M7: =M8+M15+M17 -> -11383000 | N7: =M7/K7*100 -> -0.43115233
B8: 입소비용수입 | C8: 소계 | D8: 134400000 | E8: =E9 -> 134400000 | F8: =F9 -> 0 | G8: =F8/D8*100 -> 0 | I8: 인건비 | J8: 소계 | K8: =SUM(K9:K14) -> 2393247270 | L8: =SUM(L9:L14) -> 2393247270 | M8: =SUM(M9:M14) -> 0 | N8: =M8/K8*100 -> 0
C9: 입소비용수입 | D9: 134400000 | E9: ='다-2.자부담세입'!E9 -> 134400000 | F9: =E9-D9 -> 0 | G9: =F9/D9*100 -> 0 | J9: 급여 | K9: =라.국도비세출!E9+'라-1.도시(군)세출'!E8+'라-3.후원금세출'!E9 -> 1479465000 | L9: =라.국도비세출!F9+'라-3.후원금세출'!F9+'라-1.도시(군)세출'!F8 -> 1479465000 | M9: =L9-K9 -> 0 | N9: =M9/K9*100 -> 0
A10: 사업수입 | B10: 계 | D10: 0 | E10: =E11 -> 0 | F10: =F11 -> 0 | G10: =F10/D10*100 -> #DIV/0! | J10: 일용잡금 | K10: ='라-3.후원금세출'!E11 -> 9600000 | L10: ='라-3.후원금세출'!F11 -> 9600000 | M10: =L10-K10 -> 0 | N10: =M10/K10*100 -> 0
B11: 사업수입 | C11: 소계 | D11: 0 | E11: =E12 -> 0 | F11: =F12 -> 0 | G11: =F11/D11*100 -> #DIV/0! | J11: 제수당 | K11: =라.국도비세출!E10+'라-1.도시(군)세출'!E9+'라-2.자부담세출'!E12 -> 509510880 | L11: =라.국도비세출!F10+'라-3.후원금세출'!F12+'라-2.자부담세출'!F12+'라-1.도시(군)세출'!F9 -> 509510880 | M11: =L11-K11 -> 0 | N11: =M11/K11*100 -> 0
C12: 프로그램사업수입 | D12: 0 | E12: ='다-2.자부담세입'!E12 -> 0 | F12: =E12-D12 -> 0 | G12: =F12/D12*100 -> #DIV/0! | J12: 퇴직금및퇴직적립금 | K12: =라.국도비세출!E15+'라-1.도시(군)세출'!E14+'라-2.자부담세출'!E26+'라-3.후원금세출'!E26 -> 164978100 | L12: =라.국도비세출!F15+'라-3.후원금세출'!F26+'라-2.자부담세출'!F26+'라-1.도시(군)세출'!F14 -> 164978100 | M12: =L12-K12 -> 0 | N12: =M12/K12*100 -> 0
A13: 과년도수입 | B13: 계 | D13: 0 | E13: =E14 -> 0 | F13: =F14 -> 0 | G13: =F13/D13*100 -> #DIV/0! | J13: 사회보험부담비용 | K13: =라.국도비세출!E16+'라-1.도시(군)세출'!E15+'라-2.자부담세출'!E27+'라-3.후원금세출'!E27 -> 187693290 | L13: =라.국도비세출!F16+'라-3.후원금세출'!F27+'라-2.자부담세출'!F27+'라-1.도시(군)세출'!F15 -> 187693290 | M13: =L13-K13 -> 0 | N13: =M13/K13*100 -> 0
B14: 과년도수입 | C14: 소계 | D14: 0 | E14: =E15 -> 0 | F14: =F15 -> 0 | G14: =F14/D14*100 -> #DIV/0! | J14: 기타후생경비 | K14: =라.국도비세출!E21+'라-2.자부담세출'!E32+'라-3.후원금세출'!E32 -> 42000000 | L14: =라.국도비세출!F21+'라-2.자부담세출'!F32+'라-3.후원금세출'!F32 -> 42000000 | M14: =L14-K14 -> 0 | N14: =M14/K14*100 -> 0
C15: 과년도수입 | D15: 0 | E15: =다.국도시세입!F12+'다-2.자부담세입'!E15 -> 0 | F15: =E15-D15 -> 0 | G15: =F15/D15*100 -> #DIV/0! | I15: 업무추진비 | J15: 소계 | K15: =K16 -> 2490000 | L15: =L16 -> 2490000 | M15: =L15-K15 -> 0 | N15: =M15/K15*100 -> 0
A16: 보조금수입 | B16: 계 | D16: =D17+D21+D23+D28 -> 2651468750 | E16: =E17+E21+E23+E28 -> 2591323820 | F16: =F17+F21+F23+F28 -> -60144930 | G16: =F16/D16*100 -> -2.2683628 | J16: 회의비 | K16: =라.국도비세출!E25+'라-2.자부담세출'!E37+'라-3.후원금세출'!E37 -> 2490000 | L16: =라.국도비세출!F25+'라-2.자부담세출'!F37+'라-3.후원금세출'!F37 -> 2490000 | M16: =L16-K16 -> 0 | N16: =M16/K16*100 -> 0
B17: =다.국도시세입!B14 -> 보조금수입 | C17: 소계 | D17: =SUM(D18:D20) -> 2651468750 | E17: =SUM(E18:E20) -> 2591323820 | F17: =SUM(F18:F20) -> -60144930 | G17: =F17/D17*100 -> -2.2683628 | I17: 운영비 | J17: 소계 | K17: =SUM(K18:K23) -> 244396910 | L17: =SUM(L18:L23) -> 233013910 | M17: =SUM(M18:M23) -> -11383000 | N17: =M17/K17*100 -> -4.6575875
C18: =다.국도시세입!C15 -> 국고보조금(70%) | D18: =다.국도시세입!E15 -> 1703326015 | E18: =다.국도시세입!F15 -> 1672616764 | F18: =E18-D18 -> -30709251 | G18: =F18/D18*100 -> -1.8028992 | J18: 여비 | K18: =라.국도비세출!E27+'라-3.후원금세출'!E39 -> 5000000 | L18: =라.국도비세출!F27+'라-3.후원금세출'!F39 -> 5000000 | M18: =L18-K18 -> 0 | N18: =M18/K18*100 -> 0
C19: =다.국도시세입!C20 -> 시도보조금 | D19: =다.국도시세입!E20+'다-1.도시(군)세입'!E13-D20 -> 941842735 | E19: =다.국도시세입!F20+'다-1.도시(군)세입'!F13-E20 -> 911987056 | F19: =E19-D19 -> -29855679 | G19: =F19/D19*100 -> -3.1699219 | J19: 수용비및수수료 | K19: =라.국도비세출!E28+'라-2.자부담세출'!E40+'라-3.후원금세출'!E40 -> 59771080 | L19: =라.국도비세출!F28+'라-2.자부담세출'!F40+'라-3.후원금세출'!F40 -> 55288080 | M19: =L19-K19 -> -4483000 | N19: =M19/K19*100 -> -7.5002827
C20: =다.국도시세입!C26 -> 기타보조금 | D20: 6300000 | E20: ='다-1.도시(군)세입'!F21 -> 6720000 | F20: =E20-D20 -> 420000 | G20: =F20/D20*100 -> 6.6666667 | J20: 공공요금 | K20: =라.국도비세출!E29+'라-2.자부담세출'!E41+'라-3.후원금세출'!E43 -> 126000000 | L20: =라.국도비세출!F29+'라-2.자부담세출'!F41+'라-3.후원금세출'!F43 -> 119100000 | M20: =L20-K20 -> -6900000 | N20: =M20/K20*100 -> -5.4761905
D21: 0 | E21: 0 | F21: =F22 -> 0 | G21: 0 | J21: 제세공과금 | K21: =라.국도비세출!E30+'라-2.자부담세출'!E42+'라-3.후원금세출'!E44 -> 13625830 | L21: =라.국도비세출!F30+'라-2.자부담세출'!F42+'라-3.후원금세출'!F44 -> 13625830 | M21: =L21-K21 -> 0 | N21: =M21/K21*100 -> 0
D22: 0 | E22: 0 | F22: =C22-B22 -> 0 | G22: 0 | J22: 차량비 | K22: =라.국도비세출!E34+'라-2.자부담세출'!E43+'라-3.후원금세출'!E45 -> 26000000 | L22: =라.국도비세출!F34+'라-2.자부담세출'!F43+'라-3.후원금세출'!F45 -> 26000000 | M22: =L22-K22 -> 0 | N22: =M22/K22*100 -> 0
D23: 0 | E23: =SUM(E24:E27) -> 0 | F23: =SUM(F24:F27) -> 0 | G23: 0 | J23: 기타운영비 | K23: =라.국도비세출!E35+'라-2.자부담세출'!E44+'라-3.후원금세출'!E46 -> 14000000 | L23: =라.국도비세출!F35+'라-2.자부담세출'!F44+'라-3.후원금세출'!F46 -> 14000000 | M23: =L23-K23 -> 0 | N23: =M23/K23*100 -> 0
D24: 0 | E24: =다.국도시세입!F28 -> 0 | F24: =C24-B24 -> 0 | G24: 0 | H24: 재산조성비 | I24: 계 | K24: =SUM(K25) -> 162000000 | L24: =SUM(L25) -> 167900000 | M24: =M25 -> 5900000 | N24: =M24/K24*100 -> 3.6419753
D25: 0 | E25: =다.국도시세입!F29 -> 0 | F25: =C25-B25 -> 0 | G25: 0 | I25: 시설비 | J25: 소계 | K25: =SUM(K26:K28) -> 162000000 | L25: =SUM(L26:L28) -> 167900000 | M25: =SUM(M26:M28) -> 5900000 | N25: =M25/K25*100 -> 3.6419753
D26: 0 | E26: =다.국도시세입!F30 -> 0 | F26: =C26-B26 -> 0 | G26: 0 | J26: 시설비 | K26: =라.국도비세출!E38+'라-2.자부담세출'!E47+'라-3.후원금세출'!E49 -> 10000000 | L26: =라.국도비세출!F38+'라-2.자부담세출'!F47+'라-3.후원금세출'!F49 -> 10000000 | M26: =L26-K26 -> 0 | N26: =M26/K26*100 -> 0
D27: 0 | E27: =다.국도시세입!F31 -> 0 | F27: =C27-B27 -> 0 | G27: 0 | J27: 자산취득비 | K27: =라.국도비세출!E39+'라-2.자부담세출'!E48+'라-3.후원금세출'!E50 -> 20000000 | L27: =라.국도비세출!F39+'라-2.자부담세출'!F48+'라-3.후원금세출'!F50 -> 65900000 | M27: =L27-K27 -> 45900000 | N27: =M27/K27*100 -> 229.5
D28: 0 | E28: =E29 -> 0 | F28: =F29 -> 0 | G28: 0 | J28: 시설장비유지비 | K28: =라.국도비세출!E40+'라-2.자부담세출'!E49+'라-3.후원금세출'!E51 -> 132000000 | L28: =라.국도비세출!F40+'라-2.자부담세출'!F49+'라-3.후원금세출'!F51 -> 92000000 | M28: =L28-K28 -> -40000000 | N28: =M28/K28*100 -> -30.30303
D29: 0 | E29: ='다-3.후원금세입'!E14 -> 0 | F29: =E29-D29 -> 0 | G29: 0 | H29: 사업비 | I29: 계 | K29: =SUM(K30,K36,K43) -> 462937570 | L29: =SUM(L30,L36,L43) -> 401372640 | M29: =L29-K29 -> -61564930 | N29: =M29/K29*100 -> -13.298754
A30: 후원금 | B30: 계 | D30: 364200000 | E30: =E31+E34 -> 364200000 | F30: =F31+F34 -> 0 | G30: =F30/D30*100 -> 0 | I30: 운영비 | J30: 소계 | K30: =SUM(K31:K35) -> 256466570 | L30: =SUM(L31:L35) -> 254332640 | M30: =SUM(M31:M35) -> -2133930 | N30: =M30/K30*100 -> -0.83204996
B31: 후원금수입 | C31: 소계 | D31: 364200000 | E31: =SUM(E32:E33) -> 364200000 | F31: =SUM(F32:F33) -> 0 | G31: =F31/D31*100 -> 0 | J31: 생계비 | K31: =라.국도비세출!E44+라.국도비세출!E45+라.국도비세출!E46+'라-2.자부담세출'!E52+'라-3.후원금세출'!E54 -> 211496570 | L31: =라.국도비세출!F44+라.국도비세출!F45+라.국도비세출!F46+'라-2.자부담세출'!F52+'라-3.후원금세출'!F54 -> 209362640 | M31: =L31-K31 -> -2133930 | N31: =M31/K31*100 -> -1.0089667
C32: 지정후원금 | D32: 14200000 | E32: ='다-3.후원금세입'!E18 -> 14200000 | F32: =E32-D32 -> 0 | G32: =F32/D32*100 -> 0 | J32: 피복비 | K32: ='라-2.자부담세출'!E53 -> 4000000 | L32: ='라-2.자부담세출'!F53 -> 4000000 | M32: =L32-K32 -> 0 | N32: =M32/K32*100 -> 0
C33: 비지정후원금 | D33: 350000000 | E33: ='다-3.후원금세입'!E19 -> 350000000 | F33: =E33-D33 -> 0 | G33: =F33/D33*100 -> 0 | J33: ='라-2.자부담세출'!C54 -> 수용기관경비 | K33: =라.국도비세출!E47+'라-2.자부담세출'!E54+'라-3.후원금세출'!E55 -> 37970000 | L33: =라.국도비세출!F47+'라-2.자부담세출'!F54+'라-3.후원금세출'!F55 -> 37970000 | M33: =L33-K33 -> 0 | N33: =M33/K33*100 -> 0
D34: 0 | E34: =E35 -> 0 | F34: =F35 -> 0 | G34: 0 | J34: 의료비 | K34: ='라-2.자부담세출'!E57+'라-3.후원금세출'!E59 -> 3000000 | L34: ='라-2.자부담세출'!F57+'라-3.후원금세출'!F59 -> 3000000 | M34: =L34-K34 -> 0 | N34: =M34/K34*100 -> 0
D35: 0 | E35: ='다-3.후원금세입'!E20 -> 0 | F35: =E35-D35 -> 0 | G35: 0 | J35: 연료비 | K35: ='라-3.후원금세출'!E64 -> 0 | L35: ='라-3.후원금세출'!F64 -> 0 | M35: =L35-K35 -> 0 | N35: =M35/K35*100 -> #DIV/0!
A36: 전입금 | B36: 계 | D36: 40000000 | E36: =E37 -> 40000000 | F36: =F37 -> 0 | G36: =F36/D36*100 -> 0 | I36: 사업비 | J36: 소계 | K36: =SUM(K37:K42) -> 204971000 | L36: =SUM(L37:L42) -> 145540000 | M36: =L36-K36 -> -59431000 | N36: =M36/K36*100 -> -28.994833
B37: 전입금 | C37: 소계 | D37: 40000000 | E37: =E38 -> 40000000 | F37: =F38 -> 0 | G37: =F37/D37*100 -> 0 | J37: 사회심리재활사업비 | K37: =라.국도비세출!E51+'라-2.자부담세출'!E75+'라-3.후원금세출'!E78 -> 93000000 | L37: =라.국도비세출!F51+'라-2.자부담세출'!F75+'라-3.후원금세출'!F78 -> 89000000 | M37: =L37-K37 -> -4000000 | N37: =M37/K37*100 -> -4.3010753
C38: 법인전입금 | D38: 40000000 | E38: ='다-2.자부담세입'!E25 -> 40000000 | F38: =E38-D38 -> 0 | G38: =F38/D38*100 -> 0 | J38: 직업재활사업비 | K38: ='라-2.자부담세출'!E77+'라-3.후원금세출'!E80 -> 5000000 | L38: ='라-2.자부담세출'!F77+'라-3.후원금세출'!F80 -> 5000000 | M38: =L38-K38 -> 0 | N38: =M38/K38*100 -> 0
A39: 이월금 | B39: 계 | D39: 81659584 | E39: =E40 -> 53487000 | F39: =F40 -> -28172584 | G39: =F39/D39*100 -> -34.500034 | J39: 4종운영지원사업비 | K39: ='라-1.도시(군)세출'!E25 -> 32840000 | L39: ='라-1.도시(군)세출'!F25 -> 32840000 | M39: =L39-K39 -> 0 | N39: =M39/K39*100 -> 0
B40: 이월금 | C40: 소계 | D40: 81659584 | E40: =SUM(E41:E42) -> 53487000 | F40: =SUM(F41:F42) -> -28172584 | G40: =F40/D40*100 -> -34.500034 | J40: 7종운영지원사업비 | K40: ='라-1.도시(군)세출'!E21 -> 6600000 | L40: ='라-1.도시(군)세출'!F21 -> 6600000 | M40: =L40-K40 -> 0 | N40: =M40/K40*100 -> 0
C41: 전년도이월금 | D41: 81659584 | E41: =다.국도시세입!F34+'다-2.자부담세입'!E28+'다-3.후원금세입'!E31+'다-1.도시(군)세입'!F23 -> 53487000 | F41: =E41-D41 -> -28172584 | G41: =F41/D41*100 -> -34.500034 | J41: 재활프로그램사업비 | K41: ='라-1.도시(군)세출'!E32+'라-3.후원금세출'!E81 -> 7000000 | L41: ='라-1.도시(군)세출'!F32+'라-3.후원금세출'!F81 -> 10000000 | M41: =L41-K41 -> 3000000 | N41: =M41/K41*100 -> 42.857143
C42: 이월사업비 | D42: 0 | E42: =다.국도시세입!F35+'다-2.자부담세입'!E29 -> 0 | F42: =E42-D42 -> 0 | J42: 기 능 보 강 사업비 | K42: =라.국도비세출!E52 -> 60531000 | L42: =라.국도비세출!F52 -> 2100000 | M42: =L42-K42 -> -58431000 | N42: =M42/K42*100 -> -96.530703
A43: 잡수입 | B43: 계 | D43: =D44 -> 47271666 | E43: =E44 -> 47309180 | F43: =F44 -> 37514 | G43: =F43/D43*100 -> 0.07935832 | I43: 결연사업비 | J43: 소계 | K43: =K44 -> 1500000 | L43: =L44 -> 1500000 | M43: =M44 -> 0 | N43: =M43/K43*100 -> 0
B44: 잡수입 | C44: 소계 | D44: =SUM(D45:D47) -> 47271666 | E44: =SUM(E45:E47) -> 47309180 | F44: =SUM(F45:F47) -> 37514 | G44: =F44/D44*100 -> 0.07935832 | J44: 결연후원금 | K44: ='라-3.후원금세출'!E88 -> 1500000 | L44: ='라-3.후원금세출'!F88 -> 1500000 | M44: =L44-K44 -> 0 | N44: =M44/K44*100 -> 0
C45: 불용품매각대 | D45: 500000 | E45: =다.국도시세입!F38+'다-2.자부담세입'!E32 -> 500000 | F45: =E45-D45 -> 0 | G45: =F45/D45*100 -> 0 | H45: 과년도지출 | I45: 계 | K45: =K46 -> 1897000 | L45: =L46 -> 800000 | M45: =M46 -> -1097000 | N45: =M44/K44*100 -> 0
C46: 기타예금이자수입 | D46: =다.국도시세입!E39+'다-2.자부담세입'!D33+'다-3.후원금세입'!D36+'다-1.도시(군)세입'!E28 -> 1721666 | E46: =다.국도시세입!F39+'다-2.자부담세입'!E33+'다-3.후원금세입'!E36+'다-1.도시(군)세입'!F28 -> 1759180 | F46: =E46-D46 -> 37514 | G46: =F46/D46*100 -> 2.178936 | I46: 과년도지출 | J46: 소계 | K46: =SUM(K47) -> 1897000 | L46: =SUM(L47) -> 800000 | M46: =M47 -> -1097000 | N46: =M45/K45*100 -> -57.82815
C47: 기타잡수입 | D47: 45050000 | E47: =다.국도시세입!F40+'다-2.자부담세입'!E34 -> 45050000 | F47: =E47-D47 -> 0 | G47: =F47/D47*100 -> 0 | J47: 과년도지출 | K47: ='라-3.후원금세출'!E90 -> 1897000 | L47: ='라-3.후원금세출'!F90 -> 800000 | M47: =L47-K47 -> -1097000 | N47: =M46/K46*100 -> -57.82815
H48: 잡지출 | I48: 계 | K48: =SUM(K49) -> 625462 | L48: =SUM(L49) -> 609180 | M48: =M49 -> -16282 | N48: =M47/K47*100 -> -57.82815
I49: 잡지출 | J49: 소계 | K49: =SUM(K50) -> 625462 | L49: =SUM(L50) -> 609180 | M49: =M50 -> -16282 | N49: =M48/K48*100 -> -2.6031957
J50: 잡지출 | K50: =라.국도비세출!E58+'라-1.도시(군)세출'!E36 -> 625462 | L50: =라.국도비세출!F58+'라-1.도시(군)세출'!F36 -> 609180 | M50: =L50-K50 -> -16282 | N50: =M49/K49*100 -> -2.6031957
H51: 예비비및기타 | I51: 계 | K51: =SUM(K52) -> 51405788 | L51: =SUM(L52) -> 31287000 | M51: =M52 -> -20118788 | N51: =M50/K50*100 -> -2.6031957
I52: 예비비및기타 | J52: 소계 | K52: =SUM(K53) -> 51405788 | L52: =SUM(L53) -> 31287000 | M52: =M53 -> -20118788 | N52: =M51/K51*100 -> -39.137204
J53: 보조금반환금 | K53: =라.국도비세출!E61+'라-1.도시(군)세출'!E39 -> 51405788 | L53: =라.국도비세출!F61+'라-1.도시(군)세출'!F39 -> 31287000 | M53: =L53-K53 -> -20118788 | N53: =M52/K52*100 -> -39.137204

Sheet 다.국도시세입
A1: 다. 세 입
A2: 1) 보조금세입내역
I3: (단위:원)
A4: 과 목 | E4: ='나.세입세출(총괄)'!D4:D5 -> 전년도예산 ( A ) | F4: ='나.세입세출(총괄)'!E4:E5 -> 2020년예산 ( B ) | G4: 증감 (B-A) | I4: 산 출 내 역
A5: 관 | B5: 항 | C5: 목 | G5: 금액 | H5: 비율(%)
A6: 총 계 | E6: 2491240000 | F6: =F7+F10+F13+F32+F36 -> 2415800000 | G6: =G7+G10+G13+G32+G36 -> -75440000 | H6: =G6/E6*100 -> -3.0282109 | J6: =E6-라.국도비세출!E6 -> 0 | K6: =F6-라.국도비세출!F6 -> 0
A7: 입소자부담금 | B7: 계 | E7: 0 | F7: =F8 -> 0 | G7: =G8 -> 0 | H7: 0
B8: 입소비용수입 | C8: 소계 | E8: 0 | F8: =F9 -> 0 | G8: =F8-E8 -> 0 | H8: 0
C9: 입소비용수입 | E9: 0 | F9: 0 | G9: =F9-E9 -> 0 | H9: 0
A10: 과년도수입 | B10: 계 | E10: 0 | F10: =F11 -> 0 | G10: =G11 -> 0 | H10: 0
B11: 과년도수입 | C11: 소계 | E11: 0 | F11: =F12 -> 0 | G11: =G12 -> 0 | H11: 0
C12: 과년도수입 | E12: 0 | F12: 0 | G12: =F12-E12 -> 0 | H12: 0
A13: 보조금수입 | B13: 계 | E13: 2450617450 | F13: =SUM(F14,F25) -> 2390052520 | G13: =F13-E13 -> -60564930 | H13: =G13/E13*100 -> -2.4714151
B14: 보조금수입 | C14: 소계 | E14: 2450617450 | F14: =SUM(F15,F20) -> 2390052520 | G14: =F14-E14 -> -60564930 | H14: =G14/E14*100 -> -2.4714151
C15: 국고보조금(70%) | D15: 소 계 | E15: 1703326015 | F15: =SUM(F16:F19) -> 1672616764 | G15: =F15-E15 -> -30709251 | H15: =G15/E15*100 -> -1.8028992 | I15: * 인 건 비(70%) : 1,507,611,707원 * 관 리 운 영 비(70%) : 69,769,000원 * 생 계 비(70%) : 95,547,599원 * 기능보강사업비(50%) : 1,050,000원
C16: 인건비(70%) | D16: =라.국도비세출!B8 -> 인건비 | E16: 1507743916 | F16: =(라.국도비세출!F9+라.국도비세출!F11+라.국도비세출!F12+라.국도비세출!F13+라.국도비세출!F15+라.국도비세출!F16)*70% -> 1507743916 | G16: =F16-E16 -> 0 | H16: =G16/E16*100 -> 0
C17: 관리운영비(70%) | D17: 운영비 | E17: 69769000 | F17: =라.국도비세출!Q7*70% -> 69769000 | G17: =F17-E17 -> 0 | H17: =G17/E17*100 -> 0
C18: 생계비(70%) | D18: 생계비 | E18: 95547599 | F18: =라.국도비세출!F43*70% -> 94053848 | G18: =F18-E18 -> -1493751 | H18: =G18/E18*100 -> -1.563358
C19: 기능보강사업비(50%) | E19: 30265500 | F19: =라.국도비세출!F52/2 -> 1050000 | G19: =F19-E19 -> -29215500 | H19: 0
C20: 시도보조금 | D20: 소 계 | E20: 747291435 | F20: =SUM(F21:F24) -> 717435756 | G20: =F20-E20 -> -29855679 | H20: =G20/E20*100 -> -3.9951855 | I20: * 인 건 비 (30%) : 646,119,303원 * 관리운영비 (30%) : 29,901,000원 * 생 계 비 (30%) : 40,948,971원 * 기능보강사업(50%) : 1,050,000원
C21: 인건비(30%) | D21: =D16 -> 인건비 | E21: 646175964 | F21: =(라.국도비세출!F9+라.국도비세출!F11+라.국도비세출!F12+라.국도비세출!F13+라.국도비세출!F15+라.국도비세출!F16)*30% -> 646175964 | G21: =F21-E21 -> 0 | H21: =G21/E21*100 -> 0
C22: 관리운영비(30%) | D22: =D17 -> 운영비 | E22: 29901000 | F22: =라.국도비세출!Q7*30% -> 29901000 | G22: =F22-E22 -> 0 | H22: =G22/E22*100 -> 0
C23: 생계비(70%) | D23: =D18 -> 생계비 | E23: 40948971 | F23: =라.국도비세출!F43*30% -> 40308792 | G23: =F23-E23 -> -640179 | H23: =G23/E23*100 -> -1.563358
C24: 기능보강사업비(50%) | E24: 30265500 | F24: =라.국도비세출!F52/2 -> 1050000 | G24: =F24-E24 -> -29215500 | H24: 0
B25: 기타보조금 | C25: 소계 | D25: 소 계 | G25: =F25-E25 -> 0 | H25: =G25/E25*100 -> #DIV/0!
C26: 기타보조금 | D26: 재활프로그램사업비 | G26: =F26-E26 -> 0 | H26: =G26/E26*100 -> #DIV/0!
H27: =G27/E27*100 -> #DIV/0!
G28: =F28-E28 -> 0 | H28: =G28/E28*100 -> #DIV/0!
E29: 0 | F29: 0 | G29: =F29-E29 -> 0 | H29: =G29/E29*100 -> #DIV/0!
G30: =F30-E30 -> 0 | H30: =G30/E30*100 -> #DIV/0!
E31: 0 | F31: 0 | G31: =F31-E31 -> 0 | H31: =G31/E31*100 -> #DIV/0!
A32: 이월금 | B32: 계 | E32: 40110830 | F32: =F33 -> 25205000 | G32: =G33 -> -14905830 | H32: =G32/E32*100 -> -37.161609
B33: 이월금 | C33: 소계 | E33: 40110830 | F33: =SUM(F34:F35) -> 25205000 | G33: =SUM(G34:G35) -> -14905830 | H33: =G33/E33*100 -> -37.161609
C34: 전년도이월금 | E34: 40110830 | F34: 25205000 | G34: =F34-E34 -> -14905830 | H34: =G34/E34*100 -> -37.161609 | I34: * 운영비 이월금 : 25,000,000원 * 운영비 예금이자 이월금 : 200,000원 * 생계비 예금이자 이월금 : 5,000원
C35: 이월사업비 | E35: 0 | F35: 0 | G35: =F35-E35 -> 0 | H35: =G35/E35*100 -> #DIV/0!
A36: 잡수입 | B36: 계 | E36: 511720 | F36: =F37 -> 542480 | G36: =G37 -> 30760 | H36: =G36/E36*100 -> 6.0110998
B37: 잡수입 | C37: 소계 | E37: 511720 | F37: =SUM(F38:F40) -> 542480 | G37: =SUM(G38:G40) -> 30760 | H37: =G37/E37*100 -> 6.0110998
C38: 불용품매각대 | E38: 0 | F38: 0 | G38: =F38-E38 -> 0 | H38: 0
C39: 기타예금이자수입 | E39: 511720 | F39: 542480 | G39: =F39-E39 -> 30760 | H39: =G39/E39*100 -> 6.0110998
C40: 기타잡수입 | E40: 0 | F40: 0 | G40: =F40-E40 -> 0 | H40: 0
F74: 0

Sheet 다-1.도시(군)세입
A1: 다-1. 세 입
A2: 1) 보조금세입내역
I3: (단위:원)
A4: 과 목 | E4: ='나.세입세출(총괄)'!D4:D5 -> 전년도예산 ( A ) | F4: ='나.세입세출(총괄)'!E4:E5 -> 2020년예산 ( B ) | G4: 증감 (B-A) | I4: 산 출 내 역
A5: 관 | B5: 항 | C5: 목 | G5: 금액 | H5: 비율(%)
A6: 총 계 | E6: 212260000 | F6: =F7+F10+F13+F22+F25 -> 207420000 | G6: =G7+G10+G13+G22+G25 -> -4840000 | H6: =G6/E6*100 -> -2.2802224 | K6: =F6-'라-1.도시(군)세출'!F6 -> 0
A7: 입소자부담금 | B7: 계 | E7: 0 | F7: =F8 -> 0 | G7: =G8 -> 0 | H7: 0 | K7: =E6-'라-1.도시(군)세출'!E6 -> 0
B8: 입소비용수입 | C8: 소계 | E8: 0 | F8: =F9 -> 0 | G8: =F8-E8 -> 0 | H8: 0
C9: 입소비용수입 | E9: 0 | F9: 0 | G9: =F9-E9 -> 0 | H9: 0
A10: 과년도수입 | B10: 계 | E10: 0 | F10: =F11 -> 0 | G10: =G11 -> 0 | H10: 0
B11: 과년도수입 | C11: 소계 | E11: 0 | F11: =F12 -> 0 | G11: =G12 -> 0 | H11: 0
C12: 과년도수입 | E12: 0 | F12: 0 | G12: =F12-E12 -> 0 | H12: 0
A13: 보조금수입 | B13: 계 | E13: 200851300 | F13: =SUM(F14,F20) -> 201271300 | G13: =F13-E13 -> 420000 | H13: =G13/E13*100 -> 0.20910992
B14: 보조금수입 | C14: 소계 | E14: 194551300 | F14: =SUM(F15:F19) -> 194551300 | G14: =F14-E14 -> 0 | H14: =G14/E14*100 -> 0
C15: 인건비 | D15: =라.국도비세출!B8 -> 인건비 | E15: 155111300 | F15: ='라-1.도시(군)세출'!F7 -> 155111300 | G15: =F15-E15 -> 0 | H15: =G15/E15*100 -> 0 | I15: * 7종 보조금 : 128,735,500원 * 연장추가지원수당 : 26,375,800원
C16: ='라-1.도시(군)세출'!D22 -> 차량운영비 | D16: 운영비 | E16: 3600000 | F16: ='라-1.도시(군)세출'!F22 -> 3600000 | G16: =F16-E16 -> 0 | H16: =G16/E16*100 -> 0
C17: ='라-1.도시(군)세출'!D23 -> 환경개선사업 | D17: 생계비 | E17: 0 | F17: ='라-1.도시(군)세출'!F23 -> 0 | G17: =F17-E17 -> 0 | H17: =G17/E17*100 -> #DIV/0!
C18: ='라-1.도시(군)세출'!D24 -> 간병인비 | E18: 3000000 | F18: ='라-1.도시(군)세출'!F24 -> 3000000 | G18: =F18-E18 -> 0 | H18: =G18/E18*100 -> 0
C19: 4종(100%) | D19: =라.국도비세출!#REF! -> #REF! | E19: 32840000 | F19: ='라-1.도시(군)세출'!F25 -> 32840000 | G19: =F19-E19 -> 0 | H19: =G19/E19*100 -> 0
B20: 기타보조금 | C20: 소계 | D20: 소 계 | E20: 6300000 | F20: =F21 -> 6720000 | G20: =F20-E20 -> 420000 | H20: =G20/E20*100 -> 6.6666667
C21: 기타보조금 | D21: 재활프로그램사업비 | E21: 6300000 | F21: 6720000 | G21: =F21-E21 -> 420000 | H21: =G21/E21*100 -> 6.6666667 | I21: 2020년 재활프로그램 중증장애인의 직업능력개발을 위한 목공프로그램 “우드잡 woodjob” 선정
B22: 이월금 | C22: 소계 | E22: 11294958 | F22: =SUM(F23:F24) -> 6082000 | G22: =SUM(G23:G24) -> -5212958 | H22: =G22/E22*100 -> -46.152965
C23: 전년도이월금 | E23: 11294958 | F23: 6082000 | G23: =F23-E23 -> -5212958 | H23: =G23/E23*100 -> -46.152965 | I23: * 7종 보조금 이월금 : 5,000,000원 * 7종 예금이자 이월금 : 38,000원 * 4종 예금이자 이월금 : 12,000원 * 재활프로그램 예금이자 이월금: 12,000원 * 추가지원 보조금 이월금 : 1,000,000원 * 추가지원 예금이자 이월금 : 15,000원 * 기능보강 예금이자 이월금 : 5,000원
C24: 이월사업비 | E24: 0 | F24: 0 | G24: =F24-E24 -> 0 | H24: =G24/E24*100 -> #DIV/0!
A25: 잡수입 | B25: 계 | E25: 113742 | F25: =F26 -> 66700 | G25: =G26 -> -47042 | H25: =G25/E25*100 -> -41.358513
B26: 잡수입 | C26: 소계 | E26: 113742 | F26: =SUM(F27:F29) -> 66700 | G26: =SUM(G27:G29) -> -47042 | H26: =G26/E26*100 -> -41.358513
C27: 불용품매각대 | E27: 0 | F27: 0 | G27: =F27-E27 -> 0 | H27: 0
C28: 기타예금이자수입 | E28: 113742 | F28: ='라-1.도시(군)세출'!F36 -> 66700 | G28: =F28-E28 -> -47042 | H28: =G28/E28*100 -> -41.358513
C29: 기타잡수입 | E29: 0 | F29: 0 | G29: =F29-E29 -> 0 | H29: 0
F63: 0

Sheet 다-2.자부담세입
A1: 다. 세 입
A2: 2) 자부담세입내역
H3: (단위:원)
A4: 과 목 | D4: =다.국도시세입!E4:E5 -> 전년도예산 ( A ) | E4: =다.국도시세입!F4:F5 -> 2020년예산 ( B ) | F4: 증감 (B-A) | H4: 산 출 내 역
A5: 관 | B5: 항 | C5: 목 | F5: 금액 | G5: 비율(%)
A6: 총 계 | D6: 225700000 | E6: =E7+E10+E13+E16+E19+E23+E26+E30 -> 226800000 | F6: =F7+F10+F13+F16+F19+F23+F26+F30 -> 1100000 | G6: =F6/D6*100 -> 0.48737262 | J6: =E6-'라-2.자부담세출'!F6 -> 0
A7: 입소자부담금 | B7: 계 | D7: 134400000 | E7: =E8 -> 134400000 | F7: =F8 -> 0 | G7: =F7/D7*100 -> 0
B8: 입소비용수입 | C8: 소계 | D8: 134400000 | E8: =E9 -> 134400000 | F8: =F9 -> 0 | G8: =F8/D8*100 -> 0
C9: 입소비용수입 | D9: 134400000 | E9: 134400000 | F9: =E9-D9 -> 0 | G9: =F9/D9*100 -> 0 | H9: 실비인원 32명*350,000원*12개월=134,400,000원
A10: 사업수입 | B10: 계 | D10: 0 | E10: =E11 -> 0 | F10: =F11 -> 0 | G10: 0
B11: 사업수입 | C11: 소계 | D11: 0 | E11: =E12 -> 0 | F11: =F12 -> 0 | G11: 0
C12: 프로그램사업수입 | D12: 0 | E12: 0 | F12: =E12-D12 -> 0 | G12: 0 | H12: 0
A13: 과년도수입 | B13: 계 | D13: 0 | E13: =E14 -> 0 | F13: =F14 -> 0 | G13: 0
B14: 과년도수입 | C14: 소계 | D14: 0 | E14: =E15 -> 0 | F14: =F15 -> 0 | G14: 0
C15: 과년도수입 | D15: 0 | E15: 0 | F15: =E15-D15 -> 0 | G15: 0
A16: 보조금수입 | B16: 계 | D16: 0 | E16: =E17 -> 0 | F16: =F17 -> 0 | G16: 0
C17: 소계 | D17: 0 | E17: =E18 -> 0 | F17: =F18 -> 0 | G17: 0
D18: 0 | E18: 0 | F18: =C18-B18 -> 0 | G18: 0
A19: 차입금 | B19: 계 | D19: 0 | E19: =E20 -> 0 | F19: =F20 -> 0 | G19: 0
B20: 차입금 | C20: 소계 | D20: 0 | E20: =SUM(E21:E22) -> 0 | F20: =SUM(F21:F22) -> 0 | G20: 0
C21: 금융기관차입 | D21: 0 | E21: 0 | F21: =E21-D21 -> 0 | G21: 0
C22: 기타차입금 | D22: 0 | E22: 0 | F22: =E22-D22 -> 0 | G22: 0
A23: 전입금 | B23: 계 | D23: 40000000 | E23: =E24 -> 40000000 | F23: =F24 -> 0 | G23: =F23/D23*100 -> 0
B24: 전입금 | C24: 소계 | D24: 40000000 | E24: =E25 -> 40000000 | F24: =F25 -> 0 | G24: =F24/D24*100 -> 0
C25: 법인전입금 | D25: 40000000 | E25: 40000000 | F25: =E25-D25 -> 0 | G25: =F25/D25*100 -> 0 | H25: 음식물처리기,식기세척기,전기오븐,CCTV설치등 10년이상 사용된 노후설비기구 교체비용및직책보조비, 기타운영비등
A26: 이월금 | B26: 계 | D26: 5266654 | E26: =E27 -> 6300000 | F26: =F27 -> 1033346 | G26: =F26/D26*100 -> 19.620541
B27: 이월금 | C27: 소계 | D27: 5266654 | E27: =SUM(E28:E29) -> 6300000 | F27: =SUM(F28:F29) -> 1033346 | G27: =F27/D27*100 -> 19.620541
C28: 전년도이월금 | D28: 5266654 | E28: 6300000 | F28: =E28-D28 -> 1033346 | G28: =F28/D28*100 -> 19.620541 | H28: * 입소비용수입 이월금( 5,000,000원) * 법인전입금 이월금 ( 500,000원) * 종사자식대 이월금 ( 100,000원) * 기타 잡수입 이월금 ( 500,000원) * 예금이자 이월금 ( 200,000원)
C29: 이월사업비 | D29: 0 | E29: 0 | F29: =E29-D29 -> 0 | G29: 0
A30: 잡수입 | B30: 계 | D30: 46033346 | E30: =E31 -> 46100000 | F30: =F31 -> 66654 | G30: =F30/D30*100 -> 0.14479504
B31: 잡수입 | C31: 소계 | D31: 46033346 | E31: =SUM(E32:E34) -> 46100000 | F31: =SUM(F32:F34) -> 66654 | G31: =F31/D31*100 -> 0.14479504
C32: 불용품매각대 | D32: 500000 | E32: 500000 | F32: =E32-D32 -> 0 | G32: =F32/D32*100 -> 0
C33: 기타예금이자수입 | D33: 483346 | E33: 550000 | F33: =E33-D33 -> 66654 | G33: =F33/D33*100 -> 13.790121
C34: 기타잡수입 | D34: 45050000 | E34: 45050000 | F34: =E34-D34 -> 0 | G34: =F34/D34*100 -> 0 | H34: 종사자급식비30,000,000/ 임대료(SK,LG) 6,050,000/ 기타 9,000,000
E67: 0

Sheet 다-3.후원금세입
A1: 다. 세 입
A2: 3) 후원금세입내역
H3: (단위:원)
A4: 과 목 | D4: ='다-2.자부담세입'!D4:D5 -> 전년도예산 ( A ) | E4: ='다-2.자부담세입'!E4:E5 -> 2020년예산 ( B ) | F4: 증감(B-A) | H4: 산 출 내 역
A5: 관 | B5: 항 | C5: 목 | F5: 금액 | G5: 비율(%)
A6: 총 계 | D6: 389800000 | E6: =E7+E10+E13+E16+E22+E26+E29+E33 -> 380700000 | F6: =F10+F22+F26+F29+F33+F13+F7+F16 -> -9100000 | G6: =F6/D6*100 -> -2.3345305 | J6: =E6-'라-3.후원금세출'!F6 -> 0
A7: 입소자부담금 | B7: 계 | D7: 0 | E7: =E8 -> 0 | F7: =F8 -> 0 | G7: 0
B8: 입소비용수입 | C8: 소계 | D8: 0 | E8: =E9 -> 0 | F8: =F9 -> 0 | G8: 0
C9: 입소비용수입 | D9: 0 | E9: 0 | F9: =E9-D9 -> 0 | G9: 0
A10: 과년도수입 | B10: 계 | D10: 0 | E10: =E11 -> 0 | F10: =F11 -> 0 | G10: 0
B11: 과년도수입 | C11: 소계 | D11: 0 | E11: =E12 -> 0 | F11: =F12 -> 0 | G11: 0
C12: 과년도수입 | D12: 0 | E12: 0 | F12: =E12-D12 -> 0 | G12: 0
A13: 보조금수입 | B13: 계 | D13: 0 | E13: =E14 -> 0 | F13: =F14 -> 0 | G13: 0
B14: 후원금수입 | C14: 소계 | D14: 0 | E14: =E15 -> 0 | F14: =F15 -> 0 | G14: 0
C15: 후원금수입 | D15: 0 | E15: 0 | F15: =E15-D15 -> 0 | G15: 0
A16: 후원금수입 | B16: 계 | D16: 364200000 | E16: =E17+E20 -> 364200000 | F16: =E16-D16 -> 0 | G16: =F16/D16*100 -> 0
B17: 후원금수입 | C17: 소계 | D17: 364200000 | E17: =SUM(E18:E19) -> 364200000 | F17: =E17-D17 -> 0 | G17: =F17/D17*100 -> 0
C18: 지정후원금 | D18: 14200000 | E18: =12700000+1500000 -> 14200000 | F18: =E18-D18 -> 0 | G18: =F18/D18*100 -> 0 | H18: * 25인승 버스구입 지정후원 : 12,000,000원 * 재활프로그램 지정후원 : 700,000원 * 결연후원금 : 1,500,000원
C19: 비지정후원금 | D19: 350000000 | E19: 350000000 | F19: =E19-D19 -> 0 | G19: =F19/D19*100 -> 0 | H19: 월평균 29,167,000원*12월=350,000,000원
F20: =E20-D20 -> 0 | G20: =F20/D20*100 -> #DIV/0!
F21: =E21-D21 -> 0 | G21: =F21/D21*100 -> #DIV/0!
A22: 차입금 | B22: 계 | D22: 0 | E22: =E23 -> 0 | F22: =E22-D22 -> 0 | G22: 0
B23: 차입금 | C23: 소계 | D23: 0 | E23: =SUM(E24:E25) -> 0 | F23: =E23-D23 -> 0 | G23: 0
C24: 금융기관차입 | D24: 0 | E24: 0 | F24: =E24-D24 -> 0 | G24: 0
C25: 기타차입금 | D25: 0 | E25: 0 | F25: =E25-D25 -> 0 | G25: 0
A26: 전입금 | B26: 계 | D26: 0 | E26: =E27 -> 0 | F26: =E26-D26 -> 0 | G26: 0
B27: 전입금 | C27: 소계 | D27: 0 | E27: =E28 -> 0 | F27: =E27-D27 -> 0 | G27: 0
C28: 법인전입금 | D28: 0 | E28: 0 | F28: =E28-D28 -> 0 | G28: 0
A29: 이월금 | B29: 계 | D29: 24987142 | E29: =E30 -> 15900000 | F29: =E29-D29 -> -9087142 | G29: =F29/D29*100 -> -36.367272
B30: 이월금 | C30: 소계 | D30: 24987142 | E30: =SUM(E31:E32) -> 15900000 | F30: =E30-D30 -> -9087142 | G30: =F30/D30*100 -> -36.367272
C31: 전년도이월금 | D31: 24987142 | E31: 15900000 | F31: =E31-D31 -> -9087142 | G31: =F31/D31*100 -> -36.367272 | H31: * 비지정후원금 이월금 (13,00,000원), * 지정후원금 이월금 ( 2,00.000원), * 후원금예금이자 이월금 ( 900,000원).
C32: 이월사업비 | D32: 0 | E32: 0 | F32: =E32-D32 -> 0 | G32: 0
A33: 잡수입 | B33: 계 | D33: 612858 | E33: =E34 -> 600000 | F33: =E33-D33 -> -12858 | G33: =F33/D33*100 -> -2.098039
B34: 잡수입 | C34: 소계 | D34: 612858 | E34: =SUM(E35:E37) -> 600000 | F34: =E34-D34 -> -12858 | G34: =F34/D34*100 -> -2.098039
C35: 불용품매각대 | D35: 0 | E35: 0 | F35: =E35-D35 -> 0 | G35: 0
C36: 기타예금이자수입 | D36: 612858 | E36: 600000 | F36: =E36-D36 -> -12858 | G36: =F36/D36*100 -> -2.098039
C37: 기타잡수입 | D37: 0 | E37: 0 | F37: =E37-D37 -> 0 | G37: 0
E67: 0

Sheet 라.국도비세출
A1: 라. 세 출
A2: 1) 보조금 세출내역
Q3: (단위:원)
A4: 과 목 | E4: ='다-3.후원금세입'!D4:D5 -> 전년도예산 ( A ) | F4: ='다-3.후원금세입'!E4:E5 -> 2020년예산 ( B ) | G4: 증감(B-A) | I4: 산 출 내 역
A5: 관 | B5: 항 | C5: 목 | D5: 세목 | G5: 금액 | H5: 비율(%)
A6: 총 계 | E6: 2491240000 | F6: =F7+F36+F41+F56+F59 -> 2415800000 | G6: =F6-E6 -> -75440000 | H6: =G6/E6*100 -> -3.0282109 | I6: * 시설당기본지원 : 2,264,000원*30명 = 67,920,000원 * 생활장애인가중지원 : 635,000원*50명 = 31,750,000원 | T6: =(67920000)+(31750000) -> 99670000
A7: 사무비 | B7: 계 | E7: 2212619880 | F7: =F8+F22+F26 -> 2212619880 | G7: =F7-E7 -> 0 | H7: =G7/E7*100 -> 0 | I7: 운영비합계액 | Q7: 99670000 | R7: 원 | T7: =SUM(F22,F27,F28,F29,F31,F32,F33,F34,F37,F48,F49,F51) -> 99670000
B8: 인건비 | C8: 소계 | E8: 2153919880 | F8: =F9+F10+F16+F21+F15 -> 2153919880 | G8: =F8-E8 -> 0 | H8: =G8/E8*100 -> 0 | T8: =T6-T7 -> 0
C9: 급여 | E9: 1391304000 | F9: ='인건비총계표(보조금)'!F5 -> 1391304000 | G9: =F9-E9 -> 0 | H9: =G9/E9*100 -> 0 | I9: 종사자인건비 총계표 참조
C10: 제수당 | D10: 소계 | E10: 433361280 | F10: =SUM(F11:F13) -> 433361280 | G10: =F10-E10 -> 0 | H10: =G10/E10*100 -> 0
D11: 명절휴가비 | E11: 134188200 | F11: ='인건비총계표(보조금)'!M5 -> 134188200 | G11: =F11-E11 -> 0 | H11: =G11/E11*100 -> 0
D12: 연장근로수당 | E12: 277853080 | F12: ='인건비총계표(보조금)'!R5 -> 277853080 | G12: =F12-E12 -> 0 | H12: =G12/E12*100 -> 0
D13: 가족수당 | E13: 21320000 | F13: ='인건비총계표(보조금)'!O5 -> 21320000 | G13: =F13-E13 -> 0 | H13: =G13/E13*100 -> 0 | I13: 종사자인건비 총계표 참조
H14: =G14/E14*100 -> #DIV/0! | T14: =다.국도시세입!F6-라.국도비세출!F6 -> 0
C15: 퇴직적립금 | E15: 153616310 | F15: ='인건비총계표(보조금)'!W5 -> 153616310 | G15: =F15-E15 -> 0 | H15: =G15/E15*100 -> 0
C16: 사회보험부담금 | D16: 소계 | E16: 175638290 | F16: =SUM(F17:F20) -> 175638290 | G16: =F16-E16 -> 0 | H16: =G16/E16*100 -> 0 | X16: =SUM(F17-X17) -> 0 | Z16: ='인건비총계표(보조금)'!U5-'인건비총계표(보조금)'!U630 -> 1819575080
D17: 건강보험 부담금 | E17: 63773810 | F17: ='인건비총계표(보조금)'!Y5+'인건비총계표(보조금)'!Z5-6310 -> 63773810 | G17: =F17-E17 -> 0 | H17: =G17/E17*100 -> 0 | I17: 건강보험보험료 : 1,819,575,080원*3.23% = 58,772,280원 장기요양보험료 : 58,772,280*8.51% = 5,001,530원 | T17: ='인건비총계표(보조금)'!U5-'인건비총계표(보조금)'!U630 -> 1819575080 | U17: =ROUNDUP(T17*3.23%,-1) -> 58772280 | V17: =ROUNDUP(U17*8.51%,-1) -> 5001530 | W17: =ROUNDUP(('인건비총계표(보조금)'!U5-'인건비총계표(보조금)'!U630)*3.23%,-1) -> 58772280 | X17: =SUM(V17:W17) -> 63773810 | Z17: =SUM(Y16:Y17) -> 0
D18: 국민연금 부담금 | E18: 81880880 | F18: ='인건비총계표(보조금)'!X5+30 -> 81880880 | G18: =F18-E18 -> 0 | H18: =G18/E18*100 -> 0 | I18: 국민연금보험료 : 1,819,575,080원*4.5% = 81,880,880원 | T18: ='인건비총계표(보조금)'!U5-'인건비총계표(보조금)'!U630 -> 1819575080 | U18: =ROUNDUP(T18*4.5%,-1) -> 81880880 | V18: =F18-U18 -> 0
D19: 고용보험 부담금 | E19: 15873670 | F19: ='인건비총계표(보조금)'!AA5+30 -> 15873670 | G19: =F19-E19 -> 0 | H19: =G19/E19*100 -> 0 | I19: 고용보험료 : 1,763,741,030원*0.9% = 15,873,670원 | T19: ='인건비총계표(보조금)'!U5-'인건비총계표(보조금)'!U6-'인건비총계표(보조금)'!U630 -> 1763741030 | U19: =ROUNDUP(T19*0.9%,-1) -> 15873670 | V19: =F19-U19 -> 0
D20: 산재보험 부담금 | E20: 14109930 | F20: ='인건비총계표(보조금)'!AB5+80 -> 14109930 | G20: =F20-E20 -> 0 | H20: =G20/E20*100 -> 0 | I20: 산재보험료 : 1,763,741,030원*0.8%= | O20: 14,109,930원 | T20: ='인건비총계표(보조금)'!U5-'인건비총계표(보조금)'!U6-'인건비총계표(보조금)'!U630 -> 1763741030 | U20: =ROUNDUP(T20*0.8%,-1) -> 14109930 | V20: =F20-U20 -> 0
C21: 기타후생경비 | E21: 0 | F21: 0 | G21: =F21-E21 -> 0 | H21: =G21/E21*100 -> #DIV/0!
B22: 업무 추진비 | C22: 소계 | E22: 490000 | F22: =SUM(F23:F25) -> 490000 | G22: =F22-E22 -> 0 | H22: =G22/E22*100 -> 0
C23: 기관운영비 | E23: 0 | F23: 0 | G23: =F23-E23 -> 0 | H23: =G23/E23*100 -> #DIV/0!
C24: 직책보조비 | E24: 0 | F24: 0 | G24: =F24-E24 -> 0 | H24: =G24/E24*100 -> #DIV/0!
C25: 회의비 | E25: 490000 | F25: 490000 | G25: =F25-E25 -> 0 | H25: =G25/E25*100 -> 0 | I25: 인권지킴이단 회의비
B26: 운영비 | C26: 소계 | E26: 58210000 | F26: =F27+F28+F29+F30+F34+F35 -> 58210000 | G26: =F26-E26 -> 0 | H26: =G26/E26*100 -> 0
C27: 여비 | E27: 0 | F27: 0 | G27: =F27-E27 -> 0 | H27: =G27/E27*100 -> #DIV/0!
C28: 수용비및 수수료 | E28: 9084170 | F28: =9000000-125830+210000 -> 9084170 | G28: =F28-E28 -> 0 | H28: =G28/E28*100 -> 0 | I28: 사무용품비, 인쇄비, 수수료 등
C29: 공공요금 | E29: 38000000 | F29: 38000000 | G29: =F29-E29 -> 0 | H29: =G29/E29*100 -> 0 | I29: 수도료,전기료,우편료,전화료,운송료 등 | T29: 2931420 | U29: =T29*12 -> 35177040
C30: 제세공과금 | E30: 6625830 | F30: 6625830 | G30: =F30-E30 -> 0 | H30: =G30/E30*100 -> 0 | I30: 자동차보험료, 화재보험료등 | T30: 43916 | U30: =T30*80*12 -> 42159360
D31: 화재보험료 | G31: =F31-E31 -> 0 | H31: =G31/E31*100 -> #DIV/0! | I31: 소멸성 보험에 가입 | U31: =SUM(U29:U30) -> 77336400
D32: 상해보험료 | E32: 0 | F32: 0 | G32: =F32-E32 -> 0 | H32: =G32/E32*100 -> #DIV/0!
D33: 제세공과금 | E33: 6625830 | F33: 6625830 | G33: =F33-E33 -> 0 | H33: =G33/E33*100 -> 0 | I33: 화재, 음식물, 영업배상책임, 자동차보험료 등
C34: 차량비 | E34: 4500000 | F34: 4500000 | G34: =F34-E34 -> 0 | H34: =G34/E34*100 -> 0 | I34: 실제 운행중인 업무용 차량 연료 및 소모품 교체등
C35: 기타운영비 | E35: 0 | F35: 0 | G35: =F35-E35 -> 0 | H35: =G35/E35*100 -> #DIV/0! | I35: 화재, 음식물, 영업배상책임, 자동차보험료 등
A36: 재산조성비 | B36: 계 | E36: 12000000 | F36: =F37 -> 12000000 | G36: =F36-E36 -> 0 | H36: =G36/E36*100 -> 0
B37: 시설비 | C37: 소계 | E37: 12000000 | F37: =SUM(F38:F40) -> 12000000 | G37: =F37-E37 -> 0 | H37: =G37/E37*100 -> 0
C38: 시설비 | E38: 0 | F38: 0 | G38: =F38-E38 -> 0 | H38: =G38/E38*100 -> #DIV/0!
C39: 자산취득비 | E39: 0 | F39: 0 | G39: =F39-E39 -> 0 | H39: =G39/E39*100 -> #DIV/0!
C40: 시설장비 유지비 | D40: 건물유지비 | E40: 12000000 | F40: 12000000 | G40: =F40-E40 -> 0 | H40: =G40/E40*100 -> 0 | I40: 건물 유지 관리비
A41: 사업비 | B41: 계 | E41: 225997570 | F41: =F42+F50 -> 165432640 | G41: =F41-E41 -> -60564930 | H41: =G41/E41*100 -> -26.79893
B42: 운영비 | C42: 소계 | E42: 157466570 | F42: =SUM(F43,F47) -> 155332640 | G42: =F42-E42 -> -2133930 | H42: =G42/E42*100 -> -1.3551638
C43: 생계비 | D43: 소계 | E43: 136496570 | F43: =SUM(F44:F46) -> 134362640 | G43: =F43-E43 -> -2133930 | H43: =G43/E43*100 -> -1.563358 | T43: =F43*70% -> 94053848
D44: 특별위로금 | E44: 3448500 | F44: =생활보장급여!G8 -> 3412200 | G44: =F44-E44 -> -36300 | H44: =G44/E44*100 -> -1.0526316 | I44: 36,300원 X 47명 X 1회 / 36,300원 X 48명 X 1회 (설,추석)지급 | T44: =F43*30% -> 40308792
D45: 주부식비 | E45: 131505780 | F45: =생활보장급여!G10 -> 129440280 | G45: =F45-E45 -> -2065500 | H45: =G45/E45*100 -> -1.5706534 | I45: 229,504원 X 47명 X 3회 / 229,504원 X 48명 X 9회 | T45: =F45+#REF!+#REF!+'라-2.자부담세출'!F52+'라-3.후원금세출'!F54+#REF! -> #REF!
D46: 월동대책비 | E46: 1542290 | F46: =생활보장급여!G11 -> 1510160 | G46: =F46-E46 -> -32130 | H46: =G46/E46*100 -> -2.0832658 | I46: 32,131원 X 48명 X 1회
C47: 수용기관경비 | D47: 소계 | E47: 20970000 | F47: =SUM(F48:F49) -> 20970000 | G47: =F47-E47 -> 0 | H47: =G47/E47*100 -> 0
D48: 위생재료비 | E48: 7000000 | F48: 7000000 | G48: =F48-E48 -> 0 | H48: =G48/E48*100 -> 0 | I48: 장애인의 위생관리를 위한 용품 구입비 등
D49: 일상용품비 | E49: 13970000 | F49: =13700000+270000 -> 13970000 | G49: =F49-E49 -> 0 | H49: =G49/E49*100 -> 0 | I49: 일상 생활용품 경비
B50: 사업비 | C50: 소계 | E50: 68531000 | F50: =SUM(F51:F52) -> 10100000 | G50: =F50-E50 -> -58431000 | H50: =G50/E50*100 -> -85.262144
C51: 사회심리 재활사업비 | D51: 여행경비등 | E51: 8000000 | F51: 8000000 | G51: =F51-E51 -> 0 | H51: =G51/E51*100 -> 0 | I51: 여름캠프 및 가을여행등 소요경비.
C52: 기 능 보 강 사업비 | D52: 소계 | E52: 60531000 | F52: =SUM(F53:F55) -> 2100000 | G52: =F52-E52 -> -58431000 | H52: =G52/E52*100 -> -96.530703
D53: 기 능 보 강 사업비 | E53: 50006000 | G53: =F53-E53 -> -50006000 | H53: 0 | I53: 지열시스템 압축기및 판형 열환기 교체사업 종료
D54: 기 능 보 강 사업비 | E54: 9650000 | G54: =F54-E54 -> -9650000 | H54: 0 | I54: LED 지원사업종료
D55: 기 능 보 강 사업비 | E55: 875000 | F55: 2100000 | G55: =F55-E55 -> 1225000 | H55: 0 | I55: 공기청정기 지원사업선정에 따른 차액발생
A56: 잡지출 | B56: 계 | E56: 511720 | F56: =F57 -> 542480 | G56: =F56-E56 -> 30760 | H56: =G56/E56*100 -> 6.0110998
B57: 잡지출 | C57: 소계 | E57: 511720 | F57: =F58 -> 542480 | G57: =F57-E57 -> 30760 | H57: =G57/E57*100 -> 6.0110998
C58: 잡지출 | E58: 511720 | F58: =다.국도시세입!F39 -> 542480 | G58: =F58-E58 -> 30760 | H58: =G58/E58*100 -> 6.0110998
A59: 예비비및기타 | B59: 계 | E59: 40110830 | F59: =F60 -> 25205000 | G59: =F59-E59 -> -14905830 | H59: =G59/E59*100 -> -37.161609
B60: 보조금반환 | C60: 소계 | E60: 40110830 | F60: =F61 -> 25205000 | G60: =F60-E60 -> -14905830 | H60: =G60/E60*100 -> -37.161609
C61: 보조금반환 | E61: 40110830 | F61: =다.국도시세입!F34 -> 25205000 | G61: =F61-E61 -> -14905830 | H61: =G61/E61*100 -> -37.161609

Sheet 라-1.도시(군)세출
A1: 라-1. 세 출
A2: 2) 보조금 세출내역
A3: 7종 | Q3: (단위:원)
A4: 과 목 | E4: ='다-3.후원금세입'!D4:D5 -> 전년도예산 ( A ) | F4: ='다-3.후원금세입'!E4:E5 -> 2020년예산 ( B ) | G4: 증감(B-A) | I4: 산 출 내 역
A5: 관 | B5: 항 | C5: 목 | D5: 세목 | G5: 금액 | H5: 비율(%)
A6: 총 계 | E6: 212260000 | F6: =SUM(F7,F20,F34,F37) -> 207420000 | G6: =F6-E6 -> -4840000 | H6: =G6/E6*100 -> -2.2802224 | T6: =(67920000)+(31750000) -> 99670000
A7: 사무비 | B7: 인건비 | C7: 계 | E7: 155111300 | F7: =F8+F9+F14+F15 -> 155111300 | G7: =F7-E7 -> 0 | H7: =G7/E7*100 -> 0
C8: 급여 | E8: 78161000 | F8: ='인건비총계표(보조금)'!F676 -> 78161000 | G8: =F8-E8 -> 0 | H8: =G8/E8*100 -> 0 | I8: 종사자인건비 총계표 참조
C9: 제수당 | D9: 소계 | E9: 57149600 | F9: =SUM(F10:F13) -> 57149600 | G9: =F9-E9 -> 0 | H9: =G9/E9*100 -> 0 | I9: 종사자인건비 총계표 참조
D10: 명절휴가비 | E10: 7817400 | F10: ='인건비총계표(보조금)'!M676 -> 7817400 | G10: =F10-E10 -> 0 | H10: =G10/E10*100 -> 0
D11: 연장근로수당 | E11: 21756400 | F11: ='인건비총계표(보조금)'!R676 -> 21756400 | G11: =F11-E11 -> 0 | H11: =G11/E11*100 -> 0
D12: 가족수당 | E12: 1200000 | F12: ='인건비총계표(보조금)'!O676 -> 1200000 | G12: =F12-E12 -> 0 | H12: =G12/E12*100 -> 0
D13: 연장추가 지원수당 | E13: 26375800 | F13: ='인건비총계표(보조금)'!S5+'인건비총계표(보조금)'!S676 -> 26375800 | G13: =F13-E13 -> 0 | H13: =G13/E13*100 -> 0
C14: 퇴직적립금 | E14: 9178460 | F14: ='인건비총계표(보조금)'!W676 -> 9178460 | G14: =F14-E14 -> 0 | H14: =G14/E14*100 -> 0
C15: 사회보험부담금 | D15: 소계 | E15: 10622240 | F15: =SUM(F16:F19) -> 10622240 | G15: =F15-E15 -> 0 | H15: =G15/E15*100 -> 0
D16: 건강보험 부담금 | E16: 3814500 | F16: ='인건비총계표(보조금)'!Y676+'인건비총계표(보조금)'!Z676 -> 3814500 | G16: =F16-E16 -> 0 | H16: =G16/E16*100 -> 0
D17: 국민연금 부담금 | E17: 4935400 | F17: ='인건비총계표(보조금)'!X676 -> 4935400 | G17: =F17-E17 -> 0 | H17: =G17/E17*100 -> 0
D18: 고용보험 부담금 | E18: 991240 | F18: ='인건비총계표(보조금)'!AA676 -> 991240 | G18: =F18-E18 -> 0 | H18: =G18/E18*100 -> 0
D19: 산재보험 부담금 | E19: 881100 | F19: ='인건비총계표(보조금)'!AB676 -> 881100 | G19: =F19-E19 -> 0 | H19: =G19/E19*100 -> 0
A20: 사업비 | B20: 계 | E20: 45740000 | F20: =SUM(F21,F25,F31,F33) -> 46160000 | G20: =F20-E20 -> 420000
C21: 7종운영지원사업비 | D21: 소계 | E21: 6600000 | F21: =SUM(F22:F24) -> 6600000 | G21: =F21-E21 -> 0
D22: 차량운영비 | E22: 3600000 | F22: 3600000 | G22: =F22-E22 -> 0 | H22: =G22/E22*100 -> 0 | I22: 300,000원 X 12개월 = 3,600,000원
D23: 환경개선사업 | E23: 0 | F23: 0 | G23: =F23-E23 -> 0 | H23: =G23/E23*100 -> #DIV/0! | I23: 7,000,000원 X 1개소 = 7,000,000원
D24: 간병인비 | E24: 3000000 | F24: 3000000 | G24: =F24-E24 -> 0 | H24: =G24/E24*100 -> 0 | I24: 200,000원*15회=3,000,000원
C25: 4종운영지원사업비 | D25: 소계 | E25: 32840000 | F25: =SUM(F26:F30) -> 32840000 | G25: =F25-E25 -> 0
D26: 입소자 부식비 | E26: 14600000 | F26: ='4종'!O5 -> 14600000 | G26: =F26-E26 -> 0 | I26: 500원 X 80명 X 365일
D27: 입소자 간식비 | E27: 4800000 | F27: ='4종'!O19 -> 4800000 | G27: =F27-E27 -> 0 | I27: 5,000원 X 80명 X 12개월
D28: 입소자 피복비 | E28: 6400000 | F28: ='4종'!O34 -> 6400000 | G28: =F28-E28 -> 0 | I28: 20,000원 X 80명 X 4회
D29: 입소자 특별급식비 | E29: 3840000 | F29: ='4종'!O35 -> 3840000 | G29: =F29-E29 -> 0 | I29: 12,000원 X 80명 X 4회
D30: 입소자 건강진단비 | E30: 3200000 | F30: ='4종'!O41 -> 3200000 | G30: =F30-E30 -> 0 | I30: 40,000원 X 80명 X 1회
C31: 재활프로그램사업비 | D31: 소계 | E31: 6300000 | F31: =F32 -> 6720000 | G31: =F31-E31 -> 420000
D32: 재활프로그램사업비 | E32: 6300000 | F32: 6720000 | G32: =F32-E32 -> 420000 | I32: 우리가 모여 해누리 카페2
C33: 추가지원사업비 | E33: 0 | F33: 0 | G33: =F33-E33 -> 0 | H33: =G33/E33*100 -> #DIV/0!
A34: 잡지출 | B34: 계 | E34: 113742 | F34: =F35 -> 66700 | G34: =F34-E34 -> -47042 | H34: =G34/E34*100 -> -41.358513
B35: 잡지출 | C35: 소계 | E35: 113742 | F35: =F36 -> 66700 | G35: =F35-E35 -> -47042 | H35: =G35/E35*100 -> -41.358513
C36: 잡지출 | E36: 113742 | F36: 66700 | G36: =F36-E36 -> -47042 | H36: =G36/E36*100 -> -41.358513
A37: 예비비및기타 | B37: 계 | E37: 11294958 | F37: =F38 -> 6082000 | G37: =F37-E37 -> -5212958 | H37: =G37/E37*100 -> -46.152965
B38: 보조금반환 | C38: 소계 | E38: 11294958 | F38: =F39 -> 6082000 | G38: =F38-E38 -> -5212958 | H38: =G38/E38*100 -> -46.152965
C39: 보조금반환 | E39: 11294958 | F39: ='다-1.도시(군)세입'!F23 -> 6082000 | G39: =F39-E39 -> -5212958 | H39: =G39/E39*100 -> -46.152965 | I39: 2018년 결산에 의한 보조금 반환액

Sheet 라-2.자부담세출
A1: 라. 세 출
A2: 3) 자부담 세출내역
I3: (단위:원)
A4: 과 목 | E4: =라.국도비세출!E4:E5 -> 전년도예산 ( A ) | F4: =라.국도비세출!F4:F5 -> 2020년예산 ( B ) | G4: 증감(B-A) | I4: 산 출 내 역
A5: 관 | B5: 항 | C5: 목 | D5: 세목 | G5: 금액 | H5: 비율(%) | T5: 이월금 포함
A6: 총 계 | E6: 225700000 | F6: =F7+F45+F50+F90+F87+F84 -> 226800000 | G6: =G7+G45+G50+G90+G87+G84 -> 1100000 | H6: =G6/E6*100 -> 0.48737262 | S6: ='다-2.자부담세입'!E6-'라-2.자부담세출'!F6 -> 0 | U6: =SUM(U7:U12) -> 211508600 | V6: =SUM(V7:V12) -> 191619660 | W6: =SUM(W32:W92) -> 170108600 | Z6: ='다-2.자부담세입'!E6 -> 226800000 | AB6: =F6-'다-2.자부담세입'!E6 -> 0 | AD6: ='다-2.자부담세입'!E6-'라-2.자부담세출'!F6 -> 0
A7: 사무비 | B7: 계 | E7: 92700000 | F7: =F8+F33+F38 -> 88800000 | G7: =F7-E7 -> -3900000 | H7: =G7/E7*100 -> -4.2071197 | T7: 유료입소 | U7: ='다-2.자부담세입'!E8 -> 134400000 | V7: =U41+U52+U75+U77+U78+U53 -> 86500000 | W7: =U7-V7 -> 47900000
B8: 인건비 | C8: 소계 | E8: 33511060 | F8: =F9+F10+F11+F12+F26+F27+F32 -> 33511060 | G8: =F8-E8 -> 0 | H8: =G8/E8*100 -> 0 | T8: 법인전입-승마 | U8: 0 | V8: =F80 -> 0 | W8: =U8-V8 -> 0 | Z8: =F6-Z6 -> 0
C9: 급여 | E9: 0 | F9: 0 | G9: =F9-E9 -> 0 | H9: =G9/E9*100 -> #DIV/0! | T9: 법인전입 | U9: 43648948 | V9: =F9+F10+F11+F12+F26+F27+T32+T41+T40+T42+T44+T47+T48+T49+T35+T37+T43+T75+T76+T77+T53+T90 -> 71660008 | W9: =U9-V9 -> -28011060
C10: 상여금 | E10: 0 | F10: 0 | G10: =F10-E10 -> 0 | H10: =G10/E10*100 -> #DIV/0! | T10: 잡수입-식대 | U10: 19000000 | V10: =V52 -> 19000000 | W10: =U10-V10 -> 0
C11: 일용잡급 | E11: 0 | F11: 0 | G11: =F11-E11 -> 0 | H11: =G11/E11*100 -> #DIV/0! | T11: 잡수입 | U11: 9283923 | V11: =V90+V87+V53+V40+V41+V42+V43+V44+V49+V34+V37+V78 -> 9283923 | W11: =U11-V11 -> 0
C12: 제수당 | D12: 소계 | E12: 19000000 | F12: =SUM(F13:F25) -> 19000000 | G12: =F12-E12 -> 0 | H12: =G12/E12*100 -> 0 | T12: 프로그램수입 | U12: 5175729 | V12: =V74+V75+V76+V77 -> 5175729 | W12: =U12-V12 -> 0
D13: 가계보조수당 | E13: 0 | F13: 0 | G13: =F13-E13 -> 0 | H13: =G13/E13*100 -> #DIV/0!
D14: 교통급식비 | E14: 0 | F14: 0 | G14: =F14-E14 -> 0 | H14: =G14/E14*100 -> #DIV/0!
D15: 명절휴가비 | E15: 0 | F15: 0 | G15: =F15-E15 -> 0 | H15: =G15/E15*100 -> #DIV/0!
D16: 생활복지사수당 | E16: 0 | F16: 0 | G16: =F16-E16 -> 0 | H16: =G16/E16*100 -> #DIV/0!
D17: 생활지도원수당 | E17: 0 | F17: 0 | G17: =F17-E17 -> 0 | H17: =G17/E17*100 -> #DIV/0!
D18: 조리.위생수당 | E18: 0 | F18: 0 | G18: =F18-E18 -> 0 | H18: =G18/E18*100 -> #DIV/0!
G19: =F19-E19 -> 0 | H19: =G19/E19*100 -> #DIV/0!
D20: 가족수당 | E20: 0 | F20: 0 | G20: =F20-E20 -> 0 | H20: =G20/E20*100 -> #DIV/0!
D21: 직책수당 | E21: 19000000 | F21: ='인건비총계표(자부담)'!S5 -> 19000000 | G21: =F21-E21 -> 0 | H21: =G21/E21*100 -> 0 | I21: 기관장(300,000원),사무국장(200,000원), 과장(150,000원,2명),팀장(100,000원, 8명)
E22: 0 | F22: 0 | G22: =F22-E22 -> 0 | H22: =G22/E22*100 -> #DIV/0!
E23: 0 | F23: 0 | G23: =F23-E23 -> 0 | H23: =G23/E23*100 -> #DIV/0!
E24: 0 | F24: 0 | G24: =F24-E24 -> 0 | H24: =G24/E24*100 -> #DIV/0!
E25: 0 | F25: 0 | G25: =F25-E25 -> 0 | H25: =G25/E25*100 -> #DIV/0!
C26: 퇴직금및 적립금 | E26: 1583330 | F26: ='인건비총계표(자부담)'!U5 -> 1583330 | G26: =F26-E26 -> 0 | H26: =G26/E26*100 -> 0
C27: 사회보험 부담비용 | D27: 소계 | E27: 927730 | F27: =SUM(F28:F31) -> 927730 | G27: =F27-E27 -> 0 | H27: =G27/E27*100 -> 0
D28: 건강보험부담금 | E28: 665930 | F28: ='인건비총계표(자부담)'!W5+'인건비총계표(자부담)'!X5-10 -> 665930 | G28: =F28-E28 -> 0 | H28: =G28/E28*100 -> 0 | I28: 건강보험보험료 : 19,000,000원*3.23% = 613,700원 장기요양보험료 : 581,400원*8.51% = 52,,230원 | S28: =ROUNDUP(F21*3.23%,-1) -> 613700 | T28: =ROUNDUP(S28*8.51%,-1) -> 52230 | U28: =SUM(S28:T28) -> 665930 | V28: =U28-F28 -> 0
D29: 국민연금부담금 | E29: 0 | F29: 0 | G29: =F29-E29 -> 0 | H29: =G29/E29*100 -> #DIV/0! | S29: =ROUNDUP(F22*3.12%,-1) -> 0
D30: 고용보험부담금 | E30: 138600 | F30: ='인건비총계표(자부담)'!Y5 -> 138600 | G30: =F30-E30 -> 0 | H30: =G30/E30*100 -> 0 | I30: 고용보험료 : 15,400,000원*0.9% = 138,600원 | S30: =F21-'인건비총계표(자부담)'!S7:S7 -> 15400000 | T30: =ROUNDUP(S30*0.9%,-1) -> 138600
D31: 산재보험부담금 | E31: 123200 | F31: ='인건비총계표(자부담)'!Z5 -> 123200 | G31: =F31-E31 -> 0 | H31: =G31/E31*100 -> 0 | I31: 산재보험료 : 15,400,000원*0.8% = 123,200원 | S31: =F21-'인건비총계표(자부담)'!S7:S7 -> 15400000 | T31: =ROUNDUP(S31*0.8%,-1) -> 123200
C32: 기타후생경비 | E32: 12000000 | F32: 12000000 | G32: =F32-E32 -> 0 | H32: =G32/E32*100 -> 0 | I32: 종사자체육대회,기타상해보험,해외연수등복리후생비 등 | S32: 법인 | T32: =F32 -> 12000000 | W32: =T32+U32+V32 -> 12000000
B33: 업무 추진비 | C33: 소계 | E33: 2000000 | F33: =SUM(F34:F37) -> 2000000 | G33: =F33-E33 -> 0 | H33: =G33/E33*100 -> 0 | W33: =T33+U33+V33 -> 0
C34: 기관운영비 | E34: 0 | F34: 0 | G34: =F34-E34 -> 0 | H34: =G34/E34*100 -> #DIV/0! | S34: 기타 | V34: 300000 | W34: =T34+U34+V34 -> 300000
C35: 직책보조비 | E35: 0 | F35: 0 | G35: =F35-E35 -> 0 | H35: =G35/E35*100 -> #DIV/0! | T35: =F35 -> 0 | W35: =T35+U35+V35 -> 0
C36: 홍보비 | E36: 0 | F36: 0 | G36: =F36-E36 -> 0 | H36: =G36/E36*100 -> #DIV/0! | W36: =T36+U36+V36 -> 0
C37: 회의비 | E37: 2000000 | F37: 2000000 | G37: =F37-E37 -> 0 | H37: =G37/E37*100 -> 0 | I37: 인권지킴이, 운영위원회등 경비 | S37: 기타,법인 | T37: 1000000 | V37: 1000000 | W37: =T37+U37+V37 -> 2000000
B38: 운영비 | C38: 소계 | E38: 57188940 | F38: =SUM(F39:F44) -> 53288940 | G38: =F38-E38 -> -3900000 | H38: =G38/E38*100 -> -6.8195004 | W38: =T38+U38+V38 -> 0
C39: 여비 | E39: 0 | F39: 0 | G39: =F39-E39 -> 0 | H39: 0 | W39: =T39+U39+V39 -> 0
C40: 수용비및 수수료 | E40: 5688940 | F40: 5688940 | G40: =F40-E40 -> 0 | H40: =G40/E40*100 -> 0 | I40: 사무용품비, 인쇄비, 수수료 등 | S40: 기타,법인 | T40: 324677 | V40: 223923 | W40: =T40+U40+V40 -> 548600
C41: 공공요금 | E41: 45000000 | F41: 41100000 | G41: =F41-E41 -> -3900000 | H41: =G41/E41*100 -> -8.6666667 | I41: 수도료,전기료,우편료,전화료,운송료 등 | S41: 입소,법인 | T41: 4540000 | U41: 35500000 | V41: 0 | W41: =T41+U41+V41 -> 40040000
C42: 제세공과금 | E42: 2000000 | F42: 2000000 | G42: =F42-E42 -> 0 | H42: =G42/E42*100 -> 0 | I42: 제세공과금 | S42: 기타 | T42: 500000 | V42: 500000 | W42: =T42+U42+V42 -> 1000000
C43: 차량비 | E43: 500000 | F43: 500000 | G43: =F43-E43 -> 0 | H43: =G43/E43*100 -> 0 | I43: 차량 주유비 및 정비료 | S43: 법인 | T43: 1000000 | V43: 0 | W43: =T43+U43+V43 -> 1000000
C44: 기타운영비 | E44: 4000000 | F44: 4000000 | G44: =F44-E44 -> 0 | H44: =G44/E44*100 -> 0 | I44: 직원근무복, 기타행사비(부활,성탄) | V44: 0 | W44: =T44+U44+V44 -> 0
A45: 재산조성비 | B45: 계 | E45: 0 | F45: =F46 -> 5000000 | G45: =F45-E45 -> 5000000 | H45: =G45/E45*100 -> #DIV/0! | W45: =T45+U45+V45 -> 0
B46: 시설비 | C46: 소계 | E46: 0 | F46: =SUM(F47:F49) -> 5000000 | G46: =F46-E46 -> 5000000 | H46: =G46/E46*100 -> #DIV/0! | W46: =T46+U46+V46 -> 0
C47: 시설비 | E47: 0 | F47: 0 | G47: =F47-E47 -> 0 | H47: =G47/E47*100 -> #DIV/0! | I47: 시설공사비 | S47: 법인 | T47: =F47 -> 0 | W47: =T47+U47+V47 -> 0
C48: 자산취득비 | E48: 0 | F48: 5000000 | G48: =F48-E48 -> 5000000 | H48: =G48/E48*100 -> #DIV/0! | I48: 음식물처리기,식기세척기,전기오븐,CCTV설치등 10년이상 사용된 노후설비기구 교체비용 | S48: 법인 | T48: 4000000 | W48: =T48+U48+V48 -> 4000000
C49: 시설장비 유지비 | E49: 0 | F49: 0 | G49: =F49-E49 -> 0 | H49: =G49/E49*100 -> #DIV/0! | S49: 기타,법인 | T49: =F49-V49 -> -5500000 | V49: 5500000 | W49: =T49+U49+V49 -> 0
A50: 사업비 | B50: 계 | E50: 133000000 | F50: =F51+F62+F73 -> 133000000 | G50: =F50-E50 -> 0 | H50: =G50/E50*100 -> 0 | W50: =T50+U50+V50 -> 0
B51: 운영비 | C51: 소계 | E51: 87000000 | F51: =SUM(F52,F53,F54,F57) -> 87000000 | G51: =F51-E51 -> 0 | H51: =G51/E51*100 -> 0 | W51: =T51+U51+V51 -> 0
C52: 생계비 | E52: 70000000 | F52: 70000000 | G52: =F52-E52 -> 0 | H52: =G52/E52*100 -> 0 | I52: 거주인 생계비 : 5,833,330원*12월=70,000,000원 | S52: 기타(식대),입소 | U52: 42000000 | V52: 19000000 | W52: =T52+U52+V52 -> 61000000 | Z52: ='다-2.자부담세입'!E8 -> 134400000
C53: 피복비 | E53: 4000000 | F53: 4000000 | G53: =F53-E53 -> 0 | H53: =G53/E53*100 -> 0 | I53: 거주인 피복구입비 : 2,000,000원*2회=4,000,000원 | S53: 기타 | T53: 200000 | U53: 500000 | V53: 300000 | W53: =T53+U53+V53 -> 1000000
C54: 수용기관경비 | D54: 소계 | E54: 11000000 | F54: =SUM(F55:F56) -> 11000000 | G54: =F54-E54 -> 0 | H54: =G54/E54*100 -> 0 | W54: =T54+U54+V54 -> 0
D55: 수용기관경비 | E55: 3000000 | F55: 3000000 | G55: =F55-E55 -> 0 | H55: =G55/E55*100 -> 0 | I55: 수용기관경비 250,000원*12월=3,000,000원
D56: 일상용품비 | E56: 8000000 | F56: 8000000 | G56: =F56-E56 -> 0 | H56: =G56/E56*100 -> 0 | I56: 일상용품구입비 666,667원*12월=8,000,000원 | W56: =T56+U56+V56 -> 0 | Z56: =F51+F73+F41 -> 174100000
C57: 의료비 | E57: 2000000 | F57: 2000000 | G57: =F57-E57 -> 0 | H57: =G57/E57*100 -> 0 | W57: =T57+U57+V57 -> 0
C58: 직업재활비 | E58: 0 | F58: 0 | G58: =F58-E58 -> 0 | H58: =G58/E58*100 -> #DIV/0! | W58: =T58+U58+V58 -> 0
C59: 자활사업비 | E59: 0 | F59: 0 | G59: =F59-E59 -> 0 | H59: =G59/E59*100 -> #DIV/0! | W59: =T59+U59+V59 -> 0
C60: 특별급식비 | E60: 0 | F60: 0 | G60: =F60-E60 -> 0 | H60: =G60/E60*100 -> #DIV/0! | W60: =T60+U60+V60 -> 0
C61: 연료비 | E61: 0 | F61: 0 | G61: =F61-E61 -> 0 | H61: =G61/E61*100 -> #DIV/0! | W61: =T61+U61+V61 -> 0
B62: 교육비 | C62: 소계 | E62: 0 | F62: =SUM(F63:F72) -> 0 | G62: =F62-E62 -> 0 | H62: =G62/E62*100 -> #DIV/0! | W62: =T62+U62+V62 -> 0
C63: 수업료 | E63: 0 | F63: 0 | G63: =F63-E63 -> 0 | H63: =G63/E63*100 -> #DIV/0! | W63: =T63+U63+V63 -> 0
C64: 학용품비 | E64: 0 | F64: 0 | G64: =F64-E64 -> 0 | H64: =G64/E64*100 -> #DIV/0! | W64: =T64+U64+V64 -> 0
C65: 도서구입비 | E65: 0 | F65: 0 | G65: =F65-E65 -> 0 | H65: =G65/E65*100 -> #DIV/0! | W65: =T65+U65+V65 -> 0
C66: 교통비 | E66: 0 | F66: 0 | G66: =F66-E66 -> 0 | H66: =G66/E66*100 -> #DIV/0! | W66: =T66+U66+V66 -> 0
C67: 급식비 | E67: 0 | F67: 0 | G67: =F67-E67 -> 0 | H67: =G67/E67*100 -> #DIV/0! | W67: =T67+U67+V67 -> 0
C68: 학습지원비 | E68: 0 | F68: 0 | G68: =F68-E68 -> 0 | H68: =G68/E68*100 -> #DIV/0! | W68: =T68+U68+V68 -> 0
C69: 수학여행비 | E69: 0 | F69: 0 | G69: =F69-E69 -> 0 | H69: =G69/E69*100 -> #DIV/0! | W69: =T69+U69+V69 -> 0
C70: 교복비 | E70: 0 | F70: 0 | G70: =F70-E70 -> 0 | H70: =G70/E70*100 -> #DIV/0! | W70: =T70+U70+V70 -> 0
C71: 이미용비 | E71: 0 | F71: 0 | G71: =F71-E71 -> 0 | H71: =G71/E71*100 -> #DIV/0! | W71: =T71+U71+V71 -> 0
C72: 기타교육비 | E72: 0 | F72: 0 | G72: =F72-E72 -> 0 | H72: =G72/E72*100 -> #DIV/0! | W72: =T72+U72+V72 -> 0
B73: 사업비 | C73: 소계 | E73: 46000000 | F73: =F74+F75+F76+F77+F78+F80 -> 46000000 | G73: =F73-E73 -> 0 | H73: =G73/E73*100 -> 0 | W73: =T73+U73+V73 -> 0 | Z73: =Z52-Z56 -> -39700000
C74: 의료재활사업비 | E74: 0 | F74: 0 | G74: =F74-E74 -> 0 | H74: 0 | W74: =T74+U74+V74 -> 0
C75: 사회심리 재활사업비 | E75: 41000000 | F75: 41000000 | G75: =F75-E75 -> 0 | H75: 0 | I75: 여행,등산,놀이 등에 소요되는 여비,기구 구입비 | S75: 입소,법인,사업 | T75: =F75-U75-V75 -> 33500000 | U75: 4500000 | V75: 3000000 | W75: =T75+U75+V75 -> 41000000
C76: 교육재활사업비 | E76: 0 | F76: 0 | G76: =F76-E76 -> 0 | H76: 0 | I76: 생활장애인의 교육 및 교양함양을 위한 교재/도서 구입비 (미술,한글교실 등) | S76: 입소,법인,사업 | T76: =F76-U76-V76 -> 0 | V76: 0 | W76: =T76+U76+V76 -> 0
C77: 직업재활 사업비 | E77: 5000000 | F77: 5000000 | G77: =F77-E77 -> 0 | H77: 0 | I77: 직업재활활동에 소요되는 비용 | S77: 입소,법인,사업 | T77: =F77-U77-V77-V78 -> -2175729 | U77: 4000000 | V77: 2175729 | W77: =T77+U77+V77+V78 -> 5000000
C78: 기능보강사업비 | E78: 0 | F78: 0 | G78: =F78-E78 -> 0 | H78: =F78/F6*100 -> 0 | U78: 0 | V78: 1000000
G79: =F79-E79 -> 0 | H79: 0 | W79: =T79+U79+V79 -> 0
C80: 재활승마사업비 | D80: 소계 | E80: 0 | F80: =F81 -> 0 | G80: =F80-E80 -> 0 | H80: 0 | W80: =T80+U80+V80 -> 0
D81: 재활승마사업비 | G81: =F81-E81 -> 0 | H81: 0 | S81: 법인 | W81: =T81+U81+V81 -> 0
C82: 공동모금회사업비 | D82: 소계 | E82: 0 | F82: =F83 -> 0 | G82: =F82-E82 -> 0 | H82: 0 | W82: =T82+U82+V82 -> 0
D83: 공동모금회사업비 | E83: 0 | F83: 0 | G83: =F83-E83 -> 0 | H83: 0 | W83: =T83+U83+V83 -> 0
A84: 과년도지출 | B84: 계 | E84: 0 | F84: =F85 -> 0 | G84: =F84-E84 -> 0 | H84: 0 | W84: =T84+U84+V84 -> 0
B85: 과년도지출 | C85: 소계 | E85: 0 | F85: =F86 -> 0 | G85: =F85-E85 -> 0 | H85: 0 | W85: =T85+U85+V85 -> 0
C86: 과년도지출 | E86: 0 | F86: 0 | G86: =F86-E86 -> 0 | H86: 0 | W86: =T86+U86+V86 -> 0
A87: 잡지출 | B87: 계 | E87: 0 | F87: =F88 -> 0 | G87: =F87-E87 -> 0 | H87: =F87/F6*100 -> 0 | V87: 220000 | W87: =T87+U87+V87 -> 220000
B88: 잡지출 | C88: 소계 | E88: 0 | F88: =F89 -> 0 | G88: =F88-E88 -> 0 | H88: =F88/F6*100 -> 0 | W88: =T88+U88+V88 -> 0
C89: 잡지출 | E89: 0 | F89: 0 | G89: =F89-E89 -> 0 | H89: =F89/F6*100 -> 0 | S89: 기타 | W89: =T89+U89+V89 -> 0
A90: 예비비 | B90: 계 | E90: 0 | F90: =F91 -> 0 | G90: =F90-E90 -> 0 | H90: =F90/F6*100 -> 0 | T90: 760000 | V90: 240000 | W90: =T90+U90+V90 -> 1000000
B91: 예비비 | C91: 소계 | E91: 0 | F91: =F92 -> 0 | G91: =F91-E91 -> 0 | H91: =F91/F6*100 -> 0 | W91: =T91+U91+V91 -> 0
C92: 예비비 | G92: =F92-E92 -> 0 | H92: =F92/F6*100 -> 0 | S92: 기타 | W92: =T92+U92+V92 -> 0

Sheet 라-3.후원금세출
A1: 라. 세 출
A2: 4) 후원금 세출내역
I3: (단위:원) | T3: =T6/V6 -> 0.66280027 | U3: =U6/V6 -> 0.33719973 | V3: =SUM(T3:U3) -> 1
A4: 과 목 | E4: ='라-2.자부담세출'!E4:E5 -> 전년도예산 ( A ) | F4: ='라-2.자부담세출'!F4:F5 -> 2020년예산 ( B ) | G4: 증감(B-A) | I4: 산 출 내 역 | T4: 직접 | U4: 간접 | V4: 계
A5: 관 | B5: 항 | C5: 목 | D5: 세목 | G5: 금액 | H5: 비율(%)
A6: 총 계 | E6: 389800000 | F6: =F7+F47+F52+F92+F89 -> 380700000 | G6: =G7+G47+G52+G92+G89 -> -9100000 | H6: =G6/E6*100 -> -2.3345305 | T6: =SUM(T7:T97) -> 252678060 | U6: =SUM(U7:U97) -> 128550000 | V6: =SUM(T6:U6) -> 381228060
A7: 사무비 | B7: 계 | E7: 179703000 | F7: =F8+F33+F38 -> 172220000 | G7: =G8+G33+G38 -> -7483000 | H7: =G7/E7*100 -> -4.164093 | V7: ='다-3.후원금세입'!E6-'라-3.후원금세출'!F6 -> 0
B8: 인건비 | C8: 소계 | E8: 50705030 | F8: =F9+F10+F11+F12+F26+F27+F32 -> 50705030 | G8: =F8-E8 -> 0 | H8: =G8/E8*100 -> 0 | X8: ='다-3.후원금세입'!E6 -> 380700000
C9: 급여 | E9: 10000000 | F9: 10000000 | G9: =F9-E9 -> 0 | H9: =G9/E9*100 -> 0 | T9: =F9 -> 10000000 | X9: =X8-F6 -> 0
C10: 상여금 | E10: 0 | F10: ='인건비총계표(후원금)'!G49+'인건비총계표(후원금)'!J49+'인건비총계표(후원금)'!H49 -> 0 | G10: =F10-E10 -> 0 | H10: =G10/E10*100 -> #DIV/0! | T10: =F10 -> 0
C11: 일용잡급 | E11: 9600000 | F11: 9600000 | G11: =F11-E11 -> 0 | H11: =G11/E11*100 -> 0 | I11: 식당보조원 1명(1일 100,000 X 월8일) X 12개월 | T11: =F11 -> 9600000 | X11: =X8-F6 -> 0
C12: 제수당 | D12: 소계 | E12: 0 | F12: =SUM(F13:F25) -> 0 | G12: =F12-E12 -> 0 | H12: =G12/E12*100 -> #DIV/0! | T12: =F12 -> 0
D13: 가계보조수당 | E13: 0 | F13: ='인건비총계표(후원금)'!K49 -> 0 | G13: =F13-E13 -> 0 | H13: =G13/E13*100 -> #DIV/0!
D14: 교통급식비 | E14: 0 | F14: ='인건비총계표(후원금)'!L6+'인건비총계표(후원금)'!L49 -> 0 | G14: =F14-E14 -> 0 | H14: =G14/E14*100 -> #DIV/0!
D15: 명절휴가비 | E15: 0 | F15: ='인건비총계표(후원금)'!M49 -> 0 | G15: =F15-E15 -> 0 | H15: =G15/E15*100 -> #DIV/0!
D16: 생활복지사수당 | E16: 0 | F16: 0 | G16: =F16-E16 -> 0 | H16: =G16/E16*100 -> #DIV/0!
D17: 생활지도원수당 | E17: 0 | F17: ='인건비총계표(후원금)'!N49 -> 0 | G17: =F17-E17 -> 0 | H17: =G17/E17*100 -> #DIV/0!
D18: 조리.위생수당 | E18: 0 | F18: 0 | G18: =F18-E18 -> 0 | H18: =G18/E18*100 -> #DIV/0!
D19: 연장근로수당 | E19: 0 | F19: ='인건비(후원금)'!L5 -> 0 | G19: =F19-E19 -> 0 | H19: =G19/E19*100 -> #DIV/0! | I19: 직원 처우개선비에 따른 연장근로수당
D20: 가족수당 | E20: 0 | F20: ='인건비총계표(후원금)'!O49 -> 0 | G20: =F20-E20 -> 0 | H20: =G20/E20*100 -> #DIV/0!
D21: 직책보조비 | E21: 0 | F21: ='인건비총계표(후원금)'!R49 -> 0 | G21: =F21-E21 -> 0 | H21: =G21/E21*100 -> #DIV/0!
D22: 자가운전보조금 | E22: 0 | F22: 0 | G22: =F22-E22 -> 0 | H22: =G22/E22*100 -> #DIV/0!
D23: 특수근무수당(도) | E23: 0 | F23: ='인건비총계표(후원금)'!S49 -> 0 | G23: =F23-E23 -> 0 | H23: =G23/E23*100 -> #DIV/0!
D24: 처우개선비 | E24: 0 | F24: 0 | G24: =F24-E24 -> 0 | H24: =G24/E24*100 -> #DIV/0!
D25: 보전수당 | G25: =F25-E25 -> 0 | H25: =G25/E25*100 -> #DIV/0!
C26: 퇴직금및 적립금 | E26: 600000 | F26: 600000 | G26: =F26-E26 -> 0 | H26: =G26/E26*100 -> 0 | T26: =F26 -> 600000
C27: 사회보험 부담비용 | D27: 소계 | E27: 505030 | F27: =SUM(F28:F31) -> 505030 | G27: =F27-E27 -> 0 | H27: =G27/E27*100 -> 0 | T27: =F27 -> 505030
D28: 건강보험 부담금 | E28: 335030 | F28: =U28 -> 335030 | G28: =F28-E28 -> 0 | H28: =G28/E28*100 -> 0 | I28: 건강보험보험료 : 10,000,000원*3.12% = 312,000원 장기요양보험료 : 312,000원*7.38% = 23,030원 | S28: =ROUNDUP(F9*3.12%,-1) -> 312000 | T28: =ROUNDUP(S28*7.38%,-1) -> 23030 | U28: =SUM(S28:T28) -> 335030
D29: 국민연금부담금 | E29: 0 | F29: ='인건비총계표(후원금)'!W49 -> 0 | G29: =F29-E29 -> 0 | H29: =G29/E29*100 -> #DIV/0! | S29: =ROUNDUP(F22*3.12%,-1) -> 0
D30: 고용보험 부담금 | E30: 90000 | F30: =T30 -> 90000 | G30: =F30-E30 -> 0 | H30: =G30/E30*100 -> 0 | I30: 고용보험료 : 10,000,000원*0.9% = 90,000원 | S30: =F9 -> 10000000 | T30: =ROUNDUP(S30*0.9%,-1) -> 90000
D31: 산재보험 부담금 | E31: 80000 | F31: =T31 -> 80000 | G31: =F31-E31 -> 0 | H31: =G31/E31*100 -> 0 | I31: 산재보험료 : 10,000,000원*0.8% = 80,000원 | S31: =F9 -> 10000000 | T31: =ROUNDUP(S31*0.8%,-1) -> 80000
C32: 기타후생경비 | E32: 30000000 | F32: 30000000 | G32: =F32-E32 -> 0 | H32: =G32/E32*100 -> 0 | I32: 직원 동아리지원 및 역량강화훈련비,보수교육비 등 | T32: =F32 -> 30000000
B33: 업무추진비 | C33: 소계 | E33: 0 | F33: =SUM(F34:F37) -> 0 | G33: =F33-E33 -> 0 | H33: =G33/E33*100 -> #DIV/0! | U33: =F33 -> 0
C34: 기관운영비 | E34: 0 | F34: 0 | G34: =F34-E34 -> 0 | H34: =G34/E34*100 -> #DIV/0!
C35: 직책보조비 | E35: 0 | F35: 0 | G35: =F35-E35 -> 0 | H35: =G35/E35*100 -> #DIV/0!
C36: 홍보비 | E36: 0 | F36: 0 | G36: =F36-E36 -> 0 | H36: =G36/E36*100 -> #DIV/0!
C37: 회의비 | E37: 0 | F37: 0 | G37: =F37-E37 -> 0 | H37: =G37/E37*100 -> #DIV/0!
B38: 운영비 | C38: 소계 | E38: 128997970 | F38: =SUM(F39,F40,F43:F46) -> 121514970 | G38: =F38-E38 -> -7483000 | H38: =G38/E38*100 -> -5.8008665
C39: 여비 | E39: 5000000 | F39: 5000000 | G39: =F39-E39 -> 0 | H39: =G39/E39*100 -> 0 | I39: 교육참가비 및 여비 등 | U39: =F39 -> 5000000
C40: 수용비및 수수료 | D40: 소계 | E40: 44997970 | F40: =SUM(F41:F42) -> 40514970 | G40: =F40-E40 -> -4483000 | H40: =G40/E40*100 -> -9.9626716 | I40: CMS관리/소모품구입 | U40: =F40 -> 40514970
D41: 수용비및 수수료 | E41: 26997970 | F41: 22514970 | G41: =F41-E41 -> -4483000 | H41: =G41/E41*100 -> -16.604952 | I41: 사무용품비, 인쇄비, 수수료 등
D42: 홍보비 | E42: 18000000 | F42: 18000000 | G42: =F42-E42 -> 0 | H42: =G42/E42*100 -> 0 | I42: 기관홍보물제작,소식지 제작
C43: 공공요금 | E43: 43000000 | F43: 40000000 | G43: =F43-E43 -> -3000000 | H43: =G43/E43*100 -> -6.9767442 | I43: 전기,전화,수도요금.DM발송,우편물발송요금 등 | T43: =F43 -> 40000000
C44: 제세공과금 | E44: 5000000 | F44: 5000000 | G44: =F44-E44 -> 0 | H44: =G44/E44*100 -> 0 | I44: 음식물배상보험, 가스안전보험, 협회비 보험료 등 | T44: =F44-1000000 -> 4000000 | U44: =F44-4000000 -> 1000000
C45: 차량비 | E45: 21000000 | F45: 21000000 | G45: =F45-E45 -> 0 | H45: =G45/E45*100 -> 0 | I45: 기관보유차량 유류비용 및 점검등 유지비용 | T45: =F45 -> 21000000
C46: 기타운영비 | E46: 10000000 | F46: 10000000 | G46: =F46-E46 -> 0 | H46: =G46/E46*100 -> 0 | I46: 종사자 단체복 구입등 | U46: =F46 -> 10000000
A47: 재산 조성비 | B47: 계 | E47: 150000000 | F47: =F48 -> 150900000 | G47: =F47-E47 -> 900000 | H47: =G47/E47*100 -> 0.6
B48: 시설비 | C48: 소계 | E48: 150000000 | F48: =SUM(F49:F51) -> 150900000 | G48: =F48-E48 -> 900000 | H48: =G48/E48*100 -> 0.6
C49: 시설비 | E49: 10000000 | F49: 10000000 | G49: =F49-E49 -> 0 | H49: 100 | U49: =F49 -> 10000000
C50: 자산취득비 | E50: 20000000 | F50: =4200000+56700000 -> 60900000 | G50: =F50-E50 -> 40900000 | H50: =G50/E50*100 -> 204.5 | I50: 음식물처리기,식기세척기,전기오븐,CCTV설치등 10년이상 사용된 노후설비기구 교체비용및25인승버스구입할부금 | U50: =F50 -> 60900000
C51: 시설장비 유지비 | E51: 120000000 | F51: 80000000 | G51: =F51-E51 -> -40000000 | H51: =G51/E51*100 -> -33.333333 | I51: 전기안전점검료, 정화조유지비,승강기유지비 등 | T51: =F51 -> 80000000
A52: 사업비 | B52: 계 | E52: 58200000 | F52: =SUM(F53,F76,F87) -> 56780000 | G52: =F52-E52 -> -1420000 | H52: =G52/E52*100 -> -2.4398625 | T52: =F52 -> 56780000
B53: 운영비 | C53: 소계 | E53: 12000000 | F53: =SUM(F54,F55,F59) -> 12000000 | G53: =F53-E53 -> 0 | H53: =G53/E53*100 -> 0
C54: 생계비 | E54: 5000000 | F54: 5000000 | G54: =F54-E54 -> 0 | H54: =G54/E54*100 -> 0
C55: 수용기관경비 | D55: 소계 | E55: 6000000 | F55: =SUM(F56:F57) -> 6000000 | G55: =F55-E55 -> 0 | H55: =G55/E55*100 -> 0
D56: 수용기관 경비 | E56: 3000000 | F56: 3000000 | G56: =F56-E56 -> 0 | H56: =G56/E56*100 -> 0
D57: 위생재료비 | E57: 3000000 | F57: 3000000 | G57: =F57-E57 -> 0 | H57: =G57/E57*100 -> 0
C58: 피복비 | E58: 0 | F58: 0 | G58: =F58-E58 -> 0 | H58: =G58/E58*100 -> #DIV/0!
C59: 의료비 | E59: 1000000 | F59: 1000000 | G59: =F59-E59 -> 0 | H59: =G59/E59*100 -> 0
C60: 장의비 | E60: 0 | F60: 0 | G60: =F60-E60 -> 0 | H60: =G60/E60*100 -> #DIV/0!
C61: 직업재활비 | E61: 0 | F61: 0 | G61: =F61-E61 -> 0 | H61: =G61/E61*100 -> #DIV/0!
C62: 자활사업비 | E62: 0 | F62: 0 | G62: =F62-E62 -> 0 | H62: =G62/E62*100 -> #DIV/0!
C63: 특별급식비 | E63: 0 | F63: 0 | G63: =F63-E63 -> 0 | H63: =G63/E63*100 -> #DIV/0!
C64: 연료비 | E64: 0 | F64: 0 | G64: =F64-E64 -> 0 | H64: =G64/E64*100 -> #DIV/0!
B65: 교육비 | C65: 소계 | E65: 0 | F65: =SUM(F66:F75) -> 0 | G65: =F65-E65 -> 0 | H65: =G65/E65*100 -> #DIV/0!
C66: 수업료 | E66: 0 | F66: 0 | G66: =F66-E66 -> 0 | H66: =G66/E66*100 -> #DIV/0!
C67: 학용품비 | E67: 0 | F67: 0 | G67: =F67-E67 -> 0 | H67: =G67/E67*100 -> #DIV/0!
C68: 도서구입비 | E68: 0 | F68: 0 | G68: =F68-E68 -> 0 | H68: =G68/E68*100 -> #DIV/0!
C69: 교통비 | E69: 0 | F69: 0 | G69: =F69-E69 -> 0 | H69: =G69/E69*100 -> #DIV/0!
C70: 급식비 | E70: 0 | F70: 0 | G70: =F70-E70 -> 0 | H70: =G70/E70*100 -> #DIV/0!
C71: 학습지원비 | E71: 0 | F71: 0 | G71: =F71-E71 -> 0 | H71: =G71/E71*100 -> #DIV/0!
C72: 수학여행비 | E72: 0 | F72: 0 | G72: =F72-E72 -> 0 | H72: =G72/E72*100 -> #DIV/0!
C73: 교복비 | E73: 0 | F73: 0 | G73: =F73-E73 -> 0 | H73: =G73/E73*100 -> #DIV/0!
C74: 이미용비 | E74: 0 | F74: 0 | G74: =F74-E74 -> 0 | H74: =G74/E74*100 -> #DIV/0!
C75: 기타교육비 | E75: 0 | F75: 0 | G75: =F75-E75 -> 0 | H75: =G75/E75*100 -> #DIV/0!
B76: 사업비 | C76: 소계 | E76: 44700000 | F76: =SUM(F78:F82) -> 43280000 | G76: =F76-E76 -> -1420000 | H76: =G76/E76*100 -> -3.1767338
C77: 의료재활사업비 | E77: 0 | F77: 0 | G77: =F77-E77 -> 0 | H77: =G77/E77*100 -> #DIV/0!
C78: 사회심리 재활사업비 | E78: 44000000 | F78: 40000000 | G78: =F78-E78 -> -4000000 | H78: =G78/E78*100 -> -9.0909091 | I78: 여행,등산,놀이 등에 소요되는 여비,기구 구입비
C79: 교육재활사업비 | E79: 0 | F79: 0 | G79: =F79-E79 -> 0 | H79: =G79/E79*100 -> #DIV/0! | I79: 생활장애인의 교육 및 교양함양을 위한 교재/도서 구입비
C80: 직업재활 사업비 | E80: 0 | F80: 0 | G80: =F80-E80 -> 0 | H80: =G80/E80*100 -> #DIV/0!
C81: 재활프로그램 사업비 | E81: 700000 | F81: 3280000 | G81: =F81-E81 -> 2580000 | H81: =G81/E81*100 -> 368.57143 | I81: 2020년 재활프로그램 중증장애인의 직업능력개발을 위한 목공프로그램 “우드잡 woodjob” 선정
G82: =F82-E82 -> 0 | H82: =G82/E82*100 -> #DIV/0!
C83: 기능보강사업비 | D83: 소계 | E83: 0 | F83: =F84 -> 0 | G83: =F83-E83 -> 0 | H83: =G83/E83*100 -> #DIV/0!
D84: 기능보강사업비 | E84: 0 | F84: 0 | G84: =F84-E84 -> 0 | H84: =G84/E84*100 -> #DIV/0! | I84: 기능보강사업 직업재활프로그램실 증축공사종료 | T84: =F84 -> 0
C85: 공동모금회사업비 | D85: 소계 | E85: 0 | F85: =F86 -> 0 | G85: =F85-E85 -> 0 | H85: =G85/E85*100 -> #DIV/0! | T85: =F85 -> 0
D86: 공동모금회사업비 | E86: 0 | F86: 0 | G86: =F86-E86 -> 0 | H86: =G86/E86*100 -> #DIV/0!
B87: 결연 사업비 | C87: 소계 | E87: 1500000 | F87: =F88 -> 1500000 | G87: =F87-E87 -> 0 | H87: =G87/E87*100 -> 0
C88: 결연후원금 지급 | E88: 1500000 | F88: 1500000 | G88: =F88-E88 -> 0 | H88: =G88/E88*100 -> 0
A89: 과년도 지출 | B89: 계 | E89: 1897000 | F89: =F90 -> 800000 | G89: =F89-E89 -> -1097000 | H89: =G89/E89*100 -> -57.82815 | U89: =F89 -> 800000
B90: 과년도지출 | C90: 소계 | E90: 1897000 | F90: =F91 -> 800000 | G90: =F90-E90 -> -1097000 | H90: =G90/E90*100 -> -57.82815
C91: 과년도지출 | E91: 1897000 | F91: 800000 | G91: =F91-E91 -> -1097000 | H91: =G91/E91*100 -> -57.82815 | I91: 일용직인건비등 2019년 미지급분정산
A92: 잡지출 | B92: 계 | E92: 0 | F92: =F93 -> 0 | G92: =F92-E92 -> 0 | H92: =G92/E92*100 -> #DIV/0! | U92: =F92 -> 0
B93: 예비비 및기타 | C93: 계 | E93: 0 | F93: =F94 -> 0 | G93: =F93-E93 -> 0 | H93: =G93/E93*100 -> #DIV/0!
C94: 반환금 | D94: 소계 | E94: 0 | F94: =F95 -> 0 | G94: =F94-E94 -> 0 | H94: =G94/E94*100 -> #DIV/0!
A95: 예비비 | D95: 공동모금회 사업비반환 | E95: 0 | F95: 0 | G95: =F95-E95 -> 0 | H95: =G95/E95*100 -> #DIV/0! | U95: =F95 -> 0
B96: 예비비 | C96: 소계 | E96: 0 | F96: =F97 -> 0 | G96: =F96-E96 -> 0 | H96: =G96/E96*100 -> #DIV/0!
C97: 예비비 | E97: 0 | F97: 0 | G97: =F97-E97 -> 0 | H97: =G97/E97*100 -> #DIV/0!

Sheet 마.개요
A1: 마. 세입·세출 개요
E2: (단위:원)
A3: 구 분 | B3: 세 입 | D3: 세 출
A4: 총 계 | B4: =C5+C18+C26 -> 3230720000 | D4: =E5+E18+E26 -> 3230720000 | F4: =B4-'나.세입세출(총괄)'!E6 -> 0
A5: 보 조 금 | B5: 소계 | C5: =SUM(C6:C11) -> 2623220000 | D5: 소계 | E5: =SUM(E6:E17) -> 2623220000
B6: 국고보조금 | C6: =다.국도시세입!F15 -> 1672616764 | D6: 인건비 | E6: =라.국도비세출!F8+'라-1.도시(군)세출'!F7 -> 2309031180
B7: =다.국도시세입!C20 -> 시도보조금 | C7: =다.국도시세입!F20+'다-1.도시(군)세입'!F13 -> 918707056 | D7: 운영비 | E7: =라.국도비세출!F22+라.국도비세출!F26+라.국도비세출!F36+라.국도비세출!F47 -> 91670000
B8: =다.국도시세입!B25 -> 기타보조금 | C8: =다.국도시세입!F25 -> 0 | D8: 생계비 | E8: =라.국도비세출!F43 -> 134362640
B9: =다.국도시세입!B33 -> 이월금 | C9: =다.국도시세입!F33+'다-1.도시(군)세입'!F22 -> 31287000 | D9: 사업비 | E9: =라.국도비세출!F50+'라-1.도시(군)세출'!F20 -> 56260000
B10: =다.국도시세입!B37 -> 잡수입 | C10: =다.국도시세입!F37+'다-1.도시(군)세입'!F28 -> 609180 | D10: 잡지출 | E10: =라.국도비세출!F57+'라-1.도시(군)세출'!F36 -> 609180
B11: - | C11: 0 | D11: 보조금반환 | E11: =라.국도비세출!F59+'다-1.도시(군)세입'!F23 -> 31287000
A18: 자 부 담 | B18: 소계 | C18: =SUM(C19:C23) -> 226800000 | D18: 소계 | E18: =SUM(E19:E25) -> 226800000
B19: 입소자부담금수입 | C19: ='다-2.자부담세입'!E8 -> 134400000 | D19: 인건비 | E19: ='라-2.자부담세출'!F8 -> 33511060
B20: 사업수입 | C20: ='다-2.자부담세입'!E10 -> 0 | D20: 사무비 (업무추진비,운영비) | E20: ='라-2.자부담세출'!F33+'라-2.자부담세출'!F38 -> 55288940
B21: 법인전입금 | C21: ='다-2.자부담세입'!E23 -> 40000000 | D21: 재산조성비 | E21: ='라-2.자부담세출'!F45 -> 5000000
B22: 이월금 | C22: ='다-2.자부담세입'!E26 -> 6300000 | D22: 사업비 | E22: ='라-2.자부담세출'!F50 -> 133000000
B23: 잡수입 | C23: ='다-2.자부담세입'!E30 -> 46100000 | D23: 잡지출 | E23: ='라-2.자부담세출'!F85 -> 0
C24: 0 | E24: ='라-2.자부담세출'!F87 -> 0
C25: 0 | E25: ='라-2.자부담세출'!F90 -> 0
A26: 후 원 금 | B26: 소계 | C26: =SUM(C27:C31) -> 380700000 | D26: 소계 | E26: =SUM(E27:E34) -> 380700000
B27: 지정후원금수입 | C27: ='다-3.후원금세입'!E18 -> 14200000 | D27: 사무비 (인건비) | E27: ='라-3.후원금세출'!F8 -> 50705030
B28: 비지정후원금수입 | C28: ='다-3.후원금세입'!E19 -> 350000000 | D28: 사무비 (업무추진비,운영비) | E28: ='라-3.후원금세출'!F33+'라-3.후원금세출'!F38 -> 121514970
B29: - | C29: 0 | D29: 재산조성비 | E29: ='라-3.후원금세출'!F47 -> 150900000
B30: 전년도후원금이월금 | C30: ='다-3.후원금세입'!E30 -> 15900000 | D30: 사업비 | E30: ='라-3.후원금세출'!F52 -> 56780000
B31: 잡수입 | C31: ='다-3.후원금세입'!E33 -> 600000 | D31: 과년도지출 | E31: ='라-3.후원금세출'!F89 -> 800000
E67: 0

Sheet 바.증감사유
A1: 바. 증감사유
N2: (단위:원)
A3: 세 입 | H3: 세 출
A4: 과 목 | D4: ='라-3.후원금세출'!E4:E5 -> 전년도예산 ( A ) | E4: ='라-2.자부담세출'!F4:F5 -> 2020년예산 ( B ) | F4: 증감 (B-A) | G4: 증감사유 | H4: 과 목 | K4: =D4 -> 전년도예산 ( A ) | L4: =E4 -> 2020년예산 ( B ) | M4: 증감 (B-A) | N4: 증감사유
A5: 관 | B5: 항 | C5: 목 | H5: 관 | I5: 항 | J5: 목
A6: 총 계 | D6: 3319000000 | E6: =E7+E13+E16+E36+E39+E43+E10+E30 -> 3230720000 | F6: =E6-D6 -> -88280000 | H6: 총 계 | K6: 3319000000 | L6: =SUM(L7,L24,L29,L44,L47,L50) -> 3230720000 | M6: =L6-K6 -> -88280000 | P6: =L6-E6 -> 0
A7: 입소자 부담금 | B7: 계 | D7: 134400000 | E7: =E8 -> 134400000 | F7: =E7-D7 -> 0 | H7: 사무비 | I7: 계 | K7: 2640134180 | L7: =SUM(L8,L15,L17) -> 2628751180 | M7: =L7-K7 -> -11383000
B8: 입소비용수입 | C8: 소계 | D8: 134400000 | E8: =E9 -> 134400000 | F8: =E8-D8 -> 0 | I8: 인건비 | J8: 소계 | K8: 2393247270 | L8: =SUM(L9:L14) -> 2393247270 | M8: =L8-K8 -> 0
C9: 입소비용수입 | D9: 134400000 | E9: ='다-2.자부담세입'!E9 -> 134400000 | F9: =E9-D9 -> 0 | J9: 급여 | K9: 1479465000 | L9: =라.국도비세출!F9+'라-3.후원금세출'!F9+'라-1.도시(군)세출'!F8 -> 1479465000 | M9: =L9-K9 -> 0
A10: 사업수입 | B10: 계 | D10: 0 | E10: =E11 -> 0 | F10: =E10-D10 -> 0 | J10: 제수당 | K10: 509510880 | L10: =라.국도비세출!F10+'라-3.후원금세출'!F12+'라-2.자부담세출'!F12+'라-1.도시(군)세출'!F9 -> 509510880 | M10: =L10-K10 -> 0
B11: 사업수입 | C11: 소계 | D11: 0 | E11: =E12 -> 0 | F11: =E11-D11 -> 0 | J11: 퇴직금및 퇴직적립금 | K11: 164978100 | L11: =라.국도비세출!F15+'라-3.후원금세출'!F26+'라-2.자부담세출'!F26+'라-1.도시(군)세출'!F14 -> 164978100 | M11: =L11-K11 -> 0
C12: 프로그램사업수입 | D12: 0 | E12: ='다-2.자부담세입'!E12 -> 0 | F12: =E12-D12 -> 0 | J12: 사회보험 부담비용 | K12: 187693290 | L12: =라.국도비세출!F16+'라-3.후원금세출'!F27+'라-2.자부담세출'!F27+'라-1.도시(군)세출'!F15 -> 187693290 | M12: =L12-K12 -> 0
A13: 과년도수입 | B13: 계 | D13: 0 | E13: =E14 -> 0 | F13: =E13-D13 -> 0 | J13: 일용잡금 | K13: 9600000 | L13: ='라-3.후원금세출'!F11 -> 9600000 | M13: =L13-K13 -> 0
B14: 과년도수입 | C14: 소계 | D14: 0 | E14: =E15 -> 0 | F14: =E14-D14 -> 0 | J14: 기타후생경비 | K14: 42000000 | L14: =라.국도비세출!F21+'라-2.자부담세출'!F32+'라-3.후원금세출'!F32 -> 42000000 | M14: =L14-K14 -> 0
C15: 과년도수입 | D15: 0 | E15: =다.국도시세입!F12+'다-2.자부담세입'!E15 -> 0 | F15: =E15-D15 -> 0 | I15: 업무추진비 | J15: 소계 | K15: 2490000 | L15: ='나.세입세출(총괄)'!L15 -> 2490000 | M15: =L15-K15 -> 0
A16: 보조금수입 | B16: 계 | D16: 2651468750 | E16: =E17+E21+E23+E28 -> 2591323820 | F16: =E16-D16 -> -60144930 | J16: 회의비 | K16: 2490000 | L16: =라.국도비세출!F25+'라-2.자부담세출'!F37+'라-3.후원금세출'!F37 -> 2490000 | M16: =L16-K16 -> 0
B17: =다.국도시세입!B14 -> 보조금수입 | C17: 소계 | D17: 2651468750 | E17: =SUM(E18:E20) -> 2591323820 | F17: =E17-D17 -> -60144930 | I17: 운영비 | J17: 소계 | K17: 244396910 | L17: =SUM(L18:L23) -> 233013910 | M17: =L17-K17 -> -11383000
C18: 국도보조금 | D18: 1703326015 | E18: ='나.세입세출(총괄)'!E18 -> 1672616764 | F18: =E18-D18 -> -30709251 | G18: 2019년 기능보강사업 종료에 따른 차액발생/ 수급자변동에의한 생계비 차액발생 | J18: 여비 | K18: 5000000 | L18: =라.국도비세출!F27+'라-3.후원금세출'!F39 -> 5000000 | M18: =L18-K18 -> 0
C19: =다.국도시세입!C20 -> 시도보조금 | D19: 941842735 | E19: ='나.세입세출(총괄)'!E19 -> 911987056 | F19: =E19-D19 -> -29855679 | G19: 2019년 기능보강사업 종료에 따른 차액발생 | J19: 수용비및 수수료 | K19: 59771080 | L19: =라.국도비세출!F28+'라-2.자부담세출'!F40+'라-3.후원금세출'!F40 -> 55288080 | M19: =L19-K19 -> -4483000 | N19: 전년도 지출대비 예산편성
C20: =다.국도시세입!C26 -> 기타보조금 | D20: 6300000 | E20: ='다-1.도시(군)세입'!F20 -> 6720000 | F20: =E20-D20 -> 420000 | G20: 2020년 재활프로그램 중증장애인의 직업능력개발을 위한 목공프로그램 “우드잡 woodjob” 선정 | J20: 공공요금 | K20: 126000000 | L20: =라.국도비세출!F29+'라-2.자부담세출'!F41+'라-3.후원금세출'!F43 -> 119100000 | M20: =L20-K20 -> -6900000 | N20: 전년도 지출대비 예산편성
D21: 0 | E21: 0 | F21: =E21-D21 -> 0 | J21: 제세공과금 | K21: 13625830 | L21: =라.국도비세출!F30+'라-2.자부담세출'!F42+'라-3.후원금세출'!F44 -> 13625830 | M21: =L21-K21 -> 0
D22: 0 | E22: 0 | F22: =E22-D22 -> 0 | J22: 차량비 | K22: 26000000 | L22: =라.국도비세출!F34+'라-2.자부담세출'!F43+'라-3.후원금세출'!F45 -> 26000000 | M22: =L22-K22 -> 0
D23: 0 | E23: =SUM(E24:E27) -> 0 | F23: =E23-D23 -> 0 | J23: 기타운영비 | K23: 14000000 | L23: =라.국도비세출!F35+'라-2.자부담세출'!F44+'라-3.후원금세출'!F46 -> 14000000 | M23: =L23-K23 -> 0
D24: 0 | E24: =다.국도시세입!F28 -> 0 | F24: =E24-D24 -> 0 | H24: 재산조성비 | I24: 계 | K24: 162000000 | L24: =SUM(L25) -> 167900000 | M24: =L24-K24 -> 5900000
D25: 0 | E25: =다.국도시세입!F29 -> 0 | F25: =E25-D25 -> 0 | I25: 시설비 | J25: 소계 | K25: 162000000 | L25: =SUM(L26:L28) -> 167900000 | M25: =L25-K25 -> 5900000
D26: 0 | E26: =다.국도시세입!F30 -> 0 | F26: =E26-D26 -> 0 | J26: 시설비 | K26: 10000000 | L26: =라.국도비세출!F38+'라-2.자부담세출'!F47+'라-3.후원금세출'!F49 -> 10000000 | M26: =L26-K26 -> 0
D27: 0 | E27: =다.국도시세입!F31 -> 0 | F27: =E27-D27 -> 0 | J27: 자산취득비 | K27: 20000000 | L27: =라.국도비세출!F39+'라-2.자부담세출'!F48+'라-3.후원금세출'!F50 -> 65900000 | M27: =L27-K27 -> 45900000 | N27: - 음식물처리기(18,700,000), - 식기세척기(13,000,000), - 컨벤션오븐(20,000,000), - CCTV설치(28,000,000)등 예산반영 - 25인승 버스할부금(매월 1,047,100원)
D28: 0 | E28: =E29 -> 0 | F28: =E28-D28 -> 0 | J28: 시설장비 유지비 | K28: 132000000 | L28: =라.국도비세출!F40+'라-2.자부담세출'!F49+'라-3.후원금세출'!F51 -> 92000000 | M28: =L28-K28 -> -40000000 | N28: 자산취득비 부족분 충당 시설장비유지비 예산감액
D29: 0 | E29: ='다-3.후원금세입'!E14 -> 0 | F29: =E29-D29 -> 0 | H29: 사업비 | I29: 계 | K29: 462937570 | L29: =SUM(L30,L35,L42) -> 401372640 | M29: =L29-K29 -> -61564930
A30: 후원금 | B30: 계 | D30: 364200000 | E30: =E31+E34 -> 364200000 | F30: =E30-D30 -> 0 | I30: 운영비 | J30: 소계 | K30: 256466570 | L30: =SUM(L31:L34) -> 254332640 | M30: =L30-K30 -> -2133930
B31: 후원금수입 | C31: 소계 | D31: 364200000 | E31: =E32+E33 -> 364200000 | F31: =E31-D31 -> 0 | J31: 생계비 | K31: 211496570 | L31: =라.국도비세출!F44+라.국도비세출!F45+라.국도비세출!F46+'라-2.자부담세출'!F52+'라-3.후원금세출'!F54 -> 209362640 | M31: =L31-K31 -> -2133930 | N31: 수급자 변동에 따른 예산 편성
C32: 지정후원금 | D32: 14200000 | E32: ='다-3.후원금세입'!E18 -> 14200000 | F32: =E32-D32 -> 0 | J32: 피복비 | K32: 4000000 | L32: ='라-2.자부담세출'!F53 -> 4000000 | M32: =L32-K32 -> 0
C33: 비지정후원금 | D33: 350000000 | E33: ='다-3.후원금세입'!E19 -> 350000000 | F33: =E33-D33 -> 0 | J33: ='라-2.자부담세출'!C54 -> 수용기관경비 | K33: 37970000 | L33: =라.국도비세출!F47+'라-2.자부담세출'!F54+'라-3.후원금세출'!F55 -> 37970000 | M33: =L33-K33 -> 0
D34: 0 | E34: =E35 -> 0 | F34: =E34-D34 -> 0 | J34: 의료비 | K34: 3000000 | L34: ='라-2.자부담세출'!F57+'라-3.후원금세출'!F59 -> 3000000 | M34: =L34-K34 -> 0
D35: 0 | E35: ='다-3.후원금세입'!E20 -> 0 | F35: =E35-D35 -> 0 | I35: 사업비 | J35: 소계 | K35: 204971000 | L35: =SUM(L36:L41) -> 145540000 | M35: =L35-K35 -> -59431000
A36: 전입금 | B36: 계 | D36: 40000000 | E36: =E37 -> 40000000 | F36: =E36-D36 -> 0 | J36: 사회심리 재활사업비 | K36: 93000000 | L36: =라.국도비세출!F51+'라-2.자부담세출'!F75+'라-3.후원금세출'!F78 -> 89000000 | M36: =L36-K36 -> -4000000 | N36: 거주인 개별화 서비스 및 문화체험등 실지출 반영 예산편성
B37: 전입금 | C37: 소계 | D37: 40000000 | E37: =E38 -> 40000000 | F37: =E37-D37 -> 0 | J37: 직 업 재 활 사 업 비 | K37: 5000000 | L37: ='라-2.자부담세출'!F77+'라-3.후원금세출'!F80 -> 5000000 | M37: =L37-K37 -> 0
C38: 법인전입금 | D38: 40000000 | E38: ='다-2.자부담세입'!E25 -> 40000000 | F38: =E38-D38 -> 0 | J38: 4종운영 지원사업비 | K38: 32840000 | L38: ='라-1.도시(군)세출'!F25 -> 32840000 | M38: =L38-K38 -> 0
A39: 이월금 | B39: 계 | D39: 81659584 | E39: =E40 -> 53487000 | F39: =E39-D39 -> -28172584 | J39: 7종운영 지원사업비 | K39: 6600000 | L39: ='라-1.도시(군)세출'!F21 -> 6600000 | M39: =L39-K39 -> 0
B40: 이월금 | C40: 소계 | D40: 81659584 | E40: =SUM(E41:E42) -> 53487000 | F40: =E40-D40 -> -28172584 | J40: 재활프로그램 사업비 | K40: 7000000 | L40: ='라-1.도시(군)세출'!F32+'라-3.후원금세출'!F81 -> 10000000 | M40: =L40-K40 -> 3000000 | N40: 2020년 재활프로그램 중증장애인의 직업능력개발을 위한 목공프로그램 “우드잡 woodjob” 선정
C41: 전년도이월금 | D41: 81659584 | E41: =다.국도시세입!F34+'다-2.자부담세입'!E28+'다-3.후원금세입'!E31+'라-1.도시(군)세출'!F39 -> 53487000 | F41: =E41-D41 -> -28172584 | J41: 기능보강 사업비 | K41: 60531000 | L41: =라.국도비세출!F52 -> 2100000 | M41: =L41-K41 -> -58431000 | N41: 2019년 기능보강사업 종료 및 공기청정기렌탈지원사업선정에 따른 예산편성 (렌탈료 매월 175,000원)
C42: 이월사업비 | D42: 0 | E42: =다.국도시세입!F35+'다-2.자부담세입'!E29 -> 0 | F42: =E42-D42 -> 0 | I42: 결연사업비 | J42: 소계 | K42: 1500000 | L42: =L43 -> 1500000 | M42: =M43 -> 0
A43: 잡수입 | B43: 계 | D43: 47271666 | E43: =E44 -> 47309180 | F43: =E43-D43 -> 37514 | J43: 결연후원금 | K43: 1500000 | L43: ='라-3.후원금세출'!F88 -> 1500000 | M43: =L43-K43 -> 0
B44: 잡수입 | C44: 소계 | D44: 47271666 | E44: =E45+E46+E47 -> 47309180 | F44: =E44-D44 -> 37514 | H44: 과년도지출 | I44: 계 | K44: 1897000 | L44: =SUM(L45) -> 800000 | M44: =L44-K44 -> -1097000
C45: 불용품매각대 | D45: 500000 | E45: =다.국도시세입!F38+'다-2.자부담세입'!E32 -> 500000 | F45: =E45-D45 -> 0 | I45: 과년도지출 | J45: 소계 | K45: 1897000 | L45: =SUM(L46) -> 800000 | M45: =L45-K45 -> -1097000
C46: 기타예금이자수입 | D46: 1721666 | E46: =다.국도시세입!F39+'다-2.자부담세입'!E33+'다-3.후원금세입'!E36+'다-1.도시(군)세입'!F28 -> 1759180 | F46: =E46-D46 -> 37514 | J46: 과년도지출 | K46: 1897000 | L46: ='라-3.후원금세출'!F91 -> 800000 | M46: =L46-K46 -> -1097000 | N46: 2019년 미지급분 예상액
C47: 기타잡수입 | D47: 45050000 | E47: =다.국도시세입!F40+'다-2.자부담세입'!E34 -> 45050000 | F47: =E47-D47 -> 0 | H47: 잡지출 | I47: 계 | K47: 625462 | L47: =SUM(L48) -> 609180 | M47: =L47-K47 -> -16282
I48: 잡지출 | J48: 소계 | K48: 625462 | L48: =SUM(L49) -> 609180 | M48: =L48-K48 -> -16282
J49: 잡지출 | K49: 625462 | L49: =라.국도비세출!F58+'라-1.도시(군)세출'!F36 -> 609180 | M49: =L49-K49 -> -16282
H50: 예비비및기타 | I50: 계 | K50: 51405788 | L50: =L51+L53 -> 31287000 | M50: =L50-K50 -> -20118788
I51: ='라-3.후원금세출'!C94 -> 반환금 | J51: 소계 | K51: 0 | L51: =L52 -> 0 | M51: =L51-K51 -> 0
J52: 공동모금회반환금 | K52: 0 | L52: ='라-3.후원금세출'!F95 -> 0 | M52: =L52-K52 -> 0
I53: 보조금반환 | J53: 소계 | K53: 51405788 | L53: =SUM(L54) -> 31287000 | M53: =L53-K53 -> -20118788
J54: 보조금반환 | K54: 51405788 | L54: =라.국도비세출!F61+'라-1.도시(군)세출'!F39 -> 31287000 | M54: =L54-K54 -> -20118788 | N54: 2019년 보조금반환 예상액

Sheet 예산증감내역
A1: 둘다섯해누리 2015년 2차추가경정 예산(안) 증감 내역
A3: 세 입
A4: 과 목 | D4: 2015년도 당초예산 ( A ) | E4: 2015년도 1차추경 ( B ) | F4: 증감 | G4: 내 용
A5: 관 | B5: 항 | C5: 목
A6: 총 계 | D6: =SUM(D7:D27) -> 3319000000 | E6: =SUM(E7:E27) -> 3230720000 | F6: =SUM(F7:F27) -> -88280000
A7: 입소자부담금 | B7: 입소비용수입 | C7: 입소비용수입 | D7: ='나.세입세출(총괄)'!D7 -> 134400000 | E7: ='나.세입세출(총괄)'!E7 -> 134400000 | F7: =E7-D7 -> 0
A8: 사업수입 | B8: 사업수입 | C8: 프로그램사업수입 | D8: 0 | E8: ='나.세입세출(총괄)'!E10 -> 0 | F8: =E8-D8 -> 0
A9: 과년도수입 | B9: 과년도수입 | C9: 과년도수입 | D9: 0 | E9: ='나.세입세출(총괄)'!E13 -> 0 | F9: =E9-D9 -> 0
A10: 보조금수입 | B10: 경상보조금수입 | C10: 인건비 | D10: ='나.세입세출(총괄)'!D18 -> 1703326015 | E10: ='나.세입세출(총괄)'!E18 -> 1672616764 | F10: =E10-D10 -> -30709251 | G10: 인건비 호봉승급에 따른 예산증액
C11: 운영비 | D11: ='나.세입세출(총괄)'!D19 -> 941842735 | E11: ='나.세입세출(총괄)'!E19 -> 911987056 | F11: =E11-D11 -> -29855679 | G11: 실수입대비 예산 감액
C12: 생계비 | D12: ='나.세입세출(총괄)'!D20 -> 6300000 | E12: ='나.세입세출(총괄)'!E20 -> 6720000 | F12: =E12-D12 -> 420000 | G12: 실수입대비 예산증액
B13: 자본보조금수입 | C13: 자본보조금 | D13: 0 | E13: ='나.세입세출(총괄)'!E21 -> 0 | F13: =E13-D13 -> 0
B14: 기타보조금 | C14: 재활프로그램사업비 | D14: 0 | E14: ='나.세입세출(총괄)'!E24 -> 0 | F14: =E14-D14 -> 0 | G14: 2015년 재활프로그램 사업
C15: 공동모금회사업비 | D15: 0 | E15: ='나.세입세출(총괄)'!E25 -> 0 | F15: =E15-D15 -> 0
D16: 0 | E16: ='나.세입세출(총괄)'!E26 -> 0 | F16: =E16-D16 -> 0
D17: 0 | E17: ='나.세입세출(총괄)'!E27 -> 0 | F17: =E17-D17 -> 0
B18: 후원금수입 | C18: 후원금수입 | D18: 0 | E18: ='나.세입세출(총괄)'!E28 -> 0 | F18: =E18-D18 -> 0
A19: 후원금 | B19: 후원금수입 | C19: 지정후원금 | D19: ='나.세입세출(총괄)'!D32 -> 14200000 | E19: ='나.세입세출(총괄)'!E32 -> 14200000 | F19: =E19-D19 -> 0 | G19: 공동모금회 지정후원금 실수입 대비 예산 감액
C20: 비지정후원금 | D20: ='나.세입세출(총괄)'!D33 -> 350000000 | E20: ='나.세입세출(총괄)'!E33 -> 350000000 | F20: =E20-D20 -> 0
B21: 결연후원금수입 | C21: 결연후원금 | D21: ='나.세입세출(총괄)'!D34 -> 0 | E21: ='나.세입세출(총괄)'!E34 -> 0 | F21: =E21-D21 -> 0
A22: 전입금 | B22: 전입금 | C22: 법인전입금 | D22: ='나.세입세출(총괄)'!D36 -> 40000000 | E22: ='나.세입세출(총괄)'!E36 -> 40000000 | F22: =E22-D22 -> 0
A23: 이월금 | B23: 이월금 | C23: 전년도이월금 | D23: ='나.세입세출(총괄)'!D41 -> 81659584 | E23: ='나.세입세출(총괄)'!E41 -> 53487000 | F23: =E23-D23 -> -28172584 | G23: 실제 이월금 발생액
C24: 이월사업비 | D24: ='나.세입세출(총괄)'!D42 -> 0 | E24: ='나.세입세출(총괄)'!E42 -> 0 | F24: =E24-D24 -> 0
A25: 잡수입 | B25: 잡수입 | C25: 불용품매각대 | D25: ='나.세입세출(총괄)'!D45 -> 500000 | E25: ='나.세입세출(총괄)'!E45 -> 500000 | F25: =E25-D25 -> 0
C26: 기타예금이자수입 | D26: ='나.세입세출(총괄)'!D46 -> 1721666 | E26: ='나.세입세출(총괄)'!E46 -> 1759180 | F26: =E26-D26 -> 37514 | G26: 실수입대비 예산증액
C27: 기타잡수입 | D27: ='나.세입세출(총괄)'!D47 -> 45050000 | E27: ='나.세입세출(총괄)'!E47 -> 45050000 | F27: =E27-D27 -> 0
A30: 세 출
A31: 과 목 | D31: =D4 -> 2015년도 당초예산 ( A ) | E31: =E4 -> 2015년도 1차추경 ( B ) | F31: 증감 | G31: 내 용
A32: 관 | B32: 항 | C32: 목
A33: 총 계 | D33: =SUM(D34:D79) -> #REF! | E33: =SUM(E34:E79) -> #REF! | F33: =SUM(F34:F79) -> #REF!
A34: 사무비 | B34: 인건비 | C34: 급여 | D34: ='나.세입세출(총괄)'!K9 -> 1479465000 | E34: ='나.세입세출(총괄)'!L9 -> 1479465000 | F34: =E34-D34 -> 0 | G34: 인건비 호봉 승급에 따른 예산 증액
C35: 상여금 | D35: ='나.세입세출(총괄)'!#REF! -> #REF! | E35: ='나.세입세출(총괄)'!#REF! -> #REF! | F35: =E35-D35 -> #REF!
C36: 일용잡금 | D36: ='나.세입세출(총괄)'!K10 -> 9600000 | E36: ='나.세입세출(총괄)'!L10 -> 9600000 | F36: =E36-D36 -> 0
C37: 제수당 | D37: ='나.세입세출(총괄)'!K11 -> 509510880 | E37: ='나.세입세출(총괄)'!L11 -> 509510880 | F37: =E37-D37 -> 0 | G37: 인건비 호봉 승급에 따른 예산 증액
C38: 퇴직금및퇴직적립금 | D38: ='나.세입세출(총괄)'!K12 -> 164978100 | E38: ='나.세입세출(총괄)'!L12 -> 164978100 | F38: =E38-D38 -> 0 | G38: 인건비 호봉 승급에 따른 예산 증액
C39: 사회보험부담비용 | D39: ='나.세입세출(총괄)'!K13 -> 187693290 | E39: ='나.세입세출(총괄)'!L13 -> 187693290 | F39: =E39-D39 -> 0 | G39: 인건비 호봉 승급에 따른 예산 증액
C40: 기타후생경비 | D40: ='나.세입세출(총괄)'!K14 -> 42000000 | E40: ='나.세입세출(총괄)'!L14 -> 42000000 | F40: =E40-D40 -> 0 | G40: 실지출대비 예산 감액
B41: 업무추진비 | C41: 기관운영비 | D41: ='나.세입세출(총괄)'!#REF! -> #REF! | E41: ='나.세입세출(총괄)'!#REF! -> #REF! | F41: =E41-D41 -> #REF!
C42: 직책보조비 | D42: ='나.세입세출(총괄)'!#REF! -> #REF! | E42: ='나.세입세출(총괄)'!#REF! -> #REF! | F42: =E42-D42 -> #REF!
C43: 홍보비 | D43: ='나.세입세출(총괄)'!#REF! -> #REF! | E43: ='나.세입세출(총괄)'!#REF! -> #REF! | F43: =E43-D43 -> #REF!
C44: 회의비 | D44: ='나.세입세출(총괄)'!K16 -> 2490000 | E44: ='나.세입세출(총괄)'!L16 -> 2490000 | F44: =E44-D44 -> 0 | G44: 실지출대비 예산 감액
B45: 운영비 | C45: 여비 | D45: ='나.세입세출(총괄)'!K18 -> 5000000 | E45: ='나.세입세출(총괄)'!L18 -> 5000000 | F45: =E45-D45 -> 0
C46: 수용비및수수료 | D46: ='나.세입세출(총괄)'!K19 -> 59771080 | E46: ='나.세입세출(총괄)'!L19 -> 55288080 | F46: =E46-D46 -> -4483000 | G46: 실지출대비 예산 증액
C47: 공공요금 | D47: ='나.세입세출(총괄)'!K20 -> 126000000 | E47: ='나.세입세출(총괄)'!L20 -> 119100000 | F47: =E47-D47 -> -6900000
C48: 제세공과금 | D48: ='나.세입세출(총괄)'!K21 -> 13625830 | E48: ='나.세입세출(총괄)'!L21 -> 13625830 | F48: =E48-D48 -> 0
C49: 차량비 | D49: ='나.세입세출(총괄)'!K22 -> 26000000 | E49: ='나.세입세출(총괄)'!L22 -> 26000000 | F49: =E49-D49 -> 0 | G49: 실지출반영 예산 감액
C50: 기타운영비 | D50: ='나.세입세출(총괄)'!K23 -> 14000000 | E50: ='나.세입세출(총괄)'!L23 -> 14000000 | F50: =E50-D50 -> 0
A51: 재산조성비 | B51: 시설비 | C51: 시설비 | D51: ='나.세입세출(총괄)'!K26 -> 10000000 | E51: ='나.세입세출(총괄)'!L26 -> 10000000 | F51: =E51-D51 -> 0 | G51: 실지출대비 예산 감액
C52: 자산취득비 | D52: ='나.세입세출(총괄)'!K27 -> 20000000 | E52: ='나.세입세출(총괄)'!L27 -> 65900000 | F52: =E52-D52 -> 45900000 | G52: 실지출대비 예산 감액
C53: 시설장비유지비 | D53: ='나.세입세출(총괄)'!K28 -> 132000000 | E53: ='나.세입세출(총괄)'!L28 -> 92000000 | F53: =E53-D53 -> -40000000 | G53: 실지출대비 예산 증액
A54: 사업비 | B54: 운영비 | C54: 생계비 | D54: ='나.세입세출(총괄)'!K31 -> 211496570 | E54: ='나.세입세출(총괄)'!L31 -> 209362640 | F54: =E54-D54 -> -2133930 | G54: 기초생활보장급여 증액에 따른 예산 증액
C55: 피복비 | D55: ='나.세입세출(총괄)'!K32 -> 4000000 | E55: ='나.세입세출(총괄)'!L32 -> 4000000 | F55: =E55-D55 -> 0
C56: 수용기관경비 | D56: ='나.세입세출(총괄)'!K33 -> 37970000 | E56: ='나.세입세출(총괄)'!L33 -> 37970000 | F56: =E56-D56 -> 0 | G56: 실지출대비 예산 증액
C57: 의료비 | D57: ='나.세입세출(총괄)'!K34 -> 3000000 | E57: ='나.세입세출(총괄)'!L34 -> 3000000 | F57: =E57-D57 -> 0
C58: 연료비 | D58: ='나.세입세출(총괄)'!K35 -> 0 | E58: ='나.세입세출(총괄)'!L35 -> 0 | F58: =E58-D58 -> 0
C59: 직업재활비 | D59: ='나.세입세출(총괄)'!#REF! -> #REF! | E59: ='나.세입세출(총괄)'!#REF! -> #REF! | F59: =E59-D59 -> #REF!
C60: 자활사업비 | F60: =E60-D60 -> 0
C61: 특별급식비 | D61: ='나.세입세출(총괄)'!#REF! -> #REF! | E61: ='나.세입세출(총괄)'!#REF! -> #REF! | F61: =E61-D61 -> #REF!
C62: 연료비 | F62: =E62-D62 -> 0
B63: 교육비 | C63: 학용품비 | D63: ='나.세입세출(총괄)'!#REF! -> #REF! | E63: ='나.세입세출(총괄)'!#REF! -> #REF! | F63: =E63-D63 -> #REF!
B64: 사업비 | C64: 의료재활사업비 | D64: ='나.세입세출(총괄)'!#REF! -> #REF! | E64: ='나.세입세출(총괄)'!#REF! -> #REF! | F64: =E64-D64 -> #REF!
C65: 사회심리재활사업비 | D65: ='나.세입세출(총괄)'!K37 -> 93000000 | E65: ='나.세입세출(총괄)'!L37 -> 89000000 | F65: =E65-D65 -> -4000000
C66: 교육재활사업비 | D66: ='나.세입세출(총괄)'!K38 -> 5000000 | E66: ='나.세입세출(총괄)'!L38 -> 5000000 | F66: =E66-D66 -> 0
D67: 0 | E67: 0 | F67: =E67-D67 -> 0
C68: 직업재활사업비 | D68: ='나.세입세출(총괄)'!K39 -> 32840000 | E68: ='나.세입세출(총괄)'!L39 -> 32840000 | F68: =E68-D68 -> 0
C69: 4종운영지원사업비 | D69: ='나.세입세출(총괄)'!K40 -> 6600000 | E69: ='나.세입세출(총괄)'!L40 -> 6600000 | F69: =E69-D69 -> 0
C70: 7종운영지원사업비 | D70: ='나.세입세출(총괄)'!#REF! -> #REF! | E70: ='나.세입세출(총괄)'!#REF! -> #REF! | F70: =E70-D70 -> #REF! | G70: 신입 조리보조원 호봉에 따른 예산감액
C71: ='나.세입세출(총괄)'!J41 -> 재활프로그램사업비 | D71: ='나.세입세출(총괄)'!K41 -> 7000000 | E71: ='나.세입세출(총괄)'!L41 -> 10000000 | F71: =E71-D71 -> 3000000
C72: 재활프로그램사업비 | D72: ='나.세입세출(총괄)'!K42 -> 60531000 | E72: ='나.세입세출(총괄)'!L42 -> 2100000 | F72: =E72-D72 -> -58431000 | G72: 2015년 재활프로그램 예산반영 (도보트래킹)
D73: ='나.세입세출(총괄)'!#REF! -> #REF! | E73: ='나.세입세출(총괄)'!#REF! -> #REF! | F73: =E73-D73 -> #REF!
C74: 공동모금회사업비 | D74: ='나.세입세출(총괄)'!#REF! -> #REF! | E74: ='나.세입세출(총괄)'!#REF! -> #REF! | F74: =E74-D74 -> #REF! | G74: 2015년 공동모금회 사업선정 예산반영(난타)
A75: 결연후원금 | B75: 결연후원금 | C75: 결연후원금지급 | D75: ='나.세입세출(총괄)'!#REF! -> #REF! | E75: ='나.세입세출(총괄)'!#REF! -> #REF! | F75: =E75-D75 -> #REF!
A76: 과년도지출 | B76: 과년도지출 | C76: 과년도지출 | D76: ='나.세입세출(총괄)'!K45 -> 1897000 | E76: ='나.세입세출(총괄)'!L45 -> 800000 | F76: =E76-D76 -> -1097000
A77: 잡지출 | B77: 잡지출 | C77: 잡지출 | D77: ='나.세입세출(총괄)'!K48 -> 625462 | E77: ='나.세입세출(총괄)'!L48 -> 609180 | F77: =E77-D77 -> -16282 | G77: 실수입반영 잡지출 예산증액
A78: 예비비 | B78: 예비비 | C78: 예비비 | D78: ='나.세입세출(총괄)'!#REF! -> #REF! | E78: ='나.세입세출(총괄)'!#REF! -> #REF! | F78: =E78-D78 -> #REF!
B79: 보조금반환 | C79: 보조금반환 | D79: ='나.세입세출(총괄)'!K51 -> 51405788 | E79: ='나.세입세출(총괄)'!L51 -> 31287000 | F79: =E79-D79 -> -20118788 | G79: 보조금 반환금 예상액 산출 반영

Sheet 인건비총계표(보조금)
A1: ▣ 2020년 종사자 인건비 총계표
A3: (1) 국도시비 | AC3: (단위 : 원)
A4: 연 번 | B4: 직 종 | C4: 호 봉 | D4: 명 수 | E4: 구분 (월) | F4: 기본급 | G4: 기말수당 (50%씩 연4회 -3,6,9,12월) | H4: 정근수당 (1,7월) | I4: 처우개선비 (50,000원) | J4: 처우개선비 포함연장수당 | K4: 처우개선비 포함연장수당 | L4: 처우개선비 포함연장수당 | M4: 명절휴가비 (60%씩 연2회) | O4: 가족수당 (40,000원) (2만,6만,10만) | P4: 처우개선비 | Q4: 연장근로수당 | R4: 연장근로수당 (보수월액*1/ 209*1.5*20or40) | S4: 추가지원수당 (보수월액*1/ 209*1.5*5 | T4: 특수근무 수 당 (도비) | U4: 소 계 | V4: 비 고 | W4: 퇴직적립금 | X4: 국민연금 | Y4: 의료보험 | Z4: 의료보험 (장기요양보험) | AA4: 고용보험 | AB4: 산재보험 | AC4: 공제액합계
A5: 합 계 | F5: =F6+F19+F32+F45+F58+F71+F84+F97+F110+F123+F136+F149+F162+F175+F188+F201+F214+F227+F240+F253+F266+F279+F292+F305+F318+F331+F344+F357+F370+F383+F396+F409+F422+F435+F448+F461+F474+F487+F500+F513+F526+F539+F552+F565+F591+F604+F617+F630+F643+F578 -> 1391304000 | G5: =G6+G19+G32+G45+G58+G71+G84+G97+G110+G123+G136+G149+G162+G175+G188+G201+G214+G227+G240+G253+G266+G279+G292+G305+G318+G331+G344+G357+G370+G383+G396+G409+G422+G435+G448+G461+G474+G487+G500+G513+G526+G539+G552+G565+G591+G604+G617+G630+G643+G578 -> 0 | H5: =H6+H19+H32+H45+H58+H71+H84+H97+H110+H123+H136+H149+H162+H175+H188+H201+H214+H227+H240+H253+H266+H279+H292+H305+H318+H331+H344+H357+H370+H383+H396+H409+H422+H435+H448+H461+H474+H487+H500+H513+H526+H539+H552+H565+H591+H604+H617+H630+H643+H578 -> 0 | I5: =I6+I19+I32+I45+I58+I71+I84+I97+I110+I123+I136+I149+I162+I175+I188+I201+I214+I227+I240+I253+I266+I279+I292+I305+I318+I331+I344+I357+I370+I383+I396+I409+I422+I435+I448+I461+I474+I487+I500+I513+I526+I539+I552+I565+I591+I604+I617+I630+I643+I578 -> 0 | J5: =J6+J19+J32+J45+J58+J71+J84+J97+J110+J123+J136+J149+J162+J175+J188+J201+J214+J227+J240+J253+J266+J279+J292+J305+J318+J331+J344+J357+J370+J383+J396+J409+J422+J435+J448+J461+J474+J487+J500+J513+J526+J539+J552+J565+J591+J604+J617+J630+J643+J578 -> 0 | K5: =K6+K19+K32+K45+K58+K71+K84+K97+K110+K123+K136+K149+K162+K175+K188+K201+K214+K227+K240+K253+K266+K279+K292+K305+K318+K331+K344+K357+K370+K383+K396+K409+K422+K435+K448+K461+K474+K487+K500+K513+K526+K539+K552+K565+K591+K604+K617+K630+K643+K578 -> 0 | L5: =L6+L19+L32+L45+L58+L71+L84+L97+L110+L123+L136+L149+L162+L175+L188+L201+L214+L227+L240+L253+L266+L279+L292+L305+L318+L331+L344+L357+L370+L383+L396+L409+L422+L435+L448+L461+L474+L487+L500+L513+L526+L539+L552+L565+L591+L604+L617+L630+L643+L578 -> 0 | M5: =M6+M19+M32+M45+M58+M71+M84+M97+M110+M123+M136+M149+M162+M175+M188+M201+M214+M227+M240+M253+M266+M279+M292+M305+M318+M331+M344+M357+M370+M383+M396+M409+M422+M435+M448+M461+M474+M487+M500+M513+M526+M539+M552+M565+M591+M604+M617+M630+M643+M578 -> 134188200 | ... U5: =U6+U19+U32+U45+U58+U71+U84+U97+U110+U123+U136+U149+U162+U175+U188+U201+U214+U227+U240+U253+U266+U279+U292+U305+U318+U331+U344+U357+U370+U383+U396+U409+U422+U435+U448+U461+U474+U487+U500+U513+U526+U539+U552+U565+U591+U604+U617+U630+U643+U578 -> 1850007080 | W5: =W6+W19+W32+W45+W58+W71+W84+W97+W110+W123+W136+W149+W162+W175+W188+W201+W214+W227+W240+W253+W266+W279+W292+W305+W318+W331+W344+W357+W370+W383+W396+W409+W422+W435+W448+W461+W474+W487+W500+W513+W526+W539+W552+W565+W591+W604+W617+W630+W643+W578 -> 153616310 | X5: =X6+X19+X32+X45+X58+X71+X84+X97+X110+X123+X136+X149+X162+X175+X188+X201+X214+X227+X240+X253+X266+X279+X292+X305+X318+X331+X344+X357+X370+X383+X396+X409+X422+X435+X448+X461+X474+X487+X500+X513+X526+X539+X552+X565+X591+X604+X617+X630+X643+X578 -> 81880850 | Y5: =Y6+Y19+Y32+Y45+Y58+Y71+Y84+Y97+Y110+Y123+Y136+Y149+Y162+Y175+Y188+Y201+Y214+Y227+Y240+Y253+Y266+Y279+Y292+Y305+Y318+Y331+Y344+Y357+Y370+Y383+Y396+Y409+Y422+Y435+Y448+Y461+Y474+Y487+Y500+Y513+Y526+Y539+Y552+Y565+Y591+Y604+Y617+Y630+Y643+Y578 -> 58775270 | Z5: =Z6+Z19+Z32+Z45+Z58+Z71+Z84+Z97+Z110+Z123+Z136+Z149+Z162+Z175+Z188+Z201+Z214+Z227+Z240+Z253+Z266+Z279+Z292+Z305+Z318+Z331+Z344+Z357+Z370+Z383+Z396+Z409+Z422+Z435+Z448+Z461+Z474+Z487+Z500+Z513+Z526+Z539+Z552+Z565+Z591+Z604+Z617+Z630+Z643+Z578 -> 5004850 | AA5: =AA6+AA19+AA32+AA45+AA58+AA71+AA84+AA97+AA110+AA123+AA136+AA149+AA162+AA175+AA188+AA201+AA214+AA227+AA240+AA253+AA266+AA279+AA292+AA305+AA318+AA331+AA344+AA357+AA370+AA383+AA396+AA409+AA422+AA435+AA448+AA461+AA474+AA487+AA500+AA513+AA526+AA539+AA552+AA565+AA591+AA604+AA617+AA630+AA643+AA578 -> 15873640 | AB5: =AB6+AB19+AB32+AB45+AB58+AB71+AB84+AB97+AB110+AB123+AB136+AB149+AB162+AB175+AB188+AB201+AB214+AB227+AB240+AB253+AB266+AB279+AB292+AB305+AB318+AB331+AB344+AB357+AB370+AB383+AB396+AB409+AB422+AB435+AB448+AB461+AB474+AB487+AB500+AB513+AB526+AB539+AB552+AB565+AB591+AB604+AB617+AB630+AB643+AB578 -> 14109850 | AC5: =AC6+AC19+AC32+AC45+AC58+AC71+AC84+AC97+AC110+AC123+AC136+AC149+AC162+AC175+AC188+AC201+AC214+AC227+AC240+AC253+AC266+AC279+AC292+AC305+AC318+AC331+AC344+AC357+AC370+AC383+AC396+AC409+AC422+AC435+AC448+AC461+AC474+AC487+AC500+AC513+AC526+AC539+AC552+AC565+AC591+AC604+AC617+AC630+AC643+AC578 -> 329260770
A6: 1 | B6: 시 설 장 | C6: 12,13 | D6: 1 | E6: 소계 | F6: =SUM(F7:F18) -> 43751000 | G6: =SUM(G7:G18) -> 0 | H6: =SUM(H7:H18) -> 0 | I6: =SUM(I7:I18) -> 0 | J6: =SUM(J7:J18) -> 0 | K6: =SUM(K7:K18) -> 0 | L6: =SUM(L7:L18) -> 0 | M6: =SUM(M7:M18) -> 4366200 | ... P6: =SUM(P7:P18) -> 0 | R6: =SUM(R7:R18) -> 6279200 | S6: =SUM(S7:S18) -> 1437650 | T6: =SUM(T7:T18) -> 0 | U6: =SUM(U7:U18) -> 55834050 | W6: =SUM(W7:W18) -> 4652850 | X6: =SUM(X7:X18) -> 2512530 | Y6: =SUM(Y7:Y18) -> 1803510 | Z6: =SUM(Z7:Z18) -> 153560 | AA6: =SUM(AA7:AA18) -> 0 | AB6: =SUM(AB7:AB18) -> 0 | AC6: =SUM(AC7:AC18) -> 9122450
B7: 이기수 | C7: 12 | E7: 1월 | F7: 3594000 | M7: - | O7: - | U7: =SUM(F7,M7,O7,R7,T7,S7) -> 3594000 | W7: =ROUNDUP(U7*1/12,-1) -> 299500 | X7: =ROUND(U7*4.5%,-1) -> 161730 | Y7: =ROUNDUP((U7-L7)*3.23%,-1) -> 116090 | Z7: =ROUNDUP(Y7*8.51%,-1) -> 9880 | AA7: 0 | AB7: 0 | AC7: =SUM(W7:AB7) -> 587200
E8: 2월 | F8: =F7 -> 3594000 | M8: =F8*60% -> 2156400 | O8: - | Q8: =ROUND((F7+T7)*1/209*1.5,-1) -> 25790 | R8: =Q8*20 -> 515800 | S8: =Q8*5 -> 128950 | U8: =SUM(F8,M8,O8,R8,T8,S8) -> 6395150 | W8: =ROUNDUP((T8+U8)*1/12,-1) -> 532930 | X8: =ROUND(U8*4.5%,-1) -> 287780 | Y8: =ROUNDUP((U8-L8)*3.23%,-1) -> 206570 | Z8: =ROUNDUP(Y8*8.51%,-1) -> 17580 | AA8: 0 | AB8: 0 | AC8: =SUM(W8:AB8) -> 1044860
E9: 3월 | F9: =F7 -> 3594000 | O9: - | Q9: =ROUND((F8+T8)*1/209*1.5,-1) -> 25790 | R9: =Q9*20 -> 515800 | S9: =Q9*5 -> 128950 | U9: =SUM(F9,M9,O9,R9,T9,S9) -> 4238750 | W9: =ROUNDUP(U9*1/12,-1) -> 353230 | X9: =ROUND(U9*4.5%,-1) -> 190740 | Y9: =ROUNDUP((U9-L9)*3.23%,-1) -> 136920 | Z9: =ROUNDUP(Y9*8.51%,-1) -> 11660 | AA9: 0 | AB9: 0 | AC9: =SUM(W9:AB9) -> 692550
E10: 4월 | F10: =F8 -> 3594000 | O10: - | Q10: =ROUND((F9+T9)*1/209*1.5,-1) -> 25790 | R10: =Q10*20 -> 515800 | S10: =Q10*5 -> 128950 | U10: =SUM(F10,M10,O10,R10,T10,S10) -> 4238750 | W10: =ROUNDUP(U10*1/12,-1) -> 353230 | X10: =ROUND(U10*4.5%,-1) -> 190740 | Y10: =ROUNDUP((U10-L10)*3.23%,-1) -> 136920 | Z10: =ROUNDUP(Y10*8.51%,-1) -> 11660 | AA10: 0 | AB10: 0 | AC10: =SUM(W10:AB10) -> 692550
E11: 5월 | F11: =F9 -> 3594000 | O11: - | Q11: =ROUND((F10+T10)*1/209*1.5,-1) -> 25790 | R11: =Q11*20 -> 515800 | S11: =Q11*5 -> 128950 | U11: =SUM(F11,M11,O11,R11,T11,S11) -> 4238750 | W11: =ROUNDUP(U11*1/12,-1) -> 353230 | X11: =ROUND(U11*4.5%,-1) -> 190740 | Y11: =ROUNDUP((U11-L11)*3.23%,-1) -> 136920 | Z11: =ROUNDUP(Y11*8.51%,-1) -> 11660 | AA11: 0 | AB11: 0 | AC11: =SUM(W11:AB11) -> 692550
C12: =C7+1 -> 13 | E12: 6월 | F12: 3683000 | O12: - | Q12: =ROUND((F11+T11)*1/209*1.5,-1) -> 25790 | R12: =Q12*20 -> 515800 | S12: =Q12*5 -> 128950 | U12: =SUM(F12,M12,O12,R12,T12,S12) -> 4327750 | W12: =ROUNDUP(U12*1/12,-1) -> 360650 | X12: =ROUND(U12*4.5%,-1) -> 194750 | Y12: =ROUNDUP((U12-L12)*3.23%,-1) -> 139790 | Z12: =ROUNDUP(Y12*8.51%,-1) -> 11900 | AA12: 0 | AB12: 0 | AC12: =SUM(W12:AB12) -> 707090
E13: 7월 | F13: =F12 -> 3683000 | O13: - | Q13: =ROUND((F12+T12)*1/209*1.5,-1) -> 26430 | R13: =Q13*20 -> 528600 | S13: =Q13*5 -> 132150 | U13: =SUM(F13,M13,O13,R13,T13,S13) -> 4343750 | W13: =ROUNDUP(U13*1/12,-1) -> 361980 | X13: =ROUND(U13*4.5%,-1) -> 195470 | Y13: =ROUNDUP((U13-L13)*3.23%,-1) -> 140310 | Z13: =ROUNDUP(Y13*8.51%,-1) -> 11950 | AA13: 0 | AB13: 0 | AC13: =SUM(W13:AB13) -> 709710
E14: 8월 | F14: =F13 -> 3683000 | O14: - | Q14: =ROUND((F13+T13)*1/209*1.5,-1) -> 26430 | R14: =Q14*20 -> 528600 | S14: =Q14*5 -> 132150 | U14: =SUM(F14,M14,O14,R14,T14,S14) -> 4343750 | W14: =ROUNDUP(U14*1/12,-1) -> 361980 | X14: =ROUND(U14*4.5%,-1) -> 195470 | Y14: =ROUNDUP((U14-L14)*3.23%,-1) -> 140310 | Z14: =ROUNDUP(Y14*8.51%,-1) -> 11950 | AA14: 0 | AB14: 0 | AC14: =SUM(W14:AB14) -> 709710
E15: 9월 | F15: =F13 -> 3683000 | M15: =F15*60% -> 2209800 | O15: - | Q15: =ROUND((F14+T14)*1/209*1.5,-1) -> 26430 | R15: =Q15*20 -> 528600 | S15: =Q15*5 -> 132150 | U15: =SUM(F15,M15,O15,R15,T15,S15) -> 6553550 | W15: =ROUNDUP(U15*1/12,-1) -> 546130 | X15: =ROUND(U15*4.5%,-1) -> 294910 | Y15: =ROUNDUP((U15-L15)*3.23%,-1) -> 211680 | Z15: =ROUNDUP(Y15*8.51%,-1) -> 18020 | AA15: 0 | AB15: 0 | AC15: =SUM(W15:AB15) -> 1070740
E16: 10월 | F16: =F13 -> 3683000 | O16: - | Q16: =ROUND((F15+T15)*1/209*1.5,-1) -> 26430 | R16: =Q16*20 -> 528600 | S16: =Q16*5 -> 132150 | U16: =SUM(F16,M16,O16,R16,T16,S16) -> 4343750 | W16: =ROUNDUP(U16*1/12,-1) -> 361980 | X16: =ROUND(U16*4.5%,-1) -> 195470 | Y16: =ROUNDUP((U16-L16)*3.23%,-1) -> 140310 | Z16: =ROUNDUP(Y16*8.51%,-1) -> 11950 | AA16: 0 | AB16: 0 | AC16: =SUM(W16:AB16) -> 709710
E17: 11월 | F17: =F13 -> 3683000 | O17: - | Q17: =ROUND((F16+T16)*1/209*1.5,-1) -> 26430 | R17: =Q17*20 -> 528600 | S17: =Q17*5 -> 132150 | U17: =SUM(F17,M17,O17,R17,T17,S17) -> 4343750 | W17: =ROUNDUP(U17*1/12,-1) -> 361980 | X17: =ROUND(U17*4.5%,-1) -> 195470 | Y17: =ROUNDUP((U17-L17)*3.23%,-1) -> 140310 | Z17: =ROUNDUP(Y17*8.51%,-1) -> 11950 | AA17: 0 | AB17: 0 | AC17: =SUM(W17:AB17) -> 709710
E18: 12월 | F18: =F13 -> 3683000 | O18: - | Q18: =ROUND((F17+T17)*1/209*1.5,-1) -> 26430 | R18: =Q18*20*2 -> 1057200 | S18: =Q18*5 -> 132150 | U18: =SUM(F18,M18,O18,R18,T18,S18) -> 4872350 | W18: =ROUNDUP(U18*1/12,-1) -> 406030 | X18: =ROUND(U18*4.5%,-1) -> 219260 | Y18: =ROUNDUP((U18-L18)*3.23%,-1) -> 157380 | Z18: =ROUNDUP(Y18*8.51%,-1) -> 13400 | AA18: 0 | AB18: 0 | AC18: =SUM(W18:AB18) -> 796070
A19: 2 | B19: 사무국장 | C19: 17,18 | D19: 1 | E19: 소계 | F19: =SUM(F20:F31) -> 44016000 | G19: =SUM(G20:G31) -> 0 | H19: =SUM(H20:H31) -> 0 | I19: =SUM(I20:I31) -> 0 | J19: =SUM(J20:J31) -> 0 | K19: =SUM(K20:K31) -> 0 | L19: =SUM(L20:L31) -> 0 | M19: =SUM(M20:M31) -> 4389000 | ... P19: =SUM(P20:P31) -> 0 | R19: =SUM(R20:R31) -> 5054720 | S19: =SUM(S20:S31) -> 1447200 | T19: =SUM(T20:T31) -> 0 | U19: =SUM(U20:U31) -> 56346920 | W19: =SUM(W20:W31) -> 4695640 | X19: =SUM(X20:X31) -> 2535610 | Y19: =SUM(Y20:Y31) -> 1820080 | Z19: =SUM(Z20:Z31) -> 154920 | AA19: =SUM(AA20:AA31) -> 507140 | AB19: =SUM(AB20:AB31) -> 450770 | AC19: =SUM(AC20:AC31) -> 10164160
B20: 금형민 | C20: 17 | E20: 1월 | F20: 3626000 | M20: - | O20: =40000+20000+60000 -> 120000 | U20: =SUM(F20,M20,O20,R20,T20,S20) -> 3746000 | W20: =ROUNDUP(U20*1/12,-1) -> 312170 | X20: =ROUND(U20*4.5%,-1) -> 168570 | Y20: =ROUNDUP((U20-L20)*3.23%,-1) -> 121000 | Z20: =ROUNDUP(Y20*8.51%,-1) -> 10300 | AA20: =ROUND(U20*0.9%,-1) -> 33710 | AB20: =ROUND(U20*0.8%,-1) -> 29970 | AC20: =SUM(W20:AB20) -> 675720
E21: 2월 | F21: =F20 -> 3626000 | M21: =F21*60% -> 2175600 | O21: =O20 -> 120000 | Q21: =ROUND((F20+T20)*1/209*1.5,-1) -> 26020 | R21: =Q21*16 -> 416320 | S21: =Q21*5 -> 130100 | U21: =SUM(F21,M21,O21,R21,T21,S21) -> 6468020 | W21: =ROUNDUP((T21+U21)*1/12,-1) -> 539010 | X21: =ROUND(U21*4.5%,-1) -> 291060 | Y21: =ROUNDUP((U21-L21)*3.23%,-1) -> 208920 | Z21: =ROUNDUP(Y21*8.51%,-1) -> 17780 | AA21: =ROUND(U21*0.9%,-1) -> 58210 | AB21: =ROUND(U21*0.8%,-1) -> 51740 | AC21: =SUM(W21:AB21) -> 1166720
E22: 3월 | F22: =F20 -> 3626000 | O22: =O21 -> 120000 | Q22: =ROUND((F21+T21)*1/209*1.5,-1) -> 26020 | R22: =Q22*16 -> 416320 | S22: =Q22*5 -> 130100 | U22: =SUM(F22,M22,O22,R22,T22,S22) -> 4292420 | W22: =ROUNDUP(U22*1/12,-1) -> 357710 | X22: =ROUND(U22*4.5%,-1) -> 193160 | Y22: =ROUNDUP((U22-L22)*3.23%,-1) -> 138650 | Z22: =ROUNDUP(Y22*8.51%,-1) -> 11800 | AA22: =ROUND(U22*0.9%,-1) -> 38630 | AB22: =ROUND(U22*0.8%,-1) -> 34340 | AC22: =SUM(W22:AB22) -> 774290
E23: 4월 | F23: =F20 -> 3626000 | O23: =O22 -> 120000 | Q23: =ROUND((F22+T22)*1/209*1.5,-1) -> 26020 | R23: =Q23*16 -> 416320 | S23: =Q23*5 -> 130100 | U23: =SUM(F23,M23,O23,R23,T23,S23) -> 4292420 | W23: =ROUNDUP(U23*1/12,-1) -> 357710 | X23: =ROUND(U23*4.5%,-1) -> 193160 | Y23: =ROUNDUP((U23-L23)*3.23%,-1) -> 138650 | Z23: =ROUNDUP(Y23*8.51%,-1) -> 11800 | AA23: =ROUND(U23*0.9%,-1) -> 38630 | AB23: =ROUND(U23*0.8%,-1) -> 34340 | AC23: =SUM(W23:AB23) -> 774290
C24: =C20+1 -> 18 | E24: 5월 | F24: 3689000 | O24: =O23 -> 120000 | Q24: =ROUND((F23+T23)*1/209*1.5,-1) -> 26020 | R24: =Q24*16 -> 416320 | S24: =Q24*5 -> 130100 | U24: =SUM(F24,M24,O24,R24,T24,S24) -> 4355420 | W24: =ROUNDUP(U24*1/12,-1) -> 362960 | X24: =ROUND(U24*4.5%,-1) -> 195990 | Y24: =ROUNDUP((U24-L24)*3.23%,-1) -> 140690 | Z24: =ROUNDUP(Y24*8.51%,-1) -> 11980 | AA24: =ROUND(U24*0.9%,-1) -> 39200 | AB24: =ROUND(U24*0.8%,-1) -> 34840 | AC24: =SUM(W24:AB24) -> 785660
E25: 6월 | F25: =F24 -> 3689000 | O25: =O24 -> 120000 | Q25: =ROUND((F24+T24)*1/209*1.5,-1) -> 26480 | R25: =Q25*16 -> 423680 | S25: =Q25*5 -> 132400 | U25: =SUM(F25,M25,O25,R25,T25,S25) -> 4365080 | W25: =ROUNDUP(U25*1/12,-1) -> 363760 | X25: =ROUND(U25*4.5%,-1) -> 196430 | Y25: =ROUNDUP((U25-L25)*3.23%,-1) -> 141000 | Z25: =ROUNDUP(Y25*8.51%,-1) -> 12000 | AA25: =ROUND(U25*0.9%,-1) -> 39290 | AB25: =ROUND(U25*0.8%,-1) -> 34920 | AC25: =SUM(W25:AB25) -> 787400
E26: 7월 | F26: =F25 -> 3689000 | O26: =O25 -> 120000 | Q26: =ROUND((F25+T25)*1/209*1.5,-1) -> 26480 | R26: =Q26*16 -> 423680 | S26: =Q26*5 -> 132400 | U26: =SUM(F26,M26,O26,R26,T26,S26) -> 4365080 | W26: =ROUNDUP(U26*1/12,-1) -> 363760 | X26: =ROUND(U26*4.5%,-1) -> 196430 | Y26: =ROUNDUP((U26-L26)*3.23%,-1) -> 141000 | Z26: =ROUNDUP(Y26*8.51%,-1) -> 12000 | AA26: =ROUND(U26*0.9%,-1) -> 39290 | AB26: =ROUND(U26*0.8%,-1) -> 34920 | AC26: =SUM(W26:AB26) -> 787400
E27: 8월 | F27: =F26 -> 3689000 | O27: =O26 -> 120000 | Q27: =ROUND((F26+T26)*1/209*1.5,-1) -> 26480 | R27: =Q27*16 -> 423680 | S27: =Q27*5 -> 132400 | U27: =SUM(F27,M27,O27,R27,T27,S27) -> 4365080 | W27: =ROUNDUP(U27*1/12,-1) -> 363760 | X27: =ROUND(U27*4.5%,-1) -> 196430 | Y27: =ROUNDUP((U27-L27)*3.23%,-1) -> 141000 | Z27: =ROUNDUP(Y27*8.51%,-1) -> 12000 | AA27: =ROUND(U27*0.9%,-1) -> 39290 | AB27: =ROUND(U27*0.8%,-1) -> 34920 | AC27: =SUM(W27:AB27) -> 787400
E28: 9월 | F28: =F27 -> 3689000 | M28: =F28*60% -> 2213400 | O28: =O27 -> 120000 | Q28: =ROUND((F27+T27)*1/209*1.5,-1) -> 26480 | R28: =Q28*16 -> 423680 | S28: =Q28*5 -> 132400 | U28: =SUM(F28,M28,O28,R28,T28,S28) -> 6578480 | W28: =ROUNDUP(U28*1/12,-1) -> 548210 | X28: =ROUND(U28*4.5%,-1) -> 296030 | Y28: =ROUNDUP((U28-L28)*3.23%,-1) -> 212490 | Z28: =ROUNDUP(Y28*8.51%,-1) -> 18090 | AA28: =ROUND(U28*0.9%,-1) -> 59210 | AB28: =ROUND(U28*0.8%,-1) -> 52630 | AC28: =SUM(W28:AB28) -> 1186660
E29: 10월 | F29: =F27 -> 3689000 | O29: =O28 -> 120000 | Q29: =ROUND((F28+T28)*1/209*1.5,-1) -> 26480 | R29: =Q29*16 -> 423680 | S29: =Q29*5 -> 132400 | U29: =SUM(F29,M29,O29,R29,T29,S29) -> 4365080 | W29: =ROUNDUP(U29*1/12,-1) -> 363760 | X29: =ROUND(U29*4.5%,-1) -> 196430 | Y29: =ROUNDUP((U29-L29)*3.23%,-1) -> 141000 | Z29: =ROUNDUP(Y29*8.51%,-1) -> 12000 | AA29: =ROUND(U29*0.9%,-1) -> 39290 | AB29: =ROUND(U29*0.8%,-1) -> 34920 | AC29: =SUM(W29:AB29) -> 787400
E30: 11월 | F30: =F29 -> 3689000 | O30: =O29 -> 120000 | Q30: =ROUND((F29+T29)*1/209*1.5,-1) -> 26480 | R30: =Q30*16 -> 423680 | S30: =Q30*5 -> 132400 | U30: =SUM(F30,M30,O30,R30,T30,S30) -> 4365080 | W30: =ROUNDUP(U30*1/12,-1) -> 363760 | X30: =ROUND(U30*4.5%,-1) -> 196430 | Y30: =ROUNDUP((U30-L30)*3.23%,-1) -> 141000 | Z30: =ROUNDUP(Y30*8.51%,-1) -> 12000 | AA30: =ROUND(U30*0.9%,-1) -> 39290 | AB30: =ROUND(U30*0.8%,-1) -> 34920 | AC30: =SUM(W30:AB30) -> 787400
E31: 12월 | F31: =F30 -> 3689000 | O31: =O30 -> 120000 | Q31: =ROUND((F30+T30)*1/209*1.5,-1) -> 26480 | R31: =Q31*16*2 -> 847360 | S31: =Q31*5 -> 132400 | U31: =SUM(F31,M31,O31,R31,T31,S31) -> 4788760 | W31: =ROUNDUP(U31*1/12,-1) -> 399070 | X31: =ROUND(U31*4.5%,-1) -> 215490 | Y31: =ROUNDUP((U31-L31)*3.23%,-1) -> 154680 | Z31: =ROUNDUP(Y31*8.51%,-1) -> 13170 | AA31: =ROUND(U31*0.9%,-1) -> 43100 | AB31: =ROUND(U31*0.8%,-1) -> 38310 | AC31: =SUM(W31:AB31) -> 863820
A32: 3 | B32: 상담평가원 | C32: 15,16 | D32: 1 | E32: 소계 | F32: =SUM(F33:F44) -> 38346000 | G32: =SUM(G33:G44) -> 0 | H32: =SUM(H33:H44) -> 0 | I32: =SUM(I33:I44) -> 0 | J32: =SUM(J33:J44) -> 0 | K32: =SUM(K33:K44) -> 0 | L32: =SUM(L33:L44) -> 0 | M32: =SUM(M33:M44) -> 3834600 | ... P32: =SUM(P33:P44) -> 0 | R32: =SUM(R33:R44) -> 5504400 | S32: =SUM(S33:S44) -> 1260250 | T32: =SUM(T33:T44) -> 0 | U32: =SUM(U33:U44) -> 49425250 | W32: =SUM(W33:W44) -> 4118820 | X32: =SUM(X33:X44) -> 2224140 | Y32: =SUM(Y33:Y44) -> 1596480 | Z32: =SUM(Z33:Z44) -> 135920 | AA32: =SUM(AA33:AA44) -> 444830 | AB32: =SUM(AB33:AB44) -> 395390 | AC32: =SUM(AC33:AC44) -> 8915580
B33: 김정윤 | C33: 15 | E33: 1월 | F33: 3163000 | M33: - | O33: 40000 | U33: =SUM(F33,M33,O33,R33,T33,S33) -> 3203000 | W33: =ROUNDUP(U33*1/12,-1) -> 266920 | X33: =ROUND(U33*4.5%,-1) -> 144140 | Y33: =ROUNDUP((U33-L33)*3.23%,-1) -> 103460 | Z33: =ROUNDUP(Y33*8.51%,-1) -> 8810 | AA33: =ROUND(U33*0.9%,-1) -> 28830 | AB33: =ROUND(U33*0.8%,-1) -> 25620 | AC33: =SUM(W33:AB33) -> 577780
E34: 2월 | F34: =F33 -> 3163000 | M34: =F34*60% -> 1897800 | O34: =O33 -> 40000 | Q34: =ROUND((F33+T33)*1/209*1.5,-1) -> 22700 | R34: =Q34*20 -> 454000 | S34: =Q34*5 -> 113500 | U34: =SUM(F34,M34,O34,R34,T34,S34) -> 5668300 | W34: =ROUNDUP((T34+U34)*1/12,-1) -> 472360 | X34: =ROUND(U34*4.5%,-1) -> 255070 | Y34: =ROUNDUP((U34-L34)*3.23%,-1) -> 183090 | Z34: =ROUNDUP(Y34*8.51%,-1) -> 15590 | AA34: =ROUND(U34*0.9%,-1) -> 51010 | AB34: =ROUND(U34*0.8%,-1) -> 45350 | AC34: =SUM(W34:AB34) -> 1022470
E35: 3월 | F35: =F33 -> 3163000 | O35: =O33 -> 40000 | Q35: =ROUND((F34+T34)*1/209*1.5,-1) -> 22700 | R35: =Q35*20 -> 454000 | S35: =Q35*5 -> 113500 | U35: =SUM(F35,M35,O35,R35,T35,S35) -> 3770500 | W35: =ROUNDUP(U35*1/12,-1) -> 314210 | X35: =ROUND(U35*4.5%,-1) -> 169670 | Y35: =ROUNDUP((U35-L35)*3.23%,-1) -> 121790 | Z35: =ROUNDUP(Y35*8.51%,-1) -> 10370 | AA35: =ROUND(U35*0.9%,-1) -> 33930 | AB35: =ROUND(U35*0.8%,-1) -> 30160 | AC35: =SUM(W35:AB35) -> 680130
E36: 4월 | F36: =F33 -> 3163000 | O36: =O33 -> 40000 | Q36: =ROUND((F35+T35)*1/209*1.5,-1) -> 22700 | R36: =Q36*20 -> 454000 | S36: =Q36*5 -> 113500 | U36: =SUM(F36,M36,O36,R36,T36,S36) -> 3770500 | W36: =ROUNDUP(U36*1/12,-1) -> 314210 | X36: =ROUND(U36*4.5%,-1) -> 169670 | Y36: =ROUNDUP((U36-L36)*3.23%,-1) -> 121790 | Z36: =ROUNDUP(Y36*8.51%,-1) -> 10370 | AA36: =ROUND(U36*0.9%,-1) -> 33930 | AB36: =ROUND(U36*0.8%,-1) -> 30160 | AC36: =SUM(W36:AB36) -> 680130
E37: 5월 | F37: =F33 -> 3163000 | O37: =O33 -> 40000 | Q37: =ROUND((F36+T36)*1/209*1.5,-1) -> 22700 | R37: =Q37*20 -> 454000 | S37: =Q37*5 -> 113500 | U37: =SUM(F37,M37,O37,R37,T37,S37) -> 3770500 | W37: =ROUNDUP(U37*1/12,-1) -> 314210 | X37: =ROUND(U37*4.5%,-1) -> 169670 | Y37: =ROUNDUP((U37-L37)*3.23%,-1) -> 121790 | Z37: =ROUNDUP(Y37*8.51%,-1) -> 10370 | AA37: =ROUND(U37*0.9%,-1) -> 33930 | AB37: =ROUND(U37*0.8%,-1) -> 30160 | AC37: =SUM(W37:AB37) -> 680130
E38: 6월 | F38: =F37 -> 3163000 | O38: =O33 -> 40000 | Q38: =ROUND((F37+T37)*1/209*1.5,-1) -> 22700 | R38: =Q38*20 -> 454000 | S38: =Q38*5 -> 113500 | U38: =SUM(F38,M38,O38,R38,T38,S38) -> 3770500 | W38: =ROUNDUP(U38*1/12,-1) -> 314210 | X38: =ROUND(U38*4.5%,-1) -> 169670 | Y38: =ROUNDUP((U38-L38)*3.23%,-1) -> 121790 | Z38: =ROUNDUP(Y38*8.51%,-1) -> 10370 | AA38: =ROUND(U38*0.9%,-1) -> 33930 | AB38: =ROUND(U38*0.8%,-1) -> 30160 | AC38: =SUM(W38:AB38) -> 680130
C39: =C33+1 -> 16 | E39: 7월 | F39: 3228000 | O39: =O38 -> 40000 | Q39: =ROUND((F38+T38)*1/209*1.5,-1) -> 22700 | R39: =Q39*20 -> 454000 | S39: =Q39*5 -> 113500 | U39: =SUM(F39,M39,O39,R39,T39,S39) -> 3835500 | W39: =ROUNDUP(U39*1/12,-1) -> 319630 | X39: =ROUND(U39*4.5%,-1) -> 172600 | Y39: =ROUNDUP((U39-L39)*3.23%,-1) -> 123890 | Z39: =ROUNDUP(Y39*8.51%,-1) -> 10550 | AA39: =ROUND(U39*0.9%,-1) -> 34520 | AB39: =ROUND(U39*0.8%,-1) -> 30680 | AC39: =SUM(W39:AB39) -> 691870
E40: 8월 | F40: =F39 -> 3228000 | O40: =O39 -> 40000 | Q40: =ROUND((F39+T39)*1/209*1.5,-1) -> 23170 | R40: =Q40*20 -> 463400 | S40: =Q40*5 -> 115850 | U40: =SUM(F40,M40,O40,R40,T40,S40) -> 3847250 | W40: =ROUNDUP(U40*1/12,-1) -> 320610 | X40: =ROUND(U40*4.5%,-1) -> 173130 | Y40: =ROUNDUP((U40-L40)*3.23%,-1) -> 124270 | Z40: =ROUNDUP(Y40*8.51%,-1) -> 10580 | AA40: =ROUND(U40*0.9%,-1) -> 34630 | AB40: =ROUND(U40*0.8%,-1) -> 30780 | AC40: =SUM(W40:AB40) -> 694000
E41: 9월 | F41: =F39 -> 3228000 | M41: =F41*60% -> 1936800 | O41: =O39 -> 40000 | Q41: =ROUND((F40+T40)*1/209*1.5,-1) -> 23170 | R41: =Q41*20 -> 463400 | S41: =Q41*5 -> 115850 | U41: =SUM(F41,M41,O41,R41,T41,S41) -> 5784050 | W41: =ROUNDUP(U41*1/12,-1) -> 482010 | X41: =ROUND(U41*4.5%,-1) -> 260280 | Y41: =ROUNDUP((U41-L41)*3.23%,-1) -> 186830 | Z41: =ROUNDUP(Y41*8.51%,-1) -> 15900 | AA41: =ROUND(U41*0.9%,-1) -> 52060 | AB41: =ROUND(U41*0.8%,-1) -> 46270 | AC41: =SUM(W41:AB41) -> 1043350
E42: 10월 | F42: =F40 -> 3228000 | O42: =O39 -> 40000 | Q42: =ROUND((F41+T41)*1/209*1.5,-1) -> 23170 | R42: =Q42*20 -> 463400 | S42: =Q42*5 -> 115850 | U42: =SUM(F42,M42,O42,R42,T42,S42) -> 3847250 | W42: =ROUNDUP(U42*1/12,-1) -> 320610 | X42: =ROUND(U42*4.5%,-1) -> 173130 | Y42: =ROUNDUP((U42-L42)*3.23%,-1) -> 124270 | Z42: =ROUNDUP(Y42*8.51%,-1) -> 10580 | AA42: =ROUND(U42*0.9%,-1) -> 34630 | AB42: =ROUND(U42*0.8%,-1) -> 30780 | AC42: =SUM(W42:AB42) -> 694000
E43: 11월 | F43: =F42 -> 3228000 | O43: =O39 -> 40000 | Q43: =ROUND((F42+T42)*1/209*1.5,-1) -> 23170 | R43: =Q43*20 -> 463400 | S43: =Q43*5 -> 115850 | U43: =SUM(F43,M43,O43,R43,T43,S43) -> 3847250 | W43: =ROUNDUP(U43*1/12,-1) -> 320610 | X43: =ROUND(U43*4.5%,-1) -> 173130 | Y43: =ROUNDUP((U43-L43)*3.23%,-1) -> 124270 | Z43: =ROUNDUP(Y43*8.51%,-1) -> 10580 | AA43: =ROUND(U43*0.9%,-1) -> 34630 | AB43: =ROUND(U43*0.8%,-1) -> 30780 | AC43: =SUM(W43:AB43) -> 694000
E44: 12월 | F44: =F43 -> 3228000 | O44: =O39 -> 40000 | Q44: =ROUND((F43+T43)*1/209*1.5,-1) -> 23170 | R44: =Q44*20*2 -> 926800 | S44: =Q44*5 -> 115850 | U44: =SUM(F44,M44,O44,R44,T44,S44) -> 4310650 | W44: =ROUNDUP(U44*1/12,-1) -> 359230 | X44: =ROUND(U44*4.5%,-1) -> 193980 | Y44: =ROUNDUP((U44-L44)*3.23%,-1) -> 139240 | Z44: =ROUNDUP(Y44*8.51%,-1) -> 11850 | AA44: =ROUND(U44*0.9%,-1) -> 38800 | AB44: =ROUND(U44*0.8%,-1) -> 34490 | AC44: =SUM(W44:AB44) -> 777590
A45: 4 | B45: 영 양 사 | C45: 22,23 | D45: 1 | E45: 소계 | F45: =SUM(F46:F57) -> 43143000 | G45: =SUM(G46:G57) -> 0 | H45: =SUM(H46:H57) -> 0 | I45: =SUM(I46:I57) -> 0 | J45: =SUM(J46:J57) -> 0 | K45: =SUM(K46:K57) -> 0 | L45: =SUM(L46:L57) -> 0 | M45: =SUM(M46:M57) -> 4300200 | ... P45: =SUM(P46:P57) -> 0 | R45: =SUM(R46:R57) -> 6193200 | S45: =SUM(S46:S57) -> 1418850 | T45: =SUM(T46:T57) -> 0 | U45: =SUM(U46:U57) -> 55535250 | W45: =SUM(W46:W57) -> 4627990 | X45: =SUM(X46:X57) -> 2499070 | Y45: =SUM(Y46:Y57) -> 1793840 | Z45: =SUM(Z46:Z57) -> 152730 | AA45: =SUM(AA46:AA57) -> 499830 | AB45: =SUM(AB46:AB57) -> 444270 | AC45: =SUM(AC46:AC57) -> 10017730
B46: 김혜영 | C46: 22 | E46: 1월 | F46: 3560000 | M46: - | O46: 40000 | U46: =SUM(F46,M46,O46,R46,T46,S46) -> 3600000 | W46: =ROUNDUP(U46*1/12,-1) -> 300000 | X46: =ROUND(U46*4.5%,-1) -> 162000 | Y46: =ROUNDUP((U46-L46)*3.23%,-1) -> 116280 | Z46: =ROUNDUP(Y46*8.51%,-1) -> 9900 | AA46: =ROUND(U46*0.9%,-1) -> 32400 | AB46: =ROUND(U46*0.8%,-1) -> 28800 | AC46: =SUM(W46:AB46) -> 649380
E47: 2월 | F47: =F46 -> 3560000 | M47: =F47*60% -> 2136000 | O47: =O46 -> 40000 | Q47: =ROUND((F46+T46)*1/209*1.5,-1) -> 25550 | R47: =Q47*20 -> 511000 | S47: =Q47*5 -> 127750 | U47: =SUM(F47,M47,O47,R47,T47,S47) -> 6374750 | W47: =ROUNDUP((T47+U47)*1/12,-1) -> 531230 | X47: =ROUND(U47*4.5%,-1) -> 286860 | Y47: =ROUNDUP((U47-L47)*3.23%,-1) -> 205910 | Z47: =ROUNDUP(Y47*8.51%,-1) -> 17530 | AA47: =ROUND(U47*0.9%,-1) -> 57370 | AB47: =ROUND(U47*0.8%,-1) -> 51000 | AC47: =SUM(W47:AB47) -> 1149900
E48: 3월 | F48: =F46 -> 3560000 | O48: =O46 -> 40000 | Q48: =ROUND((F47+T47)*1/209*1.5,-1) -> 25550 | R48: =Q48*20 -> 511000 | S48: =Q48*5 -> 127750 | U48: =SUM(F48,M48,O48,R48,T48,S48) -> 4238750 | W48: =ROUNDUP(U48*1/12,-1) -> 353230 | X48: =ROUND(U48*4.5%,-1) -> 190740 | Y48: =ROUNDUP((U48-L48)*3.23%,-1) -> 136920 | Z48: =ROUNDUP(Y48*8.51%,-1) -> 11660 | AA48: =ROUND(U48*0.9%,-1) -> 38150 | AB48: =ROUND(U48*0.8%,-1) -> 33910 | AC48: =SUM(W48:AB48) -> 764610
C49: =C46+1 -> 23 | E49: 4월 | F49: 3607000 | O49: =O46 -> 40000 | Q49: =ROUND((F48+T48)*1/209*1.5,-1) -> 25550 | R49: =Q49*20 -> 511000 | S49: =Q49*5 -> 127750 | U49: =SUM(F49,M49,O49,R49,T49,S49) -> 4285750 | W49: =ROUNDUP(U49*1/12,-1) -> 357150 | X49: =ROUND(U49*4.5%,-1) -> 192860 | Y49: =ROUNDUP((U49-L49)*3.23%,-1) -> 138430 | Z49: =ROUNDUP(Y49*8.51%,-1) -> 11790 | AA49: =ROUND(U49*0.9%,-1) -> 38570 | AB49: =ROUND(U49*0.8%,-1) -> 34290 | AC49: =SUM(W49:AB49) -> 773090
E50: 5월 | F50: =F49 -> 3607000 | O50: =O46 -> 40000 | Q50: =ROUND((F49+T49)*1/209*1.5,-1) -> 25890 | R50: =Q50*20 -> 517800 | S50: =Q50*5 -> 129450 | U50: =SUM(F50,M50,O50,R50,T50,S50) -> 4294250 | W50: =ROUNDUP(U50*1/12,-1) -> 357860 | X50: =ROUND(U50*4.5%,-1) -> 193240 | Y50: =ROUNDUP((U50-L50)*3.23%,-1) -> 138710 | Z50: =ROUNDUP(Y50*8.51%,-1) -> 11810 | AA50: =ROUND(U50*0.9%,-1) -> 38650 | AB50: =ROUND(U50*0.8%,-1) -> 34350 | AC50: =SUM(W50:AB50) -> 774620
E51: 6월 | F51: =F50 -> 3607000 | O51: =O46 -> 40000 | Q51: =ROUND((F50+T50)*1/209*1.5,-1) -> 25890 | R51: =Q51*20 -> 517800 | S51: =Q51*5 -> 129450 | U51: =SUM(F51,M51,O51,R51,T51,S51) -> 4294250 | W51: =ROUNDUP(U51*1/12,-1) -> 357860 | X51: =ROUND(U51*4.5%,-1) -> 193240 | Y51: =ROUNDUP((U51-L51)*3.23%,-1) -> 138710 | Z51: =ROUNDUP(Y51*8.51%,-1) -> 11810 | AA51: =ROUND(U51*0.9%,-1) -> 38650 | AB51: =ROUND(U51*0.8%,-1) -> 34350 | AC51: =SUM(W51:AB51) -> 774620
E52: 7월 | F52: =F51 -> 3607000 | O52: =O51 -> 40000 | Q52: =ROUND((F51+T51)*1/209*1.5,-1) -> 25890 | R52: =Q52*20 -> 517800 | S52: =Q52*5 -> 129450 | U52: =SUM(F52,M52,O52,R52,T52,S52) -> 4294250 | W52: =ROUNDUP(U52*1/12,-1) -> 357860 | X52: =ROUND(U52*4.5%,-1) -> 193240 | Y52: =ROUNDUP((U52-L52)*3.23%,-1) -> 138710 | Z52: =ROUNDUP(Y52*8.51%,-1) -> 11810 | AA52: =ROUND(U52*0.9%,-1) -> 38650 | AB52: =ROUND(U52*0.8%,-1) -> 34350 | AC52: =SUM(W52:AB52) -> 774620
E53: 8월 | F53: =F52 -> 3607000 | O53: =O52 -> 40000 | Q53: =ROUND((F52+T52)*1/209*1.5,-1) -> 25890 | R53: =Q53*20 -> 517800 | S53: =Q53*5 -> 129450 | U53: =SUM(F53,M53,O53,R53,T53,S53) -> 4294250 | W53: =ROUNDUP(U53*1/12,-1) -> 357860 | X53: =ROUND(U53*4.5%,-1) -> 193240 | Y53: =ROUNDUP((U53-L53)*3.23%,-1) -> 138710 | Z53: =ROUNDUP(Y53*8.51%,-1) -> 11810 | AA53: =ROUND(U53*0.9%,-1) -> 38650 | AB53: =ROUND(U53*0.8%,-1) -> 34350 | AC53: =SUM(W53:AB53) -> 774620
E54: 9월 | F54: =F52 -> 3607000 | M54: =F54*60% -> 2164200 | O54: =O52 -> 40000 | Q54: =ROUND((F53+T53)*1/209*1.5,-1) -> 25890 | R54: =Q54*20 -> 517800 | S54: =Q54*5 -> 129450 | U54: =SUM(F54,M54,O54,R54,T54,S54) -> 6458450 | W54: =ROUNDUP(U54*1/12,-1) -> 538210 | X54: =ROUND(U54*4.5%,-1) -> 290630 | Y54: =ROUNDUP((U54-L54)*3.23%,-1) -> 208610 | Z54: =ROUNDUP(Y54*8.51%,-1) -> 17760 | AA54: =ROUND(U54*0.9%,-1) -> 58130 | AB54: =ROUND(U54*0.8%,-1) -> 51670 | AC54: =SUM(W54:AB54) -> 1165010
E55: 10월 | F55: =F52 -> 3607000 | O55: =O52 -> 40000 | Q55: =ROUND((F54+T54)*1/209*1.5,-1) -> 25890 | R55: =Q55*20 -> 517800 | S55: =Q55*5 -> 129450 | U55: =SUM(F55,M55,O55,R55,T55,S55) -> 4294250 | W55: =ROUNDUP(U55*1/12,-1) -> 357860 | X55: =ROUND(U55*4.5%,-1) -> 193240 | Y55: =ROUNDUP((U55-L55)*3.23%,-1) -> 138710 | Z55: =ROUNDUP(Y55*8.51%,-1) -> 11810 | AA55: =ROUND(U55*0.9%,-1) -> 38650 | AB55: =ROUND(U55*0.8%,-1) -> 34350 | AC55: =SUM(W55:AB55) -> 774620
E56: 11월 | F56: =F52 -> 3607000 | O56: =O52 -> 40000 | Q56: =ROUND((F55+T55)*1/209*1.5,-1) -> 25890 | R56: =Q56*20 -> 517800 | S56: =Q56*5 -> 129450 | U56: =SUM(F56,M56,O56,R56,T56,S56) -> 4294250 | W56: =ROUNDUP(U56*1/12,-1) -> 357860 | X56: =ROUND(U56*4.5%,-1) -> 193240 | Y56: =ROUNDUP((U56-L56)*3.23%,-1) -> 138710 | Z56: =ROUNDUP(Y56*8.51%,-1) -> 11810 | AA56: =ROUND(U56*0.9%,-1) -> 38650 | AB56: =ROUND(U56*0.8%,-1) -> 34350 | AC56: =SUM(W56:AB56) -> 774620
E57: 12월 | F57: =F52 -> 3607000 | O57: =O52 -> 40000 | Q57: =ROUND((F56+T56)*1/209*1.5,-1) -> 25890 | R57: =Q57*20*2 -> 1035600 | S57: =Q57*5 -> 129450 | U57: =SUM(F57,M57,O57,R57,T57,S57) -> 4812050 | W57: =ROUNDUP(U57*1/12,-1) -> 401010 | X57: =ROUND(U57*4.5%,-1) -> 216540 | Y57: =ROUNDUP((U57-L57)*3.23%,-1) -> 155430 | Z57: =ROUNDUP(Y57*8.51%,-1) -> 13230 | AA57: =ROUND(U57*0.9%,-1) -> 43310 | AB57: =ROUND(U57*0.8%,-1) -> 38500 | AC57: =SUM(W57:AB57) -> 868020
A58: 5 | B58: 선임지도원 | C58: 11,12 | D58: 1 | E58: 소계 | F58: =SUM(F59:F70) -> 31436000 | G58: =SUM(G59:G70) -> 0 | H58: =SUM(H59:H70) -> 0 | I58: =SUM(I59:I70) -> 0 | J58: =SUM(J59:J70) -> 0 | K58: =SUM(K59:K70) -> 0 | L58: =SUM(L59:L70) -> 0 | M58: =SUM(M59:M70) -> 3129600 | ... P58: =SUM(P59:P70) -> 0 | R58: =SUM(R59:R70) -> 4512800 | S58: =SUM(S59:S70) -> 1032100 | T58: =SUM(T59:T70) -> 0 | U58: =SUM(U59:U70) -> 40590500 | W58: =SUM(W59:W70) -> 3382580 | X58: =SUM(X59:X70) -> 1826580 | Y58: =SUM(Y59:Y70) -> 1311110 | Z58: =SUM(Z59:Z70) -> 111620 | AA58: =SUM(AA59:AA70) -> 365290 | AB58: =SUM(AB59:AB70) -> 324740 | AC58: =SUM(AC59:AC70) -> 7321920
B59: 이선이 | C59: 11 | E59: 1월 | F59: 2608000 | M59: - | O59: 40000 | U59: =SUM(F59,M59,O59,R59,T59,S59) -> 2648000 | W59: =ROUNDUP(U59*1/12,-1) -> 220670 | X59: =ROUND(U59*4.5%,-1) -> 119160 | Y59: =ROUNDUP((U59-L59)*3.23%,-1) -> 85540 | Z59: =ROUNDUP(Y59*8.51%,-1) -> 7280 | AA59: =ROUND(U59*0.9%,-1) -> 23830 | AB59: =ROUND(U59*0.8%,-1) -> 21180 | AC59: =SUM(W59:AB59) -> 477660
E60: 2월 | F60: =F59 -> 2608000 | M60: =F60*60% -> 1564800 | O60: =O59 -> 40000 | Q60: =ROUND((F59+T59)*1/209*1.5,-1) -> 18720 | R60: =Q60*20 -> 374400 | S60: =Q60*5 -> 93600 | U60: =SUM(F60,M60,O60,R60,T60,S60) -> 4680800 | W60: =ROUNDUP((T60+U60)*1/12,-1) -> 390070 | X60: =ROUND(U60*4.5%,-1) -> 210640 | Y60: =ROUNDUP((U60-L60)*3.23%,-1) -> 151190 | Z60: =ROUNDUP(Y60*8.51%,-1) -> 12870 | AA60: =ROUND(U60*0.9%,-1) -> 42130 | AB60: =ROUND(U60*0.8%,-1) -> 37450 | AC60: =SUM(W60:AB60) -> 844350
E61: 3월 | F61: =F59 -> 2608000 | O61: =O60 -> 40000 | Q61: =ROUND((F60+T60)*1/209*1.5,-1) -> 18720 | R61: =Q61*20 -> 374400 | S61: =Q61*5 -> 93600 | U61: =SUM(F61,M61,O61,R61,T61,S61) -> 3116000 | W61: =ROUNDUP(U61*1/12,-1) -> 259670 | X61: =ROUND(U61*4.5%,-1) -> 140220 | Y61: =ROUNDUP((U61-L61)*3.23%,-1) -> 100650 | Z61: =ROUNDUP(Y61*8.51%,-1) -> 8570 | AA61: =ROUND(U61*0.9%,-1) -> 28040 | AB61: =ROUND(U61*0.8%,-1) -> 24930 | AC61: =SUM(W61:AB61) -> 562080
E62: 4월 | F62: =F59 -> 2608000 | O62: =O61 -> 40000 | Q62: =ROUND((F61+T61)*1/209*1.5,-1) -> 18720 | R62: =Q62*20 -> 374400 | S62: =Q62*5 -> 93600 | U62: =SUM(F62,M62,O62,R62,T62,S62) -> 3116000 | W62: =ROUNDUP(U62*1/12,-1) -> 259670 | X62: =ROUND(U62*4.5%,-1) -> 140220 | Y62: =ROUNDUP((U62-L62)*3.23%,-1) -> 100650 | Z62: =ROUNDUP(Y62*8.51%,-1) -> 8570 | AA62: =ROUND(U62*0.9%,-1) -> 28040 | AB62: =ROUND(U62*0.8%,-1) -> 24930 | AC62: =SUM(W62:AB62) -> 562080
E63: 5월 | F63: =F59 -> 2608000 | O63: =O62 -> 40000 | Q63: =ROUND((F62+T62)*1/209*1.5,-1) -> 18720 | R63: =Q63*20 -> 374400 | S63: =Q63*5 -> 93600 | U63: =SUM(F63,M63,O63,R63,T63,S63) -> 3116000 | W63: =ROUNDUP(U63*1/12,-1) -> 259670 | X63: =ROUND(U63*4.5%,-1) -> 140220 | Y63: =ROUNDUP((U63-L63)*3.23%,-1) -> 100650 | Z63: =ROUNDUP(Y63*8.51%,-1) -> 8570 | AA63: =ROUND(U63*0.9%,-1) -> 28040 | AB63: =ROUND(U63*0.8%,-1) -> 24930 | AC63: =SUM(W63:AB63) -> 562080
E64: 6월 | F64: =F59 -> 2608000 | O64: =O63 -> 40000 | Q64: =ROUND((F63+T63)*1/209*1.5,-1) -> 18720 | R64: =Q64*20 -> 374400 | S64: =Q64*5 -> 93600 | U64: =SUM(F64,M64,O64,R64,T64,S64) -> 3116000 | W64: =ROUNDUP(U64*1/12,-1) -> 259670 | X64: =ROUND(U64*4.5%,-1) -> 140220 | Y64: =ROUNDUP((U64-L64)*3.23%,-1) -> 100650 | Z64: =ROUNDUP(Y64*8.51%,-1) -> 8570 | AA64: =ROUND(U64*0.9%,-1) -> 28040 | AB64: =ROUND(U64*0.8%,-1) -> 24930 | AC64: =SUM(W64:AB64) -> 562080
E65: 7월 | F65: =F59 -> 2608000 | O65: =O64 -> 40000 | Q65: =ROUND((F64+T64)*1/209*1.5,-1) -> 18720 | R65: =Q65*20 -> 374400 | S65: =Q65*5 -> 93600 | U65: =SUM(F65,M65,O65,R65,T65,S65) -> 3116000 | W65: =ROUNDUP(U65*1/12,-1) -> 259670 | X65: =ROUND(U65*4.5%,-1) -> 140220 | Y65: =ROUNDUP((U65-L65)*3.23%,-1) -> 100650 | Z65: =ROUNDUP(Y65*8.51%,-1) -> 8570 | AA65: =ROUND(U65*0.9%,-1) -> 28040 | AB65: =ROUND(U65*0.8%,-1) -> 24930 | AC65: =SUM(W65:AB65) -> 562080
E66: 8월 | F66: =F59 -> 2608000 | O66: =O65 -> 40000 | Q66: =ROUND((F65+T65)*1/209*1.5,-1) -> 18720 | R66: =Q66*20 -> 374400 | S66: =Q66*5 -> 93600 | U66: =SUM(F66,M66,O66,R66,T66,S66) -> 3116000 | W66: =ROUNDUP(U66*1/12,-1) -> 259670 | X66: =ROUND(U66*4.5%,-1) -> 140220 | Y66: =ROUNDUP((U66-L66)*3.23%,-1) -> 100650 | Z66: =ROUNDUP(Y66*8.51%,-1) -> 8570 | AA66: =ROUND(U66*0.9%,-1) -> 28040 | AB66: =ROUND(U66*0.8%,-1) -> 24930 | AC66: =SUM(W66:AB66) -> 562080
E67: 9월 | F67: =F59 -> 2608000 | M67: =F67*60% -> 1564800 | O67: =O66 -> 40000 | Q67: =ROUND((F66+T66)*1/209*1.5,-1) -> 18720 | R67: =Q67*20 -> 374400 | S67: =Q67*5 -> 93600 | U67: =SUM(F67,M67,O67,R67,T67,S67) -> 4680800 | W67: =ROUNDUP(U67*1/12,-1) -> 390070 | X67: =ROUND(U67*4.5%,-1) -> 210640 | Y67: =ROUNDUP((U67-L67)*3.23%,-1) -> 151190 | Z67: =ROUNDUP(Y67*8.51%,-1) -> 12870 | AA67: =ROUND(U67*0.9%,-1) -> 42130 | AB67: =ROUND(U67*0.8%,-1) -> 37450 | AC67: =SUM(W67:AB67) -> 844350
E68: 10월 | F68: =F59 -> 2608000 | O68: =O67 -> 40000 | Q68: =ROUND((F67+T67)*1/209*1.5,-1) -> 18720 | R68: =Q68*20 -> 374400 | S68: =Q68*5 -> 93600 | U68: =SUM(F68,M68,O68,R68,T68,S68) -> 3116000 | W68: =ROUNDUP(U68*1/12,-1) -> 259670 | X68: =ROUND(U68*4.5%,-1) -> 140220 | Y68: =ROUNDUP((U68-L68)*3.23%,-1) -> 100650 | Z68: =ROUNDUP(Y68*8.51%,-1) -> 8570 | AA68: =ROUND(U68*0.9%,-1) -> 28040 | AB68: =ROUND(U68*0.8%,-1) -> 24930 | AC68: =SUM(W68:AB68) -> 562080
C69: =C59+1 -> 12 | E69: 11월 | F69: 2678000 | O69: =O68 -> 40000 | Q69: =ROUND((F68+T68)*1/209*1.5,-1) -> 18720 | R69: =Q69*20 -> 374400 | S69: =Q69*5 -> 93600 | U69: =SUM(F69,M69,O69,R69,T69,S69) -> 3186000 | W69: =ROUNDUP(U69*1/12,-1) -> 265500 | X69: =ROUND(U69*4.5%,-1) -> 143370 | Y69: =ROUNDUP((U69-L69)*3.23%,-1) -> 102910 | Z69: =ROUNDUP(Y69*8.51%,-1) -> 8760 | AA69: =ROUND(U69*0.9%,-1) -> 28670 | AB69: =ROUND(U69*0.8%,-1) -> 25490 | AC69: =SUM(W69:AB69) -> 574700
E70: 12월 | F70: =F69 -> 2678000 | O70: =O69 -> 40000 | Q70: =ROUND((F69+T69)*1/209*1.5,-1) -> 19220 | R70: =Q70*20*2 -> 768800 | S70: =Q70*5 -> 96100 | U70: =SUM(F70,M70,O70,R70,T70,S70) -> 3582900 | W70: =ROUNDUP(U70*1/12,-1) -> 298580 | X70: =ROUND(U70*4.5%,-1) -> 161230 | Y70: =ROUNDUP((U70-L70)*3.23%,-1) -> 115730 | Z70: =ROUNDUP(Y70*8.51%,-1) -> 9850 | AA70: =ROUND(U70*0.9%,-1) -> 32250 | AB70: =ROUND(U70*0.8%,-1) -> 28660 | AC70: =SUM(W70:AB70) -> 646300
A71: 6 | B71: 간 호 사 | C71: 22 | D71: 1 | E71: 소계 | F71: =SUM(F72:F83) -> 42720000 | G71: =SUM(G72:G83) -> 0 | H71: =SUM(H72:H83) -> 0 | I71: =SUM(I72:I83) -> 0 | J71: =SUM(J72:J83) -> 0 | K71: =SUM(K72:K83) -> 0 | L71: =SUM(L72:L83) -> 0 | M71: =SUM(M72:M83) -> 4272000 | ... P71: =SUM(P72:P83) -> 0 | R71: =SUM(R72:R83) -> 7154000 | S71: =SUM(S72:S83) -> 1405250 | T71: =SUM(T72:T83) -> 0 | U71: =SUM(U72:U83) -> 56031250 | W71: =SUM(W72:W83) -> 4669350 | X71: =SUM(X72:X83) -> 2521360 | Y71: =SUM(Y72:Y83) -> 1809900 | Z71: =SUM(Z72:Z83) -> 154120 | AA71: =SUM(AA72:AA83) -> 504280 | AB71: =SUM(AB72:AB83) -> 448230 | AC71: =SUM(AC72:AC83) -> 10107240
B72: 전광숙 | C72: 22 | E72: 1월 | F72: 3560000 | M72: - | O72: 40000 | U72: =SUM(F72,M72,O72,R72,T72,S72) -> 3600000 | W72: =ROUNDUP(U72*1/12,-1) -> 300000 | X72: =ROUND(U72*4.5%,-1) -> 162000 | Y72: =ROUNDUP((U72-L72)*3.23%,-1) -> 116280 | Z72: =ROUNDUP(Y72*8.51%,-1) -> 9900 | AA72: =ROUND(U72*0.9%,-1) -> 32400 | AB72: =ROUND(U72*0.8%,-1) -> 28800 | AC72: =SUM(W72:AB72) -> 649380
E73: 2월 | F73: =F72 -> 3560000 | M73: =F73*60% -> 2136000 | O73: =O72 -> 40000 | Q73: =ROUND((F72+T72)*1/209*1.5,-1) -> 25550 | R73: =Q73*16 -> 408800 | S73: =Q73*5 -> 127750 | U73: =SUM(F73,M73,O73,R73,T73,S73) -> 6272550 | W73: =ROUNDUP((T73+U73)*1/12,-1) -> 522720 | X73: =ROUND(U73*4.5%,-1) -> 282260 | Y73: =ROUNDUP((U73-L73)*3.23%,-1) -> 202610 | Z73: =ROUNDUP(Y73*8.51%,-1) -> 17250 | AA73: =ROUND(U73*0.9%,-1) -> 56450 | AB73: =ROUND(U73*0.8%,-1) -> 50180 | AC73: =SUM(W73:AB73) -> 1131470
E74: 3월 | F74: =F73 -> 3560000 | O74: =O73 -> 40000 | Q74: =ROUND((F73+T73)*1/209*1.5,-1) -> 25550 | R74: =Q74*16 -> 408800 | S74: =Q74*5 -> 127750 | U74: =SUM(F74,M74,O74,R74,T74,S74) -> 4136550 | W74: =ROUNDUP(U74*1/12,-1) -> 344720 | X74: =ROUND(U74*4.5%,-1) -> 186140 | Y74: =ROUNDUP((U74-L74)*3.23%,-1) -> 133620 | Z74: =ROUNDUP(Y74*8.51%,-1) -> 11380 | AA74: =ROUND(U74*0.9%,-1) -> 37230 | AB74: =ROUND(U74*0.8%,-1) -> 33090 | AC74: =SUM(W74:AB74) -> 746180
E75: 4월 | F75: =F74 -> 3560000 | O75: =O74 -> 40000 | Q75: =ROUND((F74+T74)*1/209*1.5,-1) -> 25550 | R75: =Q75*16 -> 408800 | S75: =Q75*5 -> 127750 | U75: =SUM(F75,M75,O75,R75,T75,S75) -> 4136550 | W75: =ROUNDUP(U75*1/12,-1) -> 344720 | X75: =ROUND(U75*4.5%,-1) -> 186140 | Y75: =ROUNDUP((U75-L75)*3.23%,-1) -> 133620 | Z75: =ROUNDUP(Y75*8.51%,-1) -> 11380 | AA75: =ROUND(U75*0.9%,-1) -> 37230 | AB75: =ROUND(U75*0.8%,-1) -> 33090 | AC75: =SUM(W75:AB75) -> 746180
E76: 5월 | F76: =F75 -> 3560000 | O76: =O75 -> 40000 | Q76: =ROUND((F75+T75)*1/209*1.5,-1) -> 25550 | R76: =Q76*16 -> 408800 | S76: =Q76*5 -> 127750 | U76: =SUM(F76,M76,O76,R76,T76,S76) -> 4136550 | W76: =ROUNDUP(U76*1/12,-1) -> 344720 | X76: =ROUND(U76*4.5%,-1) -> 186140 | Y76: =ROUNDUP((U76-L76)*3.23%,-1) -> 133620 | Z76: =ROUNDUP(Y76*8.51%,-1) -> 11380 | AA76: =ROUND(U76*0.9%,-1) -> 37230 | AB76: =ROUND(U76*0.8%,-1) -> 33090 | AC76: =SUM(W76:AB76) -> 746180
E77: 6월 | F77: =F76 -> 3560000 | O77: =O76 -> 40000 | Q77: =ROUND((F76+T76)*1/209*1.5,-1) -> 25550 | R77: =Q77*16 -> 408800 | S77: =Q77*5 -> 127750 | U77: =SUM(F77,M77,O77,R77,T77,S77) -> 4136550 | W77: =ROUNDUP(U77*1/12,-1) -> 344720 | X77: =ROUND(U77*4.5%,-1) -> 186140 | Y77: =ROUNDUP((U77-L77)*3.23%,-1) -> 133620 | Z77: =ROUNDUP(Y77*8.51%,-1) -> 11380 | AA77: =ROUND(U77*0.9%,-1) -> 37230 | AB77: =ROUND(U77*0.8%,-1) -> 33090 | AC77: =SUM(W77:AB77) -> 746180
E78: 7월 | F78: =F77 -> 3560000 | O78: =O77 -> 40000 | Q78: =ROUND((F77+T77)*1/209*1.5,-1) -> 25550 | R78: =Q78*16 -> 408800 | S78: =Q78*5 -> 127750 | U78: =SUM(F78,M78,O78,R78,T78,S78) -> 4136550 | W78: =ROUNDUP(U78*1/12,-1) -> 344720 | X78: =ROUND(U78*4.5%,-1) -> 186140 | Y78: =ROUNDUP((U78-L78)*3.23%,-1) -> 133620 | Z78: =ROUNDUP(Y78*8.51%,-1) -> 11380 | AA78: =ROUND(U78*0.9%,-1) -> 37230 | AB78: =ROUND(U78*0.8%,-1) -> 33090 | AC78: =SUM(W78:AB78) -> 746180
E79: 8월 | F79: =F78 -> 3560000 | O79: =O78 -> 40000 | Q79: =ROUND((F78+T78)*1/209*1.5,-1) -> 25550 | R79: =Q79*16 -> 408800 | S79: =Q79*5 -> 127750 | U79: =SUM(F79,M79,O79,R79,T79,S79) -> 4136550 | W79: =ROUNDUP(U79*1/12,-1) -> 344720 | X79: =ROUND(U79*4.5%,-1) -> 186140 | Y79: =ROUNDUP((U79-L79)*3.23%,-1) -> 133620 | Z79: =ROUNDUP(Y79*8.51%,-1) -> 11380 | AA79: =ROUND(U79*0.9%,-1) -> 37230 | AB79: =ROUND(U79*0.8%,-1) -> 33090 | AC79: =SUM(W79:AB79) -> 746180
E80: 9월 | F80: =F79 -> 3560000 | M80: =F80*60% -> 2136000 | O80: =O79 -> 40000 | Q80: =ROUND((F79+T79)*1/209*1.5,-1) -> 25550 | R80: =Q80*16 -> 408800 | S80: =Q80*5 -> 127750 | U80: =SUM(F80,M80,O80,R80,T80,S80) -> 6272550 | W80: =ROUNDUP(U80*1/12,-1) -> 522720 | X80: =ROUND(U80*4.5%,-1) -> 282260 | Y80: =ROUNDUP((U80-L80)*3.23%,-1) -> 202610 | Z80: =ROUNDUP(Y80*8.51%,-1) -> 17250 | AA80: =ROUND(U80*0.9%,-1) -> 56450 | AB80: =ROUND(U80*0.8%,-1) -> 50180 | AC80: =SUM(W80:AB80) -> 1131470
E81: 10월 | F81: =F80 -> 3560000 | O81: =O80 -> 40000 | Q81: =ROUND((F80+T80)*1/209*1.5,-1) -> 25550 | R81: =Q81*16 -> 408800 | S81: =Q81*5 -> 127750 | U81: =SUM(F81,M81,O81,R81,T81,S81) -> 4136550 | W81: =ROUNDUP(U81*1/12,-1) -> 344720 | X81: =ROUND(U81*4.5%,-1) -> 186140 | Y81: =ROUNDUP((U81-L81)*3.23%,-1) -> 133620 | Z81: =ROUNDUP(Y81*8.51%,-1) -> 11380 | AA81: =ROUND(U81*0.9%,-1) -> 37230 | AB81: =ROUND(U81*0.8%,-1) -> 33090 | AC81: =SUM(W81:AB81) -> 746180
E82: 11월 | F82: =F81 -> 3560000 | O82: =O81 -> 40000 | Q82: =ROUND((F81+T81)*1/209*1.5,-1) -> 25550 | R82: =Q82*16 -> 408800 | S82: =Q82*5 -> 127750 | U82: =SUM(F82,M82,O82,R82,T82,S82) -> 4136550 | W82: =ROUNDUP(U82*1/12,-1) -> 344720 | X82: =ROUND(U82*4.5%,-1) -> 186140 | Y82: =ROUNDUP((U82-L82)*3.23%,-1) -> 133620 | Z82: =ROUNDUP(Y82*8.51%,-1) -> 11380 | AA82: =ROUND(U82*0.9%,-1) -> 37230 | AB82: =ROUND(U82*0.8%,-1) -> 33090 | AC82: =SUM(W82:AB82) -> 746180
E83: 12월 | F83: =F82 -> 3560000 | O83: =O82 -> 40000 | Q83: =ROUND((F82+T82)*1/209*1.5,-1) -> 25550 | R83: =Q83*60*2 -> 3066000 | S83: =Q83*5 -> 127750 | U83: =SUM(F83,M83,O83,R83,T83,S83) -> 6793750 | W83: =ROUNDUP(U83*1/12,-1) -> 566150 | X83: =ROUND(U83*4.5%,-1) -> 305720 | Y83: =ROUNDUP((U83-L83)*3.23%,-1) -> 219440 | Z83: =ROUNDUP(Y83*8.51%,-1) -> 18680 | AA83: =ROUND(U83*0.9%,-1) -> 61140 | AB83: =ROUND(U83*0.8%,-1) -> 54350 | AC83: =SUM(W83:AB83) -> 1225480
A84: 7 | B84: 언어치료사 | C84: 10,11 | D84: 1 | E84: 소계 | F84: =SUM(F85:F96) -> 34101000 | G84: =SUM(G85:G96) -> 0 | H84: =SUM(H85:H96) -> 0 | I84: =SUM(I85:I96) -> 0 | J84: =SUM(J85:J96) -> 0 | K84: =SUM(K85:K96) -> 0 | L84: =SUM(L85:L96) -> 0 | M84: =SUM(M85:M96) -> 3381000 | ... P84: =SUM(P85:P96) -> 0 | R84: =SUM(R85:R96) -> 3915840 | S84: =SUM(S85:S96) -> 1120850 | T84: =SUM(T85:T96) -> 0 | U84: =SUM(U85:U96) -> 43238690 | W84: =SUM(W85:W96) -> 3603310 | X84: =SUM(X85:X96) -> 1945760 | Y84: =SUM(Y85:Y96) -> 1396680 | Z84: =SUM(Z85:Z96) -> 118940 | AA84: =SUM(AA85:AA96) -> 389140 | AB84: =SUM(AB85:AB96) -> 345890 | AC84: =SUM(AC85:AC96) -> 7799720
B85: 최민성 | C85: 10 | E85: 1월 | F85: 2769000 | M85: - | O85: 60000 | U85: =SUM(F85,M85,O85,R85,T85,S85) -> 2829000 | W85: =ROUNDUP(U85*1/12,-1) -> 235750 | X85: =ROUND(U85*4.5%,-1) -> 127310 | Y85: =ROUNDUP((U85-L85)*3.23%,-1) -> 91380 | Z85: =ROUNDUP(Y85*8.51%,-1) -> 7780 | AA85: =ROUND(U85*0.9%,-1) -> 25460 | AB85: =ROUND(U85*0.8%,-1) -> 22630 | AC85: =SUM(W85:AB85) -> 510310
E86: 2월 | F86: =F85 -> 2769000 | M86: =F86*60% -> 1661400 | O86: =O85 -> 60000 | Q86: =ROUND((F85+T85)*1/209*1.5,-1) -> 19870 | R86: =Q86*16 -> 317920 | S86: =Q86*5 -> 99350 | U86: =SUM(F86,M86,O86,R86,T86,S86) -> 4907670 | W86: =ROUNDUP((T86+U86)*1/12,-1) -> 408980 | X86: =ROUND(U86*4.5%,-1) -> 220850 | Y86: =ROUNDUP((U86-L86)*3.23%,-1) -> 158520 | Z86: =ROUNDUP(Y86*8.51%,-1) -> 13500 | AA86: =ROUND(U86*0.9%,-1) -> 44170 | AB86: =ROUND(U86*0.8%,-1) -> 39260 | AC86: =SUM(W86:AB86) -> 885280
E87: 3월 | F87: =F86 -> 2769000 | O87: =O86 -> 60000 | Q87: =ROUND((F86+T86)*1/209*1.5,-1) -> 19870 | R87: =Q87*16 -> 317920 | S87: =Q87*5 -> 99350 | U87: =SUM(F87,M87,O87,R87,T87,S87) -> 3246270 | W87: =ROUNDUP(U87*1/12,-1) -> 270530 | X87: =ROUND(U87*4.5%,-1) -> 146080 | Y87: =ROUNDUP((U87-L87)*3.23%,-1) -> 104860 | Z87: =ROUNDUP(Y87*8.51%,-1) -> 8930 | AA87: =ROUND(U87*0.9%,-1) -> 29220 | AB87: =ROUND(U87*0.8%,-1) -> 25970 | AC87: =SUM(W87:AB87) -> 585590
C88: =C85+1 -> 11 | E88: 4월 | F88: 2866000 | O88: =O87 -> 60000 | Q88: =ROUND((F87+T87)*1/209*1.5,-1) -> 19870 | R88: =Q88*16 -> 317920 | S88: =Q88*5 -> 99350 | U88: =SUM(F88,M88,O88,R88,T88,S88) -> 3343270 | W88: =ROUNDUP(U88*1/12,-1) -> 278610 | X88: =ROUND(U88*4.5%,-1) -> 150450 | Y88: =ROUNDUP((U88-L88)*3.23%,-1) -> 107990 | Z88: =ROUNDUP(Y88*8.51%,-1) -> 9190 | AA88: =ROUND(U88*0.9%,-1) -> 30090 | AB88: =ROUND(U88*0.8%,-1) -> 26750 | AC88: =SUM(W88:AB88) -> 603080
E89: 5월 | F89: =F88 -> 2866000 | O89: =O88 -> 60000 | Q89: =ROUND((F88+T88)*1/209*1.5,-1) -> 20570 | R89: =Q89*16 -> 329120 | S89: =Q89*5 -> 102850 | U89: =SUM(F89,M89,O89,R89,T89,S89) -> 3357970 | W89: =ROUNDUP(U89*1/12,-1) -> 279840 | X89: =ROUND(U89*4.5%,-1) -> 151110 | Y89: =ROUNDUP((U89-L89)*3.23%,-1) -> 108470 | Z89: =ROUNDUP(Y89*8.51%,-1) -> 9240 | AA89: =ROUND(U89*0.9%,-1) -> 30220 | AB89: =ROUND(U89*0.8%,-1) -> 26860 | AC89: =SUM(W89:AB89) -> 605740
E90: 6월 | F90: =F89 -> 2866000 | O90: =O89 -> 60000 | Q90: =ROUND((F89+T89)*1/209*1.5,-1) -> 20570 | R90: =Q90*16 -> 329120 | S90: =Q90*5 -> 102850 | U90: =SUM(F90,M90,O90,R90,T90,S90) -> 3357970 | W90: =ROUNDUP(U90*1/12,-1) -> 279840 | X90: =ROUND(U90*4.5%,-1) -> 151110 | Y90: =ROUNDUP((U90-L90)*3.23%,-1) -> 108470 | Z90: =ROUNDUP(Y90*8.51%,-1) -> 9240 | AA90: =ROUND(U90*0.9%,-1) -> 30220 | AB90: =ROUND(U90*0.8%,-1) -> 26860 | AC90: =SUM(W90:AB90) -> 605740
E91: 7월 | F91: =F90 -> 2866000 | O91: =O90 -> 60000 | Q91: =ROUND((F90+T90)*1/209*1.5,-1) -> 20570 | R91: =Q91*16 -> 329120 | S91: =Q91*5 -> 102850 | U91: =SUM(F91,M91,O91,R91,T91,S91) -> 3357970 | W91: =ROUNDUP(U91*1/12,-1) -> 279840 | X91: =ROUND(U91*4.5%,-1) -> 151110 | Y91: =ROUNDUP((U91-L91)*3.23%,-1) -> 108470 | Z91: =ROUNDUP(Y91*8.51%,-1) -> 9240 | AA91: =ROUND(U91*0.9%,-1) -> 30220 | AB91: =ROUND(U91*0.8%,-1) -> 26860 | AC91: =SUM(W91:AB91) -> 605740
E92: 8월 | F92: =F91 -> 2866000 | O92: =O91 -> 60000 | Q92: =ROUND((F91+T91)*1/209*1.5,-1) -> 20570 | R92: =Q92*16 -> 329120 | S92: =Q92*5 -> 102850 | U92: =SUM(F92,M92,O92,R92,T92,S92) -> 3357970 | W92: =ROUNDUP(U92*1/12,-1) -> 279840 | X92: =ROUND(U92*4.5%,-1) -> 151110 | Y92: =ROUNDUP((U92-L92)*3.23%,-1) -> 108470 | Z92: =ROUNDUP(Y92*8.51%,-1) -> 9240 | AA92: =ROUND(U92*0.9%,-1) -> 30220 | AB92: =ROUND(U92*0.8%,-1) -> 26860 | AC92: =SUM(W92:AB92) -> 605740
E93: 9월 | F93: =F92 -> 2866000 | M93: =F93*60% -> 1719600 | O93: =O92 -> 60000 | Q93: =ROUND((F92+T92)*1/209*1.5,-1) -> 20570 | R93: =Q93*16 -> 329120 | S93: =Q93*5 -> 102850 | U93: =SUM(F93,M93,O93,R93,T93,S93) -> 5077570 | W93: =ROUNDUP(U93*1/12,-1) -> 423140 | X93: =ROUND(U93*4.5%,-1) -> 228490 | Y93: =ROUNDUP((U93-L93)*3.23%,-1) -> 164010 | Z93: =ROUNDUP(Y93*8.51%,-1) -> 13960 | AA93: =ROUND(U93*0.9%,-1) -> 45700 | AB93: =ROUND(U93*0.8%,-1) -> 40620 | AC93: =SUM(W93:AB93) -> 915920
E94: 10월 | F94: =F93 -> 2866000 | O94: =O93 -> 60000 | Q94: =ROUND((F93+T93)*1/209*1.5,-1) -> 20570 | R94: =Q94*16 -> 329120 | S94: =Q94*5 -> 102850 | U94: =SUM(F94,M94,O94,R94,T94,S94) -> 3357970 | W94: =ROUNDUP(U94*1/12,-1) -> 279840 | X94: =ROUND(U94*4.5%,-1) -> 151110 | Y94: =ROUNDUP((U94-L94)*3.23%,-1) -> 108470 | Z94: =ROUNDUP(Y94*8.51%,-1) -> 9240 | AA94: =ROUND(U94*0.9%,-1) -> 30220 | AB94: =ROUND(U94*0.8%,-1) -> 26860 | AC94: =SUM(W94:AB94) -> 605740
E95: 11월 | F95: =F94 -> 2866000 | O95: =O94 -> 60000 | Q95: =ROUND((F94+T94)*1/209*1.5,-1) -> 20570 | R95: =Q95*16 -> 329120 | S95: =Q95*5 -> 102850 | U95: =SUM(F95,M95,O95,R95,T95,S95) -> 3357970 | W95: =ROUNDUP(U95*1/12,-1) -> 279840 | X95: =ROUND(U95*4.5%,-1) -> 151110 | Y95: =ROUNDUP((U95-L95)*3.23%,-1) -> 108470 | Z95: =ROUNDUP(Y95*8.51%,-1) -> 9240 | AA95: =ROUND(U95*0.9%,-1) -> 30220 | AB95: =ROUND(U95*0.8%,-1) -> 26860 | AC95: =SUM(W95:AB95) -> 605740
E96: 12월 | F96: =F95 -> 2866000 | O96: =O95 -> 60000 | Q96: =ROUND((F95+T95)*1/209*1.5,-1) -> 20570 | R96: =Q96*16*2 -> 658240 | S96: =Q96*5 -> 102850 | U96: =SUM(F96,M96,O96,R96,T96,S96) -> 3687090 | W96: =ROUNDUP(U96*1/12,-1) -> 307260 | X96: =ROUND(U96*4.5%,-1) -> 165920 | Y96: =ROUNDUP((U96-L96)*3.23%,-1) -> 119100 | Z96: =ROUNDUP(Y96*8.51%,-1) -> 10140 | AA96: =ROUND(U96*0.9%,-1) -> 33180 | AB96: =ROUND(U96*0.8%,-1) -> 29500 | AC96: =SUM(W96:AB96) -> 665100
A97: 8 | B97: 작업치료사 | C97: 4,5 | D97: 1 | E97: 소계 | F97: =SUM(F98:F109) -> 25974000 | G97: =SUM(G98:G109) -> 0 | H97: =SUM(H98:H109) -> 0 | I97: =SUM(I98:I109) -> 0 | J97: =SUM(J98:J109) -> 0 | K97: =SUM(K98:K109) -> 0 | L97: =SUM(L98:L109) -> 0 | M97: =SUM(M98:M109) -> 2566800 | ... P97: =SUM(P98:P109) -> 0 | R97: =SUM(R98:R109) -> 2982240 | S97: =SUM(S98:S109) -> 851550 | T97: =SUM(T98:T109) -> 0 | U97: =SUM(U98:U109) -> 32374590 | W97: =SUM(W98:W109) -> 2697950 | X97: =SUM(X98:X109) -> 1456850 | Y97: =SUM(Y98:Y109) -> 1045780 | Z97: =SUM(Z98:Z109) -> 89040 | AA97: =SUM(AA98:AA109) -> 291350 | AB97: =SUM(AB98:AB109) -> 259000 | AC97: =SUM(AC98:AC109) -> 5839970
B98: 이민지 | C98: 4 | E98: 1월 | F98: 2139000 | M98: - | U98: =SUM(F98,M98,O98,R98,T98,S98) -> 2139000 | W98: =ROUNDUP(U98*1/12,-1) -> 178250 | X98: =ROUND(U98*4.5%,-1) -> 96260 | Y98: =ROUNDUP((U98-L98)*3.23%,-1) -> 69090 | Z98: =ROUNDUP(Y98*8.51%,-1) -> 5880 | AA98: =ROUND(U98*0.9%,-1) -> 19250 | AB98: =ROUND(U98*0.8%,-1) -> 17110 | AC98: =SUM(W98:AB98) -> 385840
E99: 2월 | F99: =F98 -> 2139000 | M99: =F99*60% -> 1283400 | Q99: =ROUND((F98+T98)*1/209*1.5,-1) -> 15350 | R99: =Q99*16 -> 245600 | S99: =Q99*5 -> 76750 | U99: =SUM(F99,M99,O99,R99,T99,S99) -> 3744750 | W99: =ROUNDUP((T99+U99)*1/12,-1) -> 312070 | X99: =ROUND(U99*4.5%,-1) -> 168510 | Y99: =ROUNDUP((U99-L99)*3.23%,-1) -> 120960 | Z99: =ROUNDUP(Y99*8.51%,-1) -> 10300 | AA99: =ROUND(U99*0.9%,-1) -> 33700 | AB99: =ROUND(U99*0.8%,-1) -> 29960 | AC99: =SUM(W99:AB99) -> 675500
E100: 3월 | F100: =F99 -> 2139000 | Q100: =ROUND((F99+T99)*1/209*1.5,-1) -> 15350 | R100: =Q100*16 -> 245600 | S100: =Q100*5 -> 76750 | U100: =SUM(F100,M100,O100,R100,T100,S100) -> 2461350 | W100: =ROUNDUP(U100*1/12,-1) -> 205120 | X100: =ROUND(U100*4.5%,-1) -> 110760 | Y100: =ROUNDUP((U100-L100)*3.23%,-1) -> 79510 | Z100: =ROUNDUP(Y100*8.51%,-1) -> 6770 | AA100: =ROUND(U100*0.9%,-1) -> 22150 | AB100: =ROUND(U100*0.8%,-1) -> 19690 | AC100: =SUM(W100:AB100) -> 444000
E101: 4월 | F101: =F100 -> 2139000 | Q101: =ROUND((F100+T100)*1/209*1.5,-1) -> 15350 | R101: =Q101*16 -> 245600 | S101: =Q101*5 -> 76750 | U101: =SUM(F101,M101,O101,R101,T101,S101) -> 2461350 | W101: =ROUNDUP(U101*1/12,-1) -> 205120 | X101: =ROUND(U101*4.5%,-1) -> 110760 | Y101: =ROUNDUP((U101-L101)*3.23%,-1) -> 79510 | Z101: =ROUNDUP(Y101*8.51%,-1) -> 6770 | AA101: =ROUND(U101*0.9%,-1) -> 22150 | AB101: =ROUND(U101*0.8%,-1) -> 19690 | AC101: =SUM(W101:AB101) -> 444000
...

Sheet 인건비총계표(자부담)
A1: ▣ 2020년 종사자 인건비 총계표
A3: (1) 자부담 | AA3: (단위 : 원)
A4: 연 번 | B4: 직 종 | C4: 호 봉 | D4: 명 수 | E4: 구분 (월) | F4: 기본급 | G4: 기말수당 (50%씩 연4회 -3,6,9,12월) | H4: 정근수당 (1,7월) | I4: 장기근속 수 당 | J4: 가계지원비 (50%씩 연4회 -4,5,10,11월) | K4: 시간당 연장근로수당 | L4: 직책수당 | M4: 명절휴가비 (50%씩 연2회) | N4: 명절휴가비 연평균액 | O4: 가족수당 (30,000원) (20,000원) | P4: 연장근로수당 (기본급*1/ 209*1.5*40/22) | Q4: 처우개선비 | R4: 특수근무 수 당 (도비) | S4: 지급액합계 | T4: 비 고 | U4: 퇴직적립금 | V4: 국민연금 | W4: 건강보험 | X4: 건강보험 (장기요양보험) | Y4: 고용보험 | Z4: 산재보험 | AA4: 공제액합계
A5: 합 계 | G5: =G6+G19+G32 -> 0 | H5: =H6+H19+H32 -> 0 | I5: =I6+I19+I32 -> 0 | J5: =J6+J19+J32 -> 0 | K5: =K6+K19+K32 -> 0 | L5: =L6+L19+L32 -> 19000000 | M5: =M6+M19+M32 -> 0 | N5: =N6+N19+N32 -> 0 | ... S5: =S6+S19+S32 -> 19000000 | U5: =U6+U19+U32 -> 1583330 | V5: =V6+V19+V32 -> 0 | W5: =W6+W19+W32 -> 613700 | X5: =X6+X19+X32 -> 52240 | Y5: =Y6+Y19+Y32 -> 138600 | Z5: =Z6+Z19+Z32 -> 123200 | AA5: =AA6+AA19+AA32 -> 2511070
A6: 1 | B6: 교통급식비 | D6: 11 | E6: 소계 | F6: =SUM(F7:F18) -> 0 | G6: =SUM(G7:G18) -> 0 | H6: =SUM(H7:H18) -> 0 | I6: =SUM(I7:I18) -> 0 | J6: =SUM(J7:J18) -> 0 | K6: =SUM(K7:K18) -> 0 | L6: =SUM(L7:L18) -> 19000000 | M6: =SUM(M7:M18) -> 0 | ... S6: =SUM(S7:S18) -> 19000000 | U6: =SUM(U7:U18) -> 1583330 | V6: =SUM(V7:V18) -> 0 | W6: =SUM(W7:W18) -> 613700 | X6: =SUM(X7:X18) -> 52240 | Y6: =SUM(Y7:Y18) -> 138600 | Z6: =SUM(Z7:Z18) -> 123200 | AA6: =SUM(AA7:AA18) -> 2511070
B7: 200,000원 | D7: 1 | E7: 기관장 | L7: =300000*12 -> 3600000 | S7: =SUM(F7:R7) -> 3600000 | U7: =ROUNDUP(S7*1/12,-1) -> 300000 | W7: =ROUNDUP((S7-J7)*3.23%,-1) -> 116280 | X7: =ROUNDUP(W7*8.51%,-1) -> 9900 | AA7: =SUM(U7:Z7) -> 426180
B8: 160,000원 | D8: 1 | E8: 사무국장 | L8: =200000*12 -> 2400000 | S8: =SUM(F8:R8) -> 2400000 | U8: =ROUND(S8*1/12,-1) -> 200000 | W8: =ROUNDUP((S8-J8)*3.23%,-1) -> 77520 | X8: =ROUNDUP(W8*8.51%,-1) -> 6600 | Y8: =ROUND(S8*0.9%,-1) -> 21600 | Z8: =ROUND(S8*0.8%,-1) -> 19200 | AA8: =SUM(U8:Z8) -> 324920
B9: 100,000원 | D9: 1 | E9: 과장 | L9: =150000*12 -> 1800000 | S9: =SUM(F9:R9) -> 1800000 | U9: =ROUND(S9*1/12,-1) -> 150000 | W9: =ROUNDUP((S9-J9)*3.23%,-1) -> 58140 | X9: =ROUNDUP(W9*8.51%,-1) -> 4950 | Y9: =ROUND(S9*0.9%,-1) -> 16200 | Z9: =ROUND(S9*0.8%,-1) -> 14400 | AA9: =SUM(U9:Z9) -> 243690
B10: 60,000원 | D10: 1 | E10: 과장 | L10: =150000*12 -> 1800000 | S10: =SUM(F10:R10) -> 1800000 | U10: =ROUND(S10*1/12,-1) -> 150000 | W10: =ROUNDUP((S10-J10)*3.23%,-1) -> 58140 | X10: =ROUNDUP(W10*8.51%,-1) -> 4950 | Y10: =ROUND(S10*0.9%,-1) -> 16200 | Z10: =ROUND(S10*0.8%,-1) -> 14400 | AA10: =SUM(U10:Z10) -> 243690
B11: 40,000원 | D11: 7 | E11: 팀장 | L11: =100000*12*D11+1000000 -> 9400000 | S11: =SUM(F11:R11) -> 9400000 | U11: =ROUND(S11*1/12,-1) -> 783330 | W11: =ROUNDUP((S11-J11)*3.23%,-1) -> 303620 | X11: =ROUNDUP(W11*8.51%,-1) -> 25840 | Y11: =ROUND(S11*0.9%,-1) -> 84600 | Z11: =ROUND(S11*0.8%,-1) -> 75200 | AA11: =SUM(U11:Z11) -> 1272590
F12: =F11 -> 0 | G12: =F12*50% -> 0 | H12: 0 | I12: =I7 -> 0 | J12: 0 | K12: =K11 -> 0 | L12: 0 | M12: 0 | N12: =N7 -> 0 | O12: =O7 -> 0 | P12: =ROUND((F12)*1/209*1.5*40,-1) -> 0 | R12: =R11 -> 0 | S12: =SUM(F12:R12) -> 0 | U12: =ROUND(S12*1/12,-1) -> 0 | V12: =ROUND(S12*4.5%,-1) -> 0 | W12: =ROUNDUP((S12-J12)*3.12%,-1) -> 0 | X12: =ROUNDUP(W12*7.38%,-1) -> 0 | Y12: =ROUND(S12*0.7%,-1) -> 0 | Z12: =ROUND(S12*0.7%,-1) -> 0 | AA12: =SUM(U12:Z12) -> 0
F13: =F12 -> 0 | G13: 0 | H13: =F13*90% -> 0 | I13: - | J13: 0 | K13: =K12 -> 0 | L13: =L12 -> 0 | M13: 0 | N13: =N12 -> 0 | O13: =O12 -> 0 | P13: =ROUND((F13)*1/209*1.5*40,-1) -> 0 | R13: =R12 -> 0 | S13: =SUM(F13:R13) -> 0 | U13: =ROUND(S13*1/12,-1) -> 0 | V13: =ROUND(S13*4.5%,-1) -> 0 | W13: =ROUNDUP((S13-J13)*3.12%,-1) -> 0 | X13: =ROUNDUP(W13*7.38%,-1) -> 0 | Y13: =ROUND(S13*0.7%,-1) -> 0 | Z13: =ROUND(S13*0.7%,-1) -> 0 | AA13: =SUM(U13:Z13) -> 0
F14: =F13 -> 0 | G14: 0 | H14: 0 | I14: =I13 -> - | J14: 0 | K14: =K13 -> 0 | L14: =L13 -> 0 | M14: 0 | N14: =N13 -> 0 | O14: =O13 -> 0 | P14: =ROUND((F14)*1/209*1.5*40,-1) -> 0 | R14: =R13 -> 0 | S14: =SUM(F14:R14) -> 0 | U14: =ROUND(S14*1/12,-1) -> 0 | V14: =ROUND(S14*4.5%,-1) -> 0 | W14: =ROUNDUP((S14-J14)*3.12%,-1) -> 0 | X14: =ROUNDUP(W14*7.38%,-1) -> 0 | Y14: =ROUND(S14*0.7%,-1) -> 0 | Z14: =ROUND(S14*0.7%,-1) -> 0 | AA14: =SUM(U14:Z14) -> 0
F15: =F13 -> 0 | G15: =F15*50% -> 0 | H15: 0 | I15: =I13 -> - | J15: 0 | K15: =K14 -> 0 | L15: =L14 -> 0 | M15: =F15*50% -> 0 | N15: =N13 -> 0 | O15: =O13 -> 0 | P15: =ROUND((F15)*1/209*1.5*40,-1) -> 0 | R15: =R14 -> 0 | S15: =SUM(F15:R15) -> 0 | U15: =ROUND(S15*1/12,-1) -> 0 | V15: =ROUND(S15*4.5%,-1) -> 0 | W15: =ROUNDUP((S15-J15)*3.12%,-1) -> 0 | X15: =ROUNDUP(W15*7.38%,-1) -> 0 | Y15: =ROUND(S15*0.7%,-1) -> 0 | Z15: =ROUND(S15*0.7%,-1) -> 0 | AA15: =SUM(U15:Z15) -> 0
F16: =F13 -> 0 | G16: 0 | H16: 0 | I16: =I13 -> - | J16: =F16*50% -> 0 | K16: =K15 -> 0 | L16: =L15 -> 0 | M16: 0 | N16: =N13 -> 0 | O16: =O13 -> 0 | P16: =ROUND((F16)*1/209*1.5*40,-1) -> 0 | R16: =R15 -> 0 | S16: =SUM(F16:R16) -> 0 | U16: =ROUND(S16*1/12,-1) -> 0 | V16: =ROUND(S16*4.5%,-1) -> 0 | W16: =ROUNDUP((S16-J16)*3.12%,-1) -> 0 | X16: =ROUNDUP(W16*7.38%,-1) -> 0 | Y16: =ROUND(S16*0.7%,-1) -> 0 | Z16: =ROUND(S16*0.7%,-1) -> 0 | AA16: =SUM(U16:Z16) -> 0
F17: =F13 -> 0 | G17: 0 | H17: 0 | I17: =I13 -> - | J17: =F17*50% -> 0 | K17: =K16 -> 0 | L17: =L16 -> 0 | M17: 0 | N17: =N13 -> 0 | O17: =O13 -> 0 | P17: =ROUND((F17)*1/209*1.5*40,-1) -> 0 | R17: =R16 -> 0 | S17: =SUM(F17:R17) -> 0 | U17: =ROUND(S17*1/12,-1) -> 0 | V17: =ROUND(S17*4.5%,-1) -> 0 | W17: =ROUNDUP((S17-J17)*3.12%,-1) -> 0 | X17: =ROUNDUP(W17*7.38%,-1) -> 0 | Y17: =ROUND(S17*0.7%,-1) -> 0 | Z17: =ROUND(S17*0.7%,-1) -> 0 | AA17: =SUM(U17:Z17) -> 0
F18: =F13 -> 0 | G18: =F18*50% -> 0 | H18: 0 | I18: =I13 -> - | J18: 0 | K18: =K17 -> 0 | L18: =L17 -> 0 | M18: 0 | N18: =N13 -> 0 | O18: =O13 -> 0 | P18: =ROUND((F18)*1/209*1.5*40*2,-1) -> 0 | R18: =R17 -> 0 | S18: =SUM(F18:R18) -> 0 | U18: =ROUND(S18*1/12,-1) -> 0 | V18: =ROUND(S18*4.5%,-1) -> 0 | W18: =ROUNDUP((S18-J18)*3.12%,-1) -> 0 | X18: =ROUNDUP(W18*7.38%,-1) -> 0 | Y18: =ROUND(S18*0.7%,-1) -> 0 | Z18: =ROUND(S18*0.7%,-1) -> 0 | AA18: =SUM(U18:Z18) -> 0
A19: 1 | B19: 운전원 | C19: 3,4 | D19: 1 | E19: 소계 | F19: =SUM(F20:F31) -> 0 | G19: =SUM(G20:G31) -> 0 | H19: =SUM(H20:H31) -> 0 | I19: =SUM(I20:I31) -> 0 | J19: =SUM(J20:J31) -> 0 | K19: =SUM(K20:K31) -> 0 | L19: =SUM(L20:L31) -> 0 | M19: =SUM(M20:M31) -> 0 | ... S19: =SUM(S20:S31) -> 0 | T19: 3월지급종료 | U19: =SUM(U20:U31) -> 0 | V19: =SUM(V20:V31) -> 0 | W19: =ROUNDUP((S19-J19)*3.12%,-1) -> 0 | X19: =ROUNDUP(W19*7.38%,-1) -> 0 | Y19: =SUM(Y20:Y31) -> 0 | Z19: =SUM(Z20:Z31) -> 0 | AA19: =SUM(AA20:AA31) -> 0
C20: 3 | E20: 1월 | R20: - | S20: =SUM(F20:R20) -> 0 | U20: =ROUND(S20*1/12,-1) -> 0 | V20: =ROUND(S20*4.5%,-1) -> 0 | W20: =ROUNDUP((S20-J20)*3.12%,-1) -> 0 | X20: =ROUNDUP(W20*7.38%,-1) -> 0 | Y20: =ROUND(S20*0.7%,-1) -> 0 | Z20: =ROUND(S20*0.7%,-1) -> 0 | AA20: =SUM(U20:Z20) -> 0
E21: 2월 | R21: =R20 -> - | S21: =SUM(F21:R21) -> 0 | U21: =ROUND(S21*1/12,-1) -> 0 | V21: =ROUND(S21*4.5%,-1) -> 0 | W21: =ROUNDUP((S21-J21)*3.12%,-1) -> 0 | X21: =ROUNDUP(W21*7.38%,-1) -> 0 | Y21: =ROUND(S21*0.7%,-1) -> 0 | Z21: =ROUND(S21*0.7%,-1) -> 0 | AA21: =SUM(U21:Z21) -> 0
E22: 3월 | R22: =R21 -> - | S22: =SUM(F22:R22) -> 0 | U22: =ROUND(S22*1/12,-1) -> 0 | V22: =ROUND(S22*4.5%,-1) -> 0 | W22: =ROUNDUP((S22-J22)*3.12%,-1) -> 0 | X22: =ROUNDUP(W22*7.38%,-1) -> 0 | Y22: =ROUND(S22*0.7%,-1) -> 0 | Z22: =ROUND(S22*0.7%,-1) -> 0 | AA22: =SUM(U22:Z22) -> 0
E23: 4월 | R23: =R22 -> - | S23: =SUM(F23:R23) -> 0 | U23: =ROUND(S23*1/12,-1) -> 0 | V23: =ROUND(S23*4.5%,-1) -> 0 | W23: =ROUNDUP((S23-J23)*3.12%,-1) -> 0 | X23: =ROUNDUP(W23*7.38%,-1) -> 0 | Y23: =ROUND(S23*0.7%,-1) -> 0 | Z23: =ROUND(S23*0.7%,-1) -> 0 | AA23: =SUM(U23:Z23) -> 0
E24: 5월 | R24: =R23 -> - | S24: =SUM(F24:R24) -> 0 | U24: =ROUND(S24*1/12,-1) -> 0 | V24: =ROUND(S24*4.5%,-1) -> 0 | W24: =ROUNDUP((S24-J24)*3.12%,-1) -> 0 | X24: =ROUNDUP(W24*7.38%,-1) -> 0 | Y24: =ROUND(S24*0.7%,-1) -> 0 | Z24: =ROUND(S24*0.7%,-1) -> 0 | AA24: =SUM(U24:Z24) -> 0
E25: 6월 | R25: =R24 -> - | S25: =SUM(F25:R25) -> 0 | U25: =ROUND(S25*1/12,-1) -> 0 | V25: =ROUND(S25*4.5%,-1) -> 0 | W25: =ROUNDUP((S25-J25)*3.12%,-1) -> 0 | X25: =ROUNDUP(W25*7.38%,-1) -> 0 | Y25: =ROUND(S25*0.7%,-1) -> 0 | Z25: =ROUND(S25*0.7%,-1) -> 0 | AA25: =SUM(U25:Z25) -> 0
E26: 7월 | R26: =R25 -> - | S26: =SUM(F26:R26) -> 0 | U26: =ROUND(S26*1/12,-1) -> 0 | V26: =ROUND(S26*4.5%,-1) -> 0 | W26: =ROUNDUP((S26-J26)*3.12%,-1) -> 0 | X26: =ROUNDUP(W26*7.38%,-1) -> 0 | Y26: =ROUND(S26*0.7%,-1) -> 0 | Z26: =ROUND(S26*0.7%,-1) -> 0 | AA26: =SUM(U26:Z26) -> 0
E27: 8월 | R27: =R26 -> - | S27: =SUM(F27:R27) -> 0 | U27: =ROUND(S27*1/12,-1) -> 0 | V27: =ROUND(S27*4.5%,-1) -> 0 | W27: =ROUNDUP((S27-J27)*3.12%,-1) -> 0 | X27: =ROUNDUP(W27*7.38%,-1) -> 0 | Y27: =ROUND(S27*0.7%,-1) -> 0 | Z27: =ROUND(S27*0.7%,-1) -> 0 | AA27: =SUM(U27:Z27) -> 0
E28: 9월 | R28: =R27 -> - | S28: =SUM(F28:R28) -> 0 | U28: =ROUND(S28*1/12,-1) -> 0 | V28: =ROUND(S28*4.5%,-1) -> 0 | W28: =ROUNDUP((S28-J28)*3.12%,-1) -> 0 | X28: =ROUNDUP(W28*7.38%,-1) -> 0 | Y28: =ROUND(S28*0.7%,-1) -> 0 | Z28: =ROUND(S28*0.7%,-1) -> 0 | AA28: =SUM(U28:Z28) -> 0
C29: 4 | E29: 10월 | R29: =R28 -> - | S29: =SUM(F29:R29) -> 0 | U29: =ROUND(S29*1/12,-1) -> 0 | V29: =ROUND(S29*4.5%,-1) -> 0 | W29: =ROUNDUP((S29-J29)*3.12%,-1) -> 0 | X29: =ROUNDUP(W29*7.38%,-1) -> 0 | Y29: =ROUND(S29*0.7%,-1) -> 0 | Z29: =ROUND(S29*0.7%,-1) -> 0 | AA29: =SUM(U29:Z29) -> 0
E30: 11월 | R30: =R29 -> - | S30: =SUM(F30:R30) -> 0 | U30: =ROUND(S30*1/12,-1) -> 0 | V30: =ROUND(S30*4.5%,-1) -> 0 | W30: =ROUNDUP((S30-J30)*3.12%,-1) -> 0 | X30: =ROUNDUP(W30*7.38%,-1) -> 0 | Y30: =ROUND(S30*0.7%,-1) -> 0 | Z30: =ROUND(S30*0.7%,-1) -> 0 | AA30: =SUM(U30:Z30) -> 0
E31: 12월 | R31: =R30 -> - | S31: =SUM(F31:R31) -> 0 | U31: =ROUND(S31*1/12,-1) -> 0 | V31: =ROUND(S31*4.5%,-1) -> 0 | W31: =ROUNDUP((S31-J31)*3.12%,-1) -> 0 | X31: =ROUNDUP(W31*7.38%,-1) -> 0 | Y31: =ROUND(S31*0.7%,-1) -> 0 | Z31: =ROUND(S31*0.7%,-1) -> 0 | AA31: =SUM(U31:Z31) -> 0
A32: 1 | B32: 처우개선비 | D32: 9 | E32: 소계 | F32: =SUM(F33:F44) -> 0 | G32: =SUM(G33:G44) -> 0 | H32: =SUM(H33:H44) -> 0 | I32: =SUM(I33:I44) -> 0 | J32: =SUM(J33:J44) -> 0 | K32: =SUM(K33:K44) -> 0 | L32: =SUM(L33:L44) -> 0 | M32: =SUM(M33:M44) -> 0 | ... S32: =SUM(S33:S44) -> 0 | T32: 7월주임신설 | U32: =SUM(U33:U44) -> 0 | V32: =SUM(V33:V44) -> 0 | W32: =ROUNDUP((S32-J32)*3.12%,-1) -> 0 | X32: =ROUNDUP(W32*7.38%,-1) -> 0 | Y32: =SUM(Y33:Y44) -> 0 | Z32: =SUM(Z33:Z44) -> 0 | AA32: =SUM(AA33:AA44) -> 0
E33: 기관장 | R33: - | S33: =SUM(F33:R33) -> 0 | U33: =ROUND(S33*1/12,-1) -> 0 | V33: =ROUND(S33*4.5%,-1) -> 0 | W33: =ROUNDUP((S33-J33)*3.12%,-1) -> 0 | X33: =ROUNDUP(W33*7.38%,-1) -> 0 | Y33: =ROUND(S33*0.7%,-1) -> 0 | Z33: =ROUND(S33*0.7%,-1) -> 0 | AA33: =SUM(U33:Z33) -> 0
E34: 사무국장 | R34: =R33 -> - | S34: =SUM(F34:R34) -> 0 | U34: =ROUND(S34*1/12,-1) -> 0 | V34: =ROUND(S34*4.5%,-1) -> 0 | W34: =ROUNDUP((S34-J34)*3.12%,-1) -> 0 | X34: =ROUNDUP(W34*7.38%,-1) -> 0 | Y34: =ROUND(S34*0.7%,-1) -> 0 | Z34: =ROUND(S34*0.7%,-1) -> 0 | AA34: =SUM(U34:Z34) -> 0
E35: 과장(2) | R35: =R34 -> - | S35: =SUM(F35:R35) -> 0 | U35: =ROUND(S35*1/12,-1) -> 0 | V35: =ROUND(S35*4.5%,-1) -> 0 | W35: =ROUNDUP((S35-J35)*3.12%,-1) -> 0 | X35: =ROUNDUP(W35*7.38%,-1) -> 0 | Y35: =ROUND(S35*0.7%,-1) -> 0 | Z35: =ROUND(S35*0.7%,-1) -> 0 | AA35: =SUM(U35:Z35) -> 0
E36: 팀장(5) | R36: =R35 -> - | S36: =SUM(F36:R36) -> 0 | U36: =ROUND(S36*1/12,-1) -> 0 | V36: =ROUND(S36*4.5%,-1) -> 0 | W36: =ROUNDUP((S36-J36)*3.12%,-1) -> 0 | X36: =ROUNDUP(W36*7.38%,-1) -> 0 | Y36: =ROUND(S36*0.7%,-1) -> 0 | Z36: =ROUND(S36*0.7%,-1) -> 0 | AA36: =SUM(U36:Z36) -> 0
E37: 주임(3) | R37: =R36 -> - | S37: =SUM(F37:R37) -> 0 | T37: 7월신설 | U37: =ROUND(S37*1/12,-1) -> 0 | V37: =ROUND(S37*4.5%,-1) -> 0 | W37: =ROUNDUP((S37-J37)*3.12%,-1) -> 0 | X37: =ROUNDUP(W37*7.38%,-1) -> 0 | Y37: =ROUND(S37*0.7%,-1) -> 0 | Z37: =ROUND(S37*0.7%,-1) -> 0 | AA37: =SUM(U37:Z37) -> 0
R38: =R37 -> - | S38: =SUM(F38:R38) -> 0 | U38: =ROUND(S38*1/12,-1) -> 0 | V38: =ROUND(S38*4.5%,-1) -> 0 | W38: =ROUNDUP((S38-J38)*3.12%,-1) -> 0 | X38: =ROUNDUP(W38*7.38%,-1) -> 0 | Y38: =ROUND(S38*0.7%,-1) -> 0 | Z38: =ROUND(S38*0.7%,-1) -> 0 | AA38: =SUM(U38:Z38) -> 0
R39: =R38 -> - | S39: =SUM(F39:R39) -> 0 | U39: =ROUND(S39*1/12,-1) -> 0 | V39: =ROUND(S39*4.5%,-1) -> 0 | W39: =ROUNDUP((S39-J39)*3.12%,-1) -> 0 | X39: =ROUNDUP(W39*7.38%,-1) -> 0 | Y39: =ROUND(S39*0.7%,-1) -> 0 | Z39: =ROUND(S39*0.7%,-1) -> 0 | AA39: =SUM(U39:Z39) -> 0
R40: =R39 -> - | S40: =SUM(F40:R40) -> 0 | U40: =ROUND(S40*1/12,-1) -> 0 | V40: =ROUND(S40*4.5%,-1) -> 0 | W40: =ROUNDUP((S40-J40)*3.12%,-1) -> 0 | X40: =ROUNDUP(W40*7.38%,-1) -> 0 | Y40: =ROUND(S40*0.7%,-1) -> 0 | Z40: =ROUND(S40*0.7%,-1) -> 0 | AA40: =SUM(U40:Z40) -> 0
R41: =R40 -> - | S41: =SUM(F41:R41) -> 0 | U41: =ROUND(S41*1/12,-1) -> 0 | V41: =ROUND(S41*4.5%,-1) -> 0 | W41: =ROUNDUP((S41-J41)*3.12%,-1) -> 0 | X41: =ROUNDUP(W41*7.38%,-1) -> 0 | Y41: =ROUND(S41*0.7%,-1) -> 0 | Z41: =ROUND(S41*0.7%,-1) -> 0 | AA41: =SUM(U41:Z41) -> 0
R42: =R41 -> - | S42: =SUM(F42:R42) -> 0 | U42: =ROUND(S42*1/12,-1) -> 0 | V42: =ROUND(S42*4.5%,-1) -> 0 | W42: =ROUNDUP((S42-J42)*3.12%,-1) -> 0 | X42: =ROUNDUP(W42*7.38%,-1) -> 0 | Y42: =ROUND(S42*0.7%,-1) -> 0 | Z42: =ROUND(S42*0.7%,-1) -> 0 | AA42: =SUM(U42:Z42) -> 0
R43: =R42 -> - | S43: =SUM(F43:R43) -> 0 | U43: =ROUND(S43*1/12,-1) -> 0 | V43: =ROUND(S43*4.5%,-1) -> 0 | W43: =ROUNDUP((S43-J43)*3.12%,-1) -> 0 | X43: =ROUNDUP(W43*7.38%,-1) -> 0 | Y43: =ROUND(S43*0.7%,-1) -> 0 | Z43: =ROUND(S43*0.7%,-1) -> 0 | AA43: =SUM(U43:Z43) -> 0
R44: =R43 -> - | S44: =SUM(F44:R44) -> 0 | U44: =ROUND(S44*1/12,-1) -> 0 | V44: =ROUND(S44*4.5%,-1) -> 0 | W44: =ROUNDUP((S44-J44)*3.12%,-1) -> 0 | X44: =ROUNDUP(W44*7.38%,-1) -> 0 | Y44: =ROUND(S44*0.7%,-1) -> 0 | Z44: =ROUND(S44*0.7%,-1) -> 0 | AA44: =SUM(U44:Z44) -> 0
W45: =ROUNDUP((S45-J45)*3.12%,-1) -> 0 | X45: =ROUNDUP(W45*7.38%,-1) -> 0
W46: =ROUNDUP((S46-J46)*3.12%,-1) -> 0 | X46: =ROUNDUP(W46*7.38%,-1) -> 0
A47: (2) 후원금 | W47: =ROUNDUP((S47-J47)*3.12%,-1) -> 0 | X47: =ROUNDUP(W47*7.38%,-1) -> 0 | AB47: (단위 : 원)
A48: 연 번 | B48: 직 종 | C48: 호 봉 | D48: 명 수 | E48: 구분 (월) | F48: 기본급 | G48: 기말수당 (50%씩 연4회 -3,6,9,12월) | H48: 정근수당 (1,7월) | I48: 장기근속 수 당 | J48: 가계지원비 (50%씩 연4회 -4,5,10,11월) | K48: 시간당 연장근로수당 | L48: 교통급식비 (110,000원) | M48: 명절휴가비 (50%씩 연2회) | N48: 명절휴가비 연평균액 | O48: 가족수당 (30,000원) (20,000원) | P48: 연장근로수당 | Q48: 처우개선비 | R48: 직책보조비 | S48: 특수근무 수 당 (도비) | T48: 소 계 | U48: 비 고 | V48: 퇴직적립금 | W48: =ROUNDUP((S48-J48)*3.12%,-1) -> #VALUE! | X48: =ROUNDUP(W48*7.38%,-1) -> #VALUE! | Y48: 의료보험 (장기요양보험) | Z48: 고용보험 | AA48: 산재보험 | AB48: 합계
W49: =ROUNDUP((S49-J49)*3.12%,-1) -> 0 | X49: =ROUNDUP(W49*7.38%,-1) -> 0
A50: 1 | B50: 생활재활교사 | C50: 1 | D50: 1 | E50: 소계 | F50: =SUM(F51:F62) -> 0 | G50: =SUM(G51:G62) -> 0 | H50: =SUM(H51:H62) -> 0 | I50: =SUM(I51:I62) -> 0 | J50: =SUM(J51:J62) -> 0 | K50: =SUM(K51:K62) -> 0 | L50: =SUM(L51:L62) -> 0 | M50: =SUM(M51:M62) -> 0 | ... O50: =SUM(O51:O62) -> 0 | Q50: =SUM(Q51:Q62) -> 0 | R50: =SUM(R51:R62) -> 0 | S50: =SUM(S51:S62) -> 0 | T50: =SUM(T51:T62) -> 0 | V50: =SUM(V51:V62) -> 0 | W50: =ROUNDUP((S50-J50)*3.12%,-1) -> 0 | X50: =ROUNDUP(W50*7.38%,-1) -> 0 | Y50: =SUM(Y51:Y62) -> 0 | Z50: =SUM(Z51:Z62) -> 0 | AA50: =SUM(AA51:AA62) -> 0 | AB50: =SUM(AB51:AB62) -> 0
B51: 유선주 | E51: 1월 | V51: =ROUNDUP(T51*1/12,-1) -> 0 | W51: =ROUNDUP((S51-J51)*3.12%,-1) -> 0 | X51: =ROUNDUP(W51*7.38%,-1) -> 0 | Y51: =ROUNDUP(X51*6.55%,-1) -> 0 | Z51: =ROUND(T51*0.8%,-1) -> 0 | AA51: =ROUND(T51*0.785%,-1) -> 0 | AB51: =SUM(V51:AA51) -> 0
E52: 2월 | V52: =ROUNDUP(T52*1/12,-1) -> 0 | W52: =ROUNDUP((S52-J52)*3.12%,-1) -> 0 | X52: =ROUNDUP(W52*7.38%,-1) -> 0 | Y52: =ROUNDUP(X52*6.55%,-1) -> 0 | Z52: =ROUND(T52*0.8%,-1) -> 0 | AA52: =ROUND(T52*0.785%,-1) -> 0 | AB52: =SUM(V52:AA52) -> 0
E53: 3월 | V53: =ROUNDUP(T53*1/12,-1) -> 0 | W53: =ROUNDUP((S53-J53)*3.12%,-1) -> 0 | X53: =ROUNDUP(W53*7.38%,-1) -> 0 | Y53: =ROUNDUP(X53*6.55%,-1) -> 0 | Z53: =ROUND(T53*0.8%,-1) -> 0 | AA53: =ROUND(T53*0.785%,-1) -> 0 | AB53: =SUM(V53:AA53) -> 0
E54: 4월 | V54: =ROUNDUP(T54*1/12,-1) -> 0 | W54: =ROUNDUP((S54-J54)*3.12%,-1) -> 0 | X54: =ROUNDUP(W54*7.38%,-1) -> 0 | Y54: =ROUNDUP(X54*6.55%,-1) -> 0 | Z54: =ROUND(T54*0.8%,-1) -> 0 | AA54: =ROUND(T54*0.785%,-1) -> 0 | AB54: =SUM(V54:AA54) -> 0
E55: 5월 | V55: =ROUNDUP(T55*1/12,-1) -> 0 | W55: =ROUNDUP((S55-J55)*3.12%,-1) -> 0 | X55: =ROUNDUP(W55*7.38%,-1) -> 0 | Y55: =ROUNDUP(X55*6.55%,-1) -> 0 | Z55: =ROUND(T55*0.8%,-1) -> 0 | AA55: =ROUND(T55*0.785%,-1) -> 0 | AB55: =SUM(V55:AA55) -> 0
E56: 6월 | V56: =ROUNDUP(T56*1/12,-1) -> 0 | W56: =ROUNDUP((S56-J56)*3.12%,-1) -> 0 | X56: =ROUNDUP(W56*7.38%,-1) -> 0 | Y56: =ROUNDUP(X56*6.55%,-1) -> 0 | Z56: =ROUND(T56*0.8%,-1) -> 0 | AA56: =ROUND(T56*0.785%,-1) -> 0 | AB56: =SUM(V56:AA56) -> 0
C57: 1 | E57: 7월 | V57: =ROUNDUP(T57*1/12,-1) -> 0 | W57: =ROUNDUP((S57-J57)*3.12%,-1) -> 0 | X57: =ROUNDUP(W57*7.38%,-1) -> 0 | Y57: =ROUNDUP(X57*6.55%,-1) -> 0 | Z57: =ROUND(T57*0.8%,-1) -> 0 | AA57: =ROUND(T57*0.785%,-1) -> 0 | AB57: =SUM(V57:AA57) -> 0
E58: 8월 | V58: =ROUNDUP(T58*1/12,-1) -> 0 | W58: =ROUNDUP((S58-J58)*3.12%,-1) -> 0 | X58: =ROUNDUP(W58*7.38%,-1) -> 0 | Y58: =ROUNDUP(X58*6.55%,-1) -> 0 | Z58: =ROUND(T58*0.8%,-1) -> 0 | AA58: =ROUND(T58*0.785%,-1) -> 0 | AB58: =SUM(V58:AA58) -> 0
E59: 9월 | V59: =ROUNDUP(T59*1/12,-1) -> 0 | W59: =ROUNDUP((S59-J59)*3.12%,-1) -> 0 | X59: =ROUNDUP(W59*7.38%,-1) -> 0 | Y59: =ROUNDUP(X59*6.55%,-1) -> 0 | Z59: =ROUND(T59*0.8%,-1) -> 0 | AA59: =ROUND(T59*0.785%,-1) -> 0 | AB59: =SUM(V59:AA59) -> 0
E60: 10월 | V60: =ROUNDUP(T60*1/12,-1) -> 0 | W60: =ROUNDUP((S60-J60)*3.12%,-1) -> 0 | X60: =ROUNDUP(W60*7.38%,-1) -> 0 | Y60: =ROUNDUP(X60*6.55%,-1) -> 0 | Z60: =ROUND(T60*0.8%,-1) -> 0 | AA60: =ROUND(T60*0.785%,-1) -> 0 | AB60: =SUM(V60:AA60) -> 0
E61: 11월 | V61: =ROUNDUP(T61*1/12,-1) -> 0 | W61: =ROUNDUP((S61-J61)*3.12%,-1) -> 0 | X61: =ROUNDUP(W61*7.38%,-1) -> 0 | Y61: =ROUNDUP(X61*6.55%,-1) -> 0 | Z61: =ROUND(T61*0.8%,-1) -> 0 | AA61: =ROUND(T61*0.785%,-1) -> 0 | AB61: =SUM(V61:AA61) -> 0
E62: 12월 | V62: =ROUNDUP(T62*1/12,-1) -> 0 | W62: =ROUNDUP((S62-J62)*3.12%,-1) -> 0 | X62: =ROUNDUP(W62*7.38%,-1) -> 0 | Y62: =ROUNDUP(X62*6.55%,-1) -> 0 | Z62: =ROUND(T62*0.8%,-1) -> 0 | AA62: =ROUND(T62*0.785%,-1) -> 0 | AB62: =SUM(V62:AA62) -> 0
W63: =ROUNDUP((S63-J63)*3.12%,-1) -> 0 | X63: =ROUNDUP(W63*7.38%,-1) -> 0
W64: =ROUNDUP((S64-J64)*3.12%,-1) -> 0 | X64: =ROUNDUP(W64*7.38%,-1) -> 0
W65: =ROUNDUP((S65-J65)*3.12%,-1) -> 0 | X65: =ROUNDUP(W65*7.38%,-1) -> 0
W66: =ROUNDUP((S66-J66)*3.12%,-1) -> 0 | X66: =ROUNDUP(W66*7.38%,-1) -> 0
E67: 0 | W67: =ROUNDUP((S67-J67)*3.12%,-1) -> 0 | X67: =ROUNDUP(W67*7.38%,-1) -> 0
W68: =ROUNDUP((S68-J68)*3.12%,-1) -> 0 | X68: =ROUNDUP(W68*7.38%,-1) -> 0
W69: =ROUNDUP((S69-J69)*3.12%,-1) -> 0 | X69: =ROUNDUP(W69*7.38%,-1) -> 0
W70: =ROUNDUP((S70-J70)*3.12%,-1) -> 0 | X70: =ROUNDUP(W70*7.38%,-1) -> 0
W71: =ROUNDUP((S71-J71)*3.12%,-1) -> 0 | X71: =ROUNDUP(W71*7.38%,-1) -> 0
W72: =ROUNDUP((S72-J72)*3.12%,-1) -> 0 | X72: =ROUNDUP(W72*7.38%,-1) -> 0
W73: =ROUNDUP((S73-J73)*3.12%,-1) -> 0 | X73: =ROUNDUP(W73*7.38%,-1) -> 0
W74: =ROUNDUP((S74-J74)*3.12%,-1) -> 0 | X74: =ROUNDUP(W74*7.38%,-1) -> 0
W75: =ROUNDUP((S75-J75)*3.12%,-1) -> 0 | X75: =ROUNDUP(W75*7.38%,-1) -> 0
W76: =ROUNDUP((S76-J76)*3.12%,-1) -> 0 | X76: =ROUNDUP(W76*7.38%,-1) -> 0
W77: =ROUNDUP((S77-J77)*3.12%,-1) -> 0 | X77: =ROUNDUP(W77*7.38%,-1) -> 0
W78: =ROUNDUP((S78-J78)*3.12%,-1) -> 0 | X78: =ROUNDUP(W78*7.38%,-1) -> 0
W79: =ROUNDUP((S79-J79)*3.12%,-1) -> 0 | X79: =ROUNDUP(W79*7.38%,-1) -> 0
... W88: =ROUNDUP((S88-J88)*3.12%,-1) -> 0 | X88: =ROUNDUP(W88*7.38%,-1) -> 0
A89: 1 | B89: 생활재활교사 | C89: 1 | D89: 1 | E89: 소계 | F89: =SUM(F90:F101) -> 0 | G89: =SUM(G90:G101) -> 0 | H89: =SUM(H90:H101) -> 0 | I89: =SUM(I90:I101) -> 0 | J89: =SUM(J90:J101) -> 0 | K89: =SUM(K90:K101) -> 0 | L89: =SUM(L90:L101) -> 0 | M89: =SUM(M90:M101) -> 0 | ... O89: =SUM(O90:O101) -> 0 | Q89: =SUM(Q90:Q101) -> 0 | R89: =SUM(R90:R101) -> 0 | S89: =SUM(S90:S101) -> 0 | T89: =SUM(T90:T101) -> 0 | V89: =SUM(V90:V101) -> 0 | W89: =ROUNDUP((S89-J89)*3.12%,-1) -> 0 | X89: =ROUNDUP(W89*7.38%,-1) -> 0 | Y89: =SUM(Y90:Y101) -> 0 | Z89: =SUM(Z90:Z101) -> 0 | AA89: =SUM(AA90:AA101) -> 0 | AB89: =SUM(AB90:AB101) -> 0
B90: 안가람 | E90: 1월 | W90: =ROUNDUP((S90-J90)*3.12%,-1) -> 0 | X90: =ROUNDUP(W90*7.38%,-1) -> 0
E91: 2월 | W91: =ROUNDUP((S91-J91)*3.12%,-1) -> 0 | X91: =ROUNDUP(W91*7.38%,-1) -> 0
E92: 3월 | T92: =SUM(S92,P92,O92,M92,L92,F92) -> 0 | W92: =ROUNDUP((S92-J92)*3.12%,-1) -> 0 | X92: =ROUNDUP(W92*7.38%,-1) -> 0
E93: 4월 | T93: =SUM(S93,P93,O93,M93,L93,F93) -> 0 | W93: =ROUNDUP((S93-J93)*3.12%,-1) -> 0 | X93: =ROUNDUP(W93*7.38%,-1) -> 0
E94: 5월 | T94: =SUM(S94,P94,O94,M94,L94,F94) -> 0 | V94: =ROUNDUP(T94*1/12,-1) -> 0 | W94: =ROUNDUP((S94-J94)*3.12%,-1) -> 0 | X94: =ROUNDUP(W94*7.38%,-1) -> 0 | Y94: =ROUNDUP(X94*6.55%,-1) -> 0 | Z94: =ROUND(T94*0.8%,-1) -> 0 | AA94: =ROUND(T94*0.785%,-1) -> 0 | AB94: =SUM(V94:AA94) -> 0
E95: 6월 | T95: =SUM(S95,P95,O95,M95,L95,F95) -> 0 | V95: =ROUNDUP(T95*1/12,-1) -> 0 | W95: =ROUNDUP((S95-J95)*3.12%,-1) -> 0 | X95: =ROUNDUP(W95*7.38%,-1) -> 0 | Y95: =ROUNDUP(X95*6.55%,-1) -> 0 | Z95: =ROUND(T95*0.8%,-1) -> 0 | AA95: =ROUND(T95*0.785%,-1) -> 0 | AB95: =SUM(V95:AA95) -> 0
E96: 7월 | T96: =SUM(S96,P96,O96,M96,L96,F96) -> 0 | V96: =ROUNDUP(T96*1/12,-1) -> 0 | W96: =ROUNDUP((S96-J96)*3.12%,-1) -> 0 | X96: =ROUNDUP(W96*7.38%,-1) -> 0 | Y96: =ROUNDUP(X96*6.55%,-1) -> 0 | Z96: =ROUND(T96*0.8%,-1) -> 0 | AA96: =ROUND(T96*0.785%,-1) -> 0 | AB96: =SUM(V96:AA96) -> 0
E97: 8월 | T97: =SUM(S97,P97,O97,M97,L97,F97) -> 0 | V97: =ROUNDUP(T97*1/12,-1) -> 0 | W97: =ROUNDUP((S97-J97)*3.12%,-1) -> 0 | X97: =ROUNDUP(W97*7.38%,-1) -> 0 | Y97: =ROUNDUP(X97*6.55%,-1) -> 0 | Z97: =ROUND(T97*0.8%,-1) -> 0 | AA97: =ROUND(T97*0.785%,-1) -> 0 | AB97: =SUM(V97:AA97) -> 0
E98: 9월 | T98: =SUM(S98,P98,O98,M98,L98,F98) -> 0 | V98: =ROUNDUP(T98*1/12,-1) -> 0 | W98: =ROUNDUP((S98-J98)*3.12%,-1) -> 0 | X98: =ROUNDUP(W98*7.38%,-1) -> 0 | Y98: =ROUNDUP(X98*6.55%,-1) -> 0 | Z98: =ROUND(T98*0.8%,-1) -> 0 | AA98: =ROUND(T98*0.785%,-1) -> 0 | AB98: =SUM(V98:AA98) -> 0
E99: 10월 | T99: =SUM(S99,P99,O99,M99,L99,F99) -> 0 | V99: =ROUNDUP(T99*1/12,-1) -> 0 | W99: =ROUNDUP((S99-J99)*3.12%,-1) -> 0 | X99: =ROUNDUP(W99*7.38%,-1) -> 0 | Y99: =ROUNDUP(X99*6.55%,-1) -> 0 | Z99: =ROUND(T99*0.8%,-1) -> 0 | AA99: =ROUND(T99*0.785%,-1) -> 0 | AB99: =SUM(V99:AA99) -> 0
E100: 11월 | T100: =SUM(S100,P100,O100,M100,L100,F100) -> 0 | V100: =ROUNDUP(T100*1/12,-1) -> 0 | W100: =ROUNDUP((S100-J100)*3.12%,-1) -> 0 | X100: =ROUNDUP(W100*7.38%,-1) -> 0 | Y100: =ROUNDUP(X100*6.55%,-1) -> 0 | Z100: =ROUND(T100*0.8%,-1) -> 0 | AA100: =ROUND(T100*0.785%,-1) -> 0 | AB100: =SUM(V100:AA100) -> 0
E101: 12월 | T101: =SUM(S101,P101,O101,M101,L101,F101) -> 0 | V101: =ROUNDUP(T101*1/12,-1) -> 0 | W101: =ROUNDUP((S101-J101)*3.12%,-1) -> 0 | X101: =ROUNDUP(W101*7.38%,-1) -> 0 | Y101: =ROUNDUP(X101*6.55%,-1) -> 0 | Z101: =ROUND(T101*0.8%,-1) -> 0 | AA101: =ROUND(T101*0.785%,-1) -> 0 | AB101: =SUM(V101:AA101) -> 0
A102: 2 | B102: 생활재활교사 | C102: 1 | D102: 1 | E102: 소계 | F102: =SUM(F103:F114) -> 0 | G102: =SUM(G103:G114) -> 0 | H102: =SUM(H103:H114) -> 0 | I102: =SUM(I103:I114) -> 0 | J102: =SUM(J103:J114) -> 0 | K102: =SUM(K103:K114) -> 0 | L102: =SUM(L103:L114) -> 0 | M102: =SUM(M103:M114) -> 0 | ... O102: =SUM(O103:O114) -> 0 | Q102: =SUM(Q103:Q114) -> 0 | R102: =SUM(R103:R114) -> 0 | S102: =SUM(S103:S114) -> 0 | T102: =SUM(T103:T114) -> 0 | V102: =SUM(V103:V114) -> 0 | W102: =ROUNDUP((S102-J102)*3.12%,-1) -> 0 | X102: =ROUNDUP(W102*7.38%,-1) -> 0 | Y102: =SUM(Y103:Y114) -> 0 | Z102: =SUM(Z103:Z114) -> 0 | AA102: =SUM(AA103:AA114) -> 0 | AB102: =SUM(AB103:AB114) -> 0
B103: 변호영 | E103: 1월 | W103: =ROUNDUP((S103-J103)*3.12%,-1) -> 0 | X103: =ROUNDUP(W103*7.38%,-1) -> 0
E104: 2월 | W104: =ROUNDUP((S104-J104)*3.12%,-1) -> 0 | X104: =ROUNDUP(W104*7.38%,-1) -> 0
E105: 3월 | W105: =ROUNDUP((S105-J105)*3.12%,-1) -> 0 | X105: =ROUNDUP(W105*7.38%,-1) -> 0
E106: 4월 | W106: =ROUNDUP((S106-J106)*3.12%,-1) -> 0 | X106: =ROUNDUP(W106*7.38%,-1) -> 0
E107: 5월 | W107: =ROUNDUP((S107-J107)*3.12%,-1) -> 0 | X107: =ROUNDUP(W107*7.38%,-1) -> 0
E108: 6월 | T108: =SUM(S108,P108,O108,M108,L108,F108) -> 0 | V108: =ROUNDUP(T108*1/12,-1) -> 0 | W108: =ROUNDUP((S108-J108)*3.12%,-1) -> 0 | X108: =ROUNDUP(W108*7.38%,-1) -> 0 | Y108: =ROUNDUP(X108*6.55%,-1) -> 0 | Z108: =ROUND(T108*0.8%,-1) -> 0 | AA108: =ROUND(T108*0.785%,-1) -> 0 | AB108: =SUM(V108:AA108) -> 0
E109: 7월 | T109: =SUM(S109,P109,O109,M109,L109,F109) -> 0 | V109: =ROUNDUP(T109*1/12,-1) -> 0 | W109: =ROUNDUP((S109-J109)*3.12%,-1) -> 0 | X109: =ROUNDUP(W109*7.38%,-1) -> 0 | Y109: =ROUNDUP(X109*6.55%,-1) -> 0 | Z109: =ROUND(T109*0.8%,-1) -> 0 | AA109: =ROUND(T109*0.785%,-1) -> 0 | AB109: =SUM(V109:AA109) -> 0
...

Sheet 인건비총계표(후원금)
A1: ▣ 2020년 종사자 인건비 총계표
A3: (1) 후원금 | AA3: (단위 : 원)
A4: 연 번 | B4: 직 종 | C4: 호 봉 | D4: 명 수 | E4: 구분 (월) | F4: 기본급 | G4: 기말수당 (50%씩 연4회 -3,6,9,12월) | H4: 정근수당 (1,7월) | I4: 장기근속 수 당 | J4: 가계지원비 (50%씩 연4회 -4,5,10,11월) | K4: 시간당 연장근로수당 | L4: 교통급식비 | M4: 명절휴가비 (50%씩 연2회) | N4: 명절휴가비 연평균액 | O4: 가족수당 (30,000원) (20,000원) | P4: 연장근로수당 (기본급*1/ 209*1.5*40/22) | Q4: 처우개선비 | R4: 특수근무 수 당 (도비) | S4: 소 계 | T4: 비 고 | U4: 퇴직적립금 | V4: 국민연금 | W4: 의료보험 | X4: 의료보험 (장기요양보험) | Y4: 고용보험 | Z4: 산재보험 | AA4: 합계
A5: 합 계 | F5: =SUM(F115) -> 9600000 | G5: =G6+G19+G32 -> 0 | H5: =H6+H19+H32 -> 0 | I5: =I6+I19+I32 -> 0 | J5: =J6+J19+J32 -> 0 | K5: =K6+K19+K32 -> 0 | L5: =L6+L19+L32 -> 0 | M5: =M6+M19+M32 -> 0 | N5: =N6+N19+N32 -> 0 | ... R5: =R6+R19+R32 -> 0 | S5: =SUM(S6,S115) -> 0 | U5: =U6+U19+U32 -> 0 | V5: =V6+V19+V32 -> 0 | W5: =W6+W19+W32 -> 0 | X5: =X6+X19+X32 -> 0 | Y5: =Y6+Y19+Y32 -> 0 | Z5: =Z6+Z19+Z32 -> 0 | AA5: =AA6+AA19+AA32 -> 0
A6: 1 | B6: 교통급식비 | D6: 11 | E6: 소계 | F6: =SUM(F7:F18) -> 0 | G6: =SUM(G7:G18) -> 0 | H6: =SUM(H7:H18) -> 0 | I6: =SUM(I7:I18) -> 0 | J6: =SUM(J7:J18) -> 0 | K6: =SUM(K7:K18) -> 0 | L6: =SUM(L7:L18) -> 0 | M6: =SUM(M7:M18) -> 0 | ... S6: =SUM(S7:S18) -> 0 | U6: =SUM(U7:U18) -> 0 | V6: =SUM(V7:V18) -> 0 | W6: =SUM(W7:W18) -> 0 | X6: =SUM(X7:X18) -> 0 | Y6: =SUM(Y7:Y18) -> 0 | Z6: =SUM(Z7:Z18) -> 0 | AA6: =SUM(AA7:AA18) -> 0
B7: 200,000원 | D7: 1 | E7: 기관장 | S7: =SUM(F7:R7) -> 0 | U7: =ROUND(S7*1/12,-1) -> 0 | X7: =ROUND(W7*6.55%,-1) -> 0 | AA7: =SUM(U7:Z7) -> 0
B8: 160,000원 | D8: 1 | E8: 사무국장 | S8: =SUM(F8:R8) -> 0 | U8: =ROUND(S8*1/12,-1) -> 0 | X8: =ROUND(W8*6.55%,-1) -> 0 | AA8: =SUM(U8:Z8) -> 0
B9: 100,000원 | D9: 1 | E9: 과장 | S9: =SUM(F9:R9) -> 0 | U9: =ROUND(S9*1/12,-1) -> 0 | X9: =ROUND(W9*6.55%,-1) -> 0 | AA9: =SUM(U9:Z9) -> 0
B10: 60,000원 | D10: 1 | E10: 선임팀장 | S10: =SUM(F10:R10) -> 0 | U10: =ROUND(S10*1/12,-1) -> 0 | X10: =ROUND(W10*6.55%,-1) -> 0 | AA10: =SUM(U10:Z10) -> 0
B11: 40,000원 | D11: 7 | E11: 팀장 | S11: =SUM(F11:R11) -> 0 | U11: =ROUND(S11*1/12,-1) -> 0 | X11: =ROUND(W11*6.55%,-1) -> 0 | AA11: =SUM(U11:Z11) -> 0
F12: =F11 -> 0 | G12: =F12*50% -> 0 | H12: 0 | I12: =I7 -> 0 | J12: 0 | K12: =K11 -> 0 | L12: 0 | M12: 0 | N12: =N7 -> 0 | O12: =O7 -> 0 | P12: =ROUND((F12)*1/209*1.5*40,-1) -> 0 | R12: =R11 -> 0 | S12: =SUM(F12:R12) -> 0 | U12: =ROUND(S12*1/12,-1) -> 0 | V12: =ROUND(S12*4.5%,-1) -> 0 | W12: =ROUND(S12*2.665%,-1) -> 0 | X12: =ROUND(W12*6.55%,-1) -> 0 | Y12: =ROUND(S12*0.7%,-1) -> 0 | Z12: =ROUND(S12*0.7%,-1) -> 0 | AA12: =SUM(U12:Z12) -> 0
F13: =F12 -> 0 | G13: 0 | H13: =F13*90% -> 0 | I13: - | J13: 0 | K13: =K12 -> 0 | L13: =L12 -> 0 | M13: 0 | N13: =N12 -> 0 | O13: =O12 -> 0 | P13: =ROUND((F13)*1/209*1.5*40,-1) -> 0 | R13: =R12 -> 0 | S13: =SUM(F13:R13) -> 0 | U13: =ROUND(S13*1/12,-1) -> 0 | V13: =ROUND(S13*4.5%,-1) -> 0 | W13: =ROUND(S13*2.665%,-1) -> 0 | X13: =ROUND(W13*6.55%,-1) -> 0 | Y13: =ROUND(S13*0.7%,-1) -> 0 | Z13: =ROUND(S13*0.7%,-1) -> 0 | AA13: =SUM(U13:Z13) -> 0
F14: =F13 -> 0 | G14: 0 | H14: 0 | I14: =I13 -> - | J14: 0 | K14: =K13 -> 0 | L14: =L13 -> 0 | M14: 0 | N14: =N13 -> 0 | O14: =O13 -> 0 | P14: =ROUND((F14)*1/209*1.5*40,-1) -> 0 | R14: =R13 -> 0 | S14: =SUM(F14:R14) -> 0 | U14: =ROUND(S14*1/12,-1) -> 0 | V14: =ROUND(S14*4.5%,-1) -> 0 | W14: =ROUND(S14*2.665%,-1) -> 0 | X14: =ROUND(W14*6.55%,-1) -> 0 | Y14: =ROUND(S14*0.7%,-1) -> 0 | Z14: =ROUND(S14*0.7%,-1) -> 0 | AA14: =SUM(U14:Z14) -> 0
F15: =F13 -> 0 | G15: =F15*50% -> 0 | H15: 0 | I15: =I13 -> - | J15: 0 | K15: =K14 -> 0 | L15: =L14 -> 0 | M15: =F15*50% -> 0 | N15: =N13 -> 0 | O15: =O13 -> 0 | P15: =ROUND((F15)*1/209*1.5*40,-1) -> 0 | R15: =R14 -> 0 | S15: =SUM(F15:R15) -> 0 | U15: =ROUND(S15*1/12,-1) -> 0 | V15: =ROUND(S15*4.5%,-1) -> 0 | W15: =ROUND(S15*2.665%,-1) -> 0 | X15: =ROUND(W15*6.55%,-1) -> 0 | Y15: =ROUND(S15*0.7%,-1) -> 0 | Z15: =ROUND(S15*0.7%,-1) -> 0 | AA15: =SUM(U15:Z15) -> 0
F16: =F13 -> 0 | G16: 0 | H16: 0 | I16: =I13 -> - | J16: =F16*50% -> 0 | K16: =K15 -> 0 | L16: =L15 -> 0 | M16: 0 | N16: =N13 -> 0 | O16: =O13 -> 0 | P16: =ROUND((F16)*1/209*1.5*40,-1) -> 0 | R16: =R15 -> 0 | S16: =SUM(F16:R16) -> 0 | U16: =ROUND(S16*1/12,-1) -> 0 | V16: =ROUND(S16*4.5%,-1) -> 0 | W16: =ROUND(S16*2.665%,-1) -> 0 | X16: =ROUND(W16*6.55%,-1) -> 0 | Y16: =ROUND(S16*0.7%,-1) -> 0 | Z16: =ROUND(S16*0.7%,-1) -> 0 | AA16: =SUM(U16:Z16) -> 0
F17: =F13 -> 0 | G17: 0 | H17: 0 | I17: =I13 -> - | J17: =F17*50% -> 0 | K17: =K16 -> 0 | L17: =L16 -> 0 | M17: 0 | N17: =N13 -> 0 | O17: =O13 -> 0 | P17: =ROUND((F17)*1/209*1.5*40,-1) -> 0 | R17: =R16 -> 0 | S17: =SUM(F17:R17) -> 0 | U17: =ROUND(S17*1/12,-1) -> 0 | V17: =ROUND(S17*4.5%,-1) -> 0 | W17: =ROUND(S17*2.665%,-1) -> 0 | X17: =ROUND(W17*6.55%,-1) -> 0 | Y17: =ROUND(S17*0.7%,-1) -> 0 | Z17: =ROUND(S17*0.7%,-1) -> 0 | AA17: =SUM(U17:Z17) -> 0
F18: =F13 -> 0 | G18: =F18*50% -> 0 | H18: 0 | I18: =I13 -> - | J18: 0 | K18: =K17 -> 0 | L18: =L17 -> 0 | M18: 0 | N18: =N13 -> 0 | O18: =O13 -> 0 | P18: =ROUND((F18)*1/209*1.5*40*2,-1) -> 0 | R18: =R17 -> 0 | S18: =SUM(F18:R18) -> 0 | U18: =ROUND(S18*1/12,-1) -> 0 | V18: =ROUND(S18*4.5%,-1) -> 0 | W18: =ROUND(S18*2.665%,-1) -> 0 | X18: =ROUND(W18*6.55%,-1) -> 0 | Y18: =ROUND(S18*0.7%,-1) -> 0 | Z18: =ROUND(S18*0.7%,-1) -> 0 | AA18: =SUM(U18:Z18) -> 0
A19: 1 | B19: 운전원 | C19: 3,4 | D19: 1 | E19: 소계 | F19: =SUM(F20:F31) -> 0 | G19: =SUM(G20:G31) -> 0 | H19: =SUM(H20:H31) -> 0 | I19: =SUM(I20:I31) -> 0 | J19: =SUM(J20:J31) -> 0 | K19: =SUM(K20:K31) -> 0 | L19: =SUM(L20:L31) -> 0 | M19: =SUM(M20:M31) -> 0 | ... S19: =SUM(S20:S31) -> 0 | T19: 3월지급종료 | U19: =SUM(U20:U31) -> 0 | V19: =SUM(V20:V31) -> 0 | W19: =SUM(W20:W31) -> 0 | X19: =SUM(X20:X31) -> 0 | Y19: =SUM(Y20:Y31) -> 0 | Z19: =SUM(Z20:Z31) -> 0 | AA19: =SUM(AA20:AA31) -> 0
C20: 3 | E20: 1월 | R20: - | S20: =SUM(F20:R20) -> 0 | U20: =ROUND(S20*1/12,-1) -> 0 | V20: =ROUND(S20*4.5%,-1) -> 0 | W20: =ROUND(S20*2.665%,-1) -> 0 | X20: =ROUND(W20*6.55%,-1) -> 0 | Y20: =ROUND(S20*0.7%,-1) -> 0 | Z20: =ROUND(S20*0.7%,-1) -> 0 | AA20: =SUM(U20:Z20) -> 0
E21: 2월 | R21: =R20 -> - | S21: =SUM(F21:R21) -> 0 | U21: =ROUND(S21*1/12,-1) -> 0 | V21: =ROUND(S21*4.5%,-1) -> 0 | W21: =ROUND(S21*2.665%,-1) -> 0 | X21: =ROUND(W21*6.55%,-1) -> 0 | Y21: =ROUND(S21*0.7%,-1) -> 0 | Z21: =ROUND(S21*0.7%,-1) -> 0 | AA21: =SUM(U21:Z21) -> 0
E22: 3월 | R22: =R21 -> - | S22: =SUM(F22:R22) -> 0 | U22: =ROUND(S22*1/12,-1) -> 0 | V22: =ROUND(S22*4.5%,-1) -> 0 | W22: =ROUND(S22*2.665%,-1) -> 0 | X22: =ROUND(W22*6.55%,-1) -> 0 | Y22: =ROUND(S22*0.7%,-1) -> 0 | Z22: =ROUND(S22*0.7%,-1) -> 0 | AA22: =SUM(U22:Z22) -> 0
E23: 4월 | R23: =R22 -> - | S23: =SUM(F23:R23) -> 0 | U23: =ROUND(S23*1/12,-1) -> 0 | V23: =ROUND(S23*4.5%,-1) -> 0 | W23: =ROUND(S23*2.665%,-1) -> 0 | X23: =ROUND(W23*6.55%,-1) -> 0 | Y23: =ROUND(S23*0.7%,-1) -> 0 | Z23: =ROUND(S23*0.7%,-1) -> 0 | AA23: =SUM(U23:Z23) -> 0
E24: 5월 | R24: =R23 -> - | S24: =SUM(F24:R24) -> 0 | U24: =ROUND(S24*1/12,-1) -> 0 | V24: =ROUND(S24*4.5%,-1) -> 0 | W24: =ROUND(S24*2.665%,-1) -> 0 | X24: =ROUND(W24*6.55%,-1) -> 0 | Y24: =ROUND(S24*0.7%,-1) -> 0 | Z24: =ROUND(S24*0.7%,-1) -> 0 | AA24: =SUM(U24:Z24) -> 0
E25: 6월 | R25: =R24 -> - | S25: =SUM(F25:R25) -> 0 | U25: =ROUND(S25*1/12,-1) -> 0 | V25: =ROUND(S25*4.5%,-1) -> 0 | W25: =ROUND(S25*2.665%,-1) -> 0 | X25: =ROUND(W25*6.55%,-1) -> 0 | Y25: =ROUND(S25*0.7%,-1) -> 0 | Z25: =ROUND(S25*0.7%,-1) -> 0 | AA25: =SUM(U25:Z25) -> 0
E26: 7월 | R26: =R25 -> - | S26: =SUM(F26:R26) -> 0 | U26: =ROUND(S26*1/12,-1) -> 0 | V26: =ROUND(S26*4.5%,-1) -> 0 | W26: =ROUND(S26*2.665%,-1) -> 0 | X26: =ROUND(W26*6.55%,-1) -> 0 | Y26: =ROUND(S26*0.7%,-1) -> 0 | Z26: =ROUND(S26*0.7%,-1) -> 0 | AA26: =SUM(U26:Z26) -> 0
E27: 8월 | R27: =R26 -> - | S27: =SUM(F27:R27) -> 0 | U27: =ROUND(S27*1/12,-1) -> 0 | V27: =ROUND(S27*4.5%,-1) -> 0 | W27: =ROUND(S27*2.665%,-1) -> 0 | X27: =ROUND(W27*6.55%,-1) -> 0 | Y27: =ROUND(S27*0.7%,-1) -> 0 | Z27: =ROUND(S27*0.7%,-1) -> 0 | AA27: =SUM(U27:Z27) -> 0
E28: 9월 | R28: =R27 -> - | S28: =SUM(F28:R28) -> 0 | U28: =ROUND(S28*1/12,-1) -> 0 | V28: =ROUND(S28*4.5%,-1) -> 0 | W28: =ROUND(S28*2.665%,-1) -> 0 | X28: =ROUND(W28*6.55%,-1) -> 0 | Y28: =ROUND(S28*0.7%,-1) -> 0 | Z28: =ROUND(S28*0.7%,-1) -> 0 | AA28: =SUM(U28:Z28) -> 0
C29: 4 | E29: 10월 | R29: =R28 -> - | S29: =SUM(F29:R29) -> 0 | U29: =ROUND(S29*1/12,-1) -> 0 | V29: =ROUND(S29*4.5%,-1) -> 0 | W29: =ROUND(S29*2.665%,-1) -> 0 | X29: =ROUND(W29*6.55%,-1) -> 0 | Y29: =ROUND(S29*0.7%,-1) -> 0 | Z29: =ROUND(S29*0.7%,-1) -> 0 | AA29: =SUM(U29:Z29) -> 0
E30: 11월 | R30: =R29 -> - | S30: =SUM(F30:R30) -> 0 | U30: =ROUND(S30*1/12,-1) -> 0 | V30: =ROUND(S30*4.5%,-1) -> 0 | W30: =ROUND(S30*2.665%,-1) -> 0 | X30: =ROUND(W30*6.55%,-1) -> 0 | Y30: =ROUND(S30*0.7%,-1) -> 0 | Z30: =ROUND(S30*0.7%,-1) -> 0 | AA30: =SUM(U30:Z30) -> 0
E31: 12월 | R31: =R30 -> - | S31: =SUM(F31:R31) -> 0 | U31: =ROUND(S31*1/12,-1) -> 0 | V31: =ROUND(S31*4.5%,-1) -> 0 | W31: =ROUND(S31*2.665%,-1) -> 0 | X31: =ROUND(W31*6.55%,-1) -> 0 | Y31: =ROUND(S31*0.7%,-1) -> 0 | Z31: =ROUND(S31*0.7%,-1) -> 0 | AA31: =SUM(U31:Z31) -> 0
A32: 1 | B32: 처우개선비 | D32: 9 | E32: 소계 | F32: =SUM(F33:F44) -> 0 | G32: =SUM(G33:G44) -> 0 | H32: =SUM(H33:H44) -> 0 | I32: =SUM(I33:I44) -> 0 | J32: =SUM(J33:J44) -> 0 | K32: =SUM(K33:K44) -> 0 | L32: =SUM(L33:L44) -> 0 | M32: =SUM(M33:M44) -> 0 | ... S32: =SUM(S33:S44) -> 0 | T32: 7월주임신설 | U32: =SUM(U33:U44) -> 0 | V32: =SUM(V33:V44) -> 0 | W32: =SUM(W33:W44) -> 0 | X32: =SUM(X33:X44) -> 0 | Y32: =SUM(Y33:Y44) -> 0 | Z32: =SUM(Z33:Z44) -> 0 | AA32: =SUM(AA33:AA44) -> 0
E33: 기관장 | R33: - | S33: =SUM(F33:R33) -> 0 | U33: =ROUND(S33*1/12,-1) -> 0 | V33: =ROUND(S33*4.5%,-1) -> 0 | W33: =ROUND(S33*2.665%,-1) -> 0 | X33: =ROUND(W33*6.55%,-1) -> 0 | Y33: =ROUND(S33*0.7%,-1) -> 0 | Z33: =ROUND(S33*0.7%,-1) -> 0 | AA33: =SUM(U33:Z33) -> 0
E34: 사무국장 | R34: =R33 -> - | S34: =SUM(F34:R34) -> 0 | U34: =ROUND(S34*1/12,-1) -> 0 | V34: =ROUND(S34*4.5%,-1) -> 0 | W34: =ROUND(S34*2.665%,-1) -> 0 | X34: =ROUND(W34*6.55%,-1) -> 0 | Y34: =ROUND(S34*0.7%,-1) -> 0 | Z34: =ROUND(S34*0.7%,-1) -> 0 | AA34: =SUM(U34:Z34) -> 0
E35: 과장(2) | R35: =R34 -> - | S35: =SUM(F35:R35) -> 0 | U35: =ROUND(S35*1/12,-1) -> 0 | V35: =ROUND(S35*4.5%,-1) -> 0 | W35: =ROUND(S35*2.665%,-1) -> 0 | X35: =ROUND(W35*6.55%,-1) -> 0 | Y35: =ROUND(S35*0.7%,-1) -> 0 | Z35: =ROUND(S35*0.7%,-1) -> 0 | AA35: =SUM(U35:Z35) -> 0
E36: 팀장(5) | R36: =R35 -> - | S36: =SUM(F36:R36) -> 0 | U36: =ROUND(S36*1/12,-1) -> 0 | V36: =ROUND(S36*4.5%,-1) -> 0 | W36: =ROUND(S36*2.665%,-1) -> 0 | X36: =ROUND(W36*6.55%,-1) -> 0 | Y36: =ROUND(S36*0.7%,-1) -> 0 | Z36: =ROUND(S36*0.7%,-1) -> 0 | AA36: =SUM(U36:Z36) -> 0
E37: 주임(3) | R37: =R36 -> - | S37: =SUM(F37:R37) -> 0 | T37: 7월신설 | U37: =ROUND(S37*1/12,-1) -> 0 | V37: =ROUND(S37*4.5%,-1) -> 0 | W37: =ROUND(S37*2.665%,-1) -> 0 | X37: =ROUND(W37*6.55%,-1) -> 0 | Y37: =ROUND(S37*0.7%,-1) -> 0 | Z37: =ROUND(S37*0.7%,-1) -> 0 | AA37: =SUM(U37:Z37) -> 0
R38: =R37 -> - | S38: =SUM(F38:R38) -> 0 | U38: =ROUND(S38*1/12,-1) -> 0 | V38: =ROUND(S38*4.5%,-1) -> 0 | W38: =ROUND(S38*2.665%,-1) -> 0 | X38: =ROUND(W38*6.55%,-1) -> 0 | Y38: =ROUND(S38*0.7%,-1) -> 0 | Z38: =ROUND(S38*0.7%,-1) -> 0 | AA38: =SUM(U38:Z38) -> 0
R39: =R38 -> - | S39: =SUM(F39:R39) -> 0 | U39: =ROUND(S39*1/12,-1) -> 0 | V39: =ROUND(S39*4.5%,-1) -> 0 | W39: =ROUND(S39*2.665%,-1) -> 0 | X39: =ROUND(W39*6.55%,-1) -> 0 | Y39: =ROUND(S39*0.7%,-1) -> 0 | Z39: =ROUND(S39*0.7%,-1) -> 0 | AA39: =SUM(U39:Z39) -> 0
R40: =R39 -> - | S40: =SUM(F40:R40) -> 0 | U40: =ROUND(S40*1/12,-1) -> 0 | V40: =ROUND(S40*4.5%,-1) -> 0 | W40: =ROUND(S40*2.665%,-1) -> 0 | X40: =ROUND(W40*6.55%,-1) -> 0 | Y40: =ROUND(S40*0.7%,-1) -> 0 | Z40: =ROUND(S40*0.7%,-1) -> 0 | AA40: =SUM(U40:Z40) -> 0
R41: =R40 -> - | S41: =SUM(F41:R41) -> 0 | U41: =ROUND(S41*1/12,-1) -> 0 | V41: =ROUND(S41*4.5%,-1) -> 0 | W41: =ROUND(S41*2.665%,-1) -> 0 | X41: =ROUND(W41*6.55%,-1) -> 0 | Y41: =ROUND(S41*0.7%,-1) -> 0 | Z41: =ROUND(S41*0.7%,-1) -> 0 | AA41: =SUM(U41:Z41) -> 0
R42: =R41 -> - | S42: =SUM(F42:R42) -> 0 | U42: =ROUND(S42*1/12,-1) -> 0 | V42: =ROUND(S42*4.5%,-1) -> 0 | W42: =ROUND(S42*2.665%,-1) -> 0 | X42: =ROUND(W42*6.55%,-1) -> 0 | Y42: =ROUND(S42*0.7%,-1) -> 0 | Z42: =ROUND(S42*0.7%,-1) -> 0 | AA42: =SUM(U42:Z42) -> 0
R43: =R42 -> - | S43: =SUM(F43:R43) -> 0 | U43: =ROUND(S43*1/12,-1) -> 0 | V43: =ROUND(S43*4.5%,-1) -> 0 | W43: =ROUND(S43*2.665%,-1) -> 0 | X43: =ROUND(W43*6.55%,-1) -> 0 | Y43: =ROUND(S43*0.7%,-1) -> 0 | Z43: =ROUND(S43*0.7%,-1) -> 0 | AA43: =SUM(U43:Z43) -> 0
R44: =R43 -> - | S44: =SUM(F44:R44) -> 0 | U44: =ROUND(S44*1/12,-1) -> 0 | V44: =ROUND(S44*4.5%,-1) -> 0 | W44: =ROUND(S44*2.665%,-1) -> 0 | X44: =ROUND(W44*6.55%,-1) -> 0 | Y44: =ROUND(S44*0.7%,-1) -> 0 | Z44: =ROUND(S44*0.7%,-1) -> 0 | AA44: =SUM(U44:Z44) -> 0
A47: (2) 후원금 | AB47: (단위 : 원)
A48: 연 번 | B48: 직 종 | C48: 호 봉 | D48: 명 수 | E48: 구분 (월) | F48: 기본급 | G48: 기말수당 (50%씩 연4회 -3,6,9,12월) | H48: 정근수당 (1,7월) | I48: 장기근속 수 당 | J48: 가계지원비 (50%씩 연4회 -4,5,10,11월) | K48: 시간당 연장근로수당 | L48: 교통급식비 (110,000원) | M48: 명절휴가비 (50%씩 연2회) | N48: 명절휴가비 연평균액 | O48: 가족수당 (30,000원) (20,000원) | P48: 연장근로수당 | Q48: 처우개선비 | R48: 직책보조비 | S48: 특수근무 수 당 (도비) | T48: 소 계 | U48: 비 고 | V48: 퇴직적립금 | W48: 국민연금 | X48: 의료보험 | Y48: 의료보험 (장기요양보험) | Z48: 고용보험 | AA48: 산재보험 | AB48: 합계
A50: 1 | B50: 생활재활교사 | C50: 1 | D50: 1 | E50: 소계 | F50: =SUM(F51:F62) -> 0 | G50: =SUM(G51:G62) -> 0 | H50: =SUM(H51:H62) -> 0 | I50: =SUM(I51:I62) -> 0 | J50: =SUM(J51:J62) -> 0 | K50: =SUM(K51:K62) -> 0 | L50: =SUM(L51:L62) -> 0 | M50: =SUM(M51:M62) -> 0 | ... O50: =SUM(O51:O62) -> 0 | Q50: =SUM(Q51:Q62) -> 0 | R50: =SUM(R51:R62) -> 0 | S50: =SUM(S51:S62) -> 0 | T50: =SUM(T51:T62) -> 0 | V50: =SUM(V51:V62) -> 0 | W50: =SUM(W51:W62) -> 0 | X50: =SUM(X51:X62) -> 0 | Y50: =SUM(Y51:Y62) -> 0 | Z50: =SUM(Z51:Z62) -> 0 | AA50: =SUM(AA51:AA62) -> 0 | AB50: =SUM(AB51:AB62) -> 0
B51: 유선주 | E51: 1월 | V51: =ROUNDUP(T51*1/12,-1) -> 0 | W51: =ROUND(T51*4.5%,-1) -> 0 | X51: =ROUNDUP((T51-L51)*2.82%,-1) -> 0 | Y51: =ROUNDUP(X51*6.55%,-1) -> 0 | Z51: =ROUND(T51*0.8%,-1) -> 0 | AA51: =ROUND(T51*0.785%,-1) -> 0 | AB51: =SUM(V51:AA51) -> 0
E52: 2월 | V52: =ROUNDUP(T52*1/12,-1) -> 0 | W52: =ROUND(T52*4.5%,-1) -> 0 | X52: =ROUNDUP((T52-L52)*2.82%,-1) -> 0 | Y52: =ROUNDUP(X52*6.55%,-1) -> 0 | Z52: =ROUND(T52*0.8%,-1) -> 0 | AA52: =ROUND(T52*0.785%,-1) -> 0 | AB52: =SUM(V52:AA52) -> 0
E53: 3월 | V53: =ROUNDUP(T53*1/12,-1) -> 0 | W53: =ROUND(T53*4.5%,-1) -> 0 | X53: =ROUNDUP((T53-L53)*2.82%,-1) -> 0 | Y53: =ROUNDUP(X53*6.55%,-1) -> 0 | Z53: =ROUND(T53*0.8%,-1) -> 0 | AA53: =ROUND(T53*0.785%,-1) -> 0 | AB53: =SUM(V53:AA53) -> 0
E54: 4월 | V54: =ROUNDUP(T54*1/12,-1) -> 0 | W54: =ROUND(T54*4.5%,-1) -> 0 | X54: =ROUNDUP((T54-L54)*2.82%,-1) -> 0 | Y54: =ROUNDUP(X54*6.55%,-1) -> 0 | Z54: =ROUND(T54*0.8%,-1) -> 0 | AA54: =ROUND(T54*0.785%,-1) -> 0 | AB54: =SUM(V54:AA54) -> 0
E55: 5월 | V55: =ROUNDUP(T55*1/12,-1) -> 0 | W55: =ROUND(T55*4.5%,-1) -> 0 | X55: =ROUNDUP((T55-L55)*2.82%,-1) -> 0 | Y55: =ROUNDUP(X55*6.55%,-1) -> 0 | Z55: =ROUND(T55*0.8%,-1) -> 0 | AA55: =ROUND(T55*0.785%,-1) -> 0 | AB55: =SUM(V55:AA55) -> 0
E56: 6월 | V56: =ROUNDUP(T56*1/12,-1) -> 0 | W56: =ROUND(T56*4.5%,-1) -> 0 | X56: =ROUNDUP((T56-L56)*2.82%,-1) -> 0 | Y56: =ROUNDUP(X56*6.55%,-1) -> 0 | Z56: =ROUND(T56*0.8%,-1) -> 0 | AA56: =ROUND(T56*0.785%,-1) -> 0 | AB56: =SUM(V56:AA56) -> 0
C57: 1 | E57: 7월 | V57: =ROUNDUP(T57*1/12,-1) -> 0 | W57: =ROUND(T57*4.5%,-1) -> 0 | X57: =ROUNDUP((T57-L57)*2.82%,-1) -> 0 | Y57: =ROUNDUP(X57*6.55%,-1) -> 0 | Z57: =ROUND(T57*0.8%,-1) -> 0 | AA57: =ROUND(T57*0.785%,-1) -> 0 | AB57: =SUM(V57:AA57) -> 0
E58: 8월 | V58: =ROUNDUP(T58*1/12,-1) -> 0 | W58: =ROUND(T58*4.5%,-1) -> 0 | X58: =ROUNDUP((T58-L58)*2.82%,-1) -> 0 | Y58: =ROUNDUP(X58*6.55%,-1) -> 0 | Z58: =ROUND(T58*0.8%,-1) -> 0 | AA58: =ROUND(T58*0.785%,-1) -> 0 | AB58: =SUM(V58:AA58) -> 0
E59: 9월 | V59: =ROUNDUP(T59*1/12,-1) -> 0 | W59: =ROUND(T59*4.5%,-1) -> 0 | X59: =ROUNDUP((T59-L59)*2.82%,-1) -> 0 | Y59: =ROUNDUP(X59*6.55%,-1) -> 0 | Z59: =ROUND(T59*0.8%,-1) -> 0 | AA59: =ROUND(T59*0.785%,-1) -> 0 | AB59: =SUM(V59:AA59) -> 0
E60: 10월 | V60: =ROUNDUP(T60*1/12,-1) -> 0 | W60: =ROUND(T60*4.5%,-1) -> 0 | X60: =ROUNDUP((T60-L60)*2.82%,-1) -> 0 | Y60: =ROUNDUP(X60*6.55%,-1) -> 0 | Z60: =ROUND(T60*0.8%,-1) -> 0 | AA60: =ROUND(T60*0.785%,-1) -> 0 | AB60: =SUM(V60:AA60) -> 0
E61: 11월 | V61: =ROUNDUP(T61*1/12,-1) -> 0 | W61: =ROUND(T61*4.5%,-1) -> 0 | X61: =ROUNDUP((T61-L61)*2.82%,-1) -> 0 | Y61: =ROUNDUP(X61*6.55%,-1) -> 0 | Z61: =ROUND(T61*0.8%,-1) -> 0 | AA61: =ROUND(T61*0.785%,-1) -> 0 | AB61: =SUM(V61:AA61) -> 0
E62: 12월 | V62: =ROUNDUP(T62*1/12,-1) -> 0 | W62: =ROUND(T62*4.5%,-1) -> 0 | X62: =ROUNDUP((T62-L62)*2.82%,-1) -> 0 | Y62: =ROUNDUP(X62*6.55%,-1) -> 0 | Z62: =ROUND(T62*0.8%,-1) -> 0 | AA62: =ROUND(T62*0.785%,-1) -> 0 | AB62: =SUM(V62:AA62) -> 0
E67: 0
A89: 1 | B89: 생활재활교사 | C89: 1 | D89: 1 | E89: 소계 | F89: =SUM(F90:F101) -> 0 | G89: =SUM(G90:G101) -> 0 | H89: =SUM(H90:H101) -> 0 | I89: =SUM(I90:I101) -> 0 | J89: =SUM(J90:J101) -> 0 | K89: =SUM(K90:K101) -> 0 | L89: =SUM(L90:L101) -> 0 | M89: =SUM(M90:M101) -> 0 | ... O89: =SUM(O90:O101) -> 0 | Q89: =SUM(Q90:Q101) -> 0 | R89: =SUM(R90:R101) -> 0 | S89: =SUM(S90:S101) -> 0 | T89: =SUM(T90:T101) -> 0 | V89: =SUM(V90:V101) -> 0 | W89: =SUM(W90:W101) -> 0 | X89: =SUM(X90:X101) -> 0 | Y89: =SUM(Y90:Y101) -> 0 | Z89: =SUM(Z90:Z101) -> 0 | AA89: =SUM(AA90:AA101) -> 0 | AB89: =SUM(AB90:AB101) -> 0
B90: 안가람 | E90: 1월
E91: 2월
E92: 3월 | T92: =SUM(S92,P92,O92,M92,L92,F92) -> 0
E93: 4월 | T93: =SUM(S93,P93,O93,M93,L93,F93) -> 0
E94: 5월 | T94: =SUM(S94,P94,O94,M94,L94,F94) -> 0 | V94: =ROUNDUP(T94*1/12,-1) -> 0 | W94: =ROUND(T94*4.5%,-1) -> 0 | X94: =ROUNDUP((T94-L94)*2.82%,-1) -> 0 | Y94: =ROUNDUP(X94*6.55%,-1) -> 0 | Z94: =ROUND(T94*0.8%,-1) -> 0 | AA94: =ROUND(T94*0.785%,-1) -> 0 | AB94: =SUM(V94:AA94) -> 0
E95: 6월 | T95: =SUM(S95,P95,O95,M95,L95,F95) -> 0 | V95: =ROUNDUP(T95*1/12,-1) -> 0 | W95: =ROUND(T95*4.5%,-1) -> 0 | X95: =ROUNDUP((T95-L95)*2.82%,-1) -> 0 | Y95: =ROUNDUP(X95*6.55%,-1) -> 0 | Z95: =ROUND(T95*0.8%,-1) -> 0 | AA95: =ROUND(T95*0.785%,-1) -> 0 | AB95: =SUM(V95:AA95) -> 0
E96: 7월 | T96: =SUM(S96,P96,O96,M96,L96,F96) -> 0 | V96: =ROUNDUP(T96*1/12,-1) -> 0 | W96: =ROUND(T96*4.5%,-1) -> 0 | X96: =ROUNDUP((T96-L96)*2.82%,-1) -> 0 | Y96: =ROUNDUP(X96*6.55%,-1) -> 0 | Z96: =ROUND(T96*0.8%,-1) -> 0 | AA96: =ROUND(T96*0.785%,-1) -> 0 | AB96: =SUM(V96:AA96) -> 0
E97: 8월 | T97: =SUM(S97,P97,O97,M97,L97,F97) -> 0 | V97: =ROUNDUP(T97*1/12,-1) -> 0 | W97: =ROUND(T97*4.5%,-1) -> 0 | X97: =ROUNDUP((T97-L97)*2.82%,-1) -> 0 | Y97: =ROUNDUP(X97*6.55%,-1) -> 0 | Z97: =ROUND(T97*0.8%,-1) -> 0 | AA97: =ROUND(T97*0.785%,-1) -> 0 | AB97: =SUM(V97:AA97) -> 0
E98: 9월 | T98: =SUM(S98,P98,O98,M98,L98,F98) -> 0 | V98: =ROUNDUP(T98*1/12,-1) -> 0 | W98: =ROUND(T98*4.5%,-1) -> 0 | X98: =ROUNDUP((T98-L98)*2.82%,-1) -> 0 | Y98: =ROUNDUP(X98*6.55%,-1) -> 0 | Z98: =ROUND(T98*0.8%,-1) -> 0 | AA98: =ROUND(T98*0.785%,-1) -> 0 | AB98: =SUM(V98:AA98) -> 0
E99: 10월 | T99: =SUM(S99,P99,O99,M99,L99,F99) -> 0 | V99: =ROUNDUP(T99*1/12,-1) -> 0 | W99: =ROUND(T99*4.5%,-1) -> 0 | X99: =ROUNDUP((T99-L99)*2.82%,-1) -> 0 | Y99: =ROUNDUP(X99*6.55%,-1) -> 0 | Z99: =ROUND(T99*0.8%,-1) -> 0 | AA99: =ROUND(T99*0.785%,-1) -> 0 | AB99: =SUM(V99:AA99) -> 0
E100: 11월 | T100: =SUM(S100,P100,O100,M100,L100,F100) -> 0 | V100: =ROUNDUP(T100*1/12,-1) -> 0 | W100: =ROUND(T100*4.5%,-1) -> 0 | X100: =ROUNDUP((T100-L100)*2.82%,-1) -> 0 | Y100: =ROUNDUP(X100*6.55%,-1) -> 0 | Z100: =ROUND(T100*0.8%,-1) -> 0 | AA100: =ROUND(T100*0.785%,-1) -> 0 | AB100: =SUM(V100:AA100) -> 0
E101: 12월 | T101: =SUM(S101,P101,O101,M101,L101,F101) -> 0 | V101: =ROUNDUP(T101*1/12,-1) -> 0 | W101: =ROUND(T101*4.5%,-1) -> 0 | X101: =ROUNDUP((T101-L101)*2.82%,-1) -> 0 | Y101: =ROUNDUP(X101*6.55%,-1) -> 0 | Z101: =ROUND(T101*0.8%,-1) -> 0 | AA101: =ROUND(T101*0.785%,-1) -> 0 | AB101: =SUM(V101:AA101) -> 0
A102: 2 | B102: 생활재활교사 | C102: 1 | D102: 1 | E102: 소계 | F102: =SUM(F103:F114) -> 0 | G102: =SUM(G103:G114) -> 0 | H102: =SUM(H103:H114) -> 0 | I102: =SUM(I103:I114) -> 0 | J102: =SUM(J103:J114) -> 0 | K102: =SUM(K103:K114) -> 0 | L102: =SUM(L103:L114) -> 0 | M102: =SUM(M103:M114) -> 0 | ... O102: =SUM(O103:O114) -> 0 | Q102: =SUM(Q103:Q114) -> 0 | R102: =SUM(R103:R114) -> 0 | S102: =SUM(S103:S114) -> 0 | T102: =SUM(T103:T114) -> 0 | V102: =SUM(V103:V114) -> 0 | W102: =SUM(W103:W114) -> 0 | X102: =SUM(X103:X114) -> 0 | Y102: =SUM(Y103:Y114) -> 0 | Z102: =SUM(Z103:Z114) -> 0 | AA102: =SUM(AA103:AA114) -> 0 | AB102: =SUM(AB103:AB114) -> 0
B103: 변호영 | E103: 1월
E104: 2월
E105: 3월
E106: 4월
E107: 5월
E108: 6월 | T108: =SUM(S108,P108,O108,M108,L108,F108) -> 0 | V108: =ROUNDUP(T108*1/12,-1) -> 0 | W108: =ROUND(T108*4.5%,-1) -> 0 | X108: =ROUNDUP((T108-L108)*2.82%,-1) -> 0 | Y108: =ROUNDUP(X108*6.55%,-1) -> 0 | Z108: =ROUND(T108*0.8%,-1) -> 0 | AA108: =ROUND(T108*0.785%,-1) -> 0 | AB108: =SUM(V108:AA108) -> 0
E109: 7월 | T109: =SUM(S109,P109,O109,M109,L109,F109) -> 0 | V109: =ROUNDUP(T109*1/12,-1) -> 0 | W109: =ROUND(T109*4.5%,-1) -> 0 | X109: =ROUNDUP((T109-L109)*2.82%,-1) -> 0 | Y109: =ROUNDUP(X109*6.55%,-1) -> 0 | Z109: =ROUND(T109*0.8%,-1) -> 0 | AA109: =ROUND(T109*0.785%,-1) -> 0 | AB109: =SUM(V109:AA109) -> 0
E110: 8월 | T110: =SUM(S110,P110,O110,M110,L110,F110) -> 0 | V110: =ROUNDUP(T110*1/12,-1) -> 0 | W110: =ROUND(T110*4.5%,-1) -> 0 | X110: =ROUNDUP((T110-L110)*2.82%,-1) -> 0 | Y110: =ROUNDUP(X110*6.55%,-1) -> 0 | Z110: =ROUND(T110*0.8%,-1) -> 0 | AA110: =ROUND(T110*0.785%,-1) -> 0 | AB110: =SUM(V110:AA110) -> 0
E111: 9월 | T111: =SUM(S111,P111,O111,M111,L111,F111) -> 0 | V111: =ROUNDUP(T111*1/12,-1) -> 0 | W111: =ROUND(T111*4.5%,-1) -> 0 | X111: =ROUNDUP((T111-L111)*2.82%,-1) -> 0 | Y111: =ROUNDUP(X111*6.55%,-1) -> 0 | Z111: =ROUND(T111*0.8%,-1) -> 0 | AA111: =ROUND(T111*0.785%,-1) -> 0 | AB111: =SUM(V111:AA111) -> 0
E112: 10월 | T112: =SUM(S112,P112,O112,M112,L112,F112) -> 0 | V112: =ROUNDUP(T112*1/12,-1) -> 0 | W112: =ROUND(T112*4.5%,-1) -> 0 | X112: =ROUNDUP((T112-L112)*2.82%,-1) -> 0 | Y112: =ROUNDUP(X112*6.55%,-1) -> 0 | Z112: =ROUND(T112*0.8%,-1) -> 0 | AA112: =ROUND(T112*0.785%,-1) -> 0 | AB112: =SUM(V112:AA112) -> 0
E113: 11월 | T113: =SUM(S113,P113,O113,M113,L113,F113) -> 0 | V113: =ROUNDUP(T113*1/12,-1) -> 0 | W113: =ROUND(T113*4.5%,-1) -> 0 | X113: =ROUNDUP((T113-L113)*2.82%,-1) -> 0 | Y113: =ROUNDUP(X113*6.55%,-1) -> 0 | Z113: =ROUND(T113*0.8%,-1) -> 0 | AA113: =ROUND(T113*0.785%,-1) -> 0 | AB113: =SUM(V113:AA113) -> 0
E114: 12월 | T114: =SUM(S114,P114,O114,M114,L114,F114) -> 0 | V114: =ROUNDUP(T114*1/12,-1) -> 0 | W114: =ROUND(T114*4.5%,-1) -> 0 | X114: =ROUNDUP((T114-L114)*2.82%,-1) -> 0 | Y114: =ROUNDUP(X114*6.55%,-1) -> 0 | Z114: =ROUND(T114*0.8%,-1) -> 0 | AA114: =ROUND(T114*0.785%,-1) -> 0 | AB114: =SUM(V114:AA114) -> 0
A115: 1 | B115: 일용직 | C115: 1 | D115: 1 | E115: 일용직 | F115: =SUM(F116:F127) -> 9600000 | G115: =SUM(G116:G127) -> 0 | H115: =SUM(H116:H127) -> 0 | I115: =SUM(I116:I127) -> 0 | J115: =SUM(J116:J127) -> 0 | K115: =SUM(K116:K127) -> 0 | L115: =SUM(L116:L127) -> 0 | M115: =SUM(M116:M127) -> 0 | ... O115: =SUM(O116:O127) -> 0 | Q115: =SUM(Q116:Q127) -> 0 | R115: =SUM(R116:R127) -> 0 | V115: =SUM(V116:V127) -> 0 | W115: =SUM(W116:W127) -> 0 | X115: =SUM(X116:X127) -> 0 | Y115: =SUM(Y116:Y127) -> 0 | Z115: =SUM(Z116:Z127) -> 0 | AA115: =SUM(AA116:AA127) -> 0 | AB115: =SUM(AB116:AB127) -> 0
B116: 김숙희 | E116: 1월 | F116: 800000 | G116: 0 | I116: - | J116: 0 | K116: 0 | L116: 0 | M116: 0 | N116: 0 | O116: 0 | Q116: 0 | T116: =SUM(S116,P116,O116,M116,F116) -> 800000 | AB116: =SUM(V116:AA116) -> 0
E117: 2월 | F117: =F116 -> 800000 | G117: 0 | H117: 0 | I117: =I116 -> - | J117: 0 | K117: =K116 -> 0 | L117: =L116 -> 0 | N117: =N116 -> 0 | O117: =O116 -> 0 | P117: 0 | Q117: =P117*56 -> 0 | T117: =SUM(S117,P117,O117,M117,F117) -> 800000 | AB117: =SUM(V117:AA117) -> 0
E118: 3월 | F118: =F117 -> 800000 | H118: 0 | I118: =I116 -> - | J118: 0 | M118: - | O118: =O117 -> 0 | P118: 0 | Q118: =P118*56 -> 0 | T118: =SUM(S118,P118,O118,M118,F118) -> 800000 | AB118: =SUM(V118:AA118) -> 0
E119: 4월 | F119: =F118 -> 800000 | G119: 0 | H119: 0 | I119: =I116 -> - | M119: 0 | O119: =O118 -> 0 | P119: 0 | Q119: =P119*56 -> 0 | T119: =SUM(S119,P119,O119,M119,F119) -> 800000 | AB119: =SUM(V119:AA119) -> 0
E120: 5월 | F120: =F119 -> 800000 | G120: 0 | H120: 0 | I120: =I116 -> - | M120: 0 | O120: =O119 -> 0 | P120: 0 | Q120: =P120*56 -> 0 | T120: =SUM(S120,P120,O120,M120,F120) -> 800000 | AB120: =SUM(V120:AA120) -> 0
E121: 6월 | F121: =F120 -> 800000 | H121: 0 | I121: =I116 -> - | M121: 0 | O121: =O120 -> 0 | P121: 0 | Q121: =P121*56 -> 0 | T121: =SUM(S121,P121,O121,M121,F121) -> 800000 | AB121: =SUM(V121:AA121) -> 0
E122: 7월 | F122: =F121 -> 800000 | G122: 0 | I122: - | M122: 0 | O122: =O121 -> 0 | P122: 0 | Q122: =P122*56 -> 0 | T122: =SUM(S122,P122,O122,M122,F122) -> 800000 | AB122: =SUM(V122:AA122) -> 0
E123: 8월 | F123: =F122 -> 800000 | G123: 0 | H123: 0 | I123: =I122 -> - | M123: 0 | O123: =O122 -> 0 | P123: 0 | Q123: =P123*56 -> 0 | T123: =SUM(S123,P123,O123,M123,F123) -> 800000 | AB123: =SUM(V123:AA123) -> 0
E124: 9월 | F124: =F123 -> 800000 | H124: 0 | I124: =I122 -> - | O124: 0 | P124: 0 | Q124: =P124*56 -> 0 | T124: =SUM(S124,P124,O124,M124,F124) -> 800000 | AB124: =SUM(V124:AA124) -> 0
E125: 10월 | F125: =F124 -> 800000 | G125: 0 | H125: 0 | I125: =I122 -> - | M125: 0 | O125: =O124 -> 0 | P125: 0 | Q125: =P125*56 -> 0 | T125: =SUM(S125,P125,O125,M125,F125) -> 800000 | AB125: =SUM(V125:AA125) -> 0
E126: 11월 | F126: =F125 -> 800000 | G126: 0 | H126: 0 | I126: =I122 -> - | M126: 0 | N126: =N125 -> 0 | O126: =O125 -> 0 | P126: 0 | Q126: =P126*56 -> 0 | T126: =SUM(S126,P126,O126,M126,F126) -> 800000 | AB126: =SUM(V126:AA126) -> 0
E127: 12월 | F127: 800000 | H127: 0 | I127: =I122 -> - | K127: =K126 -> 0 | M127: 0 | N127: =N126 -> 0 | O127: =O126 -> 0 | P127: 0 | Q127: =P127*56*2 -> 0 | T127: =SUM(S127,P127,O127,M127,F127) -> 800000 | AB127: =SUM(V127:AA127) -> 0

Sheet 인건비(후원금)
A1: ▣ 2018년 종사자 인건비 총계표
A3: (1) 후원금(연장, 사용자 부담금) | AC3: (단위 : 원)
A4: 연 번 | B4: 직 종 | C4: 호 봉 | D4: 명 수 | E4: 구분 (월) | F4: 기본급 | G4: 기말수당 (50%씩 연4회 -3,6,9,12월) | H4: 정근수당 (1,7월) | I4: 처우개선비 (50,000원) | J4: 보조금+자부담 시간외 시간강 수당 | K4: 보조금+자부담 시간외 수당 | L4: 처우개선비 자부담연장수당 | M4: 명절휴가비 (60%씩 연2회) | O4: 가족수당 (40,000원) (20,000원) | P4: 명절휴가비 연평균액 | Q4: 운영비 보조금 시간외 시간당수강 | R4: 연장근로수당 (보수월액*1/ 209*1.5*20or40) | S4: 추가지원수당 (보수월액*1/ 209*1.5*5 | T4: 특수근무 수 당 (도비) | U4: 소 계 | V4: 비 고 | W4: 퇴직적립금 | X4: 국민연금 | Y4: 건강보험 | Z4: 건강보험 (장기요양보험) | AA4: 고용보험 | AB4: 산재보험 | AC4: 공제액합계
A5: 합 계 | F5: =F6+F19+F32+F45+F58+F71+F84+F97+F110+F123+F136+F149+F162+F175+F188+F201+F214+F227+F240+F253+F266+F279+F292+F305+F318+F331+F344+F357+F370+F383+F396+F409+F422+F435+F448+F461+F474+F487+F500+F513+F526+F539+F552+F565+F591+F604+F617+F630+F643+F578 -> 0 | G5: =G6+G19+G32+G45+G58+G71+G84+G97+G110+G123+G136+G149+G162+G175+G188+G201+G214+G227+G240+G253+G266+G279+G292+G305+G318+G331+G344+G357+G370+G383+G396+G409+G422+G435+G448+G461+G474+G487+G500+G513+G526+G539+G552+G565+G591+G604+G617+G630+G643+G578 -> 0 | H5: =H6+H19+H32+H45+H58+H71+H84+H97+H110+H123+H136+H149+H162+H175+H188+H201+H214+H227+H240+H253+H266+H279+H292+H305+H318+H331+H344+H357+H370+H383+H396+H409+H422+H435+H448+H461+H474+H487+H500+H513+H526+H539+H552+H565+H591+H604+H617+H630+H643+H578 -> 0 | J5: =J6+J19+J32+J45+J58+J71+J84+J97+J110+J123+J136+J149+J162+J175+J188+J201+J214+J227+J240+J253+J266+J279+J292+J305+J318+J331+J344+J357+J370+J383+J396+J409+J422+J435+J448+J461+J474+J487+J500+J513+J526+J539+J552+J565+J591+J604+J617+J630+J643+J578 -> 0 | K5: =K6+K19+K32+K45+K58+K71+K84+K97+K110+K123+K136+K149+K162+K175+K188+K201+K214+K227+K240+K253+K266+K279+K292+K305+K318+K331+K344+K357+K370+K383+K396+K409+K422+K435+K448+K461+K474+K487+K500+K513+K526+K539+K552+K565+K591+K604+K617+K630+K643+K578 -> 0 | L5: =L6+L19+L32+L45+L58+L71+L84+L97+L110+L123+L136+L149+L162+L175+L188+L201+L214+L227+L240+L253+L266+L279+L292+L305+L318+L331+L344+L357+L370+L383+L396+L409+L422+L435+L448+L461+L474+L487+L500+L513+L526+L539+L552+L565+L591+L604+L617+L630+L643+L578 -> 0 | M5: =M6+M19+M32+M45+M58+M71+M84+M97+M110+M123+M136+M149+M162+M175+M188+M201+M214+M227+M240+M253+M266+M279+M292+M305+M318+M331+M344+M357+M370+M383+M396+M409+M422+M435+M448+M461+M474+M487+M500+M513+M526+M539+M552+M565+M591+M604+M617+M630+M643+M578 -> 0 | N5: =N6+N19+N32+N45+N58+N71+N84+N97+N110+N123+N136+N149+N162+N175+N188+N201+N214+N227+N240+N253+N266+N279+N292+N305+N318+N331+N344+N357+N370+N383+N396+N409+N422+N435+N448+N461+N474+N487+N500+N513+N526+N539+N552+N565+N591+N604+N617+N630+N643+N578 -> 0 | O5: =O6+O19+O32+O45+O58+O71+O84+O97+O110+O123+O136+O149+O162+O175+O188+O201+O214+O227+O240+O253+O266+O279+O292+O305+O318+O331+O344+O357+O370+O383+O396+O409+O422+O435+O448+O461+O474+O487+O500+O513+O526+O539+O552+O565+O591+O604+O617+O630+O643+O578 -> 0 | P5: =P6+P19+P32+P45+P58+P71+P84+P97+P110+P123+P136+P149+P162+P175+P188+P201+P214+P227+P240+P253+P266+P279+P292+P305+P318+P331+P344+P357+P370+P383+P396+P409+P422+P435+P448+P461+P474+P487+P500+P513+P526+P539+P552+P565+P591+P604+P617+P630+P643+P578 -> 0 | Q5: =Q6+Q19+Q32+Q45+Q58+Q71+Q84+Q97+Q110+Q123+Q136+Q149+Q162+Q175+Q188+Q201+Q214+Q227+Q240+Q253+Q266+Q279+Q292+Q305+Q318+Q331+Q344+Q357+Q370+Q383+Q396+Q409+Q422+Q435+Q448+Q461+Q474+Q487+Q500+Q513+Q526+Q539+Q552+Q565+Q591+Q604+Q617+Q630+Q643+Q578 -> 0 | ... U5: =U6+U19+U32+U45+U58+U71+U84+U97+U110+U123+U136+U149+U162+U175+U188+U201+U214+U227+U240+U253+U266+U279+U292+U305+U318+U331+U344+U357+U370+U383+U396+U409+U422+U435+U448+U461+U474+U487+U500+U513+U526+U539+U552+U565+U591+U604+U617+U630+U643+U578 -> 0 | W5: =W6+W19+W32+W45+W58+W71+W84+W97+W110+W123+W136+W149+W162+W175+W188+W201+W214+W227+W240+W253+W266+W279+W292+W305+W318+W331+W344+W357+W370+W383+W396+W409+W422+W435+W448+W461+W474+W487+W500+W513+W526+W539+W552+W565+W591+W604+W617+W630+W643+W578 -> 0 | X5: =X6+X19+X32+X45+X58+X71+X84+X97+X110+X123+X136+X149+X162+X175+X188+X201+X214+X227+X240+X253+X266+X279+X292+X305+X318+X331+X344+X357+X370+X383+X396+X409+X422+X435+X448+X461+X474+X487+X500+X513+X526+X539+X552+X565+X591+X604+X617+X630+X643+X578 -> 0 | Y5: =Y6+Y19+Y32+Y45+Y58+Y71+Y84+Y97+Y110+Y123+Y136+Y149+Y162+Y175+Y188+Y201+Y214+Y227+Y240+Y253+Y266+Y279+Y292+Y305+Y318+Y331+Y344+Y357+Y370+Y383+Y396+Y409+Y422+Y435+Y448+Y461+Y474+Y487+Y500+Y513+Y526+Y539+Y552+Y565+Y591+Y604+Y617+Y630+Y643+Y578 -> 0 | Z5: =Z6+Z19+Z32+Z45+Z58+Z71+Z84+Z97+Z110+Z123+Z136+Z149+Z162+Z175+Z188+Z201+Z214+Z227+Z240+Z253+Z266+Z279+Z292+Z305+Z318+Z331+Z344+Z357+Z370+Z383+Z396+Z409+Z422+Z435+Z448+Z461+Z474+Z487+Z500+Z513+Z526+Z539+Z552+Z565+Z591+Z604+Z617+Z630+Z643+Z578 -> 0 | AA5: =AA6+AA19+AA32+AA45+AA58+AA71+AA84+AA97+AA110+AA123+AA136+AA149+AA162+AA175+AA188+AA201+AA214+AA227+AA240+AA253+AA266+AA279+AA292+AA305+AA318+AA331+AA344+AA357+AA370+AA383+AA396+AA409+AA422+AA435+AA448+AA461+AA474+AA487+AA500+AA513+AA526+AA539+AA552+AA565+AA591+AA604+AA617+AA630+AA643+AA578 -> 0 | AB5: =AB6+AB19+AB32+AB45+AB58+AB71+AB84+AB97+AB110+AB123+AB136+AB149+AB162+AB175+AB188+AB201+AB214+AB227+AB240+AB253+AB266+AB279+AB292+AB305+AB318+AB331+AB344+AB357+AB370+AB383+AB396+AB409+AB422+AB435+AB448+AB461+AB474+AB487+AB500+AB513+AB526+AB539+AB552+AB565+AB591+AB604+AB617+AB630+AB643+AB578 -> 0 | AC5: =AC6+AC19+AC32+AC45+AC58+AC71+AC84+AC97+AC110+AC123+AC136+AC149+AC162+AC175+AC188+AC201+AC214+AC227+AC240+AC253+AC266+AC279+AC292+AC305+AC318+AC331+AC344+AC357+AC370+AC383+AC396+AC409+AC422+AC435+AC448+AC461+AC474+AC487+AC500+AC513+AC526+AC539+AC552+AC565+AC591+AC604+AC617+AC630+AC643+AC578 -> 0
A6: 1 | B6: 시 설 장 | C6: 10,11 | D6: 1 | E6: 소계 | F6: =SUM(F7:F18) -> 0 | G6: =SUM(G7:G18) -> 0 | H6: =SUM(H7:H18) -> 0 | I6: =SUM(I7:I18) -> 0 | J6: =SUM(J7:J18) -> 0 | K6: =SUM(K7:K18) -> 0 | L6: =SUM(L7:L18) -> 0 | M6: =SUM(M7:M18) -> 0 | ... O6: =SUM(O7:O18) -> 0 | R6: =SUM(R7:R18) -> 0 | S6: =SUM(S7:S18) -> 0 | T6: =SUM(T7:T18) -> 0 | U6: =SUM(U7:U18) -> 0 | W6: =SUM(W7:W18) -> 0 | X6: =SUM(X7:X18) -> 0 | Y6: =SUM(Y7:Y18) -> 0 | Z6: =SUM(Z7:Z18) -> 0 | AA6: =SUM(AA7:AA18) -> 0 | AB6: =SUM(AB7:AB18) -> 0 | AC6: =SUM(AC7:AC18) -> 0
B7: 이기수 | C7: 10 | E7: 1월 | M7: =F7*60% -> 0 | O7: - | U7: =SUM(I7,L7) -> 0 | W7: =ROUNDUP(U7*1/12,-1) -> 0 | Y7: =ROUNDUP((U7-L7)*3.06%,-1) -> 0 | Z7: =ROUNDUP(Y7*6.55%,-1) -> 0 | AA7: 0 | AB7: 0 | AC7: =SUM(W7:AB7) -> 0
E8: 2월 | J8: =ROUND((F7+I7+T7)*1/209*1.5,-1) -> 0 | K8: =J8*25 -> 0 | L8: =K8-R8-S8 -> 0 | O8: - | Q8: =ROUND((F7+T7)*1/209*1.5,-1) -> 0 | R8: =Q8*20 -> 0 | S8: =Q8*5 -> 0 | U8: =SUM(I8,L8) -> 0 | W8: =ROUNDUP(U8*1/12,-1) -> 0 | Y8: =ROUNDUP((U8-L8)*3.06%,-1) -> 0 | Z8: =ROUNDUP(Y8*6.55%,-1) -> 0 | AA8: 0 | AB8: 0 | AC8: =SUM(W8:AB8) -> 0
E9: 3월 | J9: =ROUND((F8+I8+T8)*1/209*1.5,-1) -> 0 | K9: =J9*25 -> 0 | L9: =K9-R9-S9 -> 0 | O9: - | Q9: =ROUND((F8+T8)*1/209*1.5,-1) -> 0 | R9: =Q9*20 -> 0 | S9: =Q9*5 -> 0 | U9: =SUM(I9,L9) -> 0 | W9: =ROUNDUP(U9*1/12,-1) -> 0 | Y9: =ROUNDUP((U9-L9)*3.06%,-1) -> 0 | Z9: =ROUNDUP(Y9*6.55%,-1) -> 0 | AA9: 0 | AB9: 0 | AC9: =SUM(W9:AB9) -> 0
E10: 4월 | J10: =ROUND((F9+I9+T9)*1/209*1.5,-1) -> 0 | K10: =J10*25 -> 0 | L10: =K10-R10-S10 -> 0 | O10: - | Q10: =ROUND((F9+T9)*1/209*1.5,-1) -> 0 | R10: =Q10*20 -> 0 | S10: =Q10*5 -> 0 | U10: =SUM(I10,L10) -> 0 | W10: =ROUNDUP(U10*1/12,-1) -> 0 | Y10: =ROUNDUP((U10-L10)*3.06%,-1) -> 0 | Z10: =ROUNDUP(Y10*6.55%,-1) -> 0 | AA10: 0 | AB10: 0 | AC10: =SUM(W10:AB10) -> 0
E11: 5월 | J11: =ROUND((F10+I10+T10)*1/209*1.5,-1) -> 0 | K11: =J11*25 -> 0 | L11: =K11-R11-S11 -> 0 | O11: - | Q11: =ROUND((F10+T10)*1/209*1.5,-1) -> 0 | R11: =Q11*20 -> 0 | S11: =Q11*5 -> 0 | U11: =SUM(I11,L11) -> 0 | W11: =ROUNDUP(U11*1/12,-1) -> 0 | Y11: =ROUNDUP((U11-L11)*3.06%,-1) -> 0 | Z11: =ROUNDUP(Y11*6.55%,-1) -> 0 | AA11: 0 | AB11: 0 | AC11: =SUM(W11:AB11) -> 0
C12: 11 | E12: 6월 | J12: =ROUND((F11+I11+T11)*1/209*1.5,-1) -> 0 | K12: =J12*25 -> 0 | L12: =K12-R12-S12 -> 0 | O12: - | Q12: =ROUND((F11+T11)*1/209*1.5,-1) -> 0 | R12: =Q12*20 -> 0 | S12: =Q12*5 -> 0 | U12: =SUM(I12,L12) -> 0 | W12: =ROUNDUP(U12*1/12,-1) -> 0 | Y12: =ROUNDUP((U12-L12)*3.06%,-1) -> 0 | Z12: =ROUNDUP(Y12*6.55%,-1) -> 0 | AA12: 0 | AB12: 0 | AC12: =SUM(W12:AB12) -> 0
E13: 7월 | J13: =ROUND((F12+I12+T12)*1/209*1.5,-1) -> 0 | K13: =J13*25 -> 0 | L13: =K13-R13-S13 -> 0 | O13: - | Q13: =ROUND((F12+T12)*1/209*1.5,-1) -> 0 | R13: =Q13*20 -> 0 | S13: =Q13*5 -> 0 | U13: =SUM(I13,L13) -> 0 | W13: =ROUNDUP(U13*1/12,-1) -> 0 | Y13: =ROUNDUP((U13-L13)*3.06%,-1) -> 0 | Z13: =ROUNDUP(Y13*6.55%,-1) -> 0 | AA13: 0 | AB13: 0 | AC13: =SUM(W13:AB13) -> 0
E14: 8월 | J14: =ROUND((F13+I13+T13)*1/209*1.5,-1) -> 0 | K14: =J14*25 -> 0 | L14: =K14-R14-S14 -> 0 | O14: - | Q14: =ROUND((F13+T13)*1/209*1.5,-1) -> 0 | R14: =Q14*20 -> 0 | S14: =Q14*5 -> 0 | U14: =SUM(I14,L14) -> 0 | W14: =ROUNDUP(U14*1/12,-1) -> 0 | Y14: =ROUNDUP((U14-L14)*3.06%,-1) -> 0 | Z14: =ROUNDUP(Y14*6.55%,-1) -> 0 | AA14: 0 | AB14: 0 | AC14: =SUM(W14:AB14) -> 0
E15: 9월 | J15: =ROUND((F14+I14+T14)*1/209*1.5,-1) -> 0 | K15: =J15*25 -> 0 | L15: =K15-R15-S15 -> 0 | M15: =F15*60% -> 0 | O15: - | Q15: =ROUND((F14+T14)*1/209*1.5,-1) -> 0 | R15: =Q15*20 -> 0 | S15: =Q15*5 -> 0 | U15: =SUM(I15,L15) -> 0 | W15: =ROUNDUP(U15*1/12,-1) -> 0 | Y15: =ROUNDUP((U15-L15)*3.06%,-1) -> 0 | Z15: =ROUNDUP(Y15*6.55%,-1) -> 0 | AA15: 0 | AB15: 0 | AC15: =SUM(W15:AB15) -> 0
E16: 10월 | J16: =ROUND((F15+I15+T15)*1/209*1.5,-1) -> 0 | K16: =J16*25 -> 0 | L16: =K16-R16-S16 -> 0 | O16: - | Q16: =ROUND((F15+T15)*1/209*1.5,-1) -> 0 | R16: =Q16*20 -> 0 | S16: =Q16*5 -> 0 | U16: =SUM(I16,L16) -> 0 | W16: =ROUNDUP(U16*1/12,-1) -> 0 | Y16: =ROUNDUP((U16-L16)*3.06%,-1) -> 0 | Z16: =ROUNDUP(Y16*6.55%,-1) -> 0 | AA16: 0 | AB16: 0 | AC16: =SUM(W16:AB16) -> 0
E17: 11월 | J17: =ROUND((F16+I16+T16)*1/209*1.5,-1) -> 0 | K17: =J17*25 -> 0 | L17: =K17-R17-S17 -> 0 | O17: - | Q17: =ROUND((F16+T16)*1/209*1.5,-1) -> 0 | R17: =Q17*20 -> 0 | S17: =Q17*5 -> 0 | U17: =SUM(I17,L17) -> 0 | W17: =ROUNDUP(U17*1/12,-1) -> 0 | Y17: =ROUNDUP((U17-L17)*3.06%,-1) -> 0 | Z17: =ROUNDUP(Y17*6.55%,-1) -> 0 | AA17: 0 | AB17: 0 | AC17: =SUM(W17:AB17) -> 0
E18: 12월 | J18: =ROUND((F17+I17+T17)*1/209*1.5,-1) -> 0 | K18: =J18*25*2 -> 0 | L18: =K18-R18-S18 -> 0 | O18: - | Q18: =ROUND((F17+T17)*1/209*1.5,-1) -> 0 | R18: =Q18*20*2 -> 0 | S18: =Q18*5*2 -> 0 | U18: =SUM(I18,L18) -> 0 | W18: =ROUNDUP(U18*1/12,-1) -> 0 | Y18: =ROUNDUP((U18-L18)*3.06%,-1) -> 0 | Z18: =ROUNDUP(Y18*6.55%,-1) -> 0 | AA18: 0 | AB18: 0 | AC18: =SUM(W18:AB18) -> 0
A19: 2 | B19: 사무국장 | C19: 15,16 | D19: 1 | E19: 소계 | F19: =SUM(F20:F31) -> 0 | G19: =SUM(G20:G31) -> 0 | H19: =SUM(H20:H31) -> 0 | I19: =SUM(I20:I31) -> 0 | J19: =SUM(J20:J31) -> 0 | K19: =SUM(K20:K31) -> 0 | L19: =SUM(L20:L31) -> 0 | M19: =SUM(M20:M31) -> 0 | ... O19: =SUM(O20:O31) -> 0 | R19: =SUM(R20:R31) -> 0 | S19: =SUM(S20:S31) -> 0 | U19: =SUM(U20:U31) -> 0 | W19: =SUM(W20:W31) -> 0 | X19: =SUM(X20:X31) -> 0 | Y19: =SUM(Y20:Y31) -> 0 | Z19: =SUM(Z20:Z31) -> 0 | AA19: =SUM(AA20:AA31) -> 0 | AB19: =SUM(AB20:AB31) -> 0 | AC19: =SUM(AC20:AC31) -> 0
B20: 금형민 | C20: 15 | E20: 1월 | M20: =F20*60% -> 0 | U20: =SUM(I20,L20) -> 0 | W20: =ROUNDUP(U20*1/12,-1) -> 0 | Y20: =ROUNDUP((U20-L20)*3.06%,-1) -> 0 | Z20: =ROUNDUP(Y20*6.55%,-1) -> 0 | AA20: =ROUND(U20*0.9%,-1) -> 0 | AB20: =ROUND(U20*0.8%,-1) -> 0 | AC20: =SUM(W20:AB20) -> 0
E21: 2월 | J21: =ROUND((F20+I20+T20)*1/209*1.5,-1) -> 0 | K21: =J21*25 -> 0 | L21: =K21-R21-S21 -> 0 | Q21: =ROUND((F20+T20)*1/209*1.5,-1) -> 0 | R21: =Q21*20 -> 0 | S21: =Q21*5 -> 0 | U21: =SUM(I21,L21) -> 0 | W21: =ROUNDUP(U21*1/12,-1) -> 0 | Y21: =ROUNDUP((U21-L21)*3.06%,-1) -> 0 | Z21: =ROUNDUP(Y21*6.55%,-1) -> 0 | AA21: =ROUND(U21*0.9%,-1) -> 0 | AB21: =ROUND(U21*0.8%,-1) -> 0 | AC21: =SUM(W21:AB21) -> 0
E22: 3월 | J22: =ROUND((F21+I21+T21)*1/209*1.5,-1) -> 0 | K22: =J22*25 -> 0 | L22: =K22-R22-S22 -> 0 | Q22: =ROUND((F21+T21)*1/209*1.5,-1) -> 0 | R22: =Q22*20 -> 0 | S22: =Q22*5 -> 0 | U22: =SUM(I22,L22) -> 0 | W22: =ROUNDUP(U22*1/12,-1) -> 0 | Y22: =ROUNDUP((U22-L22)*3.06%,-1) -> 0 | Z22: =ROUNDUP(Y22*6.55%,-1) -> 0 | AA22: =ROUND(U22*0.9%,-1) -> 0 | AB22: =ROUND(U22*0.8%,-1) -> 0 | AC22: =SUM(W22:AB22) -> 0
E23: 4월 | J23: =ROUND((F22+I22+T22)*1/209*1.5,-1) -> 0 | K23: =J23*25 -> 0 | L23: =K23-R23-S23 -> 0 | Q23: =ROUND((F22+T22)*1/209*1.5,-1) -> 0 | R23: =Q23*20 -> 0 | S23: =Q23*5 -> 0 | U23: =SUM(I23,L23) -> 0 | W23: =ROUNDUP(U23*1/12,-1) -> 0 | Y23: =ROUNDUP((U23-L23)*3.06%,-1) -> 0 | Z23: =ROUNDUP(Y23*6.55%,-1) -> 0 | AA23: =ROUND(U23*0.9%,-1) -> 0 | AB23: =ROUND(U23*0.8%,-1) -> 0 | AC23: =SUM(W23:AB23) -> 0
C24: 16 | E24: 5월 | J24: =ROUND((F23+I23+T23)*1/209*1.5,-1) -> 0 | K24: =J24*25 -> 0 | L24: =K24-R24-S24 -> 0 | Q24: =ROUND((F23+T23)*1/209*1.5,-1) -> 0 | R24: =Q24*20 -> 0 | S24: =Q24*5 -> 0 | U24: =SUM(I24,L24) -> 0 | W24: =ROUNDUP(U24*1/12,-1) -> 0 | Y24: =ROUNDUP((U24-L24)*3.06%,-1) -> 0 | Z24: =ROUNDUP(Y24*6.55%,-1) -> 0 | AA24: =ROUND(U24*0.9%,-1) -> 0 | AB24: =ROUND(U24*0.8%,-1) -> 0 | AC24: =SUM(W24:AB24) -> 0
E25: 6월 | J25: =ROUND((F24+I24+T24)*1/209*1.5,-1) -> 0 | K25: =J25*25 -> 0 | L25: =K25-R25-S25 -> 0 | Q25: =ROUND((F24+T24)*1/209*1.5,-1) -> 0 | R25: =Q25*20 -> 0 | S25: =Q25*5 -> 0 | U25: =SUM(I25,L25) -> 0 | W25: =ROUNDUP(U25*1/12,-1) -> 0 | Y25: =ROUNDUP((U25-L25)*3.06%,-1) -> 0 | Z25: =ROUNDUP(Y25*6.55%,-1) -> 0 | AA25: =ROUND(U25*0.9%,-1) -> 0 | AB25: =ROUND(U25*0.8%,-1) -> 0 | AC25: =SUM(W25:AB25) -> 0
E26: 7월 | J26: =ROUND((F25+I25+T25)*1/209*1.5,-1) -> 0 | K26: =J26*25 -> 0 | L26: =K26-R26-S26 -> 0 | Q26: =ROUND((F25+T25)*1/209*1.5,-1) -> 0 | R26: =Q26*20 -> 0 | S26: =Q26*5 -> 0 | U26: =SUM(I26,L26) -> 0 | W26: =ROUNDUP(U26*1/12,-1) -> 0 | Y26: =ROUNDUP((U26-L26)*3.06%,-1) -> 0 | Z26: =ROUNDUP(Y26*6.55%,-1) -> 0 | AA26: =ROUND(U26*0.9%,-1) -> 0 | AB26: =ROUND(U26*0.8%,-1) -> 0 | AC26: =SUM(W26:AB26) -> 0
E27: 8월 | J27: =ROUND((F26+I26+T26)*1/209*1.5,-1) -> 0 | K27: =J27*25 -> 0 | L27: =K27-R27-S27 -> 0 | Q27: =ROUND((F26+T26)*1/209*1.5,-1) -> 0 | R27: =Q27*20 -> 0 | S27: =Q27*5 -> 0 | U27: =SUM(I27,L27) -> 0 | W27: =ROUNDUP(U27*1/12,-1) -> 0 | Y27: =ROUNDUP((U27-L27)*3.06%,-1) -> 0 | Z27: =ROUNDUP(Y27*6.55%,-1) -> 0 | AA27: =ROUND(U27*0.9%,-1) -> 0 | AB27: =ROUND(U27*0.8%,-1) -> 0 | AC27: =SUM(W27:AB27) -> 0
E28: 9월 | J28: =ROUND((F27+I27+T27)*1/209*1.5,-1) -> 0 | K28: =J28*25 -> 0 | L28: =K28-R28-S28 -> 0 | M28: =F28*60% -> 0 | Q28: =ROUND((F27+T27)*1/209*1.5,-1) -> 0 | R28: =Q28*20 -> 0 | S28: =Q28*5 -> 0 | U28: =SUM(I28,L28) -> 0 | W28: =ROUNDUP(U28*1/12,-1) -> 0 | Y28: =ROUNDUP((U28-L28)*3.06%,-1) -> 0 | Z28: =ROUNDUP(Y28*6.55%,-1) -> 0 | AA28: =ROUND(U28*0.9%,-1) -> 0 | AB28: =ROUND(U28*0.8%,-1) -> 0 | AC28: =SUM(W28:AB28) -> 0
E29: 10월 | J29: =ROUND((F28+I28+T28)*1/209*1.5,-1) -> 0 | K29: =J29*25 -> 0 | L29: =K29-R29-S29 -> 0 | O29: =O28 -> 0 | Q29: =ROUND((F28+T28)*1/209*1.5,-1) -> 0 | R29: =Q29*20 -> 0 | S29: =Q29*5 -> 0 | U29: =SUM(I29,L29) -> 0 | W29: =ROUNDUP(U29*1/12,-1) -> 0 | Y29: =ROUNDUP((U29-L29)*3.06%,-1) -> 0 | Z29: =ROUNDUP(Y29*6.55%,-1) -> 0 | AA29: =ROUND(U29*0.9%,-1) -> 0 | AB29: =ROUND(U29*0.8%,-1) -> 0 | AC29: =SUM(W29:AB29) -> 0
E30: 11월 | F30: =F29 -> 0 | J30: =ROUND((F29+I29+T29)*1/209*1.5,-1) -> 0 | K30: =J30*25 -> 0 | L30: =K30-R30-S30 -> 0 | O30: =O29 -> 0 | Q30: =ROUND((F29+T29)*1/209*1.5,-1) -> 0 | R30: =Q30*20 -> 0 | S30: =Q30*5 -> 0 | U30: =SUM(I30,L30) -> 0 | W30: =ROUNDUP(U30*1/12,-1) -> 0 | Y30: =ROUNDUP((U30-L30)*3.06%,-1) -> 0 | Z30: =ROUNDUP(Y30*6.55%,-1) -> 0 | AA30: =ROUND(U30*0.9%,-1) -> 0 | AB30: =ROUND(U30*0.8%,-1) -> 0 | AC30: =SUM(W30:AB30) -> 0
