Workbook
Name F: #REF!
Name F: #REF!
Name F: #REF!
Name F: #REF!
Name F: #REF!
Name F: #REF!

Sheet 표지
A4: 2020년도
A11: 2020년
A12: 세입ㆍ세출 예산서(안)
A23: 천주교수원교구사회복지회
A24: 둘 다 섯 해 누 리
E67: 0

Sheet 가.예산총칙
A1: 가. 예 산 총 칙
A4: 제 1 조 | C4: 본 예산은 사회복지법인 천주교 수원교구 사회복지회 소속 장애인거주시설 "둘다섯해누리"의
C5: 2020년(2020.01.01 ~ 2020.12.31) 기간의 예산으로 사회복지 법인 재무회계규칙 제9조 1항에
C6: 의한다.
A8: 제 2 조 | C8: 세입세출 예산총액은 | G8: ='나.세입세출(총괄)'!E6 -> 3230720000 | I8: 원으로 하며「세입 · 세출예산서」와 같다.
C10: 1. 세입의 주요재원은 다음과 같다. (관 기준)
D11: 1) | E11: 입소자부담금 | H11: ='나.세입세출(총괄)'!E7 -> 134400000 | J11: 원
D12: 2) | E12: 사업수입 | H12: ='나.세입세출(총괄)'!E10 -> 0 | J12: 원
D13: 3) | E13: 보조금수입 | H13: ='나.세입세출(총괄)'!E17+'나.세입세출(총괄)'!E21+'나.세입세출(총괄)'!E21 -> 2591323820 | J13: 원
D14: 4) | E14: 후원금수입 | H14: ='다-3.후원금세입'!E16 -> 364200000 | J14: 원
D15: 5) | E15: 차입금 | J15: 원
D16: 6) | E16: 전입금 | H16: ='다-2.자부담세입'!E23 -> 40000000 | J16: 원
D17: 7) | E17: 이월금 | H17: ='나.세입세출(총괄)'!E39 -> 53487000 | J17: 원
D18: 8) | E18: 잡수입 | H18: ='나.세입세출(총괄)'!E43 -> 47309180 | J18: 원
C19: 2. 세출의 내용은 다음과 같다. (관 또는 항기준)
D20: 1) | E20: 사무비 | H20: ='나.세입세출(총괄)'!L7 -> 2628751180 | J20: 원
D21: 2) | E21: 재산조성비 | H21: ='나.세입세출(총괄)'!L24 -> 167900000 | J21: 원
D22: 3) | E22: 사업비 | H22: ='나.세입세출(총괄)'!L29 -> 401372640 | J22: 원
D23: 4) | E23: 잡지출 | H23: ='나.세입세출(총괄)'!L48 -> 609180 | J23: 원
D24: 5) | E24: 과년도지출 | H24: ='나.세입세출(총괄)'!L45 -> 800000 | J24: 원
D25: 6) | E25: 예비비 및 기타 | H25: ='나.세입세출(총괄)'!L51 -> 31287000 | J25: 원
B27: 3. 명시이월사업은 | G27: 해당없으며 | I27: 예산은 0 | L27: 원이다.
B29: 4. 신설사업은 | F29: ①중증장애인의 직업능력개발을 위한 목공프로그램 “우드잡 woodjob”이며 예산은 | K29: 10000000 | L29: 원이다.
F30: ②기능보강사업 1 : 거주시설 공기청정기렌탈지원 사업으로 예산은 | K30: 2100000 | L30: 원이다.
F31: ③기능보강사업 2 : 기관 LED 교체사업으로 예산은 | L31: 원이다.
F32: ④기능보강사업 3 : 거주시설 공기청정기렌탈지원 사업으로 예산은 | L32: 원이다.
A34: 제3조 | B34: 추경예산(안)은 법인 이사회의 승인을 얻어 확정한다.
A36: 제4조 | B36: 법인이사회의 예산승인을 받기 전에 일반경비 및 긴급을 요하는 예산집행은 직전예산에 준하여
B37: 지출할 수 있으며, 그 집행된 예산은 당해 연도의 확정예산에 의하여 집행된 것으로 간주한다.
A39: 제5조 | B39: 각 계정과목 내의 항목의 예산집행은 당해 계정과목의 승인예산의 범위 내에서 항목간 예산을
B40: 일부 조정하여 사용할 수 있다.
A42: 제6조 | B42: 세출경비의 조정이 필요한 경우 「사회복지법인 및 사회복지시설 재무회계규칙」 제16조에
B43: 의거하여 예산을 전용할 수 있다.
A45: 제7조 | B45: 국가 또는 지방자치단체로부터 교부된 보조금 및 지정후원금, 수익자부담 경비 등은
B46: 추가경정예산의 성립 이전이라도 보조 및 후원 목적에 적절한 경우 먼저 사용할 수 있으며,
B47: 이는 반드시 차기 추가경정예산에 반영하여야 한다.
A49: 제8조 | B49: 인건비 집행을 위한 사무비 내 항간 전용사항은 승인받은 것으로 간주하고, 이는 반드시 차기
B50: 추가경정예산에 반영하여야 한다.
A53: 제9조 | B53: 기타 회계 관련 규정의 개정으로 예산과목이 변경된 경우에는 당해연도 변경된 과목으로 승인
B54: 된 것으로 하며, 그 외의 예산총칙에 명시되지 아니한 사항은 「사회복지법인
...

Sheet 나.세입세출(총괄)
A1: 나. 세입·세출 총괄
M2: (단위:원)
A3: 세 입 | H3: 세 출
A4: 과 목 | D4: 전년도예산 ( A ) | E4: 2020년예산 ( B ) | F4: 증감 (B-A) | H4: 과 목 | K4: =D4 -> 전년도예산 ( A ) | L4: =E4 -> 2020년예산 ( B ) | M4: 증감 (B-A)
A5: 관 | B5: 항 | C5: 목 | F5: 금액 | G5: 비율(%) | H5: 관 | I5: 항 | J5: 목 | M5: 금액 | N5: 비율(%)
A6: 총 계 | D6: =D7+D13+D16+D36+D39+D43+D10+D30 -> 3319000000 | E6: =E7+E13+E16+E36+E39+E43+E10+E30 -> 3230720000 | F6: =F7+F13+F16+F36+F39+F43+F10+F30 -> -88280000 | G6: =F6/D6*100 -> -2.6598373 | H6: 총 계 | K6: =SUM(K7,K24,K29,K45,K48,K51) -> 3319000000 | L6: =SUM(L7,L24,L29,L45,L48,L51) -> 3230720000 | M6: =L6-K6 -> -88280000 | N6: =M6/K6*100 -> -2.6598373 | O6: =K6-D6 -> 0 | P6: =E6-L6 -> 0
A7: 입소자부담금 | B7: 계 | D7: 134400000 | E7: =E8 -> 134400000 | F7: =F8 -> 0 | G7: =F7/D7*100 -> 0 | H7: 사무비 | I7: 계 | K7: =SUM(K8,K15,K17) -> 2640134180 | L7: =SUM(L8,L15,L17) -> 2628751180 | M7: =M8+M15+M17 -> -11383000 | N7: =M7/K7*100 -> -0.43115233
B8: 입소비용수입 | C8: 소계 | D8: 134400000 | E8: =E9 -> 134400000 | F8: =F9 -> 0 | G8: =F8/D8*100 -> 0 | I8: 인건비 | J8: 소계 | K8: =SUM(K9:K14) -> 2393247270 | L8: =SUM(L9:L14) -> 2393247270 | M8: =SUM(M9:M14) -> 0 | N8: =M8/K8*100 -> 0
C9: 입소비용수입 | D9: 134400000 | E9: ='다-2.자부담세입'!E9 -> 134400000 | F9: =E9-D9 -> 0 | G9: =F9/D9*100 -> 0 | J9: 급여 | K9: =라.국도비세출!E9+'라-1.도시(군)세출'!E8+'라-3.후원금세출'!E9 -> 1479465000 | L9: =라.국도비세출!F9+'라-3.후원금세출'!F9+'라-1.도시(군)세출'!F8 -> 1479465000 | M9: =L9-K9 -> 0 | N9: =M9/K9*100 -> 0
A10: 사업수입 | B10: 계 | D10: 0 | E10: =E11 -> 0 | F10: =F11 -> 0 | G10: =F10/D10*100 -> #DIV/0! | J10: 일용잡금 | K10: ='라-3.후원금세출'!E11 -> 9600000 | L10: ='라-3.후원금세출'!F11 -> 9600000 | M10: =L10-K10 -> 0 | N10: =M10/K10*100 -> 0
B11: 사업수입 | C11: 소계 | D11: 0 | E11: =E12 -> 0 | F11: =F12 -> 0 | G11: =F11/D11*100 -> #DIV/0! | J11: 제수당 | K11: =라.국도비세출!E10+'라-1.도시(군)세출'!E9+'라-2.자부담세출'!E12 -> 509510880 | L11: =라.국도비세출!F10+'라-3.후원금세출'!F12+'라-2.자부담세출'!F12+'라-1.도시(군)세출'!F9 -> 509510880 | M11: =L11-K11 -> 0 | N11: =M11/K11*100 -> 0
C12: 프로그램사업수입 | D12: 0 | E12: ='다-2.자부담세입'!E12 -> 0 | F12: =E12-D12 -> 0 | G12: =F12/D12*100 -> #DIV/0! | J12: 퇴직금및퇴직적립금 | K12: =라.국도비세출!E15+'라-1.도시(군)세출'!E14+'라-2.자부담세출'!E26+'라-3.후원금세출'!E26 -> 164978100 | L12: =라.국도비세출!F15+'라-3.후원금세출'!F26+'라-2.자부담세출'!F26+'라-1.도시(군)세출'!F14 -> 164978100 | M12: =L12-K12 -> 0 | N12: =M12/K12*100 -> 0
A13: 과년도수입 | B13: 계 | D13: 0 | E13: =E14 -> 0 | F13: =F14 -> 0 | G13: =F13/D13*100 -> #DIV/0! | J13: 사회보험부담비용 | K13: =라.국도비세출!E16+'라-1.도시(군)세출'!E15+'라-2.자부담세출'!E27+'라-3.후원금세출'!E27 -> 187693290 | L13: =라.국도비세출!F16+'라-3.후원금세출'!F27+'라-2.자부담세출'!F27+'라-1.도시(군)세출'!F15 -> 187693290 | M13: =L13-K13 -> 0 | N13: =M13/K13*100 -> 0
B14: 과년도수입 | C14: 소계 | D14: 0 | E14: =E15 -> 0 | F14: =F15 -> 0 | G14: =F14/D14*100 -> #DIV/0! | J14: 기타후생경비 | K14: =라.국도비세출!E21+'라-2.자부담세출'!E32+'라-3.후원금세출'!E32 -> 42000000 | L14: =라.국도비세출!F21+'라-2.자부담세출'!F32+'라-3.후원금세출'!F32 -> 42000000 | M14: =L14-K14 -> 0 | N14: =M14/K14*100 -> 0
C15: 과년도수입 | D15: 0 | E15: =다.국도시세입!F12+'다-2.자부담세입'!E15 -> 0 | F15: =E15-D15 -> 0 | G15: =F15/D15*100 -> #DIV/0! | I15: 업무추진비 | J15: 소계 | K15: =K16 -> 2490000 | L15: =L16 -> 2490000 | M15: =L15-K15 -> 0 | N15: =M15/K15*100 -> 0
A16: 보조금수입 | B16: 계 | D16: =D17+D21+D23+D28 -> 2651468750 | E16: =E17+E21+E23+E28 -> 2591323820 | F16: =F17+F21+F23+F28 -> -60144930 | G16: =F16/D16*100 -> -2.2683628 | J16: 회의비 | K16: =라.국도비세출!E25+'라-2.자부담세출'!E37+'라-3.후원금세출'!E37 -> 2490000 | L16: =라.국도비세출!F25+'라-2.자부담세출'!F37+'라-3.후원금세출'!F37 -> 2490000 | M16: =L16-K16 -> 0 | N16: =M16/K16*100 -> 0
B17: =다.국도시세입!B14 -> 보조금수입 | C17: 소계 | D17: =SUM(D18:D20) -> 2651468750 | E17: =SUM(E18:E20) -> 2591323820 | F17: =SUM(F18:F20) -> -60144930 | G17: =F17/D17*100 -> -2.2683628 | I17: 운영비 | J17: 소계 | K17: =SUM(K18:K23) -> 244396910 | L17: =SUM(L18:L23) -> 233013910 | M17: =SUM(M18:M23) -> -11383000 | N17: =M17/K17*100 -> -4.6575875
C18: =다.국도시세입!C15 -> 국고보조금(70%) | D18: =다.국도시세입!E15 -> 1703326015 | E18: =다.국도시세입!F15 -> 1672616764 | F18: =E18-D18 -> -30709251 | G18: =F18/D18*100 -> -1.8028992 | J18: 여비 | K18: =라.국도비세출!E27+'라-3.후원금세출'!E39 -> 5000000 | L18: =라.국도비세출!F27+'라-3.후원금세출'!F39 -> 5000000 | M18: =L18-K18 -> 0 | N18: =M18/K18*100 -> 0
C19: =다.국도시세입!C20 -> 시도보조금 | D19: =다.국도시세입!E20+'다-1.도시(군)세입'!E13-D20 -> 941842735 | E19: =다.국도시세입!F20+'다-1.도시(군)세입'!F13-E20 -> 911987056 | F19: =E19-D19 -> -29855679 | G19: =F19/D19*100 -> -3.1699219 | J19: 수용비및수수료 | K19: =라.국도비세출!E28+'라-2.자부담세출'!E40+'라-3.후원금세출'!E40 -> 59771080 | L19: =라.국도비세출!F28+'라-2.자부담세출'!F40+'라-3.후원금세출'!F40 -> 55288080 | M19: =L19-K19 -> -4483000 | N19: =M19/K19*100 -> -7.5002827
C20: =다.국도시세입!C26 -> 기타보조금 | D20: 6300000 | E20: ='다-1.도시(군)세입'!F21 -> 6720000 | F20: =E20-D20 -> 420000 | G20: =F20/D20*100 -> 6.6666667 | J20: 공공요금 | K20: =라.국도비세출!E29+'라-2.자부담세출'!E41+'라-3.후원금세출'!E43 -> 126000000 | L20: =라.국도비세출!F29+'라-2.자부담세출'!F41+'라-3.후원금세출'!F43 -> 119100000 | M20: =L20-K20 -> -6900000 | N20: =M20/K20*100 -> -5.4761905
D21: 0 | E21: 0 | F21: =F22 -> 0 | G21: 0 | J21: 제세공과금 | K21: =라.국도비세출!E30+'라-2.자부담세출'!E42+'라-3.후원금세출'!E44 -> 13625830 | L21: =라.국도비세출!F30+'라-2.자부담세출'!F42+'라-3.후원금세출'!F44 -> 13625830 | M21: =L21-K21 -> 0 | N21: =M21/K21*100 -> 0
D22: 0 | E22: 0 | F22: =C22-B22 -> 0 | G22: 0 | J22: 차량비 | K22: =라.국도비세출!E34+'라-2.자부담세출'!E43+'라-3.후원금세출'!E45 -> 26000000 | L22: =라.국도비세출!F34+'라-2.자부담세출'!F43+'라-3.후원금세출'!F45 -> 26000000 | M22: =L22-K22 -> 0 | N22: =M22/K22*100 -> 0
D23: 0 | E23: =SUM(E24:E27) -> 0 | F23: =SUM(F24:F27) -> 0 | G23: 0 | J23: 기타운영비 | K23: =라.국도비세출!E35+'라-2.자부담세출'!E44+'라-3.후원금세출'!E46 -> 14000000 | L23: =라.국도비세출!F35+'라-2.자부담세출'!F44+'라-3.후원금세출'!F46 -> 14000000 | M23: =L23-K23 -> 0 | N23: =M23/K23*100 -> 0
D24: 0 | E24: =다.국도시세입!F28 -> 0 | F24: =C24-B24 -> 0 | G24: 0 | H24: 재산조성비 | I24: 계 | K24: =SUM(K25) -> 162000000 | L24: =SUM(L25) -> 167900000 | M24: =M25 -> 5900000 | N24: =M24/K24*100 -> 3.6419753
D25: 0 | E25: =다.국도시세입!F29 -> 0 | F25: =C25-B25 -> 0 | G25: 0 | I25: 시설비 | J25: 소계 | K25: =SUM(K26:K28) -> 162000000 | L25: =SUM(L26:L28) -> 167900000 | M25: =SUM(M26:M28) -> 5900000 | N25: =M25/K25*100 -> 3.6419753
D26: 0 | E26: =다.국도시세입!F30 -> 0 | F26: =C26-B26 -> 0 | G26: 0 | J26: 시설비 | K26: =라.국도비세출!E38+'라-2.자부담세출'!E47+'라-3.후원금세출'!E49 -> 10000000 | L26: =라.국도비세출!F38+'라-2.자부담세출'!F47+'라-3.후원금세출'!F49 -> 10000000 | M26: =L26-K26 -> 0 | N26: =M26/K26*100 -> 0
D27: 0 | E27: =다.국도시세입!F31 -> 0 | F27: =C27-B27 -> 0 | G27: 0 | J27: 자산취득비 | K27: =라.국도비세출!E39+'라-2.자부담세출'!E48+'라-3.후원금세출'!E50 -> 20000000 | L27: =라.국도비세출!F39+'라-2.자부담세출'!F48+'라-3.후원금세출'!F50 -> 65900000 | M27: =L27-K27 -> 45900000 | N27: =M27/K27*100 -> 229.5
D28: 0 | E28: =E29 -> 0 | F28: =F29 -> 0 | G28: 0 | J28: 시설장비유지비 | K28: =라.국도비세출!E40+'라-2.자부담세출'!E49+'라-3.후원금세출'!E51 -> 132000000 | L28: =라.국도비세출!F40+'라-2.자부담세출'!F49+'라-3.후원금세출'!F51 -> 92000000 | M28: =L28-K28 -> -40000000 | N28: =M28/K28*100 -> -30.30303
D29: 0 | E29: ='다-3.후원금세입'!E14 -> 0 | F29: =E29-D29 -> 0 | G29: 0 | H29: 사업비 | I29: 계 | K29: =SUM(K30,K36,K43) -> 462937570 | L29: =SUM(L30,L36,L43) -> 401372640 | M29: =L29-K29 -> -61564930 | N29: =M29/K29*100 -> -13.298754
A30: 후원금 | B30: 계 | D30: 364200000 | E30: =E31+E34 -> 364200000 | F30: =F31+F34 -> 0 | G30: =F30/D30*100 -> 0 | I30: 운영비 | J30: 소계 | K30: =SUM(K31:K35) -> 256466570 | L30: =SUM(L31:L35) -> 254332640 | M30: =SUM(M31:M35) -> -2133930 | N30: =M30/K30*100 -> -0.83204996
B31: 후원금수입 | C31: 소계 | D31: 364200000 | E31: =SUM(E32:E33) -> 364200000 | F31: =SUM(F32:F33) -> 0 | G31: =F31/D31*100 -> 0 | J31: 생계비 | K31: =라.국도비세출!E44+라.국도비세출!E45+라.국도비세출!E46+'라-2.자부담세출'!E52+'라-3.후원금세출'!E54 -> 211496570 | L31: =라.국도비세출!F44+라.국도비세출!F45+라.국도비세출!F46+'라-2.자부담세출'!F52+'라-3.후원금세출'!F54 -> 209362640 | M31: =L31-K31 -> -2133930 | N31: =M31/K31*100 -> -1.0089667
C32: 지정후원금 | D32: 14200000 | E32: ='다-3.후원금세입'!E18 -> 14200000 | F32: =E32-D32 -> 0 | G32: =F32/D32*100 -> 0 | J32: 피복비 | K32: ='라-2.자부담세출'!E53 -> 4000000 | L32: ='라-2.자부담세출'!F53 -> 4000000 | M32: =L32-K32 -> 0 | N32: =M32/K32*100 -> 0
C33: 비지정후원금 | D33: 350000000 | E33: ='다-3.후원금세입'!E19 -> 350000000 | F33: =E33-D33 -> 0 | G33: =F33/D33*100 -> 0 | J33: ='라-2.자부담세출'!C54 -> 수용기관경비 | K33: =라.국도비세출!E47+'라-2.자부담세출'!E54+'라-3.후원금세출'!E55 -> 37970000 | L33: =라.국도비세출!F47+'라-2.자부담세출'!F54+'라-3.후원금세출'!F55 -> 37970000 | M33: =L33-K33 -> 0 | N33: =M33/K33*100 -> 0
D34: 0 | E34: =E35 -> 0 | F34: =F35 -> 0 | G34: 0 | J34: 의료비 | K34: ='라-2.자부담세출'!E57+'라-3.후원금세출'!E59 -> 3000000 | L34: ='라-2.자부담세출'!F57+'라-3.후원금세출'!F59 -> 3000000 | M34: =L34-K34 -> 0 | N34: =M34/K34*100 -> 0
D35: 0 | E35: ='다-3.후원금세입'!E20 -> 0 | F35: =E35-D35 -> 0 | G35: 0 | J35: 연료비 | K35: ='라-3.후원금세출'!E64 -> 0 | L35: ='라-3.후원금세출'!F64 -> 0 | M35: =L35-K35 -> 0 | N35: =M35/K35*100 -> #DIV/0!
A36: 전입금 | B36: 계 | D36: 40000000 | E36: =E37 -> 40000000 | F36: =F37 -> 0 | G36: =F36/D36*100 -> 0 | I36: 사업비 | J36: 소계 | K36: =SUM(K37:K42) -> 204971000 | L36: =SUM(L37:L42) -> 145540000 | M36: =L36-K36 -> -59431000 | N36: =M36/K36*100 -> -28.994833
B37: 전입금 | C37: 소계 | D37: 40000000 | E37: =E38 -> 40000000 | F37: =F38 -> 0 | G37: =F37/D37*100 -> 0 | J37: 사회심리재활사업비 | K37: =라.국도비세출!E51+'라-2.자부담세출'!E75+'라-3.후원금세출'!E78 -> 93000000 | L37: =라.국도비세출!F51+'라-2.자부담세출'!F75+'라-3.후원금세출'!F78 -> 89000000 | M37: =L37-K37 -> -4000000 | N37: =M37/K37*100 -> -4.3010753
C38: 법인전입금 | D38: 40000000 | E38: ='다-2.자부담세입'!E25 -> 40000000 | F38: =E38-D38 -> 0 | G38: =F38/D38*100 -> 0 | J38: 직업재활사업비 | K38: ='라-2.자부담세출'!E77+'라-3.후원금세출'!E80 -> 5000000 | L38: ='라-2.자부담세출'!F77+'라-3.후원금세출'!F80 -> 5000000 | M38: =L38-K38 -> 0 | N38: =M38/K38*100 -> 0
A39: 이월금 | B39: 계 | D39: 81659584 | E39: =E40 -> 53487000 | F39: =F40 -> -28172584 | G39: =F39/D39*100 -> -34.500034 | J39: 4종운영지원사업비 | K39: ='라-1.도시(군)세출'!E25 -> 32840000 | L39: ='라-1.도시(군)세출'!F25 -> 32840000 | M39: =L39-K39 -> 0 | N39: =M39/K39*100 -> 0
B40: 이월금 | C40: 소계 | D40: 81659584 | E40: =SUM(E41:E42) -> 53487000 | F40: =SUM(F41:F42) -> -28172584 | G40: =F40/D40*100 -> -34.500034 | J40: 7종운영지원사업비 | K40: ='라-1.도시(군)세출'!E21 -> 6600000 | L40: ='라-1.도시(군)세출'!F21 -> 6600000 | M40: =L40-K40 -> 0 | N40: =M40/K40*100 -> 0
...

Sheet 다.국도시세입
A1: 다. 세 입
A2: 1) 보조금세입내역
I3: (단위:원)
A4: 과 목 | E4: ='나.세입세출(총괄)'!D4:D5 -> 전년도예산 ( A ) | F4: ='나.세입세출(총괄)'!E4:E5 -> 2020년예산 ( B ) | G4: 증감 (B-A) | I4: 산 출 내 역
A5: 관 | B5: 항 | C5: 목 | G5: 금액 | H5: 비율(%)
A6: 총 계 | E6: 2491240000 | F6: =F7+F10+F13+F32+F36 -> 2415800000 | G6: =G7+G10+G13+G32+G36 -> -75440000 | H6: =G6/E6*100 -> -3.0282109 | J6: =E6-라.국도비세출!E6 -> 0 | K6: =F6-라.국도비세출!F6 -> 0
A7: 입소자부담금 | B7: 계 | E7: 0 | F7: =F8 -> 0 | G7: =G8 -> 0 | H7: 0
B8: 입소비용수입 | C8: 소계 | E8: 0 | F8: =F9 -> 0 | G8: =F8-E8 -> 0 | H8: 0
C9: 입소비용수입 | E9: 0 | F9: 0 | G9: =F9-E9 -> 0 | H9: 0
A10: 과년도수입 | B10: 계 | E10: 0 | F10: =F11 -> 0 | G10: =G11 -> 0 | H10: 0
B11: 과년도수입 | C11: 소계 | E11: 0 | F11: =F12 -> 0 | G11: =G12 -> 0 | H11: 0
C12: 과년도수입 | E12: 0 | F12: 0 | G12: =F12-E12 -> 0 | H12: 0
A13: 보조금수입 | B13: 계 | E13: 2450617450 | F13: =SUM(F14,F25) -> 2390052520 | G13: =F13-E13 -> -60564930 | H13: =G13/E13*100 -> -2.4714151
B14: 보조금수입 | C14: 소계 | E14: 2450617450 | F14: =SUM(F15,F20) -> 2390052520 | G14: =F14-E14 -> -60564930 | H14: =G14/E14*100 -> -2.4714151
C15: 국고보조금(70%) | D15: 소 계 | E15: 1703326015 | F15: =SUM(F16:F19) -> 1672616764 | G15: =F15-E15 -> -30709251 | H15: =G15/E15*100 -> -1.8028992 | I15: * 인 건 비(70%) : 1,507,611,707원 * 관 리 운 영 비(70%) : 69,769,000원 * 생 계 비(70%) : 95,547,599원 * 기능보강사업비(50%) : 1,050,000원
C16: 인건비(70%) | D16: =라.국도비세출!B8 -> 인건비 | E16: 1507743916 | F16: =(라.국도비세출!F9+라.국도비세출!F11+라.국도비세출!F12+라.국도비세출!F13+라.국도비세출!F15+라.국도비세출!F16)*70% -> 1507743916 | G16: =F16-E16 -> 0 | H16: =G16/E16*100 -> 0
C17: 관리운영비(70%) | D17: 운영비 | E17: 69769000 | F17: =라.국도비세출!Q7*70% -> 69769000 | G17: =F17-E17 -> 0 | H17: =G17/E17*100 -> 0
C18: 생계비(70%) | D18: 생계비 | E18: 95547599 | F18: =라.국도비세출!F43*70% -> 94053848 | G18: =F18-E18 -> -1493751 | H18: =G18/E18*100 -> -1.563358
C19: 기능보강사업비(50%) | E19: 30265500 | F19: =라.국도비세출!F52/2 -> 1050000 | G19: =F19-E19 -> -29215500 | H19: 0
C20: 시도보조금 | D20: 소 계 | E20: 747291435 | F20: =SUM(F21:F24) -> 717435756 | G20: =F20-E20 -> -29855679 | H20: =G20/E20*100 -> -3.9951855 | I20: * 인 건 비 (30%) : 646,119,303원 * 관리운영비 (30%) : 29,901,000원 * 생 계 비 (30%) : 40,948,971원 * 기능보강사업(50%) : 1,050,000원
C21: 인건비(30%) | D21: =D16 -> 인건비 | E21: 646175964 | F21: =(라.국도비세출!F9+라.국도비세출!F11+라.국도비세출!F12+라.국도비세출!F13+라.국도비세출!F15+라.국도비세출!F16)*30% -> 646175964 | G21: =F21-E21 -> 0 | H21: =G21/E21*100 -> 0
C22: 관리운영비(30%) | D22: =D17 -> 운영비 | E22: 29901000 | F22: =라.국도비세출!Q7*30% -> 29901000 | G22: =F22-E22 -> 0 | H22: =G22/E22*100 -> 0
C23: 생계비(70%) | D23: =D18 -> 생계비 | E23: 40948971 | F23: =라.국도비세출!F43*30% -> 40308792 | G23: =F23-E23 -> -640179 | H23: =G23/E23*100 -> -1.563358
C24: 기능보강사업비(50%) | E24: 30265500 | F24: =라.국도비세출!F52/2 -> 1050000 | G24: =F24-E24 -> -29215500 | H24: 0
B25: 기타보조금 | C25: 소계 | D25: 소 계 | G25: =F25-E25 -> 0 | H25: =G25/E25*100 -> #DIV/0!
C26: 기타보조금 | D26: 재활프로그램사업비 | G26: =F26-E26 -> 0 | H26: =G26/E26*100 -> #DIV/0!
H27: =G27/E27*100 -> #DIV/0!
G28: =F28-E28 -> 0 | H28: =G28/E28*100 -> #DIV/0!
E29: 0 | F29: 0 | G29: =F29-E29 -> 0 | H29: =G29/E29*100 -> #DIV/0!
G30: =F30-E30 -> 0 | H30: =G30/E30*100 -> #DIV/0!
E31: 0 | F31: 0 | G31: =F31-E31 -> 0 | H31: =G31/E31*100 -> #DIV/0!
A32: 이월금 | B32: 계 | E32: 40110830 | F32: =F33 -> 25205000 | G32: =G33 -> -14905830 | H32: =G32/E32*100 -> -37.161609
B33: 이월금 | C33: 소계 | E33: 40110830 | F33: =SUM(F34:F35) -> 25205000 | G33: =SUM(G34:G35) -> -14905830 | H33: =G33/E33*100 -> -37.161609
C34: 전년도이월금 | E34: 40110830 | F34: 25205000 | G34: =F34-E34 -> -14905830 | H34: =G34/E34*100 -> -37.161609 | I34: * 운영비 이월금 : 25,000,000원 * 운영비 예금이자 이월금 : 200,000원 * 생계비 예금이자 이월금 : 5,000원
C35: 이월사업비 | E35: 0 | F35: 0 | G35: =F35-E35 -> 0 | H35: =G35/E35*100 -> #DIV/0!
A36: 잡수입 | B36: 계 | E36: 511720 | F36: =F37 -> 542480 | G36: =G37 -> 30760 | H36: =G36/E36*100 -> 6.0110998
B37: 잡수입 | C37: 소계 | E37: 511720 | F37: =SUM(F38:F40) -> 542480 | G37: =SUM(G38:G40) -> 30760 | H37: =G37/E37*100 -> 6.0110998
C38: 불용품매각대 | E38: 0 | F38: 0 | G38: =F38-E38 -> 0 | H38: 0
C39: 기타예금이자수입 | E39: 511720 | F39: 542480 | G39: =F39-E39 -> 30760 | H39: =G39/E39*100 -> 6.0110998
C40: 기타잡수입 | E40: 0 | F40: 0 | G40: =F40-E40 -> 0 | H40: 0
...

Sheet 다-1.도시(군)세입
A1: 다-1. 세 입
A2: 1) 보조금세입내역
I3: (단위:원)
A4: 과 목 | E4: ='나.세입세출(총괄)'!D4:D5 -> 전년도예산 ( A ) | F4: ='나.세입세출(총괄)'!E4:E5 -> 2020년예산 ( B ) | G4: 증감 (B-A) | I4: 산 출 내 역
A5: 관 | B5: 항 | C5: 목 | G5: 금액 | H5: 비율(%)
A6: 총 계 | E6: 212260000 | F6: =F7+F10+F13+F22+F25 -> 207420000 | G6: =G7+G10+G13+G22+G25 -> -4840000 | H6: =G6/E6*100 -> -2.2802224 | K6: =F6-'라-1.도시(군)세출'!F6 -> 0
A7: 입소자부담금 | B7: 계 | E7: 0 | F7: =F8 -> 0 | G7: =G8 -> 0 | H7: 0 | K7: =E6-'라-1.도시(군)세출'!E6 -> 0
B8: 입소비용수입 | C8: 소계 | E8: 0 | F8: =F9 -> 0 | G8: =F8-E8 -> 0 | H8: 0
C9: 입소비용수입 | E9: 0 | F9: 0 | G9: =F9-E9 -> 0 | H9: 0
A10: 과년도수입 | B10: 계 | E10: 0 | F10: =F11 -> 0 | G10: =G11 -> 0 | H10: 0
B11: 과년도수입 | C11: 소계 | E11: 0 | F11: =F12 -> 0 | G11: =G12 -> 0 | H11: 0
C12: 과년도수입 | E12: 0 | F12: 0 | G12: =F12-E12 -> 0 | H12: 0
A13: 보조금수입 | B13: 계 | E13: 200851300 | F13: =SUM(F14,F20) -> 201271300 | G13: =F13-E13 -> 420000 | H13: =G13/E13*100 -> 0.20910992
B14: 보조금수입 | C14: 소계 | E14: 194551300 | F14: =SUM(F15:F19) -> 194551300 | G14: =F14-E14 -> 0 | H14: =G14/E14*100 -> 0
C15: 인건비 | D15: =라.국도비세출!B8 -> 인건비 | E15: 155111300 | F15: ='라-1.도시(군)세출'!F7 -> 155111300 | G15: =F15-E15 -> 0 | H15: =G15/E15*100 -> 0 | I15: * 7종 보조금 : 128,735,500원 * 연장추가지원수당 : 26,375,800원
C16: ='라-1.도시(군)세출'!D22 -> 차량운영비 | D16: 운영비 | E16: 3600000 | F16: ='라-1.도시(군)세출'!F22 -> 3600000 | G16: =F16-E16 -> 0 | H16: =G16/E16*100 -> 0
C17: ='라-1.도시(군)세출'!D23 -> 환경개선사업 | D17: 생계비 | E17: 0 | F17: ='라-1.도시(군)세출'!F23 -> 0 | G17: =F17-E17 -> 0 | H17: =G17/E17*100 -> #DIV/0!
C18: ='라-1.도시(군)세출'!D24 -> 간병인비 | E18: 3000000 | F18: ='라-1.도시(군)세출'!F24 -> 3000000 | G18: =F18-E18 -> 0 | H18: =G18/E18*100 -> 0
C19: 4종(100%) | D19: =라.국도비세출!#REF! -> #REF! | E19: 32840000 | F19: ='라-1.도시(군)세출'!F25 -> 32840000 | G19: =F19-E19 -> 0 | H19: =G19/E19*100 -> 0
B20: 기타보조금 | C20: 소계 | D20: 소 계 | E20: 6300000 | F20: =F21 -> 6720000 | G20: =F20-E20 -> 420000 | H20: =G20/E20*100 -> 6.6666667
C21: 기타보조금 | D21: 재활프로그램사업비 | E21: 6300000 | F21: 6720000 | G21: =F21-E21 -> 420000 | H21: =G21/E21*100 -> 6.6666667 | I21: 2020년 재활프로그램 중증장애인의 직업능력개발을 위한 목공프로그램 “우드잡 woodjob” 선정
B22: 이월금 | C22: 소계 | E22: 11294958 | F22: =SUM(F23:F24) -> 6082000 | G22: =SUM(G23:G24) -> -5212958 | H22: =G22/E22*100 -> -46.152965
C23: 전년도이월금 | E23: 11294958 | F23: 6082000 | G23: =F23-E23 -> -5212958 | H23: =G23/E23*100 -> -46.152965 | I23: * 7종 보조금 이월금 : 5,000,000원 * 7종 예금이자 이월금 : 38,000원 * 4종 예금이자 이월금 : 12,000원 * 재활프로그램 예금이자 이월금: 12,000원 * 추가지원 보조금 이월금 : 1,000,000원 * 추가지원 예금이자 이월금 : 15,000원 * 기능보강 예금이자 이월금 : 5,000원
C24: 이월사업비 | E24: 0 | F24: 0 | G24: =F24-E24 -> 0 | H24: =G24/E24*100 -> #DIV/0!
A25: 잡수입 | B25: 계 | E25: 113742 | F25: =F26 -> 66700 | G25: =G26 -> -47042 | H25: =G25/E25*100 -> -41.358513
B26: 잡수입 | C26: 소계 | E26: 113742 | F26: =SUM(F27:F29) -> 66700 | G26: =SUM(G27:G29) -> -47042 | H26: =G26/E26*100 -> -41.358513
C27: 불용품매각대 | E27: 0 | F27: 0 | G27: =F27-E27 -> 0 | H27: 0
C28: 기타예금이자수입 | E28: 113742 | F28: ='라-1.도시(군)세출'!F36 -> 66700 | G28: =F28-E28 -> -47042 | H28: =G28/E28*100 -> -41.358513
C29: 기타잡수입 | E29: 0 | F29: 0 | G29: =F29-E29 -> 0 | H29: 0
F63: 0

Sheet 다-2.자부담세입
A1: 다. 세 입
A2: 2) 자부담세입내역
H3: (단위:원)
A4: 과 목 | D4: =다.국도시세입!E4:E5 -> 전년도예산 ( A ) | E4: =다.국도시세입!F4:F5 -> 2020년예산 ( B ) | F4: 증감 (B-A) | H4: 산 출 내 역
A5: 관 | B5: 항 | C5: 목 | F5: 금액 | G5: 비율(%)
A6: 총 계 | D6: 225700000 | E6: =E7+E10+E13+E16+E19+E23+E26+E30 -> 226800000 | F6: =F7+F10+F13+F16+F19+F23+F26+F30 -> 1100000 | G6: =F6/D6*100 -> 0.48737262 | J6: =E6-'라-2.자부담세출'!F6 -> 0
A7: 입소자부담금 | B7: 계 | D7: 134400000 | E7: =E8 -> 134400000 | F7: =F8 -> 0 | G7: =F7/D7*100 -> 0
B8: 입소비용수입 | C8: 소계 | D8: 134400000 | E8: =E9 -> 134400000 | F8: =F9 -> 0 | G8: =F8/D8*100 -> 0
C9: 입소비용수입 | D9: 134400000 | E9: 134400000 | F9: =E9-D9 -> 0 | G9: =F9/D9*100 -> 0 | H9: 실비인원 32명*350,000원*12개월=134,400,000원
A10: 사업수입 | B10: 계 | D10: 0 | E10: =E11 -> 0 | F10: =F11 -> 0 | G10: 0
B11: 사업수입 | C11: 소계 | D11: 0 | E11: =E12 -> 0 | F11: =F12 -> 0 | G11: 0
C12: 프로그램사업수입 | D12: 0 | E12: 0 | F12: =E12-D12 -> 0 | G12: 0 | H12: 0
A13: 과년도수입 | B13: 계 | D13: 0 | E13: =E14 -> 0 | F13: =F14 -> 0 | G13: 0
B14: 과년도수입 | C14: 소계 | D14: 0 | E14: =E15 -> 0 | F14: =F15 -> 0 | G14: 0
C15: 과년도수입 | D15: 0 | E15: 0 | F15: =E15-D15 -> 0 | G15: 0
A16: 보조금수입 | B16: 계 | D16: 0 | E16: =E17 -> 0 | F16: =F17 -> 0 | G16: 0
C17: 소계 | D17: 0 | E17: =E18 -> 0 | F17: =F18 -> 0 | G17: 0
D18: 0 | E18: 0 | F18: =C18-B18 -> 0 | G18: 0
A19: 차입금 | B19: 계 | D19: 0 | E19: =E20 -> 0 | F19: =F20 -> 0 | G19: 0
B20: 차입금 | C20: 소계 | D20: 0 | E20: =SUM(E21:E22) -> 0 | F20: =SUM(F21:F22) -> 0 | G20: 0
C21: 금융기관차입 | D21: 0 | E21: 0 | F21: =E21-D21 -> 0 | G21: 0
C22: 기타차입금 | D22: 0 | E22: 0 | F22: =E22-D22 -> 0 | G22: 0
A23: 전입금 | B23: 계 | D23: 40000000 | E23: =E24 -> 40000000 | F23: =F24 -> 0 | G23: =F23/D23*100 -> 0
B24: 전입금 | C24: 소계 | D24: 40000000 | E24: =E25 -> 40000000 | F24: =F25 -> 0 | G24: =F24/D24*100 -> 0
C25: 법인전입금 | D25: 40000000 | E25: 40000000 | F25: =E25-D25 -> 0 | G25: =F25/D25*100 -> 0 | H25: 음식물처리기,식기세척기,전기오븐,CCTV설치등 10년이상 사용된 노후설비기구 교체비용및직책보조비, 기타운영비등
A26: 이월금 | B26: 계 | D26: 5266654 | E26: =E27 -> 6300000 | F26: =F27 -> 1033346 | G26: =F26/D26*100 -> 19.620541
B27: 이월금 | C27: 소계 | D27: 5266654 | E27: =SUM(E28:E29) -> 6300000 | F27: =SUM(F28:F29) -> 1033346 | G27: =F27/D27*100 -> 19.620541
C28: 전년도이월금 | D28: 5266654 | E28: 6300000 | F28: =E28-D28 -> 1033346 | G28: =F28/D28*100 -> 19.620541 | H28: * 입소비용수입 이월금( 5,000,000원) * 법인전입금 이월금 ( 500,000원) * 종사자식대 이월금 ( 100,000원) * 기타 잡수입 이월금 ( 500,000원) * 예금이자 이월금 ( 200,000원)
C29: 이월사업비 | D29: 0 | E29: 0 | F29: =E29-D29 -> 0 | G29: 0
A30: 잡수입 | B30: 계 | D30: 46033346 | E30: =E31 -> 46100000 | F30: =F31 -> 66654 | G30: =F30/D30*100 -> 0.14479504
B31: 잡수입 | C31: 소계 | D31: 46033346 | E31: =SUM(E32:E34) -> 46100000 | F31: =SUM(F32:F34) -> 66654 | G31: =F31/D31*100 -> 0.14479504
C32: 불용품매각대 | D32: 500000 | E32: 500000 | F32: =E32-D32 -> 0 | G32: =F32/D32*100 -> 0
C33: 기타예금이자수입 | D33: 483346 | E33: 550000 | F33: =E33-D33 -> 66654 | G33: =F33/D33*100 -> 13.790121
C34: 기타잡수입 | D34: 45050000 | E34: 45050000 | F34: =E34-D34 -> 0 | G34: =F34/D34*100 -> 0 | H34: 종사자급식비30,000,000/ 임대료(SK,LG) 6,050,000/ 기타 9,000,000
E67: 0

Sheet 다-3.후원금세입
A1: 다. 세 입
A2: 3) 후원금세입내역
H3: (단위:원)
A4: 과 목 | D4: ='다-2.자부담세입'!D4:D5 -> 전년도예산 ( A ) | E4: ='다-2.자부담세입'!E4:E5 -> 2020년예산 ( B ) | F4: 증감(B-A) | H4: 산 출 내 역
A5: 관 | B5: 항 | C5: 목 | F5: 금액 | G5: 비율(%)
A6: 총 계 | D6: 389800000 | E6: =E7+E10+E13+E16+E22+E26+E29+E33 -> 380700000 | F6: =F10+F22+F26+F29+F33+F13+F7+F16 -> -9100000 | G6: =F6/D6*100 -> -2.3345305 | J6: =E6-'라-3.후원금세출'!F6 -> 0
A7: 입소자부담금 | B7: 계 | D7: 0 | E7: =E8 -> 0 | F7: =F8 -> 0 | G7: 0
B8: 입소비용수입 | C8: 소계 | D8: 0 | E8: =E9 -> 0 | F8: =F9 -> 0 | G8: 0
C9: 입소비용수입 | D9: 0 | E9: 0 | F9: =E9-D9 -> 0 | G9: 0
A10: 과년도수입 | B10: 계 | D10: 0 | E10: =E11 -> 0 | F10: =F11 -> 0 | G10: 0
B11: 과년도수입 | C11: 소계 | D11: 0 | E11: =E12 -> 0 | F11: =F12 -> 0 | G11: 0
C12: 과년도수입 | D12: 0 | E12: 0 | F12: =E12-D12 -> 0 | G12: 0
A13: 보조금수입 | B13: 계 | D13: 0 | E13: =E14 -> 0 | F13: =F14 -> 0 | G13: 0
B14: 후원금수입 | C14: 소계 | D14: 0 | E14: =E15 -> 0 | F14: =F15 -> 0 | G14: 0
C15: 후원금수입 | D15: 0 | E15: 0 | F15: =E15-D15 -> 0 | G15: 0
A16: 후원금수입 | B16: 계 | D16: 364200000 | E16: =E17+E20 -> 364200000 | F16: =E16-D16 -> 0 | G16: =F16/D16*100 -> 0
B17: 후원금수입 | C17: 소계 | D17: 364200000 | E17: =SUM(E18:E19) -> 364200000 | F17: =E17-D17 -> 0 | G17: =F17/D17*100 -> 0
C18: 지정후원금 | D18: 14200000 | E18: =12700000+1500000 -> 14200000 | F18: =E18-D18 -> 0 | G18: =F18/D18*100 -> 0 | H18: * 25인승 버스구입 지정후원 : 12,000,000원 * 재활프로그램 지정후원 : 700,000원 * 결연후원금 : 1,500,000원
C19: 비지정후원금 | D19: 350000000 | E19: 350000000 | F19: =E19-D19 -> 0 | G19: =F19/D19*100 -> 0 | H19: 월평균 29,167,000원*12월=350,000,000원
F20: =E20-D20 -> 0 | G20: =F20/D20*100 -> #DIV/0!
F21: =E21-D21 -> 0 | G21: =F21/D21*100 -> #DIV/0!
A22: 차입금 | B22: 계 | D22: 0 | E22: =E23 -> 0 | F22: =E22-D22 -> 0 | G22: 0
B23: 차입금 | C23: 소계 | D23: 0 | E23: =SUM(E24:E25) -> 0 | F23: =E23-D23 -> 0 | G23: 0
C24: 금융기관차입 | D24: 0 | E24: 0 | F24: =E24-D24 -> 0 | G24: 0
C25: 기타차입금 | D25: 0 | E25: 0 | F25: =E25-D25 -> 0 | G25: 0
A26: 전입금 | B26: 계 | D26: 0 | E26: =E27 -> 0 | F26: =E26-D26 -> 0 | G26: 0
B27: 전입금 | C27: 소계 | D27: 0 | E27: =E28 -> 0 | F27: =E27-D27 -> 0 | G27: 0
C28: 법인전입금 | D28: 0 | E28: 0 | F28: =E28-D28 -> 0 | G28: 0
A29: 이월금 | B29: 계 | D29: 24987142 | E29: =E30 -> 15900000 | F29: =E29-D29 -> -9087142 | G29: =F29/D29*100 -> -36.367272
B30: 이월금 | C30: 소계 | D30: 24987142 | E30: =SUM(E31:E32) -> 15900000 | F30: =E30-D30 -> -9087142 | G30: =F30/D30*100 -> -36.367272
C31: 전년도이월금 | D31: 24987142 | E31: 15900000 | F31: =E31-D31 -> -9087142 | G31: =F31/D31*100 -> -36.367272 | H31: * 비지정후원금 이월금 (13,00,000원), * 지정후원금 이월금 ( 2,00.000원), * 후원금예금이자 이월금 ( 900,000원).
C32: 이월사업비 | D32: 0 | E32: 0 | F32: =E32-D32 -> 0 | G32: 0
A33: 잡수입 | B33: 계 | D33: 612858 | E33: =E34 -> 600000 | F33: =E33-D33 -> -12858 | G33: =F33/D33*100 -> -2.098039
B34: 잡수입 | C34: 소계 | D34: 612858 | E34: =SUM(E35:E37) -> 600000 | F34: =E34-D34 -> -12858 | G34: =F34/D34*100 -> -2.098039
C35: 불용품매각대 | D35: 0 | E35: 0 | F35: =E35-D35 -> 0 | G35: 0
C36: 기타예금이자수입 | D36: 612858 | E36: 600000 | F36: =E36-D36 -> -12858 | G36: =F36/D36*100 -> -2.098039
C37: 기타잡수입 | D37: 0 | E37: 0 | F37: =E37-D37 -> 0 | G37: 0
E67: 0

Sheet 라.국도비세출
A1: 라. 세 출
A2: 1) 보조금 세출내역
Q3: (단위:원)
A4: 과 목 | E4: ='다-3.후원금세입'!D4:D5 -> 전년도예산 ( A ) | F4: ='다-3.후원금세입'!E4:E5 -> 2020년예산 ( B ) | G4: 증감(B-A) | I4: 산 출 내 역
A5: 관 | B5: 항 | C5: 목 | D5: 세목 | G5: 금액 | H5: 비율(%)
A6: 총 계 | E6: 2491240000 | F6: =F7+F36+F41+F56+F59 -> 2415800000 | G6: =F6-E6 -> -75440000 | H6: =G6/E6*100 -> -3.0282109 | I6: * 시설당기본지원 : 2,264,000원*30명 = 67,920,000원 * 생활장애인가중지원 : 635,000원*50명 = 31,750,000원 | T6: =(67920000)+(31750000) -> 99670000
A7: 사무비 | B7: 계 | E7: 2212619880 | F7: =F8+F22+F26 -> 2212619880 | G7: =F7-E7 -> 0 | H7: =G7/E7*100 -> 0 | I7: 운영비합계액 | Q7: 99670000 | R7: 원 | T7: =SUM(F22,F27,F28,F29,F31,F32,F33,F34,F37,F48,F49,F51) -> 99670000
B8: 인건비 | C8: 소계 | E8: 2153919880 | F8: =F9+F10+F16+F21+F15 -> 2153919880 | G8: =F8-E8 -> 0 | H8: =G8/E8*100 -> 0 | T8: =T6-T7 -> 0
C9: 급여 | E9: 1391304000 | F9: ='인건비총계표(보조금)'!F5 -> 1391304000 | G9: =F9-E9 -> 0 | H9: =G9/E9*100 -> 0 | I9: 종사자인건비 총계표 참조
C10: 제수당 | D10: 소계 | E10: 433361280 | F10: =SUM(F11:F13) -> 433361280 | G10: =F10-E10 -> 0 | H10: =G10/E10*100 -> 0
D11: 명절휴가비 | E11: 134188200 | F11: ='인건비총계표(보조금)'!M5 -> 134188200 | G11: =F11-E11 -> 0 | H11: =G11/E11*100 -> 0
D12: 연장근로수당 | E12: 277853080 | F12: ='인건비총계표(보조금)'!R5 -> 277853080 | G12: =F12-E12 -> 0 | H12: =G12/E12*100 -> 0
D13: 가족수당 | E13: 21320000 | F13: ='인건비총계표(보조금)'!O5 -> 21320000 | G13: =F13-E13 -> 0 | H13: =G13/E13*100 -> 0 | I13: 종사자인건비 총계표 참조
H14: =G14/E14*100 -> #DIV/0! | T14: =다.국도시세입!F6-라.국도비세출!F6 -> 0
C15: 퇴직적립금 | E15: 153616310 | F15: ='인건비총계표(보조금)'!W5 -> 153616310 | G15: =F15-E15 -> 0 | H15: =G15/E15*100 -> 0
C16: 사회보험부담금 | D16: 소계 | E16: 175638290 | F16: =SUM(F17:F20) -> 175638290 | G16: =F16-E16 -> 0 | H16: =G16/E16*100 -> 0 | X16: =SUM(F17-X17) -> 0 | Z16: ='인건비총계표(보조금)'!U5-'인건비총계표(보조금)'!U630 -> 1819575080
D17: 건강보험 부담금 | E17: 63773810 | F17: ='인건비총계표(보조금)'!Y5+'인건비총계표(보조금)'!Z5-6310 -> 63773810 | G17: =F17-E17 -> 0 | H17: =G17/E17*100 -> 0 | I17: 건강보험보험료 : 1,819,575,080원*3.23% = 58,772,280원 장기요양보험료 : 58,772,280*8.51% = 5,001,530원 | T17: ='인건비총계표(보조금)'!U5-'인건비총계표(보조금)'!U630 -> 1819575080 | U17: =ROUNDUP(T17*3.23%,-1) -> 58772280 | V17: =ROUNDUP(U17*8.51%,-1) -> 5001530 | W17: =ROUNDUP(('인건비총계표(보조금)'!U5-'인건비총계표(보조금)'!U630)*3.23%,-1) -> 58772280 | X17: =SUM(V17:W17) -> 63773810 | Z17: =SUM(Y16:Y17) -> 0
D18: 국민연금 부담금 | E18: 81880880 | F18: ='인건비총계표(보조금)'!X5+30 -> 81880880 | G18: =F18-E18 -> 0 | H18: =G18/E18*100 -> 0 | I18: 국민연금보험료 : 1,819,575,080원*4.5% = 81,880,880원 | T18: ='인건비총계표(보조금)'!U5-'인건비총계표(보조금)'!U630 -> 1819575080 | U18: =ROUNDUP(T18*4.5%,-1) -> 81880880 | V18: =F18-U18 -> 0
D19: 고용보험 부담금 | E19: 15873670 | F19: ='인건비총계표(보조금)'!AA5+30 -> 15873670 | G19: =F19-E19 -> 0 | H19: =G19/E19*100 -> 0 | I19: 고용보험료 : 1,763,741,030원*0.9% = 15,873,670원 | T19: ='인건비총계표(보조금)'!U5-'인건비총계표(보조금)'!U6-'인건비총계표(보조금)'!U630 -> 1763741030 | U19: =ROUNDUP(T19*0.9%,-1) -> 15873670 | V19: =F19-U19 -> 0
D20: 산재보험 부담금 | E20: 14109930 | F20: ='인건비총계표(보조금)'!AB5+80 -> 14109930 | G20: =F20-E20 -> 0 | H20: =G20/E20*100 -> 0 | I20: 산재보험료 : 1,763,741,030원*0.8%= | O20: 14,109,930원 | T20: ='인건비총계표(보조금)'!U5-'인건비총계표(보조금)'!U6-'인건비총계표(보조금)'!U630 -> 1763741030 | U20: =ROUNDUP(T20*0.8%,-1) -> 14109930 | V20: =F20-U20 -> 0
C21: 기타후생경비 | E21: 0 | F21: 0 | G21: =F21-E21 -> 0 | H21: =G21/E21*100 -> #DIV/0!
B22: 업무 추진비 | C22: 소계 | E22: 490000 | F22: =SUM(F23:F25) -> 490000 | G22: =F22-E22 -> 0 | H22: =G22/E22*100 -> 0
C23: 기관운영비 | E23: 0 | F23: 0 | G23: =F23-E23 -> 0 | H23: =G23/E23*100 -> #DIV/0!
C24: 직책보조비 | E24: 0 | F24: 0 | G24: =F24-E24 -> 0 | H24: =G24/E24*100 -> #DIV/0!
C25: 회의비 | E25: 490000 | F25: 490000 | G25: =F25-E25 -> 0 | H25: =G25/E25*100 -> 0 | I25: 인권지킴이단 회의비
B26: 운영비 | C26: 소계 | E26: 58210000 | F26: =F27+F28+F29+F30+F34+F35 -> 58210000 | G26: =F26-E26 -> 0 | H26: =G26/E26*100 -> 0
C27: 여비 | E27: 0 | F27: 0 | G27: =F27-E27 -> 0 | H27: =G27/E27*100 -> #DIV/0!
C28: 수용비및 수수료 | E28: 9084170 | F28: =9000000-125830+210000 -> 9084170 | G28: =F28-E28 -> 0 | H28: =G28/E28*100 -> 0 | I28: 사무용품비, 인쇄비, 수수료 등
C29: 공공요금 | E29: 38000000 | F29: 38000000 | G29: =F29-E29 -> 0 | H29: =G29/E29*100 -> 0 | I29: 수도료,전기료,우편료,전화료,운송료 등 | T29: 2931420 | U29: =T29*12 -> 35177040
C30: 제세공과금 | E30: 6625830 | F30: 6625830 | G30: =F30-E30 -> 0 | H30: =G30/E30*100 -> 0 | I30: 자동차보험료, 화재보험료등 | T30: 43916 | U30: =T30*80*12 -> 42159360
D31: 화재보험료 | G31: =F31-E31 -> 0 | H31: =G31/E31*100 -> #DIV/0! | I31: 소멸성 보험에 가입 | U31: =SUM(U29:U30) -> 77336400
D32: 상해보험료 | E32: 0 | F32: 0 | G32: =F32-E32 -> 0 | H32: =G32/E32*100 -> #DIV/0!
D33: 제세공과금 | E33: 6625830 | F33: 6625830 | G33: =F33-E33 -> 0 | H33: =G33/E33*100 -> 0 | I33: 화재, 음식물, 영업배상책임, 자동차보험료 등
C34: 차량비 | E34: 4500000 | F34: 4500000 | G34: =F34-E34 -> 0 | H34: =G34/E34*100 -> 0 | I34: 실제 운행중인 업무용 차량 연료 및 소모품 교체등
C35: 기타운영비 | E35: 0 | F35: 0 | G35: =F35-E35 -> 0 | H35: =G35/E35*100 -> #DIV/0! | I35: 화재, 음식물, 영업배상책임, 자동차보험료 등
A36: 재산조성비 | B36: 계 | E36: 12000000 | F36: =F37 -> 12000000 | G36: =F36-E36 -> 0 | H36: =G36/E36*100 -> 0
B37: 시설비 | C37: 소계 | E37: 12000000 | F37: =SUM(F38:F40) -> 12000000 | G37: =F37-E37 -> 0 | H37: =G37/E37*100 -> 0
C38: 시설비 | E38: 0 | F38: 0 | G38: =F38-E38 -> 0 | H38: =G38/E38*100 -> #DIV/0!
C39: 자산취득비 | E39: 0 | F39: 0 | G39: =F39-E39 -> 0 | H39: =G39/E39*100 -> #DIV/0!
C40: 시설장비 유지비 | D40: 건물유지비 | E40: 12000000 | F40: 12000000 | G40: =F40-E40 -> 0 | H40: =G40/E40*100 -> 0 | I40: 건물 유지 관리비
...

Sheet 라-1.도시(군)세출
A1: 라-1. 세 출
A2: 2) 보조금 세출내역
A3: 7종 | Q3: (단위:원)
A4: 과 목 | E4: ='다-3.후원금세입'!D4:D5 -> 전년도예산 ( A ) | F4: ='다-3.후원금세입'!E4:E5 -> 2020년예산 ( B ) | G4: 증감(B-A) | I4: 산 출 내 역
A5: 관 | B5: 항 | C5: 목 | D5: 세목 | G5: 금액 | H5: 비율(%)
A6: 총 계 | E6: 212260000 | F6: =SUM(F7,F20,F34,F37) -> 207420000 | G6: =F6-E6 -> -4840000 | H6: =G6/E6*100 -> -2.2802224 | T6: =(67920000)+(31750000) -> 99670000
A7: 사무비 | B7: 인건비 | C7: 계 | E7: 155111300 | F7: =F8+F9+F14+F15 -> 155111300 | G7: =F7-E7 -> 0 | H7: =G7/E7*100 -> 0
C8: 급여 | E8: 78161000 | F8: ='인건비총계표(보조금)'!F676 -> 78161000 | G8: =F8-E8 -> 0 | H8: =G8/E8*100 -> 0 | I8: 종사자인건비 총계표 참조
C9: 제수당 | D9: 소계 | E9: 57149600 | F9: =SUM(F10:F13) -> 57149600 | G9: =F9-E9 -> 0 | H9: =G9/E9*100 -> 0 | I9: 종사자인건비 총계표 참조
D10: 명절휴가비 | E10: 7817400 | F10: ='인건비총계표(보조금)'!M676 -> 7817400 | G10: =F10-E10 -> 0 | H10: =G10/E10*100 -> 0
D11: 연장근로수당 | E11: 21756400 | F11: ='인건비총계표(보조금)'!R676 -> 21756400 | G11: =F11-E11 -> 0 | H11: =G11/E11*100 -> 0
D12: 가족수당 | E12: 1200000 | F12: ='인건비총계표(보조금)'!O676 -> 1200000 | G12: =F12-E12 -> 0 | H12: =G12/E12*100 -> 0
D13: 연장추가 지원수당 | E13: 26375800 | F13: ='인건비총계표(보조금)'!S5+'인건비총계표(보조금)'!S676 -> 26375800 | G13: =F13-E13 -> 0 | H13: =G13/E13*100 -> 0
C14: 퇴직적립금 | E14: 9178460 | F14: ='인건비총계표(보조금)'!W676 -> 9178460 | G14: =F14-E14 -> 0 | H14: =G14/E14*100 -> 0
C15: 사회보험부담금 | D15: 소계 | E15: 10622240 | F15: =SUM(F16:F19) -> 10622240 | G15: =F15-E15 -> 0 | H15: =G15/E15*100 -> 0
D16: 건강보험 부담금 | E16: 3814500 | F16: ='인건비총계표(보조금)'!Y676+'인건비총계표(보조금)'!Z676 -> 3814500 | G16: =F16-E16 -> 0 | H16: =G16/E16*100 -> 0
D17: 국민연금 부담금 | E17: 4935400 | F17: ='인건비총계표(보조금)'!X676 -> 4935400 | G17: =F17-E17 -> 0 | H17: =G17/E17*100 -> 0
D18: 고용보험 부담금 | E18: 991240 | F18: ='인건비총계표(보조금)'!AA676 -> 991240 | G18: =F18-E18 -> 0 | H18: =G18/E18*100 -> 0
D19: 산재보험 부담금 | E19: 881100 | F19: ='인건비총계표(보조금)'!AB676 -> 881100 | G19: =F19-E19 -> 0 | H19: =G19/E19*100 -> 0
A20: 사업비 | B20: 계 | E20: 45740000 | F20: =SUM(F21,F25,F31,F33) -> 46160000 | G20: =F20-E20 -> 420000
C21: 7종운영지원사업비 | D21: 소계 | E21: 6600000 | F21: =SUM(F22:F24) -> 6600000 | G21: =F21-E21 -> 0
D22: 차량운영비 | E22: 3600000 | F22: 3600000 | G22: =F22-E22 -> 0 | H22: =G22/E22*100 -> 0 | I22: 300,000원 X 12개월 = 3,600,000원
D23: 환경개선사업 | E23: 0 | F23: 0 | G23: =F23-E23 -> 0 | H23: =G23/E23*100 -> #DIV/0! | I23: 7,000,000원 X 1개소 = 7,000,000원
D24: 간병인비 | E24: 3000000 | F24: 3000000 | G24: =F24-E24 -> 0 | H24: =G24/E24*100 -> 0 | I24: 200,000원*15회=3,000,000원
C25: 4종운영지원사업비 | D25: 소계 | E25: 32840000 | F25: =SUM(F26:F30) -> 32840000 | G25: =F25-E25 -> 0
D26: 입소자 부식비 | E26: 14600000 | F26: ='4종'!O5 -> 14600000 | G26: =F26-E26 -> 0 | I26: 500원 X 80명 X 365일
D27: 입소자 간식비 | E27: 4800000 | F27: ='4종'!O19 -> 4800000 | G27: =F27-E27 -> 0 | I27: 5,000원 X 80명 X 12개월
D28: 입소자 피복비 | E28: 6400000 | F28: ='4종'!O34 -> 6400000 | G28: =F28-E28 -> 0 | I28: 20,000원 X 80명 X 4회
D29: 입소자 특별급식비 | E29: 3840000 | F29: ='4종'!O35 -> 3840000 | G29: =F29-E29 -> 0 | I29: 12,000원 X 80명 X 4회
D30: 입소자 건강진단비 | E30: 3200000 | F30: ='4종'!O41 -> 3200000 | G30: =F30-E30 -> 0 | I30: 40,000원 X 80명 X 1회
C31: 재활프로그램사업비 | D31: 소계 | E31: 6300000 | F31: =F32 -> 6720000 | G31: =F31-E31 -> 420000
D32: 재활프로그램사업비 | E32: 6300000 | F32: 6720000 | G32: =F32-E32 -> 420000 | I32: 우리가 모여 해누리 카페2
C33: 추가지원사업비 | E33: 0 | F33: 0 | G33: =F33-E33 -> 0 | H33: =G33/E33*100 -> #DIV/0!
A34: 잡지출 | B34: 계 | E34: 113742 | F34: =F35 -> 66700 | G34: =F34-E34 -> -47042 | H34: =G34/E34*100 -> -41.358513
B35: 잡지출 | C35: 소계 | E35: 113742 | F35: =F36 -> 66700 | G35: =F35-E35 -> -47042 | H35: =G35/E35*100 -> -41.358513
C36: 잡지출 | E36: 113742 | F36: 66700 | G36: =F36-E36 -> -47042 | H36: =G36/E36*100 -> -41.358513
A37: 예비비및기타 | B37: 계 | E37: 11294958 | F37: =F38 -> 6082000 | G37: =F37-E37 -> -5212958 | H37: =G37/E37*100 -> -46.152965
B38: 보조금반환 | C38: 소계 | E38: 11294958 | F38: =F39 -> 6082000 | G38: =F38-E38 -> -5212958 | H38: =G38/E38*100 -> -46.152965
C39: 보조금반환 | E39: 11294958 | F39: ='다-1.도시(군)세입'!F23 -> 6082000 | G39: =F39-E39 -> -5212958 | H39: =G39/E39*100 -> -46.152965 | I39: 2018년 결산에 의한 보조금 반환액

Sheet 라-2.자부담세출
A1: 라. 세 출
A2: 3) 자부담 세출내역
I3: (단위:원)
A4: 과 목 | E4: =라.국도비세출!E4:E5 -> 전년도예산 ( A ) | F4: =라.국도비세출!F4:F5 -> 2020년예산 ( B ) | G4: 증감(B-A) | I4: 산 출 내 역
A5: 관 | B5: 항 | C5: 목 | D5: 세목 | G5: 금액 | H5: 비율(%) | T5: 이월금 포함
A6: 총 계 | E6: 225700000 | F6: =F7+F45+F50+F90+F87+F84 -> 226800000 | G6: =G7+G45+G50+G90+G87+G84 -> 1100000 | H6: =G6/E6*100 -> 0.48737262 | S6: ='다-2.자부담세입'!E6-'라-2.자부담세출'!F6 -> 0 | U6: =SUM(U7:U12) -> 211508600 | V6: =SUM(V7:V12) -> 191619660 | W6: =SUM(W32:W92) -> 170108600 | Z6: ='다-2.자부담세입'!E6 -> 226800000 | AB6: =F6-'다-2.자부담세입'!E6 -> 0 | AD6: ='다-2.자부담세입'!E6-'라-2.자부담세출'!F6 -> 0
A7: 사무비 | B7: 계 | E7: 92700000 | F7: =F8+F33+F38 -> 88800000 | G7: =F7-E7 -> -3900000 | H7: =G7/E7*100 -> -4.2071197 | T7: 유료입소 | U7: ='다-2.자부담세입'!E8 -> 134400000 | V7: =U41+U52+U75+U77+U78+U53 -> 86500000 | W7: =U7-V7 -> 47900000
B8: 인건비 | C8: 소계 | E8: 33511060 | F8: =F9+F10+F11+F12+F26+F27+F32 -> 33511060 | G8: =F8-E8 -> 0 | H8: =G8/E8*100 -> 0 | T8: 법인전입-승마 | U8: 0 | V8: =F80 -> 0 | W8: =U8-V8 -> 0 | Z8: =F6-Z6 -> 0
C9: 급여 | E9: 0 | F9: 0 | G9: =F9-E9 -> 0 | H9: =G9/E9*100 -> #DIV/0! | T9: 법인전입 | U9: 43648948 | V9: =F9+F10+F11+F12+F26+F27+T32+T41+T40+T42+T44+T47+T48+T49+T35+T37+T43+T75+T76+T77+T53+T90 -> 71660008 | W9: =U9-V9 -> -28011060
C10: 상여금 | E10: 0 | F10: 0 | G10: =F10-E10 -> 0 | H10: =G10/E10*100 -> #DIV/0! | T10: 잡수입-식대 | U10: 19000000 | V10: =V52 -> 19000000 | W10: =U10-V10 -> 0
C11: 일용잡급 | E11: 0 | F11: 0 | G11: =F11-E11 -> 0 | H11: =G11/E11*100 -> #DIV/0! | T11: 잡수입 | U11: 9283923 | V11: =V90+V87+V53+V40+V41+V42+V43+V44+V49+V34+V37+V78 -> 9283923 | W11: =U11-V11 -> 0
C12: 제수당 | D12: 소계 | E12: 19000000 | F12: =SUM(F13:F25) -> 19000000 | G12: =F12-E12 -> 0 | H12: =G12/E12*100 -> 0 | T12: 프로그램수입 | U12: 5175729 | V12: =V74+V75+V76+V77 -> 5175729 | W12: =U12-V12 -> 0
D13: 가계보조수당 | E13: 0 | F13: 0 | G13: =F13-E13 -> 0 | H13: =G13/E13*100 -> #DIV/0!
D14: 교통급식비 | E14: 0 | F14: 0 | G14: =F14-E14 -> 0 | H14: =G14/E14*100 -> #DIV/0!
D15: 명절휴가비 | E15: 0 | F15: 0 | G15: =F15-E15 -> 0 | H15: =G15/E15*100 -> #DIV/0!
D16: 생활복지사수당 | E16: 0 | F16: 0 | G16: =F16-E16 -> 0 | H16: =G16/E16*100 -> #DIV/0!
D17: 생활지도원수당 | E17: 0 | F17: 0 | G17: =F17-E17 -> 0 | H17: =G17/E17*100 -> #DIV/0!
D18: 조리.위생수당 | E18: 0 | F18: 0 | G18: =F18-E18 -> 0 | H18: =G18/E18*100 -> #DIV/0!
G19: =F19-E19 -> 0 | H19: =G19/E19*100 -> #DIV/0!
D20: 가족수당 | E20: 0 | F20: 0 | G20: =F20-E20 -> 0 | H20: =G20/E20*100 -> #DIV/0!
D21: 직책수당 | E21: 19000000 | F21: ='인건비총계표(자부담)'!S5 -> 19000000 | G21: =F21-E21 -> 0 | H21: =G21/E21*100 -> 0 | I21: 기관장(300,000원),사무국장(200,000원), 과장(150,000원,2명),팀장(100,000원, 8명)
E22: 0 | F22: 0 | G22: =F22-E22 -> 0 | H22: =G22/E22*100 -> #DIV/0!
E23: 0 | F23: 0 | G23: =F23-E23 -> 0 | H23: =G23/E23*100 -> #DIV/0!
E24: 0 | F24: 0 | G24: =F24-E24 -> 0 | H24: =G24/E24*100 -> #DIV/0!
E25: 0 | F25: 0 | G25: =F25-E25 -> 0 | H25: =G25/E25*100 -> #DIV/0!
C26: 퇴직금및 적립금 | E26: 1583330 | F26: ='인건비총계표(자부담)'!U5 -> 1583330 | G26: =F26-E26 -> 0 | H26: =G26/E26*100 -> 0
C27: 사회보험 부담비용 | D27: 소계 | E27: 927730 | F27: =SUM(F28:F31) -> 927730 | G27: =F27-E27 -> 0 | H27: =G27/E27*100 -> 0
D28: 건강보험부담금 | E28: 665930 | F28: ='인건비총계표(자부담)'!W5+'인건비총계표(자부담)'!X5-10 -> 665930 | G28: =F28-E28 -> 0 | H28: =G28/E28*100 -> 0 | I28: 건강보험보험료 : 19,000,000원*3.23% = 613,700원 장기요양보험료 : 581,400원*8.51% = 52,,230원 | S28: =ROUNDUP(F21*3.23%,-1) -> 613700 | T28: =ROUNDUP(S28*8.51%,-1) -> 52230 | U28: =SUM(S28:T28) -> 665930 | V28: =U28-F28 -> 0
D29: 국민연금부담금 | E29: 0 | F29: 0 | G29: =F29-E29 -> 0 | H29: =G29/E29*100 -> #DIV/0! | S29: =ROUNDUP(F22*3.12%,-1) -> 0
D30: 고용보험부담금 | E30: 138600 | F30: ='인건비총계표(자부담)'!Y5 -> 138600 | G30: =F30-E30 -> 0 | H30: =G30/E30*100 -> 0 | I30: 고용보험료 : 15,400,000원*0.9% = 138,600원 | S30: =F21-'인건비총계표(자부담)'!S7:S7 -> 15400000 | T30: =ROUNDUP(S30*0.9%,-1) -> 138600
D31: 산재보험부담금 | E31: 123200 | F31: ='인건비총계표(자부담)'!Z5 -> 123200 | G31: =F31-E31 -> 0 | H31: =G31/E31*100 -> 0 | I31: 산재보험료 : 15,400,000원*0.8% = 123,200원 | S31: =F21-'인건비총계표(자부담)'!S7:S7 -> 15400000 | T31: =ROUNDUP(S31*0.8%,-1) -> 123200
C32: 기타후생경비 | E32: 12000000 | F32: 12000000 | G32: =F32-E32 -> 0 | H32: =G32/E32*100 -> 0 | I32: 종사자체육대회,기타상해보험,해외연수등복리후생비 등 | S32: 법인 | T32: =F32 -> 12000000 | W32: =T32+U32+V32 -> 12000000
B33: 업무 추진비 | C33: 소계 | E33: 2000000 | F33: =SUM(F34:F37) -> 2000000 | G33: =F33-E33 -> 0 | H33: =G33/E33*100 -> 0 | W33: =T33+U33+V33 -> 0
C34: 기관운영비 | E34: 0 | F34: 0 | G34: =F34-E34 -> 0 | H34: =G34/E34*100 -> #DIV/0! | S34: 기타 | V34: 300000 | W34: =T34+U34+V34 -> 300000
C35: 직책보조비 | E35: 0 | F35: 0 | G35: =F35-E35 -> 0 | H35: =G35/E35*100 -> #DIV/0! | T35: =F35 -> 0 | W35: =T35+U35+V35 -> 0
C36: 홍보비 | E36: 0 | F36: 0 | G36: =F36-E36 -> 0 | H36: =G36/E36*100 -> #DIV/0! | W36: =T36+U36+V36 -> 0
C37: 회의비 | E37: 2000000 | F37: 2000000 | G37: =F37-E37 -> 0 | H37: =G37/E37*100 -> 0 | I37: 인권지킴이, 운영위원회등 경비 | S37: 기타,법인 | T37: 1000000 | V37: 1000000 | W37: =T37+U37+V37 -> 2000000
B38: 운영비 | C38: 소계 | E38: 57188940 | F38: =SUM(F39:F44) -> 53288940 | G38: =F38-E38 -> -3900000 | H38: =G38/E38*100 -> -6.8195004 | W38: =T38+U38+V38 -> 0
C39: 여비 | E39: 0 | F39: 0 | G39: =F39-E39 -> 0 | H39: 0 | W39: =T39+U39+V39 -> 0
C40: 수용비및 수수료 | E40: 5688940 | F40: 5688940 | G40: =F40-E40 -> 0 | H40: =G40/E40*100 -> 0 | I40: 사무용품비, 인쇄비, 수수료 등 | S40: 기타,법인 | T40: 324677 | V40: 223923 | W40: =T40+U40+V40 -> 548600
...

Sheet 라-3.후원금세출
A1: 라. 세 출
A2: 4) 후원금 세출내역
I3: (단위:원) | T3: =T6/V6 -> 0.66280027 | U3: =U6/V6 -> 0.33719973 | V3: =SUM(T3:U3) -> 1
A4: 과 목 | E4: ='라-2.자부담세출'!E4:E5 -> 전년도예산 ( A ) | F4: ='라-2.자부담세출'!F4:F5 -> 2020년예산 ( B ) | G4: 증감(B-A) | I4: 산 출 내 역 | T4: 직접 | U4: 간접 | V4: 계
A5: 관 | B5: 항 | C5: 목 | D5: 세목 | G5: 금액 | H5: 비율(%)
A6: 총 계 | E6: 389800000 | F6: =F7+F47+F52+F92+F89 -> 380700000 | G6: =G7+G47+G52+G92+G89 -> -9100000 | H6: =G6/E6*100 -> -2.3345305 | T6: =SUM(T7:T97) -> 252678060 | U6: =SUM(U7:U97) -> 128550000 | V6: =SUM(T6:U6) -> 381228060
A7: 사무비 | B7: 계 | E7: 179703000 | F7: =F8+F33+F38 -> 172220000 | G7: =G8+G33+G38 -> -7483000 | H7: =G7/E7*100 -> -4.164093 | V7: ='다-3.후원금세입'!E6-'라-3.후원금세출'!F6 -> 0
B8: 인건비 | C8: 소계 | E8: 50705030 | F8: =F9+F10+F11+F12+F26+F27+F32 -> 50705030 | G8: =F8-E8 -> 0 | H8: =G8/E8*100 -> 0 | X8: ='다-3.후원금세입'!E6 -> 380700000
C9: 급여 | E9: 10000000 | F9: 10000000 | G9: =F9-E9 -> 0 | H9: =G9/E9*100 -> 0 | T9: =F9 -> 10000000 | X9: =X8-F6 -> 0
C10: 상여금 | E10: 0 | F10: ='인건비총계표(후원금)'!G49+'인건비총계표(후원금)'!J49+'인건비총계표(후원금)'!H49 -> 0 | G10: =F10-E10 -> 0 | H10: =G10/E10*100 -> #DIV/0! | T10: =F10 -> 0
C11: 일용잡급 | E11: 9600000 | F11: 9600000 | G11: =F11-E11 -> 0 | H11: =G11/E11*100 -> 0 | I11: 식당보조원 1명(1일 100,000 X 월8일) X 12개월 | T11: =F11 -> 9600000 | X11: =X8-F6 -> 0
C12: 제수당 | D12: 소계 | E12: 0 | F12: =SUM(F13:F25) -> 0 | G12: =F12-E12 -> 0 | H12: =G12/E12*100 -> #DIV/0! | T12: =F12 -> 0
D13: 가계보조수당 | E13: 0 | F13: ='인건비총계표(후원금)'!K49 -> 0 | G13: =F13-E13 -> 0 | H13: =G13/E13*100 -> #DIV/0!
D14: 교통급식비 | E14: 0 | F14: ='인건비총계표(후원금)'!L6+'인건비총계표(후원금)'!L49 -> 0 | G14: =F14-E14 -> 0 | H14: =G14/E14*100 -> #DIV/0!
D15: 명절휴가비 | E15: 0 | F15: ='인건비총계표(후원금)'!M49 -> 0 | G15: =F15-E15 -> 0 | H15: =G15/E15*100 -> #DIV/0!
D16: 생활복지사수당 | E16: 0 | F16: 0 | G16: =F16-E16 -> 0 | H16: =G16/E16*100 -> #DIV/0!
D17: 생활지도원수당 | E17: 0 | F17: ='인건비총계표(후원금)'!N49 -> 0 | G17: =F17-E17 -> 0 | H17: =G17/E17*100 -> #DIV/0!
D18: 조리.위생수당 | E18: 0 | F18: 0 | G18: =F18-E18 -> 0 | H18: =G18/E18*100 -> #DIV/0!
D19: 연장근로수당 | E19: 0 | F19: ='인건비(후원금)'!L5 -> 0 | G19: =F19-E19 -> 0 | H19: =G19/E19*100 -> #DIV/0! | I19: 직원 처우개선비에 따른 연장근로수당
D20: 가족수당 | E20: 0 | F20: ='인건비총계표(후원금)'!O49 -> 0 | G20: =F20-E20 -> 0 | H20: =G20/E20*100 -> #DIV/0!
D21: 직책보조비 | E21: 0 | F21: ='인건비총계표(후원금)'!R49 -> 0 | G21: =F21-E21 -> 0 | H21: =G21/E21*100 -> #DIV/0!
D22: 자가운전보조금 | E22: 0 | F22: 0 | G22: =F22-E22 -> 0 | H22: =G22/E22*100 -> #DIV/0!
D23: 특수근무수당(도) | E23: 0 | F23: ='인건비총계표(후원금)'!S49 -> 0 | G23: =F23-E23 -> 0 | H23: =G23/E23*100 -> #DIV/0!
D24: 처우개선비 | E24: 0 | F24: 0 | G24: =F24-E24 -> 0 | H24: =G24/E24*100 -> #DIV/0!
D25: 보전수당 | G25: =F25-E25 -> 0 | H25: =G25/E25*100 -> #DIV/0!
C26: 퇴직금및 적립금 | E26: 600000 | F26: 600000 | G26: =F26-E26 -> 0 | H26: =G26/E26*100 -> 0 | T26: =F26 -> 600000
C27: 사회보험 부담비용 | D27: 소계 | E27: 505030 | F27: =SUM(F28:F31) -> 505030 | G27: =F27-E27 -> 0 | H27: =G27/E27*100 -> 0 | T27: =F27 -> 505030
D28: 건강보험 부담금 | E28: 335030 | F28: =U28 -> 335030 | G28: =F28-E28 -> 0 | H28: =G28/E28*100 -> 0 | I28: 건강보험보험료 : 10,000,000원*3.12% = 312,000원 장기요양보험료 : 312,000원*7.38% = 23,030원 | S28: =ROUNDUP(F9*3.12%,-1) -> 312000 | T28: =ROUNDUP(S28*7.38%,-1) -> 23030 | U28: =SUM(S28:T28) -> 335030
D29: 국민연금부담금 | E29: 0 | F29: ='인건비총계표(후원금)'!W49 -> 0 | G29: =F29-E29 -> 0 | H29: =G29/E29*100 -> #DIV/0! | S29: =ROUNDUP(F22*3.12%,-1) -> 0
D30: 고용보험 부담금 | E30: 90000 | F30: =T30 -> 90000 | G30: =F30-E30 -> 0 | H30: =G30/E30*100 -> 0 | I30: 고용보험료 : 10,000,000원*0.9% = 90,000원 | S30: =F9 -> 10000000 | T30: =ROUNDUP(S30*0.9%,-1) -> 90000
D31: 산재보험 부담금 | E31: 80000 | F31: =T31 -> 80000 | G31: =F31-E31 -> 0 | H31: =G31/E31*100 -> 0 | I31: 산재보험료 : 10,000,000원*0.8% = 80,000원 | S31: =F9 -> 10000000 | T31: =ROUNDUP(S31*0.8%,-1) -> 80000
C32: 기타후생경비 | E32: 30000000 | F32: 30000000 | G32: =F32-E32 -> 0 | H32: =G32/E32*100 -> 0 | I32: 직원 동아리지원 및 역량강화훈련비,보수교육비 등 | T32: =F32 -> 30000000
B33: 업무추진비 | C33: 소계 | E33: 0 | F33: =SUM(F34:F37) -> 0 | G33: =F33-E33 -> 0 | H33: =G33/E33*100 -> #DIV/0! | U33: =F33 -> 0
C34: 기관운영비 | E34: 0 | F34: 0 | G34: =F34-E34 -> 0 | H34: =G34/E34*100 -> #DIV/0!
C35: 직책보조비 | E35: 0 | F35: 0 | G35: =F35-E35 -> 0 | H35: =G35/E35*100 -> #DIV/0!
C36: 홍보비 | E36: 0 | F36: 0 | G36: =F36-E36 -> 0 | H36: =G36/E36*100 -> #DIV/0!
C37: 회의비 | E37: 0 | F37: 0 | G37: =F37-E37 -> 0 | H37: =G37/E37*100 -> #DIV/0!
B38: 운영비 | C38: 소계 | E38: 128997970 | F38: =SUM(F39,F40,F43:F46) -> 121514970 | G38: =F38-E38 -> -7483000 | H38: =G38/E38*100 -> -5.8008665
C39: 여비 | E39: 5000000 | F39: 5000000 | G39: =F39-E39 -> 0 | H39: =G39/E39*100 -> 0 | I39: 교육참가비 및 여비 등 | U39: =F39 -> 5000000
C40: 수용비및 수수료 | D40: 소계 | E40: 44997970 | F40: =SUM(F41:F42) -> 40514970 | G40: =F40-E40 -> -4483000 | H40: =G40/E40*100 -> -9.9626716 | I40: CMS관리/소모품구입 | U40: =F40 -> 40514970
...

Sheet 마.개요
A1: 마. 세입·세출 개요
E2: (단위:원)
A3: 구 분 | B3: 세 입 | D3: 세 출
A4: 총 계 | B4: =C5+C18+C26 -> 3230720000 | D4: =E5+E18+E26 -> 3230720000 | F4: =B4-'나.세입세출(총괄)'!E6 -> 0
A5: 보 조 금 | B5: 소계 | C5: =SUM(C6:C11) -> 2623220000 | D5: 소계 | E5: =SUM(E6:E17) -> 2623220000
B6: 국고보조금 | C6: =다.국도시세입!F15 -> 1672616764 | D6: 인건비 | E6: =라.국도비세출!F8+'라-1.도시(군)세출'!F7 -> 2309031180
B7: =다.국도시세입!C20 -> 시도보조금 | C7: =다.국도시세입!F20+'다-1.도시(군)세입'!F13 -> 918707056 | D7: 운영비 | E7: =라.국도비세출!F22+라.국도비세출!F26+라.국도비세출!F36+라.국도비세출!F47 -> 91670000
B8: =다.국도시세입!B25 -> 기타보조금 | C8: =다.국도시세입!F25 -> 0 | D8: 생계비 | E8: =라.국도비세출!F43 -> 134362640
B9: =다.국도시세입!B33 -> 이월금 | C9: =다.국도시세입!F33+'다-1.도시(군)세입'!F22 -> 31287000 | D9: 사업비 | E9: =라.국도비세출!F50+'라-1.도시(군)세출'!F20 -> 56260000
B10: =다.국도시세입!B37 -> 잡수입 | C10: =다.국도시세입!F37+'다-1.도시(군)세입'!F28 -> 609180 | D10: 잡지출 | E10: =라.국도비세출!F57+'라-1.도시(군)세출'!F36 -> 609180
B11: - | C11: 0 | D11: 보조금반환 | E11: =라.국도비세출!F59+'다-1.도시(군)세입'!F23 -> 31287000
A18: 자 부 담 | B18: 소계 | C18: =SUM(C19:C23) -> 226800000 | D18: 소계 | E18: =SUM(E19:E25) -> 226800000
B19: 입소자부담금수입 | C19: ='다-2.자부담세입'!E8 -> 134400000 | D19: 인건비 | E19: ='라-2.자부담세출'!F8 -> 33511060
B20: 사업수입 | C20: ='다-2.자부담세입'!E10 -> 0 | D20: 사무비 (업무추진비,운영비) | E20: ='라-2.자부담세출'!F33+'라-2.자부담세출'!F38 -> 55288940
B21: 법인전입금 | C21: ='다-2.자부담세입'!E23 -> 40000000 | D21: 재산조성비 | E21: ='라-2.자부담세출'!F45 -> 5000000
B22: 이월금 | C22: ='다-2.자부담세입'!E26 -> 6300000 | D22: 사업비 | E22: ='라-2.자부담세출'!F50 -> 133000000
B23: 잡수입 | C23: ='다-2.자부담세입'!E30 -> 46100000 | D23: 잡지출 | E23: ='라-2.자부담세출'!F85 -> 0
C24: 0 | E24: ='라-2.자부담세출'!F87 -> 0
C25: 0 | E25: ='라-2.자부담세출'!F90 -> 0
A26: 후 원 금 | B26: 소계 | C26: =SUM(C27:C31) -> 380700000 | D26: 소계 | E26: =SUM(E27:E34) -> 380700000
B27: 지정후원금수입 | C27: ='다-3.후원금세입'!E18 -> 14200000 | D27: 사무비 (인건비) | E27: ='라-3.후원금세출'!F8 -> 50705030
B28: 비지정후원금수입 | C28: ='다-3.후원금세입'!E19 -> 350000000 | D28: 사무비 (업무추진비,운영비) | E28: ='라-3.후원금세출'!F33+'라-3.후원금세출'!F38 -> 121514970
B29: - | C29: 0 | D29: 재산조성비 | E29: ='라-3.후원금세출'!F47 -> 150900000
B30: 전년도후원금이월금 | C30: ='다-3.후원금세입'!E30 -> 15900000 | D30: 사업비 | E30: ='라-3.후원금세출'!F52 -> 56780000
B31: 잡수입 | C31: ='다-3.후원금세입'!E33 -> 600000 | D31: 과년도지출 | E31: ='라-3.후원금세출'!F89 -> 800000
E67: 0

Sheet 바.증감사유
A1: 바. 증감사유
N2: (단위:원)
A3: 세 입 | H3: 세 출
A4: 과 목 | D4: ='라-3.후원금세출'!E4:E5 -> 전년도예산 ( A ) | E4: ='라-2.자부담세출'!F4:F5 -> 2020년예산 ( B ) | F4: 증감 (B-A) | G4: 증감사유 | H4: 과 목 | K4: =D4 -> 전년도예산 ( A ) | L4: =E4 -> 2020년예산 ( B ) | M4: 증감 (B-A) | N4: 증감사유
A5: 관 | B5: 항 | C5: 목 | H5: 관 | I5: 항 | J5: 목
A6: 총 계 | D6: 3319000000 | E6: =E7+E13+E16+E36+E39+E43+E10+E30 -> 3230720000 | F6: =E6-D6 -> -88280000 | H6: 총 계 | K6: 3319000000 | L6: =SUM(L7,L24,L29,L44,L47,L50) -> 3230720000 | M6: =L6-K6 -> -88280000 | P6: =L6-E6 -> 0
A7: 입소자 부담금 | B7: 계 | D7: 134400000 | E7: =E8 -> 134400000 | F7: =E7-D7 -> 0 | H7: 사무비 | I7: 계 | K7: 2640134180 | L7: =SUM(L8,L15,L17) -> 2628751180 | M7: =L7-K7 -> -11383000
B8: 입소비용수입 | C8: 소계 | D8: 134400000 | E8: =E9 -> 134400000 | F8: =E8-D8 -> 0 | I8: 인건비 | J8: 소계 | K8: 2393247270 | L8: =SUM(L9:L14) -> 2393247270 | M8: =L8-K8 -> 0
C9: 입소비용수입 | D9: 134400000 | E9: ='다-2.자부담세입'!E9 -> 134400000 | F9: =E9-D9 -> 0 | J9: 급여 | K9: 1479465000 | L9: =라.국도비세출!F9+'라-3.후원금세출'!F9+'라-1.도시(군)세출'!F8 -> 1479465000 | M9: =L9-K9 -> 0
A10: 사업수입 | B10: 계 | D10: 0 | E10: =E11 -> 0 | F10: =E10-D10 -> 0 | J10: 제수당 | K10: 509510880 | L10: =라.국도비세출!F10+'라-3.후원금세출'!F12+'라-2.자부담세출'!F12+'라-1.도시(군)세출'!F9 -> 509510880 | M10: =L10-K10 -> 0
B11: 사업수입 | C11: 소계 | D11: 0 | E11: =E12 -> 0 | F11: =E11-D11 -> 0 | J11: 퇴직금및 퇴직적립금 | K11: 164978100 | L11: =라.국도비세출!F15+'라-3.후원금세출'!F26+'라-2.자부담세출'!F26+'라-1.도시(군)세출'!F14 -> 164978100 | M11: =L11-K11 -> 0
C12: 프로그램사업수입 | D12: 0 | E12: ='다-2.자부담세입'!E12 -> 0 | F12: =E12-D12 -> 0 | J12: 사회보험 부담비용 | K12: 187693290 | L12: =라.국도비세출!F16+'라-3.후원금세출'!F27+'라-2.자부담세출'!F27+'라-1.도시(군)세출'!F15 -> 187693290 | M12: =L12-K12 -> 0
A13: 과년도수입 | B13: 계 | D13: 0 | E13: =E14 -> 0 | F13: =E13-D13 -> 0 | J13: 일용잡금 | K13: 9600000 | L13: ='라-3.후원금세출'!F11 -> 9600000 | M13: =L13-K13 -> 0
B14: 과년도수입 | C14: 소계 | D14: 0 | E14: =E15 -> 0 | F14: =E14-D14 -> 0 | J14: 기타후생경비 | K14: 42000000 | L14: =라.국도비세출!F21+'라-2.자부담세출'!F32+'라-3.후원금세출'!F32 -> 42000000 | M14: =L14-K14 -> 0
C15: 과년도수입 | D15: 0 | E15: =다.국도시세입!F12+'다-2.자부담세입'!E15 -> 0 | F15: =E15-D15 -> 0 | I15: 업무추진비 | J15: 소계 | K15: 2490000 | L15: ='나.세입세출(총괄)'!L15 -> 2490000 | M15: =L15-K15 -> 0
A16: 보조금수입 | B16: 계 | D16: 2651468750 | E16: =E17+E21+E23+E28 -> 2591323820 | F16: =E16-D16 -> -60144930 | J16: 회의비 | K16: 2490000 | L16: =라.국도비세출!F25+'라-2.자부담세출'!F37+'라-3.후원금세출'!F37 -> 2490000 | M16: =L16-K16 -> 0
B17: =다.국도시세입!B14 -> 보조금수입 | C17: 소계 | D17: 2651468750 | E17: =SUM(E18:E20) -> 2591323820 | F17: =E17-D17 -> -60144930 | I17: 운영비 | J17: 소계 | K17: 244396910 | L17: =SUM(L18:L23) -> 233013910 | M17: =L17-K17 -> -11383000
C18: 국도보조금 | D18: 1703326015 | E18: ='나.세입세출(총괄)'!E18 -> 1672616764 | F18: =E18-D18 -> -30709251 | G18: 2019년 기능보강사업 종료에 따른 차액발생/ 수급자변동에의한 생계비 차액발생 | J18: 여비 | K18: 5000000 | L18: =라.국도비세출!F27+'라-3.후원금세출'!F39 -> 5000000 | M18: =L18-K18 -> 0
C19: =다.국도시세입!C20 -> 시도보조금 | D19: 941842735 | E19: ='나.세입세출(총괄)'!E19 -> 911987056 | F19: =E19-D19 -> -29855679 | G19: 2019년 기능보강사업 종료에 따른 차액발생 | J19: 수용비및 수수료 | K19: 59771080 | L19: =라.국도비세출!F28+'라-2.자부담세출'!F40+'라-3.후원금세출'!F40 -> 55288080 | M19: =L19-K19 -> -4483000 | N19: 전년도 지출대비 예산편성
C20: =다.국도시세입!C26 -> 기타보조금 | D20: 6300000 | E20: ='다-1.도시(군)세입'!F20 -> 6720000 | F20: =E20-D20 -> 420000 | G20: 2020년 재활프로그램 중증장애인의 직업능력개발을 위한 목공프로그램 “우드잡 woodjob” 선정 | J20: 공공요금 | K20: 126000000 | L20: =라.국도비세출!F29+'라-2.자부담세출'!F41+'라-3.후원금세출'!F43 -> 119100000 | M20: =L20-K20 -> -6900000 | N20: 전년도 지출대비 예산편성
D21: 0 | E21: 0 | F21: =E21-D21 -> 0 | J21: 제세공과금 | K21: 13625830 | L21: =라.국도비세출!F30+'라-2.자부담세출'!F42+'라-3.후원금세출'!F44 -> 13625830 | M21: =L21-K21 -> 0
D22: 0 | E22: 0 | F22: =E22-D22 -> 0 | J22: 차량비 | K22: 26000000 | L22: =라.국도비세출!F34+'라-2.자부담세출'!F43+'라-3.후원금세출'!F45 -> 26000000 | M22: =L22-K22 -> 0
D23: 0 | E23: =SUM(E24:E27) -> 0 | F23: =E23-D23 -> 0 | J23: 기타운영비 | K23: 14000000 | L23: =라.국도비세출!F35+'라-2.자부담세출'!F44+'라-3.후원금세출'!F46 -> 14000000 | M23: =L23-K23 -> 0
D24: 0 | E24: =다.국도시세입!F28 -> 0 | F24: =E24-D24 -> 0 | H24: 재산조성비 | I24: 계 | K24: 162000000 | L24: =SUM(L25) -> 167900000 | M24: =L24-K24 -> 5900000
D25: 0 | E25: =다.국도시세입!F29 -> 0 | F25: =E25-D25 -> 0 | I25: 시설비 | J25: 소계 | K25: 162000000 | L25: =SUM(L26:L28) -> 167900000 | M25: =L25-K25 -> 5900000
D26: 0 | E26: =다.국도시세입!F30 -> 0 | F26: =E26-D26 -> 0 | J26: 시설비 | K26: 10000000 | L26: =라.국도비세출!F38+'라-2.자부담세출'!F47+'라-3.후원금세출'!F49 -> 10000000 | M26: =L26-K26 -> 0
D27: 0 | E27: =다.국도시세입!F31 -> 0 | F27: =E27-D27 -> 0 | J27: 자산취득비 | K27: 20000000 | L27: =라.국도비세출!F39+'라-2.자부담세출'!F48+'라-3.후원금세출'!F50 -> 65900000 | M27: =L27-K27 -> 45900000 | N27: - 음식물처리기(18,700,000), - 식기세척기(13,000,000), - 컨벤션오븐(20,000,000), - CCTV설치(28,000,000)등 예산반영 - 25인승 버스할부금(매월 1,047,100원)
D28: 0 | E28: =E29 -> 0 | F28: =E28-D28 -> 0 | J28: 시설장비 유지비 | K28: 132000000 | L28: =라.국도비세출!F40+'라-2.자부담세출'!F49+'라-3.후원금세출'!F51 -> 92000000 | M28: =L28-K28 -> -40000000 | N28: 자산취득비 부족분 충당 시설장비유지비 예산감액
D29: 0 | E29: ='다-3.후원금세입'!E14 -> 0 | F29: =E29-D29 -> 0 | H29: 사업비 | I29: 계 | K29: 462937570 | L29: =SUM(L30,L35,L42) -> 401372640 | M29: =L29-K29 -> -61564930
A30: 후원금 | B30: 계 | D30: 364200000 | E30: =E31+E34 -> 364200000 | F30: =E30-D30 -> 0 | I30: 운영비 | J30: 소계 | K30: 256466570 | L30: =SUM(L31:L34) -> 254332640 | M30: =L30-K30 -> -2133930
B31: 후원금수입 | C31: 소계 | D31: 364200000 | E31: =E32+E33 -> 364200000 | F31: =E31-D31 -> 0 | J31: 생계비 | K31: 211496570 | L31: =라.국도비세출!F44+라.국도비세출!F45+라.국도비세출!F46+'라-2.자부담세출'!F52+'라-3.후원금세출'!F54 -> 209362640 | M31: =L31-K31 -> -2133930 | N31: 수급자 변동에 따른 예산 편성
C32: 지정후원금 | D32: 14200000 | E32: ='다-3.후원금세입'!E18 -> 14200000 | F32: =E32-D32 -> 0 | J32: 피복비 | K32: 4000000 | L32: ='라-2.자부담세출'!F53 -> 4000000 | M32: =L32-K32 -> 0
C33: 비지정후원금 | D33: 350000000 | E33: ='다-3.후원금세입'!E19 -> 350000000 | F33: =E33-D33 -> 0 | J33: ='라-2.자부담세출'!C54 -> 수용기관경비 | K33: 37970000 | L33: =라.국도비세출!F47+'라-2.자부담세출'!F54+'라-3.후원금세출'!F55 -> 37970000 | M33: =L33-K33 -> 0
D34: 0 | E34: =E35 -> 0 | F34: =E34-D34 -> 0 | J34: 의료비 | K34: 3000000 | L34: ='라-2.자부담세출'!F57+'라-3.후원금세출'!F59 -> 3000000 | M34: =L34-K34 -> 0
D35: 0 | E35: ='다-3.후원금세입'!E20 -> 0 | F35: =E35-D35 -> 0 | I35: 사업비 | J35: 소계 | K35: 204971000 | L35: =SUM(L36:L41) -> 145540000 | M35: =L35-K35 -> -59431000
A36: 전입금 | B36: 계 | D36: 40000000 | E36: =E37 -> 40000000 | F36: =E36-D36 -> 0 | J36: 사회심리 재활사업비 | K36: 93000000 | L36: =라.국도비세출!F51+'라-2.자부담세출'!F75+'라-3.후원금세출'!F78 -> 89000000 | M36: =L36-K36 -> -4000000 | N36: 거주인 개별화 서비스 및 문화체험등 실지출 반영 예산편성
B37: 전입금 | C37: 소계 | D37: 40000000 | E37: =E38 -> 40000000 | F37: =E37-D37 -> 0 | J37: 직 업 재 활 사 업 비 | K37: 5000000 | L37: ='라-2.자부담세출'!F77+'라-3.후원금세출'!F80 -> 5000000 | M37: =L37-K37 -> 0
C38: 법인전입금 | D38: 40000000 | E38: ='다-2.자부담세입'!E25 -> 40000000 | F38: =E38-D38 -> 0 | J38: 4종운영 지원사업비 | K38: 32840000 | L38: ='라-1.도시(군)세출'!F25 -> 32840000 | M38: =L38-K38 -> 0
A39: 이월금 | B39: 계 | D39: 81659584 | E39: =E40 -> 53487000 | F39: =E39-D39 -> -28172584 | J39: 7종운영 지원사업비 | K39: 6600000 | L39: ='라-1.도시(군)세출'!F21 -> 6600000 | M39: =L39-K39 -> 0
B40: 이월금 | C40: 소계 | D40: 81659584 | E40: =SUM(E41:E42) -> 53487000 | F40: =E40-D40 -> -28172584 | J40: 재활프로그램 사업비 | K40: 7000000 | L40: ='라-1.도시(군)세출'!F32+'라-3.후원금세출'!F81 -> 10000000 | M40: =L40-K40 -> 3000000 | N40: 2020년 재활프로그램 중증장애인의 직업능력개발을 위한 목공프로그램 “우드잡 woodjob” 선정
...

Sheet 예산증감내역
A1: 둘다섯해누리 2015년 2차추가경정 예산(안) 증감 내역
A3: 세 입
A4: 과 목 | D4: 2015년도 당초예산 ( A ) | E4: 2015년도 1차추경 ( B ) | F4: 증감 | G4: 내 용
A5: 관 | B5: 항 | C5: 목
A6: 총 계 | D6: =SUM(D7:D27) -> 3319000000 | E6: =SUM(E7:E27) -> 3230720000 | F6: =SUM(F7:F27) -> -88280000
A7: 입소자부담금 | B7: 입소비용수입 | C7: 입소비용수입 | D7: ='나.세입세출(총괄)'!D7 -> 134400000 | E7: ='나.세입세출(총괄)'!E7 -> 134400000 | F7: =E7-D7 -> 0
A8: 사업수입 | B8: 사업수입 | C8: 프로그램사업수입 | D8: 0 | E8: ='나.세입세출(총괄)'!E10 -> 0 | F8: =E8-D8 -> 0
A9: 과년도수입 | B9: 과년도수입 | C9: 과년도수입 | D9: 0 | E9: ='나.세입세출(총괄)'!E13 -> 0 | F9: =E9-D9 -> 0
A10: 보조금수입 | B10: 경상보조금수입 | C10: 인건비 | D10: ='나.세입세출(총괄)'!D18 -> 1703326015 | E10: ='나.세입세출(총괄)'!E18 -> 1672616764 | F10: =E10-D10 -> -30709251 | G10: 인건비 호봉승급에 따른 예산증액
C11: 운영비 | D11: ='나.세입세출(총괄)'!D19 -> 941842735 | E11: ='나.세입세출(총괄)'!E19 -> 911987056 | F11: =E11-D11 -> -29855679 | G11: 실수입대비 예산 감액
C12: 생계비 | D12: ='나.세입세출(총괄)'!D20 -> 6300000 | E12: ='나.세입세출(총괄)'!E20 -> 6720000 | F12: =E12-D12 -> 420000 | G12: 실수입대비 예산증액
B13: 자본보조금수입 | C13: 자본보조금 | D13: 0 | E13: ='나.세입세출(총괄)'!E21 -> 0 | F13: =E13-D13 -> 0
B14: 기타보조금 | C14: 재활프로그램사업비 | D14: 0 | E14: ='나.세입세출(총괄)'!E24 -> 0 | F14: =E14-D14 -> 0 | G14: 2015년 재활프로그램 사업
C15: 공동모금회사업비 | D15: 0 | E15: ='나.세입세출(총괄)'!E25 -> 0 | F15: =E15-D15 -> 0
D16: 0 | E16: ='나.세입세출(총괄)'!E26 -> 0 | F16: =E16-D16 -> 0
D17: 0 | E17: ='나.세입세출(총괄)'!E27 -> 0 | F17: =E17-D17 -> 0
B18: 후원금수입 | C18: 후원금수입 | D18: 0 | E18: ='나.세입세출(총괄)'!E28 -> 0 | F18: =E18-D18 -> 0
A19: 후원금 | B19: 후원금수입 | C19: 지정후원금 | D19: ='나.세입세출(총괄)'!D32 -> 14200000 | E19: ='나.세입세출(총괄)'!E32 -> 14200000 | F19: =E19-D19 -> 0 | G19: 공동모금회 지정후원금 실수입 대비 예산 감액
C20: 비지정후원금 | D20: ='나.세입세출(총괄)'!D33 -> 350000000 | E20: ='나.세입세출(총괄)'!E33 -> 350000000 | F20: =E20-D20 -> 0
B21: 결연후원금수입 | C21: 결연후원금 | D21: ='나.세입세출(총괄)'!D34 -> 0 | E21: ='나.세입세출(총괄)'!E34 -> 0 | F21: =E21-D21 -> 0
A22: 전입금 | B22: 전입금 | C22: 법인전입금 | D22: ='나.세입세출(총괄)'!D36 -> 40000000 | E22: ='나.세입세출(총괄)'!E36 -> 40000000 | F22: =E22-D22 -> 0
A23: 이월금 | B23: 이월금 | C23: 전년도이월금 | D23: ='나.세입세출(총괄)'!D41 -> 81659584 | E23: ='나.세입세출(총괄)'!E41 -> 53487000 | F23: =E23-D23 -> -28172584 | G23: 실제 이월금 발생액
C24: 이월사업비 | D24: ='나.세입세출(총괄)'!D42 -> 0 | E24: ='나.세입세출(총괄)'!E42 -> 0 | F24: =E24-D24 -> 0
A25: 잡수입 | B25: 잡수입 | C25: 불용품매각대 | D25: ='나.세입세출(총괄)'!D45 -> 500000 | E25: ='나.세입세출(총괄)'!E45 -> 500000 | F25: =E25-D25 -> 0
C26: 기타예금이자수입 | D26: ='나.세입세출(총괄)'!D46 -> 1721666 | E26: ='나.세입세출(총괄)'!E46 -> 1759180 | F26: =E26-D26 -> 37514 | G26: 실수입대비 예산증액
C27: 기타잡수입 | D27: ='나.세입세출(총괄)'!D47 -> 45050000 | E27: ='나.세입세출(총괄)'!E47 -> 45050000 | F27: =E27-D27 -> 0
A30: 세 출
A31: 과 목 | D31: =D4 -> 2015년도 당초예산 ( A ) | E31: =E4 -> 2015년도 1차추경 ( B ) | F31: 증감 | G31: 내 용
A32: 관 | B32: 항 | C32: 목
A33: 총 계 | D33: =SUM(D34:D79) -> #REF! | E33: =SUM(E34:E79) -> #REF! | F33: =SUM(F34:F79) -> #REF!
A34: 사무비 | B34: 인건비 | C34: 급여 | D34: ='나.세입세출(총괄)'!K9 -> 1479465000 | E34: ='나.세입세출(총괄)'!L9 -> 1479465000 | F34: =E34-D34 -> 0 | G34: 인건비 호봉 승급에 따른 예산 증액
C35: 상여금 | D35: ='나.세입세출(총괄)'!#REF! -> #REF! | E35: ='나.세입세출(총괄)'!#REF! -> #REF! | F35: =E35-D35 -> #REF!
C36: 일용잡금 | D36: ='나.세입세출(총괄)'!K10 -> 9600000 | E36: ='나.세입세출(총괄)'!L10 -> 9600000 | F36: =E36-D36 -> 0
C37: 제수당 | D37: ='나.세입세출(총괄)'!K11 -> 509510880 | E37: ='나.세입세출(총괄)'!L11 -> 509510880 | F37: =E37-D37 -> 0 | G37: 인건비 호봉 승급에 따른 예산 증액
C38: 퇴직금및퇴직적립금 | D38: ='나.세입세출(총괄)'!K12 -> 164978100 | E38: ='나.세입세출(총괄)'!L12 -> 164978100 | F38: =E38-D38 -> 0 | G38: 인건비 호봉 승급에 따른 예산 증액
C39: 사회보험부담비용 | D39: ='나.세입세출(총괄)'!K13 -> 187693290 | E39: ='나.세입세출(총괄)'!L13 -> 187693290 | F39: =E39-D39 -> 0 | G39: 인건비 호봉 승급에 따른 예산 증액
C40: 기타후생경비 | D40: ='나.세입세출(총괄)'!K14 -> 42000000 | E40: ='나.세입세출(총괄)'!L14 -> 42000000 | F40: =E40-D40 -> 0 | G40: 실지출대비 예산 감액
B41: 업무추진비 | C41: 기관운영비 | D41: ='나.세입세출(총괄)'!#REF! -> #REF! | E41: ='나.세입세출(총괄)'!#REF! -> #REF! | F41: =E41-D41 -> #REF!
C42: 직책보조비 | D42: ='나.세입세출(총괄)'!#REF! -> #REF! | E42: ='나.세입세출(총괄)'!#REF! -> #REF! | F42: =E42-D42 -> #REF!
C43: 홍보비 | D43: ='나.세입세출(총괄)'!#REF! -> #REF! | E43: ='나.세입세출(총괄)'!#REF! -> #REF! | F43: =E43-D43 -> #REF!
...

Sheet 인건비총계표(보조금)
A1: ▣ 2020년 종사자 인건비 총계표
A3: (1) 국도시비 | AC3: (단위 : 원)
A4: 연 번 | B4: 직 종 | C4: 호 봉 | D4: 명 수 | E4: 구분 (월) | F4: 기본급 | G4: 기말수당 (50%씩 연4회 -3,6,9,12월) | H4: 정근수당 (1,7월) | I4: 처우개선비 (50,000원) | J4: 처우개선비 포함연장수당 | K4: 처우개선비 포함연장수당 | L4: 처우개선비 포함연장수당 | M4: 명절휴가비 (60%씩 연2회) | O4: 가족수당 (40,000원) (2만,6만,10만) | P4: 처우개선비 | Q4: 연장근로수당 | R4: 연장근로수당 (보수월액*1/ 209*1.5*20or40) | S4: 추가지원수당 (보수월액*1/ 209*1.5*5 | T4: 특수근무 수 당 (도비) | U4: 소 계 | V4: 비 고 | W4: 퇴직적립금 | X4: 국민연금 | Y4: 의료보험 | Z4: 의료보험 (장기요양보험) | AA4: 고용보험 | AB4: 산재보험 | AC4: 공제액합계
