Workbook
Name F: #REF!
Name F: #REF!
Name F: #REF!
Name F: #REF!
Name F: #REF!

Sheet 표지
A4: 2020년도
A11: 2020년 1차 추가경정
A12: 세입ㆍ세출 예산서(안)
A23: 천주교수원교구사회복지회
A24: 둘 다 섯 해 누 리
E67: 0

Sheet 가. 예산총칙
A2: 가. 예 산 총 칙
A4: 제1조 | B4: 본 예산(안)은 사회복지법인 천주교 수원교구 사회복지회 소속 장애인거주시설 '둘다섯해누리'의
B5: 2020년도(2020.01.01 ~ 2020.12.31) 예산으로
B6: 사회복지법인 및 사회복지시설 재무회계규칙 제9조 1항에 의한다.
A8: 제2조 | B8: 세입세출 예산 총액은 | D8: ='다. 세입내역서'!E6 -> 3.62915e+09 | E8: 원으로, | G8: 세입세출의 명세는 다음과 같다.
B10: 1. 세입의 주요재원은 다음과 같다. (관 기준)
B11: 1) | C11: 입소자부담금 | D11: ='나. 세입세출(총괄)'!E9 -> 134400000 | E11: 원 | G11: 2) | H11: 사업수입 | J11: 원
B12: 3) | C12: 보조금수입 | D12: ='나. 세입세출(총괄)'!E18 -> 2.9615715e+09 | E12: 원 | G12: 4) | H12: 후원금수입 | I12: ='나. 세입세출(총괄)'!E25 -> 378460000 | J12: 원
B13: 5) | C13: 차입금 | E13: 원 | G13: 6) | H13: 전입금 | I13: ='나. 세입세출(총괄)'!E31 -> 40000000 | J13: 원
B14: 7) | C14: 이월금 | D14: ='나. 세입세출(총괄)'!E35 -> 53404680 | E14: 원 | G14: 8) | H14: 잡수입 | I14: ='나. 세입세출(총괄)'!E46 -> 61313850 | J14: 원
B16: 2. 세출의 내용은 다음과 같다. (관 또는 항기준)
B17: 1) | C17: 사무비 | D17: ='나. 세입세출(총괄)'!L8 -> 2.9810364e+09 | E17: 원 | G17: 2) | H17: 재산조성비 | I17: ='나. 세입세출(총괄)'!L25 -> 229830000 | J17: 원
B18: 3) | C18: 사업비 | D18: ='나. 세입세출(총괄)'!L30 -> 408115000 | E18: 원 | G18: 4) | H18: 잡지출 | I18: ='나. 세입세출(총괄)'!L49 -> 615340 | J18: 원
B19: 5) | C19: 과년도지출 | D19: ='나. 세입세출(총괄)'!L46 -> 1040105 | E19: 원 | G19: 6) | H19: 예비비및기타 | I19: ='나. 세입세출(총괄)'!L52 -> 8513190 | J19: 원
B20: 7) | E20: 원
B22: 3. 명시이월 사업은 | G22: 이며, 예산은 | J22: 원이다.
B24: 4. 신설사업은 | D24: ①중증장애인의 직업능력개발을 위한 목공프로그램 “우드잡 woodjob”이며 예산은 | I24: 10000000 | J24: 원이다.
D25: ②기능보강사업 1 : 거주시설 공기청정기렌탈지원 사업으로 예산은 | I25: 2100000 | J25: 원이다.
I26: 10000002 | J26: 원이다.
I27: 10000003 | J27: 원이다.
D28: ③기능보강사업 2 : 코로나19예방 방역 사업으로 예산은 | I28: 2090000 | J28: 원이다.
A30: 제3조 | B30: 본예산(안)은 법인 이사회의 승인을 얻어 확정한다.
A32: 제4조 | B32: 법인이사회의 예산승인을 받기 전에 일반경비 및 긴급을 요하는 예산집행은 직전예산에 준하여
B33: 지출할 수 있으며, 그 집행된 예산은 당해 연도의 확정예산에 의하여 집행된 것으로 간주한다.
A35: 제5조 | B35: 각 계정과목 내의 항목의 예산집행은 당해 계정과목의 승인예산의 범위 내에서 항목간 예산을
B36: 일부 조정하여 사용할 수 있다.
A38: 제6조 | B38: 「사회복지법인 및 사회복지시설 재무회계규칙」 제16조에 의거하여 예산을 전용할 수 있다.
B39: 단, 관·항간 예산을 전용 할 경우 법인 이사회의 의결을 거쳐야 한다.
A41: 제7조 | B41: 국가 또는 지방자치단체로부터 교부된 보조금 및 지정후원금, 수익자부담 경비 등은
B42: 추가경정예산의 성립 이전이라도 보조 및 후원 목적에 적절한 경우 먼저 사용할 수 있으며,
B43: 이는 반드시 차기 추가경정예산에 반영하여야 한다.
A45: 제8조 | B45: 국가, 지방자치단체 및 사회복지기금 등에서 공모사업 선정으로 받은 보조금은 사회복지법인
B46: 및 사회복지시설 재무회계규칙에 따라 기타보조금에 편성되어야 한다.
B47: (만약, 지정후원금 또는 별도 사업비 편성이 용이하다는 지차체의 증빙자료(공문)가 있을시에만
B48: 별도 편성 가능)
A50: 제9조 | B50: 기타 회계 관련 규정의 개정으로 예산과목이 변경된 경우에는 당해연도 변경된 과목으로 승인
B51: 된 것으로 하며, 그 외의 예산총칙에 명시되지 아니한 사항은 「사회복지법인
B52: 및 사회복지시설 재무회계규칙」에 따라 집행한다.

Sheet 나. 세입세출(총괄)
A2: 나. 세입.세출 총괄표
M3: (단위 : 원)
A4: 세 입 | H4: 세 출
A5: 과 목 | D5: 2020년 당초예산(A) | E5: 1차추경 예산 (B) | F5: 증감금액 (C=B-A) | G5: 증감율(%) (C/A*100) | H5: 과 목 | K5: =D5 -> 2020년 당초예산(A) | L5: =E5 -> 1차추경 예산 (B) | M5: 증감금액 (C=B-A) | N5: 증감율(%) (C/A*100)
A6: 관 | B6: 항 | C6: 목 | H6: 관 | I6: 항 | J6: 목
A7: 합 계 | D7: =D8+D11+D14+D17+D25+D31+D35+D46 -> 3230720000 | E7: =E8+E11+E14+E17+E25+E31+E35+E46 -> 3.62915e+09 | F7: =F8+F11+F14+F17+F25+F31+F35+F46 -> 3.9843e+08 | G7: =F7/D7*100 -> 12.332545 | H7: 합 계 | K7: =SUM(K8,K25,K30,K46,K49,K52) -> 3230720000 | L7: =SUM(L8,L25,L30,L46,L49,L52) -> 3.62915e+09 | M7: =L7-K7 -> 3.9843e+08 | N7: =M7/K7*100 -> 12.332545
A8: 입소자부담금 | B8: 계 | D8: 134400000 | E8: =E9 -> 134400000 | F8: =F9 -> 0 | G8: =F8/D8*100 -> 0 | H8: 사무비 | I8: 계 | K8: 2628751180 | L8: =SUM(L9,L16,L18) -> 2.9810364e+09 | M8: =L8-K8 -> 3.5228519e+08 | N8: =M8/K8*100 -> 13.401237
B9: 입소비용수입 | C9: 소계 | D9: 134400000 | E9: =E10 -> 134400000 | F9: =F10 -> 0 | G9: =F9/D9*100 -> 0 | I9: 인건비 | J9: 소계 | K9: 2393247270 | L9: =SUM(L10:L15) -> 2.7410792e+09 | M9: =L9-K9 -> 3.4783193e+08 | N9: =M9/K9*100 -> 14.53389
C10: 입소비용수입 | D10: 134400000 | E10: ='다. 세입내역서'!E9 -> 134400000 | F10: =E10-D10 -> 0 | G10: =F10/D10*100 -> 0 | J10: 급 여 | K10: 1479465000 | L10: ='라. 세출내역서'!E9 -> 1687166000 | M10: =L10-K10 -> 207701000 | N10: =M10/K10*100 -> 14.038926
A11: 사업수입 | B11: 계 | D11: 0 | E11: =E12 -> 0 | F11: =F12 -> 0 | G11: 0 | J11: 일 용 잡 급 | K11: 9600000 | L11: ='라. 세출내역서'!E133 -> 9600000 | M11: =L11-K11 -> 0 | N11: =M11/K11*100 -> 0
B12: 사업수입 | C12: 소계 | D12: 0 | E12: =E13 -> 0 | F12: =F13 -> 0 | G12: 0 | J12: 제 수 당 | K12: 509510880 | L12: ='라. 세출내역서'!E135 -> 597343050 | M12: =L12-K12 -> 87832170 | N12: =M12/K12*100 -> 17.238527
C13: 프로그램사업수입 | D13: 0 | E13: ='[1]다-2.자부담세입'!E13 -> 0 | F13: =E13-D13 -> 0 | G13: 0 | J13: 퇴직금및퇴직적립금 | K13: 164978100 | L13: ='라. 세출내역서'!E482 -> 187840130 | M13: =L13-K13 -> 22862030 | N13: =M13/K13*100 -> 13.857615
A14: 과년도수입 | B14: 계 | D14: 0 | E14: =E15 -> 0 | F14: =F15 -> 0 | G14: 0 | J14: 사회보험부담비용 | K14: 187693290 | L14: ='라. 세출내역서'!E486 -> 2.2213002e+08 | M14: =L14-K14 -> 34436730 | N14: =M14/K14*100 -> 18.347342
B15: 과년도수입 | C15: 소계 | D15: 0 | E15: =E16 -> 0 | F15: =F16 -> 0 | G15: 0 | J15: 기타후생경비 | K15: 42000000 | L15: ='라. 세출내역서'!E502 -> 37000000 | M15: =L15-K15 -> -5000000 | N15: =M15/K15*100 -> -11.904762
C16: 과년도수입 | D16: 0 | E16: 0 | F16: =E16-D16 -> 0 | G16: 0 | I16: 업무추진비 | J16: 소계 | K16: 2490000 | L16: 2000000 | M16: =L16-K16 -> -490000 | N16: =M16/K16*100 -> -19.678715
A17: 보조금수입 | B17: 계 | D17: 2591323820 | E17: =E18 -> 2.9615715e+09 | F17: =F18+F24+F29 -> 3.7024765e+08 | G17: =F17/D17*100 -> 14.287973 | J17: 회의비 | K17: 2490000 | L17: ='라. 세출내역서'!E515 -> 2000000 | M17: =L17-K17 -> -490000 | N17: =M17/K17*100 -> -19.678715
B18: 보조금수입 | C18: 소계 | D18: =SUM(D19:D22) -> 2591323820 | E18: =SUM(E19:E22) -> 2.9615715e+09 | F18: =SUM(F19:F22) -> 3.7024765e+08 | G18: =F18/D18*100 -> 14.287973 | I18: 운영비 | J18: 소계 | K18: 233013910 | L18: =SUM(L19:L24) -> 237957165 | M18: =L18-K18 -> 4943255 | N18: =M18/K18*100 -> 2.121442
C19: 국도시보조금(70%) | D19: 1672616764 | E19: ='다. 세입내역서'!E18 -> 1928458500 | F19: =E19-D19 -> 255841736 | G19: =F19/D19*100 -> 15.295897 | J19: 여 비 | K19: 5000000 | L19: ='라. 세출내역서'!E520 -> 2000000 | M19: =L19-K19 -> -3000000 | N19: =M19/K19*100 -> -60
C20: 시도보조금(30%) | D20: 717435756 | E20: ='다. 세입내역서'!E23 -> 8.2708187e+08 | F20: =E20-D20 -> 1.0964611e+08 | G20: =F20/D20*100 -> 15.283057 | J20: 수용비및수수료 | K20: 55288080 | L20: ='라. 세출내역서'!E522 -> 57956715 | M20: =L20-K20 -> 2668635 | N20: =M20/K20*100 -> 4.8267818
C21: 시도보조금(100%) | D21: 194551300 | E21: ='다. 세입내역서'!E28 -> 199311100 | F21: =E21-D21 -> 4759800 | G21: =F21/D21*100 -> 2.4465527 | J21: 공공요금 | K21: 119100000 | L21: ='라. 세출내역서'!E539 -> 135000000 | M21: =L21-K21 -> 15900000 | N21: =M21/K21*100 -> 13.350126
C22: 기타보조금 | D22: 6720000 | E22: ='다. 세입내역서'!E36 -> 6720000 | F22: =E22-D22 -> 0 | G22: =F22/D22*100 -> 0 | J22: 제세공과금 | K22: 13625830 | L22: ='라. 세출내역서'!E546 -> 13700450 | M22: =L22-K22 -> 74620 | N22: =M22/K22*100 -> 0.54763636
J23: 차량비 | K23: 26000000 | L23: ='라. 세출내역서'!E554 -> 22800000 | M23: =L23-K23 -> -3200000 | N23: =M23/K23*100 -> -12.307692
J24: 기타운영비 | K24: 14000000 | L24: ='라. 세출내역서'!E557 -> 6500000 | M24: =L24-K24 -> -7500000 | N24: =M24/K24*100 -> -53.571429
A25: 후원금 | B25: 계 | D25: 364200000 | E25: =E26+E29 -> 378460000 | F25: =F26+F29 -> 14260000 | G25: =F25/D25*100 -> 3.9154311 | H25: 재산조성비 | I25: 계 | K25: 167900000 | L25: =L26 -> 229830000 | M25: =L25-K25 -> 61930000 | N25: =M25/K25*100 -> 36.885051
B26: 후원금수입 | C26: 소계 | D26: 364200000 | E26: =SUM(E27:E28) -> 378460000 | F26: =SUM(F27:F28) -> 14260000 | G26: =F26/D26*100 -> 3.9154311 | I26: 시설비 | J26: 소계 | K26: 167900000 | L26: =SUM(L27:L29) -> 229830000 | M26: =L26-K26 -> 61930000 | N26: =M26/K26*100 -> 36.885051
C27: 지정후원금 | D27: 14200000 | E27: ='다. 세입내역서'!E39 -> 38500000 | F27: =E27-D27 -> 24300000 | G27: =F27/D27*100 -> 171.12676 | J27: 시 설 비 | K27: 10000000 | L27: ='라. 세출내역서'!E563 -> 0 | M27: =L27-K27 -> -10000000 | N27: =M27/K27*100 -> -100
C28: 비지정후원금 | D28: 350000000 | E28: ='다. 세입내역서'!E40 -> 339960000 | F28: =E28-D28 -> -10040000 | G28: =F28/D28*100 -> -2.8685714 | J28: 자산취득비 | K28: 65900000 | L28: ='라. 세출내역서'!E564 -> 107730000 | M28: =L28-K28 -> 41830000 | N28: =M28/K28*100 -> 63.474962
J29: 시설장비유지비 | K29: 92000000 | L29: ='라. 세출내역서'!E580 -> 122100000 | M29: =L29-K29 -> 30100000 | N29: =M29/K29*100 -> 32.717391
H30: 사업비 | I30: 계 | K30: 401372640 | L30: =SUM(L31,L37,L44) -> 408115000 | M30: =L30-K30 -> 6742360 | N30: =M30/K30*100 -> 1.6798255
A31: 전입금 | B31: 계 | D31: 40000000 | E31: =E32 -> 40000000 | F31: =F32 -> 0 | G31: =F31/D31*100 -> 0 | I31: 운영비 | J31: 소계 | K31: 254332640 | L31: =SUM(L32:L36) -> 274239200 | M31: =L31-K31 -> 19906560 | N31: =M31/K31*100 -> 7.8269781
B32: 전입금 | C32: 소계 | D32: 40000000 | E32: =E33 -> 40000000 | F32: =F33 -> 0 | G32: =F32/D32*100 -> 0 | J32: 생 계 비 | K32: 209362640 | L32: ='라. 세출내역서'!E599 -> 230739200 | M32: =L32-K32 -> 21376560 | N32: =M32/K32*100 -> 10.210303
C33: 법인전입금 | D33: 40000000 | E33: ='다. 세입내역서'!E43 -> 40000000 | F33: =E33-D33 -> 0 | G33: =F33/D33*100 -> 0 | J33: 수용기관경비 | K33: 37970000 | L33: ='라. 세출내역서'!E605 -> 36500000 | M33: =L33-K33 -> -1470000 | N33: =M33/K33*100 -> -3.8714775
J34: 피 복 비 | K34: 4000000 | L34: ='라. 세출내역서'!E610 -> 4000000 | M34: =L34-K34 -> 0 | N34: =M34/K34*100 -> 0
A35: 이월금 | B35: 계 | D35: 53487000 | E35: =E36 -> 53404680 | F35: =F36 -> -82320 | G35: =F35/D35*100 -> -0.15390656 | J35: 의 료 비 | K35: 3000000 | L35: ='라. 세출내역서'!E612 -> 3000000 | M35: =L35-K35 -> 0 | N35: =M35/K35*100 -> 0
B36: 이월금 | C36: 소계 | D36: =SUM(D37:D41) -> 53487000 | E36: =SUM(E37:E41) -> 53404680 | F36: =SUM(F37:F41) -> -82320 | G36: =F36/D36*100 -> -0.15390656 | J36: 연 료 비 | K36: 0 | L36: ='라. 세출내역서'!E614 -> 0 | M36: =L36-K36 -> 0 | N36: 0
C37: 이월금(보조금) | D37: ='다. 세입내역서'!D46 -> 31287000 | E37: ='다. 세입내역서'!E46 -> 8513190 | F37: =E37-D37 -> -22773810 | G37: =F37/D37*100 -> -72.790009 | I37: 사업비 | J37: 소계 | K37: 145540000 | L37: =SUM(L38:L43) -> 131055800 | M37: -14484200 | N37: =M37/K37*100 -> -9.9520407
C38: 이월금(법인전입금) | D38: ='다. 세입내역서'!D47 -> 500000 | E38: ='다. 세입내역서'!E47 -> 3080563 | F38: =E38-D38 -> 2580563 | G38: 0 | J38: 사회심리재활사업비 | K38: 89000000 | L38: ='라. 세출내역서'!E616 -> 72427000 | M38: =L38-K38 -> -16573000 | N38: =M38/K38*100 -> -18.621348
C39: 이월금(자부담) | D39: ='다. 세입내역서'!D48 -> 5800000 | E39: ='다. 세입내역서'!E48 -> 19352559 | F39: =E39-D39 -> 13552559 | G39: 0 | J39: 직업재활사업비 | K39: 5000000 | L39: ='라. 세출내역서'!E635 -> 5000000 | M39: =L39-K39 -> 0 | N39: =M39/K39*100 -> 0
C40: 이월금(후원금) | D40: ='다. 세입내역서'!D49 -> 15900000 | E40: ='다. 세입내역서'!E49 -> 22458368 | F40: =E40-D40 -> 6558368 | G40: 0 | J40: 4종운영지원사업비 | K40: 32840000 | L40: ='라. 세출내역서'!E637 -> 32840000 | M40: =L40-K40 -> 0 | N40: =M40/K40*100 -> 0
C41: 이월사업비 | D41: ='다. 세입내역서'!D50 -> 0 | E41: ='다. 세입내역서'!E50 -> 0 | F41: =E41-D41 -> 0 | J41: 7종운영지원사업비 | K41: 6600000 | L41: ='라. 세출내역서'!E643 -> 6600000 | M41: =L41-K41 -> 0 | N41: =M41/K41*100 -> 0
...

Sheet 다. 세입내역서
A2: 다. 세입내역서
J3: (단위 : 원)
A4: 과 목 | D4: 2020년 당초예산(A) | E4: 1차추경 예산 (B) | F4: 증감금액 (C=B-A) | G4: 증감율(%) (C/A*100) | H4: 산 출 내 역
A5: 관 | B5: 항 | C5: 목
A6: 합 계 | D6: =D7+D13+D16+D41+D44+D51+D10+D37 -> 3230720000 | E6: =E7+E13+E16+E41+E44+E51+E10+E37 -> 3.62915e+09 | F6: =F7+F13+F16+F41+F44+F51+F10+F37 -> 3.9843e+08 | G6: =F6/D6*100 -> 12.332545 | K6: =E6-'라. 세출내역서'!E6 -> -0.32230568
A7: 입소자부담금 | B7: 계 | D7: =D8 -> 134400000 | E7: 134400000 | F7: =F8 -> 0 | G7: =F7/D7*100 -> 0
B8: 입소비용수입 | C8: 소계 | D8: =D9 -> 134400000 | E8: 134400000 | F8: =F9 -> 0 | G8: =F8/D8*100 -> 0
C9: 입소비용수입 | D9: 134400000 | E9: 134400000 | F9: =E9-D9 -> 0 | G9: =F9/D9*100 -> 0 | H9: *실비인원 32명*350,000원*12개월=134,400,000원
A10: 사업수입 | B10: 계 | D10: 0 | E10: 0 | F10: 0 | G10: 0
B11: 사업수입 | C11: 소계 | D11: 0 | E11: 0 | F11: 0 | G11: 0
C12: 프로그램사업수입 | D12: 0 | E12: 0 | F12: 0 | G12: 0
A13: 과년도수입 | B13: 계 | D13: 0 | E13: 0 | F13: =E13-D13 -> 0 | G13: 0
B14: 과년도수입 | C14: 소계 | D14: 0 | E14: 0 | F14: =E14-D14 -> 0 | G14: 0
C15: 과년도수입 | D15: 0 | E15: 0 | F15: 0 | G15: 0
A16: 보조금수입 | B16: 계 | D16: =D17 -> 2591323820 | E16: =E17 -> 2.9615715e+09 | F16: =E16-D16 -> 3.7024765e+08 | G16: =F16/D16*100 -> 14.287973
B17: 보조금수입 | C17: 소계 | D17: =SUM(D18,D23,D28,D36) -> 2591323820 | E17: =SUM(E18,E23,E28,E36) -> 2.9615715e+09 | F17: =E17-D17 -> 3.7024765e+08 | G17: =F17/D17*100 -> 14.287973
C18: 국도시보조금(70%) | D18: =SUM(D19:D22) -> 1672616764 | E18: =SUM(E19:E22) -> 1928458500 | F18: =E18-D18 -> 255841736 | G18: =F18/D18*100 -> 15.295897 | H18: * 인 건 비(70%) : 1,757,621,160원 * 관 리 운 영 비(70%) : 71,270,500원 * 생 계 비(70%) : 98,517,440원 * 기능보강사업비(50%) : 1,049,400원
C19: 인건비(70%) | D19: 1507743916 | E19: =ROUNDUP(('라. 세출내역서'!H8-'다. 세입내역서'!E29-'다. 세입내역서'!E30)*70%,-1) -> 1757621160 | F19: =E19-D19 -> 249877244 | G19: =F19/D19*100 -> 16.572923
C20: 관리운영비(70%) | D20: 69769000 | E20: =('라. 세출내역서'!H519+'라. 세출내역서'!H562+'라. 세출내역서'!H605+'라. 세출내역서'!H616)*70% -> 71270500 | F20: =E20-D20 -> 1501500 | G20: =F20/D20*100 -> 2.1521019
C21: 생계비(70%) | D21: 94053848 | E21: ='라. 세출내역서'!H599*70% -> 98517440 | F21: =E21-D21 -> 4463592 | G21: =F21/D21*100 -> 4.7457835
C22: 기능보강사업비(50%) | D22: 1050000 | E22: =E27 -> 1049400 | F22: =E22-D22 -> -600 | G22: =F22/D22*100 -> -0.057142857
C23: =[1]다.국도시세입!C20 -> 시도보조금(30%) | D23: 717435756 | E23: =SUM(E24:E27) -> 8.2708187e+08 | F23: =E23-D23 -> 1.0964611e+08 | G23: =F23/D23*100 -> 15.283057 | H23: * 인 건 비 (30%) : 753,266,210원 * 관리운영비 (30%) : 30,544,500원 * 생 계 비 (30%) : 42,221,760원 * 기능보강사업(50%) : 1,049,400원
C24: 인건비(30%) | D24: 646175964 | E24: =('라. 세출내역서'!H8-'다. 세입내역서'!E29-'다. 세입내역서'!E30)*30%-1 -> 7.5326621e+08 | F24: 109048953 | G24: =F24/D24*100 -> 16.876046
C25: 관리운영비(30%) | D25: 29901000 | E25: =국도비세출!Q7*30% -> 30544500 | F25: 643500 | G25: =F25/D25*100 -> 2.1521019
C26: 생계비(30%) | D26: 40308792 | E26: ='라. 세출내역서'!H599*30% -> 42221760 | F26: 1912968 | G26: =F26/D26*100 -> 4.7457835
C27: 기능보강사업비(50%) | D27: 1050000 | E27: =국도비세출!F53/2 -> 1049400 | F27: -600 | G27: =F27/D27*100 -> -0.057142857
C28: 시도보조금(100%) | D28: 194551300 | E28: =SUM(E29:E35) -> 199311100 | F28: =E28-D28 -> 4759800 | G28: =F28/D28*100 -> 2.4465527 | H28: * 7종 인 건 비 : 1,130,537,650원 * 연장추가지원수당 : 27,243,420원 * 차량운영비 : 3,600,000원 * 간병인비 : 3,000,000원 * 4종 운영지원보조금 : 32,840,000원 * 기능보강사업비 : 2,090,000원
C29: 7종인건비 | D29: =시군구세출!E8+시군구세출!E10+시군구세출!E11+시군구세출!E12+시군구세출!E14+시군구세출!E15 -> 128735500 | E29: ='사. 임직원보수 일람표'!H136+'사. 임직원보수 일람표'!I136+'사. 임직원보수 일람표'!J136+'사. 임직원보수 일람표'!L136+'사. 임직원보수 일람표'!W136 -> 129454850 | F29: =E29-D29 -> 719350 | G29: =F29/D29*100 -> 0.55878138
C30: 연장추가지원수당(100%) | D30: 26375800 | E30: ='사. 임직원보수 일람표'!M202 -> 28326250 | F30: =E30-D30 -> 1950450 | G30: =F30/D30*100 -> 7.3948468
C31: 차량운영비 | D31: 3600000 | E31: 3600000 | F31: 0 | G31: =F31/D31*100 -> 0
C32: 환경개선사업 | D32: 0 | E32: 0 | F32: 0 | G32: 0
C33: 간병인비 | D33: 3000000 | E33: 3000000 | F33: 0 | G33: =F33/D33*100 -> 0
C34: 4종(100%) | D34: 32840000 | E34: 32840000 | F34: 0 | G34: =F34/D34*100 -> 0
C35: 기능보강사업비 | E35: 2090000 | F35: 2090000 | G35: 100 | H35: 화성시 지원 코로나19 예방 방역 장비 구입
C36: ='[1]다-1.도시(군)세입'!C22 -> 기타보조금 | D36: 6720000 | E36: 6720000 | F36: =E36-D36 -> 0 | G36: =F36/D36*100 -> 0 | H36: *2020년 재활프로그램 중증장애인의 직업능력개발을 위한 목공프로그램 “우드잡 woodjob” 선정
A37: 후원금 | B37: 계 | D37: =D38 -> 364200000 | E37: =E38 -> 378460000 | F37: =E37-D37 -> 14260000 | G37: =F37/D37*100 -> 3.9154311
B38: 후원금수입 | C38: 소계 | D38: =SUM(D39:D40) -> 364200000 | E38: =SUM(E39:E40) -> 378460000 | F38: =E38-D38 -> 14260000 | G38: =F38/D38*100 -> 3.9154311
C39: 지정후원금 | D39: 14200000 | E39: =12400000+3280000+2820000+20000000 -> 38500000 | F39: =E39-D39 -> 24300000 | G39: =F39/D39*100 -> 171.12676 | H39: * 차량구입 지정후원 : 12,400,000원 * 재활프로그램 지정후원 : 3,280,000원 * 결연후원금 : 2,820,000원 * 재난복구지정후원(법인) : 20,000,000원
C40: 비지정후원금 | D40: 350000000 | E40: 339960000 | F40: =E40-D40 -> -10040000 | G40: =F40/D40*100 -> -2.8685714 | H40: * 월평균 28,330,000원*12월
A41: 전입금 | B41: 계 | D41: =D42 -> 40000000 | E41: =E42 -> 40000000 | F41: =E41-D41 -> 0 | G41: =F41/D41*100 -> 0
...

Sheet 라. 세출내역서
A2: 라. 세출내역서
U3: (단위 : 원)
A4: 과 목 | D4: 2020년당초 예산 (A) | E4: 1차추경 예산 (B) | F4: 증감금액 (C=B-A) | G4: 증감율(%) (C/A*100) | H4: 재원 | L4: 산 출 내 역 | Z4: 자부담 합계액 | AA4: 234516878 | AB4: 22433122 | AC4: 256950000 | AD4: =AC4-I6-J6 -> -0.125
A5: 관 | B5: 항 | C5: 목 | H5: 보조금 | I5: 법인전입금 | J5: 자부담 | K5: 후원금 | Z5: 유료입소/이월금 | AA5: 134400000 | AB5: 9105019 | AC5: 143505019 | AD5: 0
A6: 합 계 | D6: =SUM(D7,D561,D597,D656,D662,D666) -> 3230720000 | E6: =SUM(H6:K6) -> 3.62915e+09 | F6: =E6-D6 -> 3.9843e+08 | G6: =F6/D6*100 -> 12.332545 | H6: =SUM(H7,H561,H597,H656,H662,H666) -> 2.9707e+09 | I6: =SUM(I7,I561,I597,I656,I662,I666) -> 43080563 | J6: =SUM(J7,J561,J597,J656,J662,J666) -> 213869437 | K6: =SUM(K7,K561,K597,K656,K662,K666) -> 4.015e+08 | L6: 합계 | U6: =U7+U561+U597+U656+U662+U666 -> 3.62915e+09 | V6: =E6-'다. 세입내역서'!E6 -> 0.32230568 | Z6: 법인전입/이월금 | AA6: 40000000 | AB6: 3080563 | AC6: 43080563 | AD6: =AC6-I6 -> -0.125
A7: 사무비 | B7: 계 | D7: =SUM(D8,D514,D519) -> 2628751180 | E7: =SUM(E8,E514,E519) -> 2.9810364e+09 | F7: =E7-D7 -> 3.5228519e+08 | G7: =F7/D7*100 -> 13.401237 | H7: =H8+H514+H519 -> 2.7311265e+09 | I7: =I8+I514+I519 -> 36080563 | J7: =J8+J514+J519 -> 62869437 | K7: =K8+K514+K519 -> 1.509599e+08 | L7: 사무비 계 | U7: =U8+U514+U519 -> 2.9810364e+09 | W7: =(68580000)+(31750000)+1485000 -> 101815000 | X7: =68580000+31115000+1485000 -> 101180000 | Y7: =W7-X7 -> 635000 | Z7: 잡수입/불용품/이월금 | AA7: 25550000 | AB7: 7098481 | AC7: 32648481 | AD7: 0
B8: 인건비 | C8: 소계 | D8: =SUM(D9:D502) -> 2393247270 | E8: =SUM(E9:E502) -> 2.7410792e+09 | F8: =E8-D8 -> 3.4783193e+08 | G8: =F8/D8*100 -> 14.53389 | H8: =SUM(H9:H502) -> 2.6686685e+09 | I8: =SUM(I9:I502) -> 32259920 | J8: =SUM(J9:J502) -> 2000000 | K8: =SUM(K9:K502) -> 38150810 | L8: 인건비 계 | U8: =U9+U133+U135+U482+U486+U502 -> 2.7410792e+09 | W8: =SUM(H519,H561,H605,H616) -> 101815000 | Z8: 종사자식대/이월금 | AA8: 34000000 | AB8: 2970859 | AC8: 36970859 | AD8: 0
C9: 급여 | D9: 1479465000 | E9: =SUM(H9:K9) -> 1687166000 | F9: =E9-D9 -> 207701000 | G9: =F9/D9*100 -> 14.038926 | H9: ='사. 임직원보수 일람표'!H123+'사. 임직원보수 일람표'!H136+'사. 임직원보수 일람표'!H169 -> 1684166000 | J9: 0 | K9: ='사. 임직원보수 일람표'!G199 -> 3000000 | L9: ◆급여 | U9: =SUM(U10:U132) -> 1687166000 | V9: ='사. 임직원보수 일람표'!H202 -> 1687166000 | W9: =W7-W8 -> 0 | Z9: 예금이자/이월금 | AA9: 566878 | AB9: 178200 | AC9: 745078 | AD9: 0
L10: 시설장 | M10: 시설장 | N10: 이기수 | O10: ='사. 임직원보수 일람표'!G5 -> 3701000 | P10: X | Q10: 1 | R10: X | S10: ='사. 임직원보수 일람표'!E5 -> 5 | T10: = | U10: =O10*Q10*S10 -> 18505000
L11: 시설장 | M11: 시설장 | N11: 이기수 | O11: ='사. 임직원보수 일람표'!G6 -> 3785000 | P11: X | Q11: 1 | R11: X | S11: ='사. 임직원보수 일람표'!E6 -> 7 | T11: = | U11: =O11*Q11*S11 -> 26495000
L12: 사무국장 | M12: 사무국장 | N12: 금형민 | O12: ='사. 임직원보수 일람표'!G7 -> 3763000 | P12: X | Q12: 1 | R12: X | S12: ='사. 임직원보수 일람표'!E7 -> 4 | T12: = | U12: =O12*Q12*S12 -> 15052000
L13: 사무국장 | M13: 사무국장 | N13: 금형민 | O13: ='사. 임직원보수 일람표'!G8 -> 3825000 | P13: X | Q13: 1 | R13: X | S13: ='사. 임직원보수 일람표'!E8 -> 8 | T13: = | U13: =O13*Q13*S13 -> 30600000
L14: 상담평가원 | M14: 과장 | N14: 김정윤 | O14: ='사. 임직원보수 일람표'!G9 -> 3244000 | P14: X | Q14: 1 | R14: X | S14: ='사. 임직원보수 일람표'!E9 -> 6 | T14: = | U14: =O14*Q14*S14 -> 19464000
L15: 상담평가원 | M15: 과장 | N15: 김정윤 | O15: ='사. 임직원보수 일람표'!G10 -> 3306000 | P15: X | Q15: 1 | R15: X | S15: ='사. 임직원보수 일람표'!E10 -> 6 | T15: = | U15: =O15*Q15*S15 -> 19836000
L16: 영양사 | M16: 팀장 | N16: 김혜영 | O16: ='사. 임직원보수 일람표'!G11 -> 3679000 | P16: X | Q16: 1 | R16: X | S16: ='사. 임직원보수 일람표'!E11 -> 3 | T16: = | U16: =O16*Q16*S16 -> 11037000
L17: 영양사 | M17: 팀장 | N17: 김혜영 | O17: ='사. 임직원보수 일람표'!G12 -> 3724000 | P17: X | Q17: 1 | R17: X | S17: ='사. 임직원보수 일람표'!E12 -> 9 | T17: = | U17: =O17*Q17*S17 -> 33516000
L18: 선임지도원 | M18: 팀장 | N18: 이선이 | O18: ='사. 임직원보수 일람표'!G13 -> 2732000 | P18: X | Q18: 1 | R18: X | S18: ='사. 임직원보수 일람표'!E13 -> 11 | T18: = | U18: =O18*Q18*S18 -> 30052000
L19: 선임지도원 | M19: 팀장 | N19: 이선이 | O19: ='사. 임직원보수 일람표'!G14 -> 2804000 | P19: X | Q19: 1 | R19: X | S19: ='사. 임직원보수 일람표'!E14 -> 1 | T19: = | U19: =O19*Q19*S19 -> 2804000
L20: 간호사 | M20: 팀장 | N20: 전광숙 | O20: ='사. 임직원보수 일람표'!G15 -> 3679000 | P20: X | Q20: 1 | R20: X | S20: ='사. 임직원보수 일람표'!E15 -> 7 | T20: = | U20: =O20*Q20*S20 -> 25753000
L21: 간호사 | N21: 엄광식 | O21: ='사. 임직원보수 일람표'!G17 -> 2358000 | P21: X | Q21: 1 | R21: X | S21: ='사. 임직원보수 일람표'!E17 -> 3 | T21: = | U21: =O21*Q21*S21 -> 7074000
L22: 간호사 | N22: 엄광식 | O22: ='사. 임직원보수 일람표'!G18 -> 2464000 | P22: X | Q22: 1 | R22: X | S22: ='사. 임직원보수 일람표'!E18 -> 1 | T22: = | U22: =O22*Q22*S22 -> 2464000
L23: 언어치료사 | N23: 최민성 | O23: ='사. 임직원보수 일람표'!G19 -> 2880000 | P23: X | Q23: 1 | R23: X | S23: ='사. 임직원보수 일람표'!E19 -> 3 | T23: = | U23: =O23*Q23*S23 -> 8640000
L24: 언어치료사 | N24: 최민성 | O24: ='사. 임직원보수 일람표'!G20 -> 2962000 | P24: X | Q24: 1 | R24: X | S24: ='사. 임직원보수 일람표'!E20 -> 9 | T24: = | U24: =O24*Q24*S24 -> 26658000
L25: 작업치료사 | N25: 이민지 | O25: ='사. 임직원보수 일람표'!G21 -> 2182000 | P25: X | Q25: 1 | R25: X | S25: ='사. 임직원보수 일람표'!E21 -> 2 | T25: = | U25: =O25*Q25*S25 -> 4364000
L26: 작업치료사 | N26: 이동철 | O26: ='사. 임직원보수 일람표'!G23 -> 2358000 | P26: X | Q26: 1 | R26: X | S26: ='사. 임직원보수 일람표'!E20 -> 9 | T26: = | U26: =O26*Q26*S26 -> 21222000
L27: 물리치료사 | N27: 김효선 | O27: ='사. 임직원보수 일람표'!G25 -> 2962000 | P27: X | Q27: 1 | R27: X | S27: ='사. 임직원보수 일람표'!E25 -> 7 | T27: = | U27: =O27*Q27*S27 -> 20734000
L28: 물리치료사 | N28: 김효선 | O28: ='사. 임직원보수 일람표'!G26 -> 3037000 | P28: X | Q28: 1 | R28: X | S28: ='사. 임직원보수 일람표'!E26 -> 5 | T28: = | U28: =O28*Q28*S28 -> 15185000
L29: 사회재활교사 | M29: 과장 | N29: 이성수 | O29: ='사. 임직원보수 일람표'!G27 -> 3179000 | P29: X | Q29: 1 | R29: X | S29: ='사. 임직원보수 일람표'!E27 -> 9 | T29: = | U29: =O29*Q29*S29 -> 28611000
L30: 사회재활교사 | M30: 과장 | N30: 이성수 | O30: ='사. 임직원보수 일람표'!G28 -> 3244000 | P30: X | Q30: 1 | R30: X | S30: ='사. 임직원보수 일람표'!E28 -> 3 | T30: = | U30: =O30*Q30*S30 -> 9732000
L31: 선임지도원 | M31: 팀장 | N31: 심영은 | O31: ='사. 임직원보수 일람표'!G29 -> 2660000 | P31: X | Q31: 1 | R31: X | S31: ='사. 임직원보수 일람표'!E25 -> 7 | T31: = | U31: =O31*Q31*S31 -> 18620000
L32: 선임지도원 | M32: 팀장 | N32: 심영은 | O32: ='사. 임직원보수 일람표'!G30 -> 2732000 | P32: X | Q32: 1 | R32: X | S32: ='사. 임직원보수 일람표'!E26 -> 5 | T32: = | U32: =O32*Q32*S32 -> 13660000
L33: 사무원 | N33: 유준 | O33: ='사. 임직원보수 일람표'!G31 -> 2558000 | P33: X | Q33: 1 | R33: X | S33: ='사. 임직원보수 일람표'!E31 -> 3 | T33: = | U33: =O33*Q33*S33 -> 7674000
L34: 사무원 | N34: 유준 | O34: ='사. 임직원보수 일람표'!G32 -> 2624000 | P34: X | Q34: 1 | R34: X | S34: ='사. 임직원보수 일람표'!E32 -> 9 | T34: = | U34: =O34*Q34*S34 -> 23616000
L35: 생활지도원 | M35: 팀장 | N35: 신희철 | O35: ='사. 임직원보수 일람표'!G33 -> 2493000 | P35: X | Q35: 1 | R35: X | S35: ='사. 임직원보수 일람표'!E33 -> 1 | T35: = | U35: =O35*Q35*S35 -> 2493000
L36: 생활지도원 | M36: 팀장 | N36: 신희철 | O36: ='사. 임직원보수 일람표'!G34 -> 2558000 | P36: X | Q36: 1 | R36: X | S36: ='사. 임직원보수 일람표'!E34 -> 11 | T36: = | U36: =O36*Q36*S36 -> 28138000
L37: 생활지도원 | N37: 홍은향 | O37: ='사. 임직원보수 일람표'!G35 -> 2684000 | P37: X | Q37: 1 | R37: X | S37: ='사. 임직원보수 일람표'!E35 -> 5 | T37: = | U37: =O37*Q37*S37 -> 13420000
L38: 생활지도원 | N38: 홍은향 | O38: ='사. 임직원보수 일람표'!G36 -> 2742000 | P38: X | Q38: 1 | R38: X | S38: ='사. 임직원보수 일람표'!E36 -> 7 | T38: = | U38: =O38*Q38*S38 -> 19194000
L39: 생활지도원 | N39: 이도란 | O39: ='사. 임직원보수 일람표'!G37 -> 2365000 | P39: X | Q39: 1 | R39: X | S39: ='사. 임직원보수 일람표'!E37 -> 4 | T39: = | U39: =O39*Q39*S39 -> 9460000
L40: 생활지도원 | N40: 이도란 | O40: ='사. 임직원보수 일람표'!G38 -> 2428000 | P40: X | Q40: 1 | R40: X | S40: ='사. 임직원보수 일람표'!E38 -> 8 | T40: = | U40: =O40*Q40*S40 -> 19424000
L41: 생활지도원 | N41: 윤용진 | O41: ='사. 임직원보수 일람표'!G39 -> 2558000 | P41: X | Q41: 1 | R41: X | S41: ='사. 임직원보수 일람표'!E39 -> 11 | T41: = | U41: =O41*Q41*S41 -> 28138000
...

Sheet 마.세입세출(개요)
A1: 마. 세입·세출 개요
E2: (단위:원)
A3: 구 분 | B3: 세 입 | D3: 세 출
A4: 총 계 | B4: =C5+C14+C20+C27 -> 3.62915e+09 | D4: =E5+E14+E20+E27 -> 3.62915e+09
A5: 보 조 금 | B5: 소계 | C5: =SUM(C6:C13) -> 2.9707e+09 | D5: 소계 | E5: =SUM(E6:E13) -> 2.9707e+09
B6: 국고보조금 | C6: ='다. 세입내역서'!E18 -> 1928458500 | D6: 인건비 | E6: ='라. 세출내역서'!H8 -> 2.6686685e+09
B7: 시도보조금 | C7: ='다. 세입내역서'!E23+'다. 세입내역서'!E28 -> 1.026393e+09 | D7: 업무추진비 | E7: ='라. 세출내역서'!H514 -> 0
B8: 기타보조금 | C8: ='다. 세입내역서'!E36 -> 6720000 | D8: 사무비운영비 | E8: ='라. 세출내역서'!H519 -> 62458000
B9: 이월금 | C9: ='라. 세출내역서'!E668 -> 8513190 | D9: 시설비 | E9: ='라. 세출내역서'!H562 -> 16430000
B10: 잡수입 | C10: ='라. 세출내역서'!E664 -> 615340 | D10: 사업비운영비 | E10: ='라. 세출내역서'!H598 -> 162239200
D11: 사업비 | E11: ='라. 세출내역서'!H615 -> 51775800
D12: 잡지출 | E12: ='라. 세출내역서'!H664 -> 615340
B13: - | C13: 0 | D13: 보조금반환 | E13: =[1]라.국도비세출!F59+'[1]다-1.도시(군)세입'!F25 -> 8513190
A14: 법인전입금 | B14: 소계 | C14: =SUM(C15:C19) -> 43080563 | D14: 소계 | E14: =SUM(E15:E19) -> 43080563
B15: 법인전입금 | C15: ='다. 세입내역서'!E42 -> 40000000 | D15: 인건비 | E15: ='라. 세출내역서'!I8 -> 32259920
B16: 이월금 | C16: 3080563 | D16: 업무추진비 | E16: ='라. 세출내역서'!I514 -> 0
B17: - | C17: ='[1]다-2.자부담세입'!E17 -> 0 | D17: =D8 -> 사무비운영비 | E17: ='라. 세출내역서'!I519 -> 3820643
B18: - | C18: ='[1]다-2.자부담세입'!E20 -> 0 | D18: =D9 -> 시설비 | E18: ='라. 세출내역서'!I562 -> 5000000
B19: - | D19: ='라. 세출내역서'!B615 -> 사업비 | E19: ='라. 세출내역서'!I615 -> 2000000
A20: 자 부 담 | B20: 소계 | C20: =SUM(C21:C25) -> 213869437 | D20: 소계 | E20: =SUM(E21:E26) -> 213869437
B21: 입소자부담금수입 | C21: ='다. 세입내역서'!E9 -> 134400000 | D21: 인건비 | E21: ='라. 세출내역서'!J8 -> 2000000
B22: 이월금 | C22: =자부담세출!V2+자부담세출!V4+자부담세출!V5+자부담세출!V6 -> 19352559 | D22: =D16 -> 업무추진비 | E22: ='라. 세출내역서'!J514 -> 2000000
B23: 잡수입 | C23: =+자부담세출!U4+자부담세출!U5+자부담세출!U6 -> 60116878 | D23: =D17 -> 사무비운영비 | E23: ='라. 세출내역서'!J519 -> 58869437
D24: =D18 -> 시설비 | E24: ='라. 세출내역서'!J562 -> 5000000
D25: =D19 -> 사업비 | E25: ='라. 세출내역서'!J598 -> 102000000
C26: 0 | D26: =D11 -> 사업비 | E26: ='라. 세출내역서'!J615 -> 44000000
A27: 후 원 금 | B27: 소계 | C27: =SUM(C28:C32) -> 401500000 | D27: 소계 | E27: =SUM(E28:E35) -> 4.015e+08
B28: 지정후원금수입 | C28: ='[1]다-3.후원금세입'!E18 -> 38500000 | D28: =D21 -> 인건비 | E28: ='라. 세출내역서'!K8 -> 38150810
B29: 비지정후원금수입 | C29: ='[1]다-3.후원금세입'!E19 -> 340000000 | D29: =D22 -> 업무추진비 | E29: ='라. 세출내역서'!K514 -> 0
B30: - | C30: 0 | D30: =D8 -> 사무비운영비 | E30: ='라. 세출내역서'!K519 -> 112809085
B31: 전년도후원금이월금 | C31: ='다. 세입내역서'!E49 -> 22458368 | D31: =D9 -> 시설비 | E31: ='라. 세출내역서'!K562 -> 203400000
B32: 잡수입 | C32: ='[1]다-3.후원금세입'!E33 -> 541632 | D32: =D25 -> 사업비 | E32: ='라. 세출내역서'!K598 -> 10000000
D33: =D26 -> 사업비 | E33: ='라. 세출내역서'!K615 -> 33280000
D34: ='라. 세출내역서'!B653 -> 결연사업비 | E34: ='라. 세출내역서'!K653 -> 2820000
D35: ='라. 세출내역서'!C658 -> 과년도지출 | E35: ='라. 세출내역서'!K658 -> 1040105
E68: 0

Sheet 바. 증감사유
A1: 바. 증감사유
N2: (단위 : 원)
A3: 세 입 | I3: 세 출
A4: 과 목 | D4: 2020년 당초예산(A) | E4: 1차추경 예산 (B) | F4: 증감금액 (C=B-A) | G4: 증감율(%) (C/A*100) | H4: 증감사유 | I4: 과 목 | L4: =D4 -> 2020년 당초예산(A) | M4: =E4 -> 1차추경 예산 (B) | N4: 증감금액 (C=B-A) | O4: 증감율(%) (C/A*100) | P4: 증감사유
A5: 관 | B5: 항 | C5: 목 | I5: 관 | J5: 항 | K5: 목
A6: 합 계 | D6: =D7+D13+D16+D30+D35+D45+D10+D24 -> 3230720000 | E6: =E7+E13+E16+E30+E35+E45+E10+E24 -> 3.62915e+09 | F6: =F7+F13+F16+F30+F35+F45+F10+F24 -> 3.9843e+08 | G6: =F6/D6*100 -> 12.332545 | I6: 합 계 | L6: =SUM(L7,L24,L29,L45,L48,L51) -> 3230720000 | M6: =SUM(M7,M24,M29,M45,M48,M51) -> 3.62915e+09 | N6: =M6-L6 -> 3.9843e+08 | O6: =N6/L6*100 -> 12.332545
A7: 입소자부담금 | B7: 계 | D7: 134400000 | E7: =E8 -> 134400000 | F7: =F8 -> 0 | G7: =F7/D7*100 -> 0 | I7: 사무비 | J7: 계 | L7: 2628751180 | M7: =SUM(M8,M15,M17) -> 2.9810364e+09 | N7: =M7-L7 -> 3.5228519e+08 | O7: =N7/L7*100 -> 13.401237
B8: 입소비용수입 | C8: 소계 | D8: 134400000 | E8: =E9 -> 134400000 | F8: =F9 -> 0 | G8: =F8/D8*100 -> 0 | J8: 인건비 | K8: 소계 | L8: 2393247270 | M8: =SUM(M9:M14) -> 2.7410792e+09 | N8: =M8-L8 -> 3.4783193e+08 | O8: =N8/L8*100 -> 14.53389
C9: 입소비용수입 | D9: 134400000 | E9: ='다. 세입내역서'!E9 -> 134400000 | F9: =E9-D9 -> 0 | G9: =F9/D9*100 -> 0 | K9: 급여 | L9: 1479465000 | M9: ='라. 세출내역서'!E9 -> 1687166000 | N9: =M9-L9 -> 207701000 | O9: =N9/L9*100 -> 14.038926 | P9: *종사자 인건비 호봉 산정 예산반영 증액 * 교대인력 12명 지원 충원에 따른 예산반영 증액
A10: 사업수입 | B10: 계 | D10: 0 | E10: =E11 -> 0 | F10: =F11 -> 0 | G10: 0 | K10: 일용잡금 | L10: 9600000 | M10: ='라. 세출내역서'!E133 -> 9600000 | N10: =M10-L10 -> 0 | O10: =N10/L10*100 -> 0
B11: 사업수입 | C11: 소계 | D11: 0 | E11: =E12 -> 0 | F11: =F12 -> 0 | G11: 0 | K11: 제수당 | L11: 509510880 | M11: ='라. 세출내역서'!E135 -> 597343050 | N11: =M11-L11 -> 87832170 | O11: =N11/L11*100 -> 17.238527 | P11: 실제근무반영 연장수당, 가족수당 증액
C12: 프로그램사업수입 | D12: 0 | E12: ='[1]다-2.자부담세입'!E13 -> 0 | F12: =E12-D12 -> 0 | G12: 0 | K12: 퇴직금및퇴직적립금 | L12: 164978100 | M12: ='라. 세출내역서'!E482 -> 187840130 | N12: =M12-L12 -> 22862030 | O12: =N12/L12*100 -> 13.857615 | P12: 종사자 인건비에 의한 예산증액
A13: 과년도수입 | B13: 계 | D13: 0 | E13: =E14 -> 0 | F13: =F14 -> 0 | G13: 0 | K13: 사회보험부담비용 | L13: 187693290 | M13: ='라. 세출내역서'!E486 -> 2.2213002e+08 | N13: =M13-L13 -> 34436730 | O13: =N13/L13*100 -> 18.347342 | P13: 건강보험인상 및 종사자정원 증원에 따른 실지급액대비 예산증액
B14: 과년도수입 | C14: 소계 | D14: 0 | E14: =E15 -> 0 | F14: =F15 -> 0 | G14: 0 | K14: 기타후생경비 | L14: 42000000 | M14: ='라. 세출내역서'!E502 -> 37000000 | N14: =M14-L14 -> -5000000 | O14: =N14/L14*100 -> -11.904762 | P14: 코로나19로 인한 직원연수 취소등으로 예산감액
C15: 과년도수입 | D15: 0 | E15: 0 | F15: =E15-D15 -> 0 | G15: 0 | J15: 업무추진비 | K15: 소계 | L15: 2490000 | M15: =M16 -> 2000000 | N15: =M15-L15 -> -490000 | O15: =N15/L15*100 -> -19.678715
A16: 보조금수입 | B16: 계 | D16: 2591323820 | E16: =E17+E23+E28 -> 2.9615715e+09 | F16: =F17+F23+F28 -> 3.7024765e+08 | G16: =F16/D16*100 -> 14.287973 | K16: 회의비 | L16: 2490000 | M16: ='라. 세출내역서'!E515 -> 2000000 | N16: =M16-L16 -> -490000 | O16: =N16/L16*100 -> -19.678715 | P16: 코로나19로 인한 회의축소에 따른 예산감액
B17: 보조금수입 | C17: 소계 | D17: =SUM(D18:D21) -> 2591323820 | E17: =SUM(E18:E21) -> 2.9615715e+09 | F17: =SUM(F18:F21) -> 3.7024765e+08 | G17: =F17/D17*100 -> 14.287973 | J17: 운영비 | K17: 소계 | L17: 233013910 | M17: =SUM(M18:M23) -> 237957165 | N17: =M17-L17 -> 4943255 | O17: =N17/L17*100 -> 2.121442
C18: 국도시보조금 (70%) | D18: 1672616764 | E18: ='다. 세입내역서'!E18 -> 1928458500 | F18: =E18-D18 -> 255841736 | G18: =F18/D18*100 -> 15.295897 | H18: *2020년 종사자인건비 지원기준에 따른 호봉산정 *교대인력 12명추가지원에 따른 예산액 증액 | K18: 여비 | L18: 5000000 | M18: ='라. 세출내역서'!E520 -> 2000000 | N18: =M18-L18 -> -3000000 | O18: =N18/L18*100 -> -60 | P18: 코로나19로 인한 온라인교육 전환등으로 예산감액
C19: 시도보조금 (30%) | D19: 717435756 | E19: ='다. 세입내역서'!E23 -> 8.2708187e+08 | F19: =E19-D19 -> 1.0964611e+08 | G19: =F19/D19*100 -> 15.283057 | H19: 2020년 종사자 인건비 지원기준에 따른 호봉산정 | K19: 수용비및수수료 | L19: 55288080 | M19: ='라. 세출내역서'!E522 -> 57956715 | N19: =M19-L19 -> 2668635 | O19: =N19/L19*100 -> 4.8267818 | P19: 화성시지원 전자결재시스템 도입에 따른 유지비용(1,980,000원) 추가 편성등 예산 증액
C20: 시도보조금 (100%) | D20: 194551300 | E20: ='다. 세입내역서'!E28 -> 199311100 | F20: =E20-D20 -> 4759800 | G20: =F20/D20*100 -> 2.4465527 | H20: 7종운영지원 종사자(운전원,조리원,생활지도원) 2020년 종사자 인건비 지원기준에 따른 호봉산정 | K20: 공공요금 | L20: 119100000 | M20: ='라. 세출내역서'!E539 -> 135000000 | N20: =M20-L20 -> 15900000 | O20: =N20/L20*100 -> 13.350126 | P20: 준하홀 프로그램실 활성화에 따른 공공요금 사용량 증가로 예산증액
C21: 기타보조금 | D21: 6720000 | E21: ='다. 세입내역서'!E36 -> 6720000 | F21: =E21-D21 -> 0 | G21: =F21/D21*100 -> 0 | H21: 2020년 경기도 재활프로그램 중증장애인의 직업능력개발을 위한 목공프로그램 “우드잡 woodjob” 선정 | K21: 제세공과금 | L21: 13625830 | M21: ='라. 세출내역서'!E546 -> 13700450 | N21: =M21-L21 -> 74620 | O21: =N21/L21*100 -> 0.54763636
K22: 차량비 | L22: 26000000 | M22: ='라. 세출내역서'!E554 -> 22800000 | N22: =M22-L22 -> -3200000 | O22: =N22/L22*100 -> -12.307692 | P22: 코로나19로 인한 외부활동 감소에 따른 예산감액
K23: 기타운영비 | L23: 14000000 | M23: ='라. 세출내역서'!E557 -> 6500000 | N23: =M23-L23 -> -7500000 | O23: =N23/L23*100 -> -53.571429 | P23: 코로나19로 인한 각종행사취소등으로예산감액
A24: 후원금 | B24: 계 | D24: 364200000 | E24: =E25+E34 -> 378460000 | F24: =F25+F34 -> 14260000 | G24: =F24/D24*100 -> 3.9154311 | I24: 재산조성비 | J24: 계 | L24: 167900000 | M24: =M25 -> 229830000 | N24: =M24-L24 -> 61930000 | O24: =N24/L24*100 -> 36.885051
B25: 후원금수입 | C25: 소계 | D25: 364200000 | E25: =SUM(E26:E27) -> 378460000 | F25: =SUM(F26:F27) -> 14260000 | G25: =F25/D25*100 -> 3.9154311 | J25: 시설비 | K25: 소계 | L25: 167900000 | M25: =SUM(M26:M28) -> 229830000 | N25: =M25-L25 -> 61930000 | O25: =N25/L25*100 -> 36.885051
C26: 지정후원금 | D26: 14200000 | E26: ='다. 세입내역서'!E39 -> 38500000 | F26: =E26-D26 -> 24300000 | G26: =F26/D26*100 -> 171.12676 | H26: 교구수해복구지정후원금 예산증액 | K26: 시설비 | L26: 10000000 | M26: ='라. 세출내역서'!E563 -> 0 | N26: =M26-L26 -> -10000000 | O26: =N26/L26*100 -> -100 | P26: 자산취득비 부족분 충당 시설비 예산감액
C27: 비지정후원금 | D27: 350000000 | E27: ='다. 세입내역서'!E40 -> 339960000 | F27: =E27-D27 -> -10040000 | G27: =F27/D27*100 -> -2.8685714 | K27: 자산취득비 | L27: 65900000 | M27: ='라. 세출내역서'!E564 -> 107730000 | N27: =M27-L27 -> 41830000 | O27: =N27/L27*100 -> 63.474962 | P27: - 생활동노후가구교체(31,308,000원), - 이미용실환경조성이미용의자(2,387,000원), - 식기세척기구입(13,200,000원), - 컨벤션오븐구입(18,700,000원), - 준아홀 냉난방기 구입(5,720,000원), - 준아홀 펠넷난로구입(3,660,000원) - 음식물처리기 할부금(매월330,000원), - 경차모닝구입할부금(매월292,287원), - 12인승스타렉스할부금(매월719,824원), - 25인승 버스할부금(4월까지 1,047,100원)등 기기구입및 매월할부금등에 의한 예산증액
K28: 시설장비유지비 | L28: 92000000 | M28: ='라. 세출내역서'!E580 -> 122100000 | N28: =M28-L28 -> 30100000 | O28: =N28/L28*100 -> 32.717391 | P28: 이용인생활동 태풍과 장마로인한 누수 보수공사비용추가
I29: 사업비 | J29: 계 | L29: 401372640 | M29: 408115000 | N29: =M29-L29 -> 6742360 | O29: =N29/L29*100 -> 1.6798255
A30: 전입금 | B30: 계 | D30: 40000000 | E30: =E31 -> 40000000 | F30: =F31 -> 0 | G30: =F30/D30*100 -> 0 | J30: 운영비 | K30: 소계 | L30: 254332640 | M30: 274239200 | N30: =M30-L30 -> 19906560 | O30: =N30/L30*100 -> 7.8269781
B31: 전입금 | C31: 소계 | D31: 40000000 | E31: =E32 -> 40000000 | F31: =F32 -> 0 | G31: =F31/D31*100 -> 0 | K31: 생계비 | L31: 209362640 | M31: ='라. 세출내역서'!E599 -> 230739200 | N31: =M31-L31 -> 21376560 | O31: =N31/L31*100 -> 10.210303 | P31: 수급자 변동 및 생계비지원 증액에의한 예산 편성
C32: 법인전입금 | D32: 40000000 | E32: ='다. 세입내역서'!E43 -> 40000000 | F32: =E32-D32 -> 0 | G32: =F32/D32*100 -> 0 | K32: 수용기관경비 | L32: 37970000 | M32: ='라. 세출내역서'!E605 -> 36500000 | N32: =M32-L32 -> -1470000 | O32: =N32/L32*100 -> -3.8714775 | P32: 일상용품 이용인 개인구입으로 인한 예산감액
K33: 피복비 | L33: 4000000 | M33: ='라. 세출내역서'!E610 -> 4000000 | N33: =M33-L33 -> 0 | O33: =N33/L33*100 -> 0
K34: 의료비 | L34: 3000000 | M34: ='라. 세출내역서'!E612 -> 3000000 | N34: =M34-L34 -> 0 | O34: =N34/L34*100 -> 0
A35: 이월금 | B35: 계 | D35: 53487000 | E35: =E36 -> 53404680 | F35: =F36 -> -82320 | G35: =F35/D35*100 -> -0.15390656 | K35: 연료비 | L35: 0 | M35: ='라. 세출내역서'!E614 -> 0 | N35: =M35-L35 -> 0 | O35: 0
B36: 이월금 | C36: 소계 | D36: =SUM(D37:D41) -> 53487000 | E36: =SUM(E37:E41) -> 53404680 | F36: =SUM(F37:F41) -> -82320 | G36: =F36/D36*100 -> -0.15390656 | J36: 사업비 | K36: 소계 | L36: 145540000 | M36: =SUM(M37:M42) -> 131055800 | N36: -14484200 | O36: =N36/L36*100 -> -9.9520407
C37: 이월금(보조금) | D37: ='다. 세입내역서'!D46 -> 31287000 | E37: ='다. 세입내역서'!E46 -> 8513190 | F37: =E37-D37 -> -22773810 | G37: =F37/D37*100 -> -72.790009 | H37: 2019년 보조금 반환금 및 이월금 반영 예산조정 | K37: 사회심리 재활사업비 | L37: 89000000 | M37: ='라. 세출내역서'!E616 -> 72427000 | N37: =M37-L37 -> -16573000 | O37: =N37/L37*100 -> -18.621348 | P37: 코로나19로 인한 문화체험취소등 외부활동 감소로 인한 예산 감액
C38: 이월금(법인전입금) | D38: ='다. 세입내역서'!D47 -> 500000 | E38: ='다. 세입내역서'!E47 -> 3080563 | F38: =E38-D38 -> 2580563 | G38: =F38/D38*100 -> 516.1126 | K38: 직업재활사업비 | L38: 5000000 | M38: ='라. 세출내역서'!E635 -> 5000000 | N38: =M38-L38 -> 0 | O38: =N38/L38*100 -> 0
C39: 이월금(자부담) | D39: ='다. 세입내역서'!D48 -> 5800000 | E39: ='다. 세입내역서'!E48 -> 19352559 | F39: =E39-D39 -> 13552559 | G39: =F39/D39*100 -> 233.66481 | K39: 4종운영지원사업비 | L39: 32840000 | M39: ='라. 세출내역서'!E637 -> 32840000 | N39: =M39-L39 -> 0 | O39: =N39/L39*100 -> 0
C40: 이월금(후원금) | D40: ='다. 세입내역서'!D49 -> 15900000 | E40: ='다. 세입내역서'!E49 -> 22458368 | F40: =E40-D40 -> 6558368 | G40: =F40/D40*100 -> 41.247597 | K40: 7종운영지원사업비 | L40: 6600000 | M40: ='라. 세출내역서'!E643 -> 6600000 | N40: =M40-L40 -> 0 | O40: =N40/L40*100 -> 0
...

Sheet 사. 임직원보수 일람표
A1: 사. 임직원 보수 일람표
A2: 보조금 직원
A3: 순번 | B3: 직책 | C3: 성명 | D3: 승급월 | F3: 호봉 | G3: 기본급 | H3: 급여 | I3: 제수당 | P3: 퇴직금 및 퇴직적립금 | Q3: 국민연금 | R3: 보조금 건강보험 | S3: 보조금 장기요양 | T3: 보조금 고용보험 | U3: 보조금 산재보험 | V3: 사회보험 부담금 | W3: 공제액계 | X3: 합계 | Y3: 지자체 별도 지급액 | AB3: 비고
I4: 명절휴가비 | J4: 가족수당 | K4: 시급 | L4: 연장수당 | M4: 연장추가 지원수당 | N4: 직책수당 | O4: 제수당 계 | Y4: 경기도 특수근무수당 | Z4: 경기도 처우개선비 | AA4: 지자체 지급액 계
A5: 1 | B5: 시설장 | C5: 이기수 | D5: 6 | E5: 5 | F5: 13 | G5: 3701000 | H5: =G5*E5 -> 18505000 | I5: =G5*60% -> 2220600 | J5: 0 | K5: =ROUND(G5*1/209*1.5,-1) -> 26560 | L5: =(K5*20)*E5 -> 2656000 | M5: =(K5*5)*E5 -> 664000 | O5: =SUM(I5,J5,L5,M5,N5) -> 5540600 | P5: =ROUNDUP((H5+I5+J5+L5+M5)*1/12,-1) -> 2003800 | R5: =ROUNDUP((H5+I5+J5+L5+M5)*3.335%,-1) -> 801930 | S5: =ROUNDUP(R5*10.25%,-1) -> 82200 | V5: =SUM(Q5:U5) -> 884130 | W5: =SUM(P5,V5) -> 2887930 | X5: =SUM(H5,H6,W5,W6,O5,O6) -> 64480190 | Y5: =250000*12 -> 3000000 | Z5: =50000*12 -> 600000 | AA5: =Z5+Y5 -> 3600000
E6: 7 | F6: 14 | G6: 3785000 | H6: =G6*E6 -> 26495000 | I6: =G6*60% -> 2271000 | J6: 0 | K6: =ROUND(G6*1/209*1.5,-1) -> 27170 | L6: =(K6*20)*E6 -> 3803800 | M6: =(K6*5)*E6 -> 950950 | O6: =SUM(I6,J6,L6,M6,N6) -> 7025750 | P6: =ROUNDUP((H6+I6+J6+L6+M6)*1/12,-1) -> 2793400 | R6: =ROUNDUP((H6+I6+J6+L6+M6)*3.335%,-1) -> 1117920 | S6: =ROUNDUP(R6*10.25%,-1) -> 114590 | V6: =SUM(Q6:U6) -> 1232510 | W6: =SUM(P6,V6) -> 4025910
A7: 2 | B7: 사무국장 | C7: 금형민 | D7: 5 | E7: 4 | F7: 18 | G7: 3763000 | H7: =G7*E7 -> 15052000 | I7: =G7*60% -> 2257800 | J7: =120000*12 -> 1440000 | K7: =ROUND(G7*1/209*1.5,-1) -> 27010 | L7: =(K7*20)*E7 -> 2160800 | M7: =(K7*5)*E7 -> 540200 | O7: =SUM(I7,J7,L7,M7,N7) -> 6398800 | P7: =ROUNDUP((H7+I7+J7+L7+M7)*1/12,-1) -> 1787570 | Q7: =ROUND((H7+I7+J7+L7+M7)*4.5%,-1) -> 965290 | R7: =ROUNDUP((H7+I7+J7+L7+M7)*3.335%,-1) -> 715390 | S7: =ROUNDUP(R7*10.25%,-1) -> 73330 | T7: =ROUND((H7+I7+J7+L7+M7)*1.05%,-1) -> 225230 | U7: =ROUND((H7+I7+J7+L7+M7)*0.8%,-1) -> 171610 | V7: =SUM(Q7:U7) -> 2150850 | W7: =SUM(P7,V7) -> 3938420 | X7: =SUM(H7,H8,W7,W8,O7,O8) -> 70821780 | Y7: =250000*12 -> 3000000 | Z7: =50000*12 -> 600000 | AA7: =Z7+Y7 -> 3600000
E8: 8 | F8: 19 | G8: 3825000 | H8: =G8*E8 -> 30600000 | I8: =G8*60% -> 2295000 | J8: 0 | K8: =ROUND(G8*1/209*1.5,-1) -> 27450 | L8: =(K8*20)*E8 -> 4392000 | M8: =(K8*5)*E8 -> 1098000 | O8: =SUM(I8,J8,L8,M8,N8) -> 7785000 | P8: =ROUNDUP((H8+I8+J8+L8+M8)*1/12,-1) -> 3198750 | Q8: =ROUND((H8+I8+J8+L8+M8)*4.5%,-1) -> 1727330 | R8: =ROUNDUP((H8+I8+J8+L8+M8)*3.335%,-1) -> 1280140 | S8: =ROUNDUP(R8*10.25%,-1) -> 131220 | T8: =ROUND((H8+I8+J8+L8+M8)*1.05%,-1) -> 403040 | U8: =ROUND((H8+I8+J8+L8+M8)*0.8%,-1) -> 307080 | V8: =SUM(Q8:U8) -> 3848810 | W8: =SUM(P8,V8) -> 7047560
A9: 3 | B9: 상담평가원 (과장) | C9: 김정윤 | D9: 7 | E9: 6 | F9: 16 | G9: 3244000 | H9: =G9*E9 -> 19464000 | I9: =G9*60% -> 1946400 | J9: =40000*12 -> 480000 | K9: =ROUND(G9*1/209*1.5,-1) -> 23280 | L9: =(K9*20)*E9 -> 2793600 | M9: =(K9*5)*E9 -> 698400 | O9: =SUM(I9,J9,L9,M9,N9) -> 5918400 | P9: =ROUNDUP((H9+I9+J9+L9+M9)*1/12,-1) -> 2115200 | Q9: =ROUND((H9+I9+J9+L9+M9)*4.5%,-1) -> 1142210 | R9: =ROUNDUP((H9+I9+J9+L9+M9)*3.335%,-1) -> 846510 | S9: =ROUNDUP(R9*10.25%,-1) -> 86770 | T9: =ROUND((H9+I9+J9+L9+M9)*1.05%,-1) -> 266520 | U9: =ROUND((H9+I9+J9+L9+M9)*0.8%,-1) -> 203060 | V9: =SUM(Q9:U9) -> 2545070 | W9: =SUM(P9,V9) -> 4660270 | X9: =SUM(H9,H10,W9,W10,O9,O10) -> 60081430 | Y9: =250000*12 -> 3000000 | Z9: =50000*12 -> 600000 | AA9: =Z9+Y9 -> 3600000
E10: 6 | F10: 17 | G10: 3306000 | H10: =G10*E10 -> 19836000 | I10: =G10*60% -> 1983600 | J10: 0 | K10: =ROUND(G10*1/209*1.5,-1) -> 23730 | L10: =(K10*20)*E10 -> 2847600 | M10: =(K10*5)*E10 -> 711900 | O10: =SUM(I10,J10,L10,M10,N10) -> 5543100 | P10: =ROUNDUP((H10+I10+J10+L10+M10)*1/12,-1) -> 2114930 | Q10: =ROUND((H10+I10+J10+L10+M10)*4.5%,-1) -> 1142060 | R10: =ROUNDUP((H10+I10+J10+L10+M10)*3.335%,-1) -> 846400 | S10: =ROUNDUP(R10*10.25%,-1) -> 86760 | T10: =ROUND((H10+I10+J10+L10+M10)*1.05%,-1) -> 266480 | U10: =ROUND((H10+I10+J10+L10+M10)*0.8%,-1) -> 203030 | V10: =SUM(Q10:U10) -> 2544730 | W10: =SUM(P10,V10) -> 4659660
A11: 4 | B11: 영양사 (팀장) | C11: 김혜영 | D11: 4 | E11: 3 | F11: 23 | G11: 3679000 | H11: =G11*E11 -> 11037000 | I11: =G11*60% -> 2207400 | J11: =40000*12 -> 480000 | K11: =ROUND(G11*1/209*1.5,-1) -> 26400 | L11: =(K11*20)*E11 -> 1584000 | M11: =(K11*5)*E11 -> 396000 | O11: =SUM(I11,J11,L11,M11,N11) -> 4667400 | P11: =ROUNDUP((H11+I11+J11+L11+M11)*1/12,-1) -> 1308700 | Q11: =ROUND((H11+I11+J11+L11+M11)*4.5%,-1) -> 706700 | R11: =ROUNDUP((H11+I11+J11+L11+M11)*3.335%,-1) -> 523750 | S11: =ROUNDUP(R11*10.25%,-1) -> 53690 | T11: =ROUND((H11+I11+J11+L11+M11)*1.05%,-1) -> 164900 | U11: =ROUND((H11+I11+J11+L11+M11)*0.8%,-1) -> 125640 | V11: =SUM(Q11:U11) -> 1574680 | W11: =SUM(P11,V11) -> 2883380 | X11: =SUM(H11,H12,W11,W12,O11,O12) -> 68020510 | Y11: =250000*12 -> 3000000 | Z11: =50000*12 -> 600000 | AA11: =Z11+Y11 -> 3600000
E12: 9 | F12: 24 | G12: 3724000 | H12: =G12*E12 -> 33516000 | I12: =G12*60% -> 2234400 | J12: 0 | K12: =ROUND(G12*1/209*1.5,-1) -> 26730 | L12: =(K12*20)*E12 -> 4811400 | M12: =(K12*5)*E12 -> 1202850 | O12: =SUM(I12,J12,L12,M12,N12) -> 8248650 | P12: =ROUNDUP((H12+I12+J12+L12+M12)*1/12,-1) -> 3480390 | Q12: =ROUND((H12+I12+J12+L12+M12)*4.5%,-1) -> 1879410 | R12: =ROUNDUP((H12+I12+J12+L12+M12)*3.335%,-1) -> 1392860 | S12: =ROUNDUP(R12*10.25%,-1) -> 142770 | T12: =ROUND((H12+I12+J12+L12+M12)*1.05%,-1) -> 438530 | U12: =ROUND((H12+I12+J12+L12+M12)*0.8%,-1) -> 334120 | V12: =SUM(Q12:U12) -> 4187690 | W12: =SUM(P12,V12) -> 7668080
A13: 5 | B13: 선임지도원 (팀장) | C13: 이선이 | D13: 11 | E13: 11 | F13: 12 | G13: 2732000 | H13: =G13*E13 -> 30052000 | I13: =(G13*60%)*2 -> 3278400 | J13: =40000*12 -> 480000 | K13: =ROUND(G13*1/209*1.5,-1) -> 19610 | L13: =(K13*20)*E13 -> 4314200 | M13: =(K13*5)*E13 -> 1078550 | O13: =SUM(I13,J13,L13,M13,N13) -> 9151150 | P13: =ROUNDUP((H13+I13+J13+L13+M13)*1/12,-1) -> 3266930 | Q13: =ROUND((H13+I13+J13+L13+M13)*4.5%,-1) -> 1764140 | R13: =ROUNDUP((H13+I13+J13+L13+M13)*3.335%,-1) -> 1307430 | S13: =ROUNDUP(R13*10.25%,-1) -> 134020 | T13: =ROUND((H13+I13+J13+L13+M13)*1.05%,-1) -> 411630 | U13: =ROUND((H13+I13+J13+L13+M13)*0.8%,-1) -> 313630 | V13: =SUM(Q13:U13) -> 3930850 | W13: =SUM(P13,V13) -> 7197780 | X13: =SUM(H13,H14,W13,W14,O13,O14) -> 50315120 | Y13: =250000*12 -> 3000000 | Z13: =50000*12 -> 600000 | AA13: =Z13+Y13 -> 3600000
E14: 1 | F14: 13 | G14: 2804000 | H14: =G14*E14 -> 2804000 | I14: 0 | J14: 0 | K14: =ROUND(G14*1/209*1.5,-1) -> 20120 | L14: =(K14*20)*E14 -> 402400 | M14: =(K14*5)*E14 -> 100600 | O14: =SUM(I14,J14,L14,M14,N14) -> 503000 | P14: =ROUNDUP((H14+I14+J14+L14+M14)*1/12,-1) -> 275590 | Q14: =ROUND((H14+I14+J14+L14+M14)*4.5%,-1) -> 148820 | R14: =ROUNDUP((H14+I14+J14+L14+M14)*3.335%,-1) -> 110290 | S14: =ROUNDUP(R14*10.25%,-1) -> 11310 | T14: =ROUND((H14+I14+J14+L14+M14)*1.05%,-1) -> 34720 | U14: =ROUND((H14+I14+J14+L14+M14)*0.8%,-1) -> 26460 | V14: =SUM(Q14:U14) -> 331600 | W14: =SUM(P14,V14) -> 607190
A15: 6 | B15: 간호사 (팀장) | C15: 전광숙 | D15: 1 | E15: 7 | F15: 23 | G15: 3679000 | H15: =G15*E15 -> 25753000 | I15: =G15*60% -> 2207400 | J15: =40000*7 -> 280000 | K15: =ROUND(G15*1/209*1.5,-1) -> 26400 | L15: =(K15*20)*E15 -> 3696000 | M15: =(K15*5)*E15 -> 924000 | O15: =SUM(I15,J15,L15,M15,N15) -> 7107400 | P15: =ROUNDUP((H15+I15+J15+L15+M15)*1/12,-1) -> 2738370 | Q15: =ROUND((H15+I15+J15+L15+M15)*4.5%,-1) -> 1478720 | R15: =ROUNDUP((H15+I15+J15+L15+M15)*3.335%,-1) -> 1095900 | S15: =ROUNDUP(R15*10.25%,-1) -> 112330 | T15: =ROUND((H15+I15+J15+L15+M15)*1.05%,-1) -> 345030 | U15: =ROUND((H15+I15+J15+L15+M15)*0.8%,-1) -> 262880 | V15: =SUM(Q15:U15) -> 3294860 | W15: =SUM(P15,V15) -> 6033230 | X15: =SUM(H15,H16,W15,W16,O15,O16) -> 38893630 | Y15: =250000*7 -> 1750000 | Z15: =50000*7 -> 350000 | AA15: =Z15+Y15 -> 2100000 | AB15: 20.07 퇴사
H16: =G16*E16 -> 0 | I16: =G16*60% -> 0 | K16: =ROUND(G16*1/209*1.5,-1) -> 0 | L16: =(K16*20)*E16 -> 0 | M16: =(K16*5)*E16 -> 0 | O16: =SUM(I16,J16,L16,M16,N16) -> 0 | P16: =ROUNDUP((H16+I16+J16+L16+M16)*1/12,-1) -> 0 | Q16: =ROUND((H16+I16+J16+L16+M16)*4.5%,-1) -> 0 | R16: =ROUNDUP((H16+I16+J16+L16+M16)*3.335%,-1) -> 0 | S16: =ROUNDUP(R16*10.25%,-1) -> 0 | T16: =ROUND((H16+I16+J16+L16+M16)*1.05%,-1) -> 0 | U16: =ROUND((H16+I16+J16+L16+M16)*0.8%,-1) -> 0 | V16: =SUM(Q16:U16) -> 0 | W16: =SUM(P16,V16) -> 0
A17: 7 | B17: 간호사 | C17: 엄광식 | D17: 12 | E17: 3 | F17: 6 | G17: 2358000 | H17: =G17*E17 -> 7074000 | I17: =G17*60% -> 1414800 | J17: =40000*4 -> 160000 | K17: =ROUND(G17*1/209*1.5,-1) -> 16920 | L17: =(K17*20)*E17 -> 1015200 | M17: =(K17*5)*E17 -> 253800 | N17: 0 | O17: =SUM(I17,J17,L17,M17,N17) -> 2843800 | P17: =ROUNDUP((H17+I17+J17+L17+M17)*1/12,-1) -> 826490 | Q17: =ROUND((H17+I17+J17+L17+M17)*4.5%,-1) -> 446300 | R17: =ROUNDUP((H17+I17+J17+L17+M17)*3.335%,-1) -> 330760 | S17: =ROUNDUP(R17*10.25%,-1) -> 33910 | T17: =ROUND((H17+I17+J17+L17+M17)*1.05%,-1) -> 104140 | U17: =ROUND((H17+I17+J17+L17+M17)*0.8%,-1) -> 79340 | V17: =SUM(Q17:U17) -> 994450 | W17: =SUM(P17,V17) -> 1820940 | X17: =SUM(H17,H18,W17,W18,O17,O18) -> 15178300 | Y17: =250000*4 -> 1000000 | Z17: =50000*4 -> 200000 | AA17: =Z17+Y17 -> 1200000 | AB17: 20.09 입사
E18: 1 | F18: 7 | G18: 2464000 | H18: =G18*E18 -> 2464000 | K18: =ROUND(G18*1/209*1.5,-1) -> 17680 | L18: =(K18*20)*E18 -> 353600 | M18: =(K18*5)*E18 -> 88400 | O18: =SUM(I18,J18,L18,M18,N18) -> 442000 | P18: =ROUNDUP((H18+I18+J18+L18+M18)*1/12,-1) -> 242170 | Q18: =ROUND((H18+I18+J18+L18+M18)*4.5%,-1) -> 130770 | R18: =ROUNDUP((H18+I18+J18+L18+M18)*3.335%,-1) -> 96920 | S18: =ROUNDUP(R18*10.25%,-1) -> 9940 | T18: =ROUND((H18+I18+J18+L18+M18)*1.05%,-1) -> 30510 | U18: =ROUND((H18+I18+J18+L18+M18)*0.8%,-1) -> 23250 | V18: =SUM(Q18:U18) -> 291390 | W18: =SUM(P18,V18) -> 533560
A19: 8 | B19: 언어치료사 | C19: 최민성 | D19: 4 | E19: =D19-1 -> 3 | F19: 11 | G19: 2880000 | H19: =G19*E19 -> 8640000 | I19: =G19*60% -> 1728000 | J19: =60000*12 -> 720000 | K19: =ROUND(G19*1/209*1.5,-1) -> 20670 | L19: =(K19*20)*E19 -> 1240200 | M19: =(K19*5)*E19 -> 310050 | O19: =SUM(I19,J19,L19,M19,N19) -> 3998250 | P19: =ROUNDUP((H19+I19+J19+L19+M19)*1/12,-1) -> 1053190 | Q19: =ROUND((H19+I19+J19+L19+M19)*4.5%,-1) -> 568720 | R19: =ROUNDUP((H19+I19+J19+L19+M19)*3.335%,-1) -> 421490 | S19: =ROUNDUP(R19*10.25%,-1) -> 43210 | T19: =ROUND((H19+I19+J19+L19+M19)*1.05%,-1) -> 132700 | U19: =ROUND((H19+I19+J19+L19+M19)*0.8%,-1) -> 101110 | V19: =SUM(Q19:U19) -> 1267230 | W19: =SUM(P19,V19) -> 2320420 | X19: =SUM(H19,H20,W19,W20,O19,O20) -> 54276400 | Y19: =250000*12 -> 3000000 | Z19: =50000*12 -> 600000 | AA19: =Z19+Y19 -> 3600000
E20: 9 | F20: 12 | G20: 2962000 | H20: =G20*E20 -> 26658000 | I20: =G20*60% -> 1777200 | K20: =ROUND(G20*1/209*1.5,-1) -> 21260 | L20: =(K20*20)*E20 -> 3826800 | M20: =(K20*5)*E20 -> 956700 | O20: =SUM(I20,J20,L20,M20,N20) -> 6560700 | P20: =ROUNDUP((H20+I20+J20+L20+M20)*1/12,-1) -> 2768230 | Q20: =ROUND((H20+I20+J20+L20+M20)*4.5%,-1) -> 1494840 | R20: =ROUNDUP((H20+I20+J20+L20+M20)*3.335%,-1) -> 1107850 | S20: =ROUNDUP(R20*10.25%,-1) -> 113560 | T20: =ROUND((H20+I20+J20+L20+M20)*1.05%,-1) -> 348800 | U20: =ROUND((H20+I20+J20+L20+M20)*0.8%,-1) -> 265750 | V20: =SUM(Q20:U20) -> 3330800 | W20: =SUM(P20,V20) -> 6099030
A21: 9 | B21: 작업치료사 | C21: 이민지 | D21: 10 | E21: 2 | F21: 5 | G21: 2182000 | H21: =G21*E21 -> 4364000 | I21: =G21*60% -> 1309200 | J21: =40000*2 -> 80000 | K21: =ROUND(G21*1/209*1.5,-1) -> 15660 | L21: =(K21*20)*E21 -> 626400 | M21: =(K21*5)*E21 -> 156600 | O21: =SUM(I21,J21,L21,M21,N21) -> 2172200 | P21: =ROUNDUP((H21+I21+J21+L21+M21)*1/12,-1) -> 544690 | Q21: =ROUND((H21+I21+J21+L21+M21)*4.5%,-1) -> 294130 | R21: =ROUNDUP((H21+I21+J21+L21+M21)*3.335%,-1) -> 217990 | S21: =ROUNDUP(R21*10.25%,-1) -> 22350 | T21: =ROUND((H21+I21+J21+L21+M21)*1.05%,-1) -> 68630 | U21: =ROUND((H21+I21+J21+L21+M21)*0.8%,-1) -> 52290 | V21: =SUM(Q21:U21) -> 655390 | W21: =SUM(P21,V21) -> 1200080 | X21: =SUM(H21,H22,W21,W22,O21,O22) -> 7736280 | Y21: =200000*2 -> 400000 | Z21: =50000*2 -> 100000 | AA21: =Z21+Y21 -> 500000 | AB21: 20.02 퇴사
H22: =G22*E22 -> 0 | I22: =G22*60% -> 0 | K22: =ROUND(G22*1/209*1.5,-1) -> 0 | L22: =(K22*20)*E22 -> 0 | M22: =(K22*5)*E22 -> 0 | O22: =SUM(I22,J22,L22,M22,N22) -> 0 | P22: =ROUNDUP((H22+I22+J22+L22+M22)*1/12,-1) -> 0 | Q22: =ROUND((H22+I22+J22+L22+M22)*4.5%,-1) -> 0 | R22: =ROUNDUP((H22+I22+J22+L22+M22)*3.335%,-1) -> 0 | S22: =ROUNDUP(R22*10.25%,-1) -> 0 | T22: =ROUND((H22+I22+J22+L22+M22)*1.05%,-1) -> 0 | U22: =ROUND((H22+I22+J22+L22+M22)*0.8%,-1) -> 0 | V22: =SUM(Q22:U22) -> 0 | W22: =SUM(P22,V22) -> 0
A23: 10 | B23: 작업치료사 | C23: 이동철 | D23: 2 | E23: 9 | F23: 6 | G23: 2358000 | H23: =G23*E23 -> 21222000 | I23: =G23*60% -> 1414800 | J23: =40000*9 -> 360000 | K23: =ROUND(G23*1/209*1.5,-1) -> 16920 | L23: =(K23*20)*E23 -> 3045600 | M23: =(K23*5)*E23 -> 761400 | O23: =SUM(I23,J23,L23,M23,N23) -> 5581800 | P23: =ROUNDUP((H23+I23+J23+L23+M23)*1/12,-1) -> 2233650 | Q23: =ROUND((H23+I23+J23+L23+M23)*4.5%,-1) -> 1206170 | R23: =ROUNDUP((H23+I23+J23+L23+M23)*3.335%,-1) -> 893910 | S23: =ROUNDUP(R23*10.25%,-1) -> 91630 | T23: =ROUND((H23+I23+J23+L23+M23)*1.05%,-1) -> 281440 | U23: =ROUND((H23+I23+J23+L23+M23)*0.8%,-1) -> 214430 | V23: =SUM(Q23:U23) -> 2687580 | W23: =SUM(P23,V23) -> 4921230 | X23: =SUM(H23,H24,W23,W24,O23,O24) -> 31725030 | Y23: =250000*9 -> 2250000 | Z23: =50000*9 -> 450000 | AA23: =Z23+Y23 -> 2700000 | AB23: 20.04 입사
H24: =G24*E24 -> 0 | I24: =G24*60% -> 0 | K24: =ROUND(G24*1/209*1.5,-1) -> 0 | L24: =(K24*20)*E24 -> 0 | M24: =(K24*5)*E24 -> 0 | O24: =SUM(I24,J24,L24,M24,N24) -> 0 | P24: =ROUNDUP((H24+I24+J24+L24+M24)*1/12,-1) -> 0 | Q24: =ROUND((H24+I24+J24+L24+M24)*4.5%,-1) -> 0 | R24: =ROUNDUP((H24+I24+J24+L24+M24)*3.335%,-1) -> 0 | S24: =ROUNDUP(R24*10.25%,-1) -> 0 | T24: =ROUND((H24+I24+J24+L24+M24)*1.05%,-1) -> 0 | U24: =ROUND((H24+I24+J24+L24+M24)*0.8%,-1) -> 0 | V24: =SUM(Q24:U24) -> 0 | W24: =SUM(P24,V24) -> 0
A25: 11 | B25: 물리치료사 | C25: 김효선 | D25: 8 | E25: 7 | F25: 12 | G25: 2962000 | H25: =G25*E25 -> 20734000 | I25: =G25*60% -> 1777200 | J25: =60000*12 -> 720000 | K25: =ROUND(G25*1/209*1.5,-1) -> 21260 | L25: =(K25*20)*E25 -> 2976400 | M25: =(K25*5)*E25 -> 744100 | O25: =SUM(I25,J25,L25,M25,N25) -> 6217700 | P25: =ROUNDUP((H25+I25+J25+L25+M25)*1/12,-1) -> 2245980 | Q25: =ROUND((H25+I25+J25+L25+M25)*4.5%,-1) -> 1212830 | R25: =ROUNDUP((H25+I25+J25+L25+M25)*3.335%,-1) -> 898840 | S25: =ROUNDUP(R25*10.25%,-1) -> 92140 | T25: =ROUND((H25+I25+J25+L25+M25)*1.05%,-1) -> 282990 | U25: =ROUND((H25+I25+J25+L25+M25)*0.8%,-1) -> 215610 | V25: =SUM(Q25:U25) -> 2702410 | W25: =SUM(P25,V25) -> 4948390 | X25: =SUM(H25,H26,W25,W26,O25,O26) -> 55255170 | Y25: =250000*12 -> 3000000 | Z25: =50000*12 -> 600000 | AA25: =Z25+Y25 -> 3600000
E26: 5 | F26: 13 | G26: 3037000 | H26: =G26*E26 -> 15185000 | I26: =G26*60% -> 1822200 | K26: =ROUND(G26*1/209*1.5,-1) -> 21800 | L26: =(K26*20)*E26 -> 2180000 | M26: =(K26*5)*E26 -> 545000 | O26: =SUM(I26,J26,L26,M26,N26) -> 4547200 | P26: =ROUNDUP((H26+I26+J26+L26+M26)*1/12,-1) -> 1644350 | Q26: =ROUND((H26+I26+J26+L26+M26)*4.5%,-1) -> 887950 | R26: =ROUNDUP((H26+I26+J26+L26+M26)*3.335%,-1) -> 658070 | S26: =ROUNDUP(R26*10.25%,-1) -> 67460 | T26: =ROUND((H26+I26+J26+L26+M26)*1.05%,-1) -> 207190 | U26: =ROUND((H26+I26+J26+L26+M26)*0.8%,-1) -> 157860 | V26: =SUM(Q26:U26) -> 1978530 | W26: =SUM(P26,V26) -> 3622880
A27: 12 | B27: 사회재활 교사(과장) | C27: 이성수 | D27: 10 | E27: 9 | F27: 15 | G27: 3179000 | H27: =G27*E27 -> 28611000 | I27: =G27*60% -> 1907400 | J27: =40000*12 -> 480000 | K27: =ROUND(G27*1/209*1.5,-1) -> 22820 | L27: =(K27*20)*E27 -> 4107600 | M27: =(K27*5)*E27 -> 1026900 | O27: =SUM(I27,J27,L27,M27,N27) -> 7521900 | P27: =ROUNDUP((H27+I27+J27+L27+M27)*1/12,-1) -> 3011080 | Q27: =ROUND((H27+I27+J27+L27+M27)*4.5%,-1) -> 1625980 | R27: =ROUNDUP((H27+I27+J27+L27+M27)*3.335%,-1) -> 1205040 | S27: =ROUNDUP(R27*10.25%,-1) -> 123520 | T27: =ROUND((H27+I27+J27+L27+M27)*1.05%,-1) -> 379400 | U27: =ROUND((H27+I27+J27+L27+M27)*0.8%,-1) -> 289060 | V27: =SUM(Q27:U27) -> 3623000 | W27: =SUM(P27,V27) -> 6634080 | X27: =SUM(H27,H28,W27,W28,O27,O28) -> 58656150 | Y27: =250000*12 -> 3000000 | Z27: =50000*12 -> 600000 | AA27: =Z27+Y27 -> 3600000
E28: 3 | F28: 16 | G28: 3244000 | H28: =G28*E28 -> 9732000 | I28: =G28*60% -> 1946400 | K28: =ROUND(G28*1/209*1.5,-1) -> 23280 | L28: =(K28*20)*E28 -> 1396800 | M28: =(K28*5)*E28 -> 349200 | O28: =SUM(I28,J28,L28,M28,N28) -> 3692400 | P28: =ROUNDUP((H28+I28+J28+L28+M28)*1/12,-1) -> 1118700 | Q28: =ROUND((H28+I28+J28+L28+M28)*4.5%,-1) -> 604100 | R28: =ROUNDUP((H28+I28+J28+L28+M28)*3.335%,-1) -> 447710 | S28: =ROUNDUP(R28*10.25%,-1) -> 45900 | T28: =ROUND((H28+I28+J28+L28+M28)*1.05%,-1) -> 140960 | U28: =ROUND((H28+I28+J28+L28+M28)*0.8%,-1) -> 107400 | V28: =SUM(Q28:U28) -> 1346070 | W28: =SUM(P28,V28) -> 2464770
A29: 13 | B29: 선임지도원 (팀장) | C29: 심영은 | D29: 8 | E29: 7 | F29: 11 | G29: 2660000 | H29: =G29*E29 -> 18620000 | I29: =G29*60% -> 1596000 | J29: =60000*12 -> 720000 | K29: =ROUND(G29*1/209*1.5,-1) -> 19090 | L29: =(K29*20)*E29 -> 2672600 | M29: =(K29*5)*E29 -> 668150 | O29: =SUM(I29,J29,L29,M29,N29) -> 5656750 | P29: =ROUNDUP((H29+I29+J29+L29+M29)*1/12,-1) -> 2023070 | Q29: =ROUND((H29+I29+J29+L29+M29)*4.5%,-1) -> 1092450 | R29: =ROUNDUP((H29+I29+J29+L29+M29)*3.335%,-1) -> 809630 | S29: =ROUNDUP(R29*10.25%,-1) -> 82990 | T29: =ROUND((H29+I29+J29+L29+M29)*1.05%,-1) -> 254910 | U29: =ROUND((H29+I29+J29+L29+M29)*0.8%,-1) -> 194210 | V29: =SUM(Q29:U29) -> 2434190 | W29: =SUM(P29,V29) -> 4457260 | X29: =SUM(H29,H30,W29,W30,O29,O30) -> 49743480 | Y29: =250000*12 -> 3000000 | Z29: =50000*12 -> 600000 | AA29: =Z29+Y29 -> 3600000
E30: 5 | F30: 12 | G30: 2732000 | H30: =G30*E30 -> 13660000 | I30: =G30*60% -> 1639200 | K30: =ROUND(G30*1/209*1.5,-1) -> 19610 | L30: =(K30*20)*E30 -> 1961000 | M30: =(K30*5)*E30 -> 490250 | O30: =SUM(I30,J30,L30,M30,N30) -> 4090450 | P30: =ROUNDUP((H30+I30+J30+L30+M30)*1/12,-1) -> 1479210 | Q30: =ROUND((H30+I30+J30+L30+M30)*4.5%,-1) -> 798770 | R30: =ROUNDUP((H30+I30+J30+L30+M30)*3.335%,-1) -> 591980 | S30: =ROUNDUP(R30*10.25%,-1) -> 60680 | T30: =ROUND((H30+I30+J30+L30+M30)*1.05%,-1) -> 186380 | U30: =ROUND((H30+I30+J30+L30+M30)*0.8%,-1) -> 142000 | V30: =SUM(Q30:U30) -> 1779810 | W30: =SUM(P30,V30) -> 3259020
A31: 14 | B31: 사무원 | C31: 유준 | D31: 4 | E31: 3 | F31: 13 | G31: 2558000 | H31: =G31*E31 -> 7674000 | I31: =G31*60% -> 1534800 | K31: =ROUND(G31*1/209*1.5,-1) -> 18360 | L31: =(K31*20)*E31 -> 1101600 | M31: =(K31*5)*E31 -> 275400 | O31: =SUM(I31,J31,L31,M31,N31) -> 2911800 | P31: =ROUNDUP((H31+I31+J31+L31+M31)*1/12,-1) -> 882150 | Q31: =ROUND((H31+I31+J31+L31+M31)*4.5%,-1) -> 476360 | R31: =ROUNDUP((H31+I31+J31+L31+M31)*3.335%,-1) -> 353040 | S31: =ROUNDUP(R31*10.25%,-1) -> 36190 | T31: =ROUND((H31+I31+J31+L31+M31)*1.05%,-1) -> 111150 | U31: =ROUND((H31+I31+J31+L31+M31)*0.8%,-1) -> 84690 | V31: =SUM(Q31:U31) -> 1061430 | W31: =SUM(P31,V31) -> 1943580 | X31: =SUM(H31,H32,W31,W32,O31,O32) -> 47359430 | Y31: =250000*12 -> 3000000 | Z31: =50000*12 -> 600000 | AA31: =Z31+Y31 -> 3600000
E32: 9 | F32: 14 | G32: 2624000 | H32: =G32*E32 -> 23616000 | I32: =G32*60% -> 1574400 | K32: =ROUND(G32*1/209*1.5,-1) -> 18830 | L32: =(K32*20)*E32 -> 3389400 | M32: =(K32*5)*E32 -> 847350 | O32: =SUM(I32,J32,L32,M32,N32) -> 5811150 | P32: =ROUNDUP((H32+I32+J32+L32+M32)*1/12,-1) -> 2452270 | Q32: =ROUND((H32+I32+J32+L32+M32)*4.5%,-1) -> 1324220 | R32: =ROUNDUP((H32+I32+J32+L32+M32)*3.335%,-1) -> 981400 | S32: =ROUNDUP(R32*10.25%,-1) -> 100600 | T32: =ROUND((H32+I32+J32+L32+M32)*1.05%,-1) -> 308990 | U32: =ROUND((H32+I32+J32+L32+M32)*0.8%,-1) -> 235420 | V32: =SUM(Q32:U32) -> 2950630 | W32: =SUM(P32,V32) -> 5402900
A33: 15 | B33: 생활지도원 (팀장) | C33: 신희철 | D33: 2 | E33: 1 | F33: 12 | G33: 2493000 | H33: =G33*E33 -> 2493000 | I33: =G33*60% -> 1495800 | J33: =40000*12 -> 480000 | K33: =ROUND(G33*1/209*1.5,-1) -> 17890 | L33: =(K33*20)*E33 -> 357800 | M33: =(K33*5)*E33 -> 89450 | O33: =SUM(I33,J33,L33,M33,N33) -> 2423050 | P33: =ROUNDUP((H33+I33+J33+L33+M33)*1/12,-1) -> 409680 | Q33: =ROUND((H33+I33+J33+L33+M33)*4.5%,-1) -> 221220 | R33: =ROUNDUP((H33+I33+J33+L33+M33)*3.335%,-1) -> 163960 | S33: =ROUNDUP(R33*10.25%,-1) -> 16810 | T33: =ROUND((H33+I33+J33+L33+M33)*1.05%,-1) -> 51620 | U33: =ROUND((H33+I33+J33+L33+M33)*0.8%,-1) -> 39330 | V33: =SUM(Q33:U33) -> 492940 | W33: =SUM(P33,V33) -> 902620 | X33: =SUM(H33,H34,W33,W34,O33,O34) -> 46915470 | Y33: =250000*12 -> 3000000 | Z33: =50000*12 -> 600000 | AA33: =Z33+Y33 -> 3600000
E34: 11 | F34: 13 | G34: 2558000 | H34: =G34*E34 -> 28138000 | I34: =G34*60% -> 1534800 | K34: =ROUND(G34*1/209*1.5,-1) -> 18360 | L34: =(K34*20)*E34 -> 4039200 | M34: =(K34*5)*E34 -> 1009800 | O34: =SUM(I34,J34,L34,M34,N34) -> 6583800 | P34: =ROUNDUP((H34+I34+J34+L34+M34)*1/12,-1) -> 2893490 | Q34: =ROUND((H34+I34+J34+L34+M34)*4.5%,-1) -> 1562480 | R34: =ROUNDUP((H34+I34+J34+L34+M34)*3.335%,-1) -> 1157980 | S34: =ROUNDUP(R34*10.25%,-1) -> 118700 | T34: =ROUND((H34+I34+J34+L34+M34)*1.05%,-1) -> 364580 | U34: =ROUND((H34+I34+J34+L34+M34)*0.8%,-1) -> 277770 | V34: =SUM(Q34:U34) -> 3481510 | W34: =SUM(P34,V34) -> 6375000
A35: 16 | B35: 생활지도원 | C35: 홍은향 | D35: 6 | E35: 5 | F35: 15 | G35: 2684000 | H35: =G35*E35 -> 13420000 | I35: =G35*60% -> 1610400 | J35: =120000*12 -> 1440000 | K35: =ROUND(G35*1/209*1.5,-1) -> 19260 | L35: =(K35*40)*E35 -> 3852000 | O35: =SUM(I35,J35,L35,M35,N35) -> 6902400 | P35: =ROUNDUP((H35+I35+J35+L35+M35)*1/12,-1) -> 1693540 | Q35: =ROUND((H35+I35+J35+L35+M35)*4.5%,-1) -> 914510 | R35: =ROUNDUP((H35+I35+J35+L35+M35)*3.335%,-1) -> 677760 | S35: =ROUNDUP(R35*10.25%,-1) -> 69480 | T35: =ROUND((H35+I35+J35+L35+M35)*1.05%,-1) -> 213390 | U35: =ROUND((H35+I35+J35+L35+M35)*0.8%,-1) -> 162580 | V35: =SUM(Q35:U35) -> 2037720 | W35: =SUM(P35,V35) -> 3731260 | X35: =SUM(H35,H36,W35,W36,O35,O36) -> 55241100 | Y35: =250000*12 -> 3000000 | Z35: =50000*12 -> 600000 | AA35: =Z35+Y35 -> 3600000
E36: 7 | F36: 16 | G36: 2742000 | H36: =G36*E36 -> 19194000 | I36: =G36*60% -> 1645200 | K36: =ROUND(G36*1/209*1.5,-1) -> 19680 | L36: =(K36*40)*E36 -> 5510400 | O36: =SUM(I36,J36,L36,M36,N36) -> 7155600 | P36: =ROUNDUP((H36+I36+J36+L36+M36)*1/12,-1) -> 2195800 | Q36: =ROUND((H36+I36+J36+L36+M36)*4.5%,-1) -> 1185730 | R36: =ROUNDUP((H36+I36+J36+L36+M36)*3.335%,-1) -> 878760 | S36: =ROUNDUP(R36*10.25%,-1) -> 90080 | T36: =ROUND((H36+I36+J36+L36+M36)*1.05%,-1) -> 276670 | U36: =ROUND((H36+I36+J36+L36+M36)*0.8%,-1) -> 210800 | V36: =SUM(Q36:U36) -> 2642040 | W36: =SUM(P36,V36) -> 4837840
A37: 17 | B37: 생활지도원 | C37: 이도란 | D37: 5 | E37: 4 | F37: 10 | G37: 2365000 | H37: =G37*E37 -> 9460000 | I37: =G37*60% -> 1419000 | J37: =40000*12 -> 480000 | K37: =ROUND(G37*1/209*1.5,-1) -> 16970 | L37: =(K37*20)*E37 -> 1357600 | M37: =(K37*5)*E37 -> 339400 | O37: =SUM(I37,J37,L37,M37,N37) -> 3596000 | P37: =ROUNDUP((H37+I37+J37+L37+M37)*1/12,-1) -> 1088000 | Q37: =ROUND((H37+I37+J37+L37+M37)*4.5%,-1) -> 587520 | R37: =ROUNDUP((H37+I37+J37+L37+M37)*3.335%,-1) -> 435420 | S37: =ROUNDUP(R37*10.25%,-1) -> 44640 | T37: =ROUND((H37+I37+J37+L37+M37)*1.05%,-1) -> 137090 | U37: =ROUND((H37+I37+J37+L37+M37)*0.8%,-1) -> 104450 | V37: =SUM(Q37:U37) -> 1309120 | W37: =SUM(P37,V37) -> 2397120 | X37: =SUM(H37,H38,W37,W38,O37,O38) -> 44293720 | Y37: =250000*12 -> 3000000 | Z37: =50000*12 -> 600000 | AA37: =Z37+Y37 -> 3600000
E38: 8 | F38: 11 | G38: 2428000 | H38: =G38*E38 -> 19424000 | I38: =G38*60% -> 1456800 | K38: =ROUND(G38*1/209*1.5,-1) -> 17430 | L38: =(K38*20)*E38 -> 2788800 | M38: =(K38*5)*E38 -> 697200 | O38: =SUM(I38,J38,L38,M38,N38) -> 4942800 | P38: =ROUNDUP((H38+I38+J38+L38+M38)*1/12,-1) -> 2030570 | Q38: =ROUND((H38+I38+J38+L38+M38)*4.5%,-1) -> 1096510 | R38: =ROUNDUP((H38+I38+J38+L38+M38)*3.335%,-1) -> 812640 | S38: =ROUNDUP(R38*10.25%,-1) -> 83300 | T38: =ROUND((H38+I38+J38+L38+M38)*1.05%,-1) -> 255850 | U38: =ROUND((H38+I38+J38+L38+M38)*0.8%,-1) -> 194930 | V38: =SUM(Q38:U38) -> 2443230 | W38: =SUM(P38,V38) -> 4473800
