Workbook
Name F: #REF!
Name F: #REF!
Name F: #REF!
Name F: #REF!
Name F: #REF!

Sheet 표지
A4: 2020년도
A11: 2020년 1차 추가경정
A12: 세입ㆍ세출 예산서(안)
A23: 천주교수원교구사회복지회
A24: 둘 다 섯 해 누 리
E67: 0

Sheet 가. 예산총칙
A2: 가. 예 산 총 칙
A4: 제1조 | B4: 본 예산(안)은 사회복지법인 천주교 수원교구 사회복지회 소속 장애인거주시설 '둘다섯해누리'의
B5: 2020년도(2020.01.01 ~ 2020.12.31) 예산으로
B6: 사회복지법인 및 사회복지시설 재무회계규칙 제9조 1항에 의한다.
A8: 제2조 | B8: 세입세출 예산 총액은 | D8: ='다. 세입내역서'!E6 -> 3.62915e+09 | E8: 원으로, | G8: 세입세출의 명세는 다음과 같다.
B10: 1. 세입의 주요재원은 다음과 같다. (관 기준)
B11: 1) | C11: 입소자부담금 | D11: ='나. 세입세출(총괄)'!E9 -> 134400000 | E11: 원 | G11: 2) | H11: 사업수입 | J11: 원
B12: 3) | C12: 보조금수입 | D12: ='나. 세입세출(총괄)'!E18 -> 2.9615715e+09 | E12: 원 | G12: 4) | H12: 후원금수입 | I12: ='나. 세입세출(총괄)'!E25 -> 378460000 | J12: 원
B13: 5) | C13: 차입금 | E13: 원 | G13: 6) | H13: 전입금 | I13: ='나. 세입세출(총괄)'!E31 -> 40000000 | J13: 원
B14: 7) | C14: 이월금 | D14: ='나. 세입세출(총괄)'!E35 -> 53404680 | E14: 원 | G14: 8) | H14: 잡수입 | I14: ='나. 세입세출(총괄)'!E46 -> 61313850 | J14: 원
B16: 2. 세출의 내용은 다음과 같다. (관 또는 항기준)
B17: 1) | C17: 사무비 | D17: ='나. 세입세출(총괄)'!L8 -> 2.9810364e+09 | E17: 원 | G17: 2) | H17: 재산조성비 | I17: ='나. 세입세출(총괄)'!L25 -> 229830000 | J17: 원
B18: 3) | C18: 사업비 | D18: ='나. 세입세출(총괄)'!L30 -> 408115000 | E18: 원 | G18: 4) | H18: 잡지출 | I18: ='나. 세입세출(총괄)'!L49 -> 615340 | J18: 원
B19: 5) | C19: 과년도지출 | D19: ='나. 세입세출(총괄)'!L46 -> 1040105 | E19: 원 | G19: 6) | H19: 예비비및기타 | I19: ='나. 세입세출(총괄)'!L52 -> 8513190 | J19: 원
B20: 7) | E20: 원
B22: 3. 명시이월 사업은 | G22: 이며, 예산은 | J22: 원이다.
B24: 4. 신설사업은 | D24: ①중증장애인의 직업능력개발을 위한 목공프로그램 “우드잡 woodjob”이며 예산은 | I24: 10000000 | J24: 원이다.
D25: ②기능보강사업 1 : 거주시설 공기청정기렌탈지원 사업으로 예산은 | I25: 2100000 | J25: 원이다.
I26: 10000002 | J26: 원이다.
I27: 10000003 | J27: 원이다.
D28: ③기능보강사업 2 : 코로나19예방 방역 사업으로 예산은 | I28: 2090000 | J28: 원이다.
A30: 제3조 | B30: 본예산(안)은 법인 이사회의 승인을 얻어 확정한다.
A32: 제4조 | B32: 법인이사회의 예산승인을 받기 전에 일반경비 및 긴급을 요하는 예산집행은 직전예산에 준하여
B33: 지출할 수 있으며, 그 집행된 예산은 당해 연도의 확정예산에 의하여 집행된 것으로 간주한다.
A35: 제5조 | B35: 각 계정과목 내의 항목의 예산집행은 당해 계정과목의 승인예산의 범위 내에서 항목간 예산을
B36: 일부 조정하여 사용할 수 있다.
A38: 제6조 | B38: 「사회복지법인 및 사회복지시설 재무회계규칙」 제16조에 의거하여 예산을 전용할 수 있다.
B39: 단, 관·항간 예산을 전용 할 경우 법인 이사회의 의결을 거쳐야 한다.
A41: 제7조 | B41: 국가 또는 지방자치단체로부터 교부된 보조금 및 지정후원금, 수익자부담 경비 등은
B42: 추가경정예산의 성립 이전이라도 보조 및 후원 목적에 적절한 경우 먼저 사용할 수 있으며,
B43: 이는 반드시 차기 추가경정예산에 반영하여야 한다.
A45: 제8조 | B45: 국가, 지방자치단체 및 사회복지기금 등에서 공모사업 선정으로 받은 보조금은 사회복지법인
B46: 및 사회복지시설 재무회계규칙에 따라 기타보조금에 편성되어야 한다.
B47: (만약, 지정후원금 또는 별도 사업비 편성이 용이하다는 지차체의 증빙자료(공문)가 있을시에만
B48: 별도 편성 가능)
A50: 제9조 | B50: 기타 회계 관련 규정의 개정으로 예산과목이 변경된 경우에는 당해연도 변경된 과목으로 승인
B51: 된 것으로 하며, 그 외의 예산총칙에 명시되지 아니한 사항은 「사회복지법인
B52: 및 사회복지시설 재무회계규칙」에 따라 집행한다.

Sheet 나. 세입세출(총괄)
A2: 나. 세입.세출 총괄표
M3: (단위 : 원)
A4: 세 입 | H4: 세 출
A5: 과 목 | D5: 2020년 당초예산(A) | E5: 1차추경 예산 (B) | F5: 증감금액 (C=B-A) | G5: 증감율(%) (C/A*100) | H5: 과 목 | K5: =D5 -> 2020년 당초예산(A) | L5: =E5 -> 1차추경 예산 (B) | M5: 증감금액 (C=B-A) | N5: 증감율(%) (C/A*100)
A6: 관 | B6: 항 | C6: 목 | H6: 관 | I6: 항 | J6: 목
A7: 합 계 | D7: =D8+D11+D14+D17+D25+D31+D35+D46 -> 3230720000 | E7: =E8+E11+E14+E17+E25+E31+E35+E46 -> 3.62915e+09 | F7: =F8+F11+F14+F17+F25+F31+F35+F46 -> 3.9843e+08 | G7: =F7/D7*100 -> 12.332545 | H7: 합 계 | K7: =SUM(K8,K25,K30,K46,K49,K52) -> 3230720000 | L7: =SUM(L8,L25,L30,L46,L49,L52) -> 3.62915e+09 | M7: =L7-K7 -> 3.9843e+08 | N7: =M7/K7*100 -> 12.332545
A8: 입소자부담금 | B8: 계 | D8: 134400000 | E8: =E9 -> 134400000 | F8: =F9 -> 0 | G8: =F8/D8*100 -> 0 | H8: 사무비 | I8: 계 | K8: 2628751180 | L8: =SUM(L9,L16,L18) -> 2.9810364e+09 | M8: =L8-K8 -> 3.5228519e+08 | N8: =M8/K8*100 -> 13.401237
B9: 입소비용수입 | C9: 소계 | D9: 134400000 | E9: =E10 -> 134400000 | F9: =F10 -> 0 | G9: =F9/D9*100 -> 0 | I9: 인건비 | J9: 소계 | K9: 2393247270 | L9: =SUM(L10:L15) -> 2.7410792e+09 | M9: =L9-K9 -> 3.4783193e+08 | N9: =M9/K9*100 -> 14.53389
C10: 입소비용수입 | D10: 134400000 | E10: ='다. 세입내역서'!E9 -> 134400000 | F10: =E10-D10 -> 0 | G10: =F10/D10*100 -> 0 | J10: 급 여 | K10: 1479465000 | L10: ='라. 세출내역서'!E9 -> 1687166000 | M10: =L10-K10 -> 207701000 | N10: =M10/K10*100 -> 14.038926
A11: 사업수입 | B11: 계 | D11: 0 | E11: =E12 -> 0 | F11: =F12 -> 0 | G11: 0 | J11: 일 용 잡 급 | K11: 9600000 | L11: ='라. 세출내역서'!E133 -> 9600000 | M11: =L11-K11 -> 0 | N11: =M11/K11*100 -> 0
B12: 사업수입 | C12: 소계 | D12: 0 | E12: =E13 -> 0 | F12: =F13 -> 0 | G12: 0 | J12: 제 수 당 | K12: 509510880 | L12: ='라. 세출내역서'!E135 -> 597343050 | M12: =L12-K12 -> 87832170 | N12: =M12/K12*100 -> 17.238527
C13: 프로그램사업수입 | D13: 0 | E13: ='[1]다-2.자부담세입'!E13 -> 0 | F13: =E13-D13 -> 0 | G13: 0 | J13: 퇴직금및퇴직적립금 | K13: 164978100 | L13: ='라. 세출내역서'!E482 -> 187840130 | M13: =L13-K13 -> 22862030 | N13: =M13/K13*100 -> 13.857615
A14: 과년도수입 | B14: 계 | D14: 0 | E14: =E15 -> 0 | F14: =F15 -> 0 | G14: 0 | J14: 사회보험부담비용 | K14: 187693290 | L14: ='라. 세출내역서'!E486 -> 2.2213002e+08 | M14: =L14-K14 -> 34436730 | N14: =M14/K14*100 -> 18.347342
B15: 과년도수입 | C15: 소계 | D15: 0 | E15: =E16 -> 0 | F15: =F16 -> 0 | G15: 0 | J15: 기타후생경비 | K15: 42000000 | L15: ='라. 세출내역서'!E502 -> 37000000 | M15: =L15-K15 -> -5000000 | N15: =M15/K15*100 -> -11.904762
C16: 과년도수입 | D16: 0 | E16: 0 | F16: =E16-D16 -> 0 | G16: 0 | I16: 업무추진비 | J16: 소계 | K16: 2490000 | L16: 2000000 | M16: =L16-K16 -> -490000 | N16: =M16/K16*100 -> -19.678715
A17: 보조금수입 | B17: 계 | D17: 2591323820 | E17: =E18 -> 2.9615715e+09 | F17: =F18+F24+F29 -> 3.7024765e+08 | G17: =F17/D17*100 -> 14.287973 | J17: 회의비 | K17: 2490000 | L17: ='라. 세출내역서'!E515 -> 2000000 | M17: =L17-K17 -> -490000 | N17: =M17/K17*100 -> -19.678715
B18: 보조금수입 | C18: 소계 | D18: =SUM(D19:D22) -> 2591323820 | E18: =SUM(E19:E22) -> 2.9615715e+09 | F18: =SUM(F19:F22) -> 3.7024765e+08 | G18: =F18/D18*100 -> 14.287973 | I18: 운영비 | J18: 소계 | K18: 233013910 | L18: =SUM(L19:L24) -> 237957165 | M18: =L18-K18 -> 4943255 | N18: =M18/K18*100 -> 2.121442
C19: 국도시보조금(70%) | D19: 1672616764 | E19: ='다. 세입내역서'!E18 -> 1928458500 | F19: =E19-D19 -> 255841736 | G19: =F19/D19*100 -> 15.295897 | J19: 여 비 | K19: 5000000 | L19: ='라. 세출내역서'!E520 -> 2000000 | M19: =L19-K19 -> -3000000 | N19: =M19/K19*100 -> -60
C20: 시도보조금(30%) | D20: 717435756 | E20: ='다. 세입내역서'!E23 -> 8.2708187e+08 | F20: =E20-D20 -> 1.0964611e+08 | G20: =F20/D20*100 -> 15.283057 | J20: 수용비및수수료 | K20: 55288080 | L20: ='라. 세출내역서'!E522 -> 57956715 | M20: =L20-K20 -> 2668635 | N20: =M20/K20*100 -> 4.8267818
C21: 시도보조금(100%) | D21: 194551300 | E21: ='다. 세입내역서'!E28 -> 199311100 | F21: =E21-D21 -> 4759800 | G21: =F21/D21*100 -> 2.4465527 | J21: 공공요금 | K21: 119100000 | L21: ='라. 세출내역서'!E539 -> 135000000 | M21: =L21-K21 -> 15900000 | N21: =M21/K21*100 -> 13.350126
C22: 기타보조금 | D22: 6720000 | E22: ='다. 세입내역서'!E36 -> 6720000 | F22: =E22-D22 -> 0 | G22: =F22/D22*100 -> 0 | J22: 제세공과금 | K22: 13625830 | L22: ='라. 세출내역서'!E546 -> 13700450 | M22: =L22-K22 -> 74620 | N22: =M22/K22*100 -> 0.54763636
J23: 차량비 | K23: 26000000 | L23: ='라. 세출내역서'!E554 -> 22800000 | M23: =L23-K23 -> -3200000 | N23: =M23/K23*100 -> -12.307692
J24: 기타운영비 | K24: 14000000 | L24: ='라. 세출내역서'!E557 -> 6500000 | M24: =L24-K24 -> -7500000 | N24: =M24/K24*100 -> -53.571429
A25: 후원금 | B25: 계 | D25: 364200000 | E25: =E26+E29 -> 378460000 | F25: =F26+F29 -> 14260000 | G25: =F25/D25*100 -> 3.9154311 | H25: 재산조성비 | I25: 계 | K25: 167900000 | L25: =L26 -> 229830000 | M25: =L25-K25 -> 61930000 | N25: =M25/K25*100 -> 36.885051
B26: 후원금수입 | C26: 소계 | D26: 364200000 | E26: =SUM(E27:E28) -> 378460000 | F26: =SUM(F27:F28) -> 14260000 | G26: =F26/D26*100 -> 3.9154311 | I26: 시설비 | J26: 소계 | K26: 167900000 | L26: =SUM(L27:L29) -> 229830000 | M26: =L26-K26 -> 61930000 | N26: =M26/K26*100 -> 36.885051
C27: 지정후원금 | D27: 14200000 | E27: ='다. 세입내역서'!E39 -> 38500000 | F27: =E27-D27 -> 24300000 | G27: =F27/D27*100 -> 171.12676 | J27: 시 설 비 | K27: 10000000 | L27: ='라. 세출내역서'!E563 -> 0 | M27: =L27-K27 -> -10000000 | N27: =M27/K27*100 -> -100
C28: 비지정후원금 | D28: 350000000 | E28: ='다. 세입내역서'!E40 -> 339960000 | F28: =E28-D28 -> -10040000 | G28: =F28/D28*100 -> -2.8685714 | J28: 자산취득비 | K28: 65900000 | L28: ='라. 세출내역서'!E564 -> 107730000 | M28: =L28-K28 -> 41830000 | N28: =M28/K28*100 -> 63.474962
J29: 시설장비유지비 | K29: 92000000 | L29: ='라. 세출내역서'!E580 -> 122100000 | M29: =L29-K29 -> 30100000 | N29: =M29/K29*100 -> 32.717391
H30: 사업비 | I30: 계 | K30: 401372640 | L30: =SUM(L31,L37,L44) -> 408115000 | M30: =L30-K30 -> 6742360 | N30: =M30/K30*100 -> 1.6798255
A31: 전입금 | B31: 계 | D31: 40000000 | E31: =E32 -> 40000000 | F31: =F32 -> 0 | G31: =F31/D31*100 -> 0 | I31: 운영비 | J31: 소계 | K31: 254332640 | L31: =SUM(L32:L36) -> 274239200 | M31: =L31-K31 -> 19906560 | N31: =M31/K31*100 -> 7.8269781
B32: 전입금 | C32: 소계 | D32: 40000000 | E32: =E33 -> 40000000 | F32: =F33 -> 0 | G32: =F32/D32*100 -> 0 | J32: 생 계 비 | K32: 209362640 | L32: ='라. 세출내역서'!E599 -> 230739200 | M32: =L32-K32 -> 21376560 | N32: =M32/K32*100 -> 10.210303
C33: 법인전입금 | D33: 40000000 | E33: ='다. 세입내역서'!E43 -> 40000000 | F33: =E33-D33 -> 0 | G33: =F33/D33*100 -> 0 | J33: 수용기관경비 | K33: 37970000 | L33: ='라. 세출내역서'!E605 -> 36500000 | M33: =L33-K33 -> -1470000 | N33: =M33/K33*100 -> -3.8714775
J34: 피 복 비 | K34: 4000000 | L34: ='라. 세출내역서'!E610 -> 4000000 | M34: =L34-K34 -> 0 | N34: =M34/K34*100 -> 0
A35: 이월금 | B35: 계 | D35: 53487000 | E35: =E36 -> 53404680 | F35: =F36 -> -82320 | G35: =F35/D35*100 -> -0.15390656 | J35: 의 료 비 | K35: 3000000 | L35: ='라. 세출내역서'!E612 -> 3000000 | M35: =L35-K35 -> 0 | N35: =M35/K35*100 -> 0
B36: 이월금 | C36: 소계 | D36: =SUM(D37:D41) -> 53487000 | E36: =SUM(E37:E41) -> 53404680 | F36: =SUM(F37:F41) -> -82320 | G36: =F36/D36*100 -> -0.15390656 | J36: 연 료 비 | K36: 0 | L36: ='라. 세출내역서'!E614 -> 0 | M36: =L36-K36 -> 0 | N36: 0
C37: 이월금(보조금) | D37: ='다. 세입내역서'!D46 -> 31287000 | E37: ='다. 세입내역서'!E46 -> 8513190 | F37: =E37-D37 -> -22773810 | G37: =F37/D37*100 -> -72.790009 | I37: 사업비 | J37: 소계 | K37: 145540000 | L37: =SUM(L38:L43) -> 131055800 | M37: -14484200 | N37: =M37/K37*100 -> -9.9520407
C38: 이월금(법인전입금) | D38: ='다. 세입내역서'!D47 -> 500000 | E38: ='다. 세입내역서'!E47 -> 3080563 | F38: =E38-D38 -> 2580563 | G38: 0 | J38: 사회심리재활사업비 | K38: 89000000 | L38: ='라. 세출내역서'!E616 -> 72427000 | M38: =L38-K38 -> -16573000 | N38: =M38/K38*100 -> -18.621348
C39: 이월금(자부담) | D39: ='다. 세입내역서'!D48 -> 5800000 | E39: ='다. 세입내역서'!E48 -> 19352559 | F39: =E39-D39 -> 13552559 | G39: 0 | J39: 직업재활사업비 | K39: 5000000 | L39: ='라. 세출내역서'!E635 -> 5000000 | M39: =L39-K39 -> 0 | N39: =M39/K39*100 -> 0
C40: 이월금(후원금) | D40: ='다. 세입내역서'!D49 -> 15900000 | E40: ='다. 세입내역서'!E49 -> 22458368 | F40: =E40-D40 -> 6558368 | G40: 0 | J40: 4종운영지원사업비 | K40: 32840000 | L40: ='라. 세출내역서'!E637 -> 32840000 | M40: =L40-K40 -> 0 | N40: =M40/K40*100 -> 0
C41: 이월사업비 | D41: ='다. 세입내역서'!D50 -> 0 | E41: ='다. 세입내역서'!E50 -> 0 | F41: =E41-D41 -> 0 | J41: 7종운영지원사업비 | K41: 6600000 | L41: ='라. 세출내역서'!E643 -> 6600000 | M41: =L41-K41 -> 0 | N41: =M41/K41*100 -> 0
J42: 재활프로그램사업비 | K42: 10000000 | L42: ='라. 세출내역서'!E646 -> 10000000 | M42: =L42-K42 -> 0 | N42: =M42/K42*100 -> 0
J43: 기 능 보 강 사업비 | K43: 2100000 | L43: ='라. 세출내역서'!E650 -> 4188800 | M43: =L43-K43 -> 2088800 | N43: =M43/K43*100 -> 99.466667
I44: 결연사업비 | J44: 소계 | K44: 1500000 | L44: =L45 -> 2820000 | M44: =L44-K44 -> 1320000 | N44: =M44/K44*100 -> 88
J45: 결연후원금 | K45: 1500000 | L45: ='라. 세출내역서'!E654 -> 2820000 | M45: =L45-K45 -> 1320000 | N45: =M45/K45*100 -> 88
A46: 잡수입 | B46: 계 | D46: 47309180 | E46: =E47 -> 61313850 | F46: =F47 -> 14004670 | G46: =F46/D46*100 -> 29.602437 | H46: 과년도지출 | I46: 계 | K46: 800000 | L46: =L47 -> 1040105 | M46: =L46-K46 -> 240105 | N46: =M46/K46*100 -> 30.013125
B47: 잡수입 | C47: 소계 | D47: 47309180 | E47: =SUM(E48:E50) -> 61313850 | F47: =SUM(F48:F50) -> 14004670 | G47: =F47/D47*100 -> 29.602437 | I47: 과년도지출 | J47: 소계 | K47: 800000 | L47: =L48 -> 1040105 | M47: =L47-K47 -> 240105 | N47: =M47/K47*100 -> 30.013125
C48: 불용품매각대 | D48: 500000 | E48: ='다. 세입내역서'!E53 -> 500000 | F48: =E48-D48 -> 0 | G48: =F48/D48*100 -> 0 | J48: 과년도지출 | K48: 800000 | L48: ='라. 세출내역서'!E658 -> 1040105 | M48: =L48-K48 -> 240105 | N48: =M48/K48*100 -> 30.013125
C49: 기타예금이자수입 | D49: 1759180 | E49: ='다. 세입내역서'!E54 -> 1763850 | F49: =E49-D49 -> 4670 | G49: =F49/D49*100 -> 0.26546459 | H49: 잡지출 | I49: 계 | K49: 609180 | L49: =L50 -> 615340 | M49: =L49-K49 -> 6160 | N49: =M49/K49*100 -> 1.0111954
C50: 기타잡수입 | D50: 45050000 | E50: ='다. 세입내역서'!E55 -> 59050000 | F50: =E50-D50 -> 14000000 | G50: =F50/D50*100 -> 31.076582 | I50: 잡지출 | J50: 소계 | K50: 609180 | L50: =L51 -> 615340 | M50: =L50-K50 -> 6160 | N50: =M50/K50*100 -> 1.0111954
J51: 잡지출 | K51: 609180 | L51: ='라. 세출내역서'!E664 -> 615340 | M51: =L51-K51 -> 6160 | N51: =M51/K51*100 -> 1.0111954
H52: 예비비및기타 | I52: 계 | K52: 31287000 | L52: =L53 -> 8513190 | M52: =L52-K52 -> -22773810 | N52: =M52/K52*100 -> -72.790009
I53: 예비비및기타 | J53: 소계 | K53: 31287000 | L53: =L54 -> 8513190 | M53: =L53-K53 -> -22773810 | N53: =M53/K53*100 -> -72.790009
J54: 보조금반환금 | K54: 31287000 | L54: ='라. 세출내역서'!E668 -> 8513190 | M54: =L54-K54 -> -22773810 | N54: =M54/K54*100 -> -72.790009

Sheet 다. 세입내역서
A2: 다. 세입내역서
J3: (단위 : 원)
A4: 과 목 | D4: 2020년 당초예산(A) | E4: 1차추경 예산 (B) | F4: 증감금액 (C=B-A) | G4: 증감율(%) (C/A*100) | H4: 산 출 내 역
A5: 관 | B5: 항 | C5: 목
A6: 합 계 | D6: =D7+D13+D16+D41+D44+D51+D10+D37 -> 3230720000 | E6: =E7+E13+E16+E41+E44+E51+E10+E37 -> 3.62915e+09 | F6: =F7+F13+F16+F41+F44+F51+F10+F37 -> 3.9843e+08 | G6: =F6/D6*100 -> 12.332545 | K6: =E6-'라. 세출내역서'!E6 -> -0.32230568
A7: 입소자부담금 | B7: 계 | D7: =D8 -> 134400000 | E7: 134400000 | F7: =F8 -> 0 | G7: =F7/D7*100 -> 0
B8: 입소비용수입 | C8: 소계 | D8: =D9 -> 134400000 | E8: 134400000 | F8: =F9 -> 0 | G8: =F8/D8*100 -> 0
C9: 입소비용수입 | D9: 134400000 | E9: 134400000 | F9: =E9-D9 -> 0 | G9: =F9/D9*100 -> 0 | H9: *실비인원 32명*350,000원*12개월=134,400,000원
A10: 사업수입 | B10: 계 | D10: 0 | E10: 0 | F10: 0 | G10: 0
B11: 사업수입 | C11: 소계 | D11: 0 | E11: 0 | F11: 0 | G11: 0
C12: 프로그램사업수입 | D12: 0 | E12: 0 | F12: 0 | G12: 0
A13: 과년도수입 | B13: 계 | D13: 0 | E13: 0 | F13: =E13-D13 -> 0 | G13: 0
B14: 과년도수입 | C14: 소계 | D14: 0 | E14: 0 | F14: =E14-D14 -> 0 | G14: 0
C15: 과년도수입 | D15: 0 | E15: 0 | F15: 0 | G15: 0
A16: 보조금수입 | B16: 계 | D16: =D17 -> 2591323820 | E16: =E17 -> 2.9615715e+09 | F16: =E16-D16 -> 3.7024765e+08 | G16: =F16/D16*100 -> 14.287973
B17: 보조금수입 | C17: 소계 | D17: =SUM(D18,D23,D28,D36) -> 2591323820 | E17: =SUM(E18,E23,E28,E36) -> 2.9615715e+09 | F17: =E17-D17 -> 3.7024765e+08 | G17: =F17/D17*100 -> 14.287973
C18: 국도시보조금(70%) | D18: =SUM(D19:D22) -> 1672616764 | E18: =SUM(E19:E22) -> 1928458500 | F18: =E18-D18 -> 255841736 | G18: =F18/D18*100 -> 15.295897 | H18: * 인 건 비(70%) : 1,757,621,160원 * 관 리 운 영 비(70%) : 71,270,500원 * 생 계 비(70%) : 98,517,440원 * 기능보강사업비(50%) : 1,049,400원
C19: 인건비(70%) | D19: 1507743916 | E19: =ROUNDUP(('라. 세출내역서'!H8-'다. 세입내역서'!E29-'다. 세입내역서'!E30)*70%,-1) -> 1757621160 | F19: =E19-D19 -> 249877244 | G19: =F19/D19*100 -> 16.572923
C20: 관리운영비(70%) | D20: 69769000 | E20: =('라. 세출내역서'!H519+'라. 세출내역서'!H562+'라. 세출내역서'!H605+'라. 세출내역서'!H616)*70% -> 71270500 | F20: =E20-D20 -> 1501500 | G20: =F20/D20*100 -> 2.1521019
C21: 생계비(70%) | D21: 94053848 | E21: ='라. 세출내역서'!H599*70% -> 98517440 | F21: =E21-D21 -> 4463592 | G21: =F21/D21*100 -> 4.7457835
C22: 기능보강사업비(50%) | D22: 1050000 | E22: =E27 -> 1049400 | F22: =E22-D22 -> -600 | G22: =F22/D22*100 -> -0.057142857
C23: =[1]다.국도시세입!C20 -> 시도보조금(30%) | D23: 717435756 | E23: =SUM(E24:E27) -> 8.2708187e+08 | F23: =E23-D23 -> 1.0964611e+08 | G23: =F23/D23*100 -> 15.283057 | H23: * 인 건 비 (30%) : 753,266,210원 * 관리운영비 (30%) : 30,544,500원 * 생 계 비 (30%) : 42,221,760원 * 기능보강사업(50%) : 1,049,400원
C24: 인건비(30%) | D24: 646175964 | E24: =('라. 세출내역서'!H8-'다. 세입내역서'!E29-'다. 세입내역서'!E30)*30%-1 -> 7.5326621e+08 | F24: 109048953 | G24: =F24/D24*100 -> 16.876046
C25: 관리운영비(30%) | D25: 29901000 | E25: =국도비세출!Q7*30% -> 30544500 | F25: 643500 | G25: =F25/D25*100 -> 2.1521019
C26: 생계비(30%) | D26: 40308792 | E26: ='라. 세출내역서'!H599*30% -> 42221760 | F26: 1912968 | G26: =F26/D26*100 -> 4.7457835
C27: 기능보강사업비(50%) | D27: 1050000 | E27: =국도비세출!F53/2 -> 1049400 | F27: -600 | G27: =F27/D27*100 -> -0.057142857
C28: 시도보조금(100%) | D28: 194551300 | E28: =SUM(E29:E35) -> 199311100 | F28: =E28-D28 -> 4759800 | G28: =F28/D28*100 -> 2.4465527 | H28: * 7종 인 건 비 : 1,130,537,650원 * 연장추가지원수당 : 27,243,420원 * 차량운영비 : 3,600,000원 * 간병인비 : 3,000,000원 * 4종 운영지원보조금 : 32,840,000원 * 기능보강사업비 : 2,090,000원
C29: 7종인건비 | D29: =시군구세출!E8+시군구세출!E10+시군구세출!E11+시군구세출!E12+시군구세출!E14+시군구세출!E15 -> 128735500 | E29: ='사. 임직원보수 일람표'!H136+'사. 임직원보수 일람표'!I136+'사. 임직원보수 일람표'!J136+'사. 임직원보수 일람표'!L136+'사. 임직원보수 일람표'!W136 -> 129454850 | F29: =E29-D29 -> 719350 | G29: =F29/D29*100 -> 0.55878138
C30: 연장추가지원수당(100%) | D30: 26375800 | E30: ='사. 임직원보수 일람표'!M202 -> 28326250 | F30: =E30-D30 -> 1950450 | G30: =F30/D30*100 -> 7.3948468
C31: 차량운영비 | D31: 3600000 | E31: 3600000 | F31: 0 | G31: =F31/D31*100 -> 0
C32: 환경개선사업 | D32: 0 | E32: 0 | F32: 0 | G32: 0
C33: 간병인비 | D33: 3000000 | E33: 3000000 | F33: 0 | G33: =F33/D33*100 -> 0
C34: 4종(100%) | D34: 32840000 | E34: 32840000 | F34: 0 | G34: =F34/D34*100 -> 0
C35: 기능보강사업비 | E35: 2090000 | F35: 2090000 | G35: 100 | H35: 화성시 지원 코로나19 예방 방역 장비 구입
C36: ='[1]다-1.도시(군)세입'!C22 -> 기타보조금 | D36: 6720000 | E36: 6720000 | F36: =E36-D36 -> 0 | G36: =F36/D36*100 -> 0 | H36: *2020년 재활프로그램 중증장애인의 직업능력개발을 위한 목공프로그램 “우드잡 woodjob” 선정
A37: 후원금 | B37: 계 | D37: =D38 -> 364200000 | E37: =E38 -> 378460000 | F37: =E37-D37 -> 14260000 | G37: =F37/D37*100 -> 3.9154311
B38: 후원금수입 | C38: 소계 | D38: =SUM(D39:D40) -> 364200000 | E38: =SUM(E39:E40) -> 378460000 | F38: =E38-D38 -> 14260000 | G38: =F38/D38*100 -> 3.9154311
C39: 지정후원금 | D39: 14200000 | E39: =12400000+3280000+2820000+20000000 -> 38500000 | F39: =E39-D39 -> 24300000 | G39: =F39/D39*100 -> 171.12676 | H39: * 차량구입 지정후원 : 12,400,000원 * 재활프로그램 지정후원 : 3,280,000원 * 결연후원금 : 2,820,000원 * 재난복구지정후원(법인) : 20,000,000원
C40: 비지정후원금 | D40: 350000000 | E40: 339960000 | F40: =E40-D40 -> -10040000 | G40: =F40/D40*100 -> -2.8685714 | H40: * 월평균 28,330,000원*12월
A41: 전입금 | B41: 계 | D41: =D42 -> 40000000 | E41: =E42 -> 40000000 | F41: =E41-D41 -> 0 | G41: =F41/D41*100 -> 0
B42: 전입금 | C42: 소계 | D42: =D43 -> 40000000 | E42: =E43 -> 40000000 | F42: =E42-D42 -> 0 | G42: =F42/D42*100 -> 0
C43: 법인전입금 | D43: 40000000 | E43: 40000000 | F43: =E43-D43 -> 0 | G43: =F43/D43*100 -> 0
A44: 이월금 | B44: 계 | D44: =D45 -> 53487000 | E44: =E45 -> 53404680 | F44: =E44-D44 -> -82320 | G44: =F44/D44*100 -> -0.15390656
B45: 이월금 | C45: 소계 | D45: =SUM(D46:D50) -> 53487000 | E45: =SUM(E46:E50) -> 53404680 | F45: =E45-D45 -> -82320 | G45: =F45/D45*100 -> -0.15390656
C46: 이월금(보조금) | D46: =25205000+6082000 -> 31287000 | E46: ='라. 세출내역서'!U668 -> 8513190 | F46: =E46-D46 -> -22773810 | G46: =F46/D46*100 -> -72.790009 | H46: * 보조금 : 운영비 이월금 ( 5,003,680원), 운영비 예금이자 이월금 (162,040원), 생계비 예금이자 이월금 ( 4,280원), 7종 보조금 이월금 (1,231,470원), 7종 예금이자 이월금 (11,940원), 4종 보조금 이월금 (40,000원), 4종 예금이자 이월금( 6,190원), 재활프로그램 예금이자 이월금(3,400원), 추가지원 보조금 이월금(1,690,580원), 추가지원 예금이자 이월금(4,460원), 기능보강 이월금(341,740원), 기능보강 예금이자 이월금(13,410원)
C47: 이월금(법인전입금) | D47: 500000 | E47: 3080563 | F47: =E47-D47 -> 2580563 | G47: =F47/D47*100 -> 516.1126 | H47: * 자부담 : 법인전입금 이월금(3,080,563원)
C48: 이월금(자부담) | D48: =6300000-500000 -> 5800000 | E48: =9105019+2970859+7098481+160842+17358 -> 19352559 | F48: =E48-D48 -> 13552559 | G48: =F48/D48*100 -> 233.66481 | H48: * 자부담 : 입소비용수입 이월금(9,105,019원), 종사자식대 이월금(2,970,859원) 기타 잡수입 이월금(7,098,481원), 자부담 예금이자 이월금(178,200원)
C49: 이월금(후원금) | D49: 15900000 | E49: 22458368 | F49: =E49-D49 -> 6558368 | G49: =F49/D49*100 -> 41.247597 | H49: * 후원금 : 비지정후원금이월금(18,629,586원), 지정후원금이월금(3,008,670원), 후원금예금이자이월금(820,112원)
C50: 이월사업비 | D50: 0 | E50: 0 | F50: =E50-D50 -> 0 | G50: 0
A51: 잡수입 | B51: 계 | D51: =D52 -> 47309180 | E51: =E52 -> 61313850 | F51: =E51-D51 -> 14004670 | G51: =F51/D51*100 -> 29.602437
B52: 잡수입 | C52: 소계 | D52: =SUM(D53:D55) -> 47309180 | E52: =SUM(E53:E55) -> 61313850 | F52: =E52-D52 -> 14004670 | G52: =F52/D52*100 -> 29.602437
C53: 불용품매각대 | D53: 500000 | E53: 500000 | F53: =E53-D53 -> 0 | G53: =F53/D53*100 -> 0
C54: 기타예금이자수입 | D54: 1759180 | E54: ='라. 세출내역서'!H664+1148510 -> 1763850 | F54: =E54-D54 -> 4670 | G54: =F54/D54*100 -> 0.26546459
C55: 기타잡수입 | D55: 45050000 | E55: =59050000 -> 59050000 | F55: =E55-D55 -> 14000000 | G55: =F55/D55*100 -> 31.076582 | H55: * 종사자급식비 : 34,000,000원 * SK,LG 장소임대료 : 6,050,000원 * 기타 19,000,000원

Sheet 라. 세출내역서
A2: 라. 세출내역서
U3: (단위 : 원)
A4: 과 목 | D4: 2020년당초 예산 (A) | E4: 1차추경 예산 (B) | F4: 증감금액 (C=B-A) | G4: 증감율(%) (C/A*100) | H4: 재원 | L4: 산 출 내 역 | Z4: 자부담 합계액 | AA4: 234516878 | AB4: 22433122 | AC4: 256950000 | AD4: =AC4-I6-J6 -> -0.125
A5: 관 | B5: 항 | C5: 목 | H5: 보조금 | I5: 법인전입금 | J5: 자부담 | K5: 후원금 | Z5: 유료입소/이월금 | AA5: 134400000 | AB5: 9105019 | AC5: 143505019 | AD5: 0
A6: 합 계 | D6: =SUM(D7,D561,D597,D656,D662,D666) -> 3230720000 | E6: =SUM(H6:K6) -> 3.62915e+09 | F6: =E6-D6 -> 3.9843e+08 | G6: =F6/D6*100 -> 12.332545 | H6: =SUM(H7,H561,H597,H656,H662,H666) -> 2.9707e+09 | I6: =SUM(I7,I561,I597,I656,I662,I666) -> 43080563 | J6: =SUM(J7,J561,J597,J656,J662,J666) -> 213869437 | K6: =SUM(K7,K561,K597,K656,K662,K666) -> 4.015e+08 | L6: 합계 | U6: =U7+U561+U597+U656+U662+U666 -> 3.62915e+09 | V6: =E6-'다. 세입내역서'!E6 -> 0.32230568 | Z6: 법인전입/이월금 | AA6: 40000000 | AB6: 3080563 | AC6: 43080563 | AD6: =AC6-I6 -> -0.125
A7: 사무비 | B7: 계 | D7: =SUM(D8,D514,D519) -> 2628751180 | E7: =SUM(E8,E514,E519) -> 2.9810364e+09 | F7: =E7-D7 -> 3.5228519e+08 | G7: =F7/D7*100 -> 13.401237 | H7: =H8+H514+H519 -> 2.7311265e+09 | I7: =I8+I514+I519 -> 36080563 | J7: =J8+J514+J519 -> 62869437 | K7: =K8+K514+K519 -> 1.509599e+08 | L7: 사무비 계 | U7: =U8+U514+U519 -> 2.9810364e+09 | W7: =(68580000)+(31750000)+1485000 -> 101815000 | X7: =68580000+31115000+1485000 -> 101180000 | Y7: =W7-X7 -> 635000 | Z7: 잡수입/불용품/이월금 | AA7: 25550000 | AB7: 7098481 | AC7: 32648481 | AD7: 0
B8: 인건비 | C8: 소계 | D8: =SUM(D9:D502) -> 2393247270 | E8: =SUM(E9:E502) -> 2.7410792e+09 | F8: =E8-D8 -> 3.4783193e+08 | G8: =F8/D8*100 -> 14.53389 | H8: =SUM(H9:H502) -> 2.6686685e+09 | I8: =SUM(I9:I502) -> 32259920 | J8: =SUM(J9:J502) -> 2000000 | K8: =SUM(K9:K502) -> 38150810 | L8: 인건비 계 | U8: =U9+U133+U135+U482+U486+U502 -> 2.7410792e+09 | W8: =SUM(H519,H561,H605,H616) -> 101815000 | Z8: 종사자식대/이월금 | AA8: 34000000 | AB8: 2970859 | AC8: 36970859 | AD8: 0
C9: 급여 | D9: 1479465000 | E9: =SUM(H9:K9) -> 1687166000 | F9: =E9-D9 -> 207701000 | G9: =F9/D9*100 -> 14.038926 | H9: ='사. 임직원보수 일람표'!H123+'사. 임직원보수 일람표'!H136+'사. 임직원보수 일람표'!H169 -> 1684166000 | J9: 0 | K9: ='사. 임직원보수 일람표'!G199 -> 3000000 | L9: ◆급여 | U9: =SUM(U10:U132) -> 1687166000 | V9: ='사. 임직원보수 일람표'!H202 -> 1687166000 | W9: =W7-W8 -> 0 | Z9: 예금이자/이월금 | AA9: 566878 | AB9: 178200 | AC9: 745078 | AD9: 0
L10: 시설장 | M10: 시설장 | N10: 이기수 | O10: ='사. 임직원보수 일람표'!G5 -> 3701000 | P10: X | Q10: 1 | R10: X | S10: ='사. 임직원보수 일람표'!E5 -> 5 | T10: = | U10: =O10*Q10*S10 -> 18505000
L11: 시설장 | M11: 시설장 | N11: 이기수 | O11: ='사. 임직원보수 일람표'!G6 -> 3785000 | P11: X | Q11: 1 | R11: X | S11: ='사. 임직원보수 일람표'!E6 -> 7 | T11: = | U11: =O11*Q11*S11 -> 26495000
L12: 사무국장 | M12: 사무국장 | N12: 금형민 | O12: ='사. 임직원보수 일람표'!G7 -> 3763000 | P12: X | Q12: 1 | R12: X | S12: ='사. 임직원보수 일람표'!E7 -> 4 | T12: = | U12: =O12*Q12*S12 -> 15052000
L13: 사무국장 | M13: 사무국장 | N13: 금형민 | O13: ='사. 임직원보수 일람표'!G8 -> 3825000 | P13: X | Q13: 1 | R13: X | S13: ='사. 임직원보수 일람표'!E8 -> 8 | T13: = | U13: =O13*Q13*S13 -> 30600000
L14: 상담평가원 | M14: 과장 | N14: 김정윤 | O14: ='사. 임직원보수 일람표'!G9 -> 3244000 | P14: X | Q14: 1 | R14: X | S14: ='사. 임직원보수 일람표'!E9 -> 6 | T14: = | U14: =O14*Q14*S14 -> 19464000
L15: 상담평가원 | M15: 과장 | N15: 김정윤 | O15: ='사. 임직원보수 일람표'!G10 -> 3306000 | P15: X | Q15: 1 | R15: X | S15: ='사. 임직원보수 일람표'!E10 -> 6 | T15: = | U15: =O15*Q15*S15 -> 19836000
L16: 영양사 | M16: 팀장 | N16: 김혜영 | O16: ='사. 임직원보수 일람표'!G11 -> 3679000 | P16: X | Q16: 1 | R16: X | S16: ='사. 임직원보수 일람표'!E11 -> 3 | T16: = | U16: =O16*Q16*S16 -> 11037000
L17: 영양사 | M17: 팀장 | N17: 김혜영 | O17: ='사. 임직원보수 일람표'!G12 -> 3724000 | P17: X | Q17: 1 | R17: X | S17: ='사. 임직원보수 일람표'!E12 -> 9 | T17: = | U17: =O17*Q17*S17 -> 33516000
L18: 선임지도원 | M18: 팀장 | N18: 이선이 | O18: ='사. 임직원보수 일람표'!G13 -> 2732000 | P18: X | Q18: 1 | R18: X | S18: ='사. 임직원보수 일람표'!E13 -> 11 | T18: = | U18: =O18*Q18*S18 -> 30052000
L19: 선임지도원 | M19: 팀장 | N19: 이선이 | O19: ='사. 임직원보수 일람표'!G14 -> 2804000 | P19: X | Q19: 1 | R19: X | S19: ='사. 임직원보수 일람표'!E14 -> 1 | T19: = | U19: =O19*Q19*S19 -> 2804000
L20: 간호사 | M20: 팀장 | N20: 전광숙 | O20: ='사. 임직원보수 일람표'!G15 -> 3679000 | P20: X | Q20: 1 | R20: X | S20: ='사. 임직원보수 일람표'!E15 -> 7 | T20: = | U20: =O20*Q20*S20 -> 25753000
L21: 간호사 | N21: 엄광식 | O21: ='사. 임직원보수 일람표'!G17 -> 2358000 | P21: X | Q21: 1 | R21: X | S21: ='사. 임직원보수 일람표'!E17 -> 3 | T21: = | U21: =O21*Q21*S21 -> 7074000
L22: 간호사 | N22: 엄광식 | O22: ='사. 임직원보수 일람표'!G18 -> 2464000 | P22: X | Q22: 1 | R22: X | S22: ='사. 임직원보수 일람표'!E18 -> 1 | T22: = | U22: =O22*Q22*S22 -> 2464000
L23: 언어치료사 | N23: 최민성 | O23: ='사. 임직원보수 일람표'!G19 -> 2880000 | P23: X | Q23: 1 | R23: X | S23: ='사. 임직원보수 일람표'!E19 -> 3 | T23: = | U23: =O23*Q23*S23 -> 8640000
L24: 언어치료사 | N24: 최민성 | O24: ='사. 임직원보수 일람표'!G20 -> 2962000 | P24: X | Q24: 1 | R24: X | S24: ='사. 임직원보수 일람표'!E20 -> 9 | T24: = | U24: =O24*Q24*S24 -> 26658000
L25: 작업치료사 | N25: 이민지 | O25: ='사. 임직원보수 일람표'!G21 -> 2182000 | P25: X | Q25: 1 | R25: X | S25: ='사. 임직원보수 일람표'!E21 -> 2 | T25: = | U25: =O25*Q25*S25 -> 4364000
L26: 작업치료사 | N26: 이동철 | O26: ='사. 임직원보수 일람표'!G23 -> 2358000 | P26: X | Q26: 1 | R26: X | S26: ='사. 임직원보수 일람표'!E20 -> 9 | T26: = | U26: =O26*Q26*S26 -> 21222000
L27: 물리치료사 | N27: 김효선 | O27: ='사. 임직원보수 일람표'!G25 -> 2962000 | P27: X | Q27: 1 | R27: X | S27: ='사. 임직원보수 일람표'!E25 -> 7 | T27: = | U27: =O27*Q27*S27 -> 20734000
L28: 물리치료사 | N28: 김효선 | O28: ='사. 임직원보수 일람표'!G26 -> 3037000 | P28: X | Q28: 1 | R28: X | S28: ='사. 임직원보수 일람표'!E26 -> 5 | T28: = | U28: =O28*Q28*S28 -> 15185000
L29: 사회재활교사 | M29: 과장 | N29: 이성수 | O29: ='사. 임직원보수 일람표'!G27 -> 3179000 | P29: X | Q29: 1 | R29: X | S29: ='사. 임직원보수 일람표'!E27 -> 9 | T29: = | U29: =O29*Q29*S29 -> 28611000
L30: 사회재활교사 | M30: 과장 | N30: 이성수 | O30: ='사. 임직원보수 일람표'!G28 -> 3244000 | P30: X | Q30: 1 | R30: X | S30: ='사. 임직원보수 일람표'!E28 -> 3 | T30: = | U30: =O30*Q30*S30 -> 9732000
L31: 선임지도원 | M31: 팀장 | N31: 심영은 | O31: ='사. 임직원보수 일람표'!G29 -> 2660000 | P31: X | Q31: 1 | R31: X | S31: ='사. 임직원보수 일람표'!E25 -> 7 | T31: = | U31: =O31*Q31*S31 -> 18620000
L32: 선임지도원 | M32: 팀장 | N32: 심영은 | O32: ='사. 임직원보수 일람표'!G30 -> 2732000 | P32: X | Q32: 1 | R32: X | S32: ='사. 임직원보수 일람표'!E26 -> 5 | T32: = | U32: =O32*Q32*S32 -> 13660000
L33: 사무원 | N33: 유준 | O33: ='사. 임직원보수 일람표'!G31 -> 2558000 | P33: X | Q33: 1 | R33: X | S33: ='사. 임직원보수 일람표'!E31 -> 3 | T33: = | U33: =O33*Q33*S33 -> 7674000
L34: 사무원 | N34: 유준 | O34: ='사. 임직원보수 일람표'!G32 -> 2624000 | P34: X | Q34: 1 | R34: X | S34: ='사. 임직원보수 일람표'!E32 -> 9 | T34: = | U34: =O34*Q34*S34 -> 23616000
L35: 생활지도원 | M35: 팀장 | N35: 신희철 | O35: ='사. 임직원보수 일람표'!G33 -> 2493000 | P35: X | Q35: 1 | R35: X | S35: ='사. 임직원보수 일람표'!E33 -> 1 | T35: = | U35: =O35*Q35*S35 -> 2493000
L36: 생활지도원 | M36: 팀장 | N36: 신희철 | O36: ='사. 임직원보수 일람표'!G34 -> 2558000 | P36: X | Q36: 1 | R36: X | S36: ='사. 임직원보수 일람표'!E34 -> 11 | T36: = | U36: =O36*Q36*S36 -> 28138000
L37: 생활지도원 | N37: 홍은향 | O37: ='사. 임직원보수 일람표'!G35 -> 2684000 | P37: X | Q37: 1 | R37: X | S37: ='사. 임직원보수 일람표'!E35 -> 5 | T37: = | U37: =O37*Q37*S37 -> 13420000
L38: 생활지도원 | N38: 홍은향 | O38: ='사. 임직원보수 일람표'!G36 -> 2742000 | P38: X | Q38: 1 | R38: X | S38: ='사. 임직원보수 일람표'!E36 -> 7 | T38: = | U38: =O38*Q38*S38 -> 19194000
L39: 생활지도원 | N39: 이도란 | O39: ='사. 임직원보수 일람표'!G37 -> 2365000 | P39: X | Q39: 1 | R39: X | S39: ='사. 임직원보수 일람표'!E37 -> 4 | T39: = | U39: =O39*Q39*S39 -> 9460000
L40: 생활지도원 | N40: 이도란 | O40: ='사. 임직원보수 일람표'!G38 -> 2428000 | P40: X | Q40: 1 | R40: X | S40: ='사. 임직원보수 일람표'!E38 -> 8 | T40: = | U40: =O40*Q40*S40 -> 19424000
L41: 생활지도원 | N41: 윤용진 | O41: ='사. 임직원보수 일람표'!G39 -> 2558000 | P41: X | Q41: 1 | R41: X | S41: ='사. 임직원보수 일람표'!E39 -> 11 | T41: = | U41: =O41*Q41*S41 -> 28138000
L42: 생활지도원 | N42: 윤용진 | O42: ='사. 임직원보수 일람표'!G40 -> 2624000 | P42: X | Q42: 1 | R42: X | S42: ='사. 임직원보수 일람표'!E40 -> 1 | T42: = | U42: =O42*Q42*S42 -> 2624000
L43: 생활지도원 | M43: 팀장 | N43: 김종민 | O43: ='사. 임직원보수 일람표'!G41 -> 2624000 | P43: X | Q43: 1 | R43: X | S43: ='사. 임직원보수 일람표'!E41 -> 10 | T43: = | U43: =O43*Q43*S43 -> 26240000
L44: 생활지도원 | M44: 팀장 | N44: 김종민 | O44: ='사. 임직원보수 일람표'!G42 -> 2684000 | P44: X | Q44: 1 | R44: X | S44: ='사. 임직원보수 일람표'!E42 -> 2 | T44: = | U44: =O44*Q44*S44 -> 5368000
L45: 생활지도원 | M45: 팀장 | N45: 권구철 | O45: ='사. 임직원보수 일람표'!G43 -> 2428000 | P45: X | Q45: 1 | R45: X | S45: ='사. 임직원보수 일람표'!E43 -> 4 | T45: = | U45: =O45*Q45*S45 -> 9712000
L46: 생활지도원 | M46: 팀장 | N46: 권구철 | O46: ='사. 임직원보수 일람표'!G44 -> 2693000 | P46: X | Q46: 1 | R46: X | S46: ='사. 임직원보수 일람표'!E44 -> 8 | T46: = | U46: =O46*Q46*S46 -> 21544000
L47: 생활지도원 | M47: 팀장 | N47: 김유경 | O47: ='사. 임직원보수 일람표'!G45 -> 2304000 | P47: X | Q47: 1 | R47: X | S47: ='사. 임직원보수 일람표'!E45 -> 3 | T47: = | U47: =O47*Q47*S47 -> 6912000
L48: 생활지도원 | M48: 팀장 | N48: 김유경 | O48: ='사. 임직원보수 일람표'!G46 -> 2365000 | P48: X | Q48: 1 | R48: X | S48: ='사. 임직원보수 일람표'!E46 -> 9 | T48: = | U48: =O48*Q48*S48 -> 21285000
L49: 생활지도원 | N49: 문슬기 | O49: ='사. 임직원보수 일람표'!G47 -> 2304000 | P49: X | Q49: 1 | R49: X | S49: ='사. 임직원보수 일람표'!E47 -> 3 | T49: = | U49: =O49*Q49*S49 -> 6912000
L50: 생활지도원 | N50: 문슬기 | O50: ='사. 임직원보수 일람표'!G48 -> 2365000 | P50: X | Q50: 1 | R50: X | S50: ='사. 임직원보수 일람표'!E48 -> 9 | T50: = | U50: =O50*Q50*S50 -> 21285000
L51: 생활지도원 | N51: 유선주 | O51: ='사. 임직원보수 일람표'!G49 -> 2493000 | P51: X | Q51: 1 | R51: X | S51: ='사. 임직원보수 일람표'!E49 -> 5 | T51: = | U51: =O51*Q51*S51 -> 12465000
L52: 생활지도원 | N52: 민병선 | O52: ='사. 임직원보수 일람표'!G51 -> 2365000 | P52: X | Q52: 1 | R52: X | S52: ='사. 임직원보수 일람표'!E51 -> 2 | T52: = | U52: =O52*Q52*S52 -> 4730000
L53: 생활지도원 | N53: 민병선 | O53: ='사. 임직원보수 일람표'!G52 -> 2428000 | P53: X | Q53: 1 | R53: X | S53: ='사. 임직원보수 일람표'!E52 -> 10 | T53: = | U53: =O53*Q53*S53 -> 24280000
L54: 생활지도원 | N54: 조원일 | O54: ='사. 임직원보수 일람표'!G53 -> 2428000 | P54: X | Q54: 1 | R54: X | S54: ='사. 임직원보수 일람표'!E53 -> 5 | T54: = | U54: =O54*Q54*S54 -> 12140000
L55: 생활지도원 | N55: 조원일 | O55: ='사. 임직원보수 일람표'!G54 -> 2493000 | P55: X | Q55: 1 | R55: X | S55: ='사. 임직원보수 일람표'!E54 -> 7 | T55: = | U55: =O55*Q55*S55 -> 17451000
L56: 생활지도원 | N56: 한상수 | O56: ='사. 임직원보수 일람표'!G55 -> 2428000 | P56: X | Q56: 1 | R56: X | S56: ='사. 임직원보수 일람표'!E55 -> 2 | T56: = | U56: =O56*Q56*S56 -> 4856000
L57: 생활지도원 | N57: 한상수 | O57: ='사. 임직원보수 일람표'!G56 -> 2493000 | P57: X | Q57: 1 | R57: X | S57: ='사. 임직원보수 일람표'!E56 -> 5 | T57: = | U57: =O57*Q57*S57 -> 12465000
L58: 생활지도원 | N58: 심종환 | O58: ='사. 임직원보수 일람표'!G57 -> 2304000 | P58: X | Q58: 1 | R58: X | S58: ='사. 임직원보수 일람표'!E57 -> 6 | T58: = | U58: =O58*Q58*S58 -> 13824000
L59: 생활지도원 | N59: 심종환 | O59: ='사. 임직원보수 일람표'!G58 -> 2365000 | P59: X | Q59: 1 | R59: X | S59: ='사. 임직원보수 일람표'!E58 -> 6 | T59: = | U59: =O59*Q59*S59 -> 14190000
L60: 생활지도원 | N60: 박영규 | O60: ='사. 임직원보수 일람표'!G59 -> 2175000 | P60: X | Q60: 1 | R60: X | S60: ='사. 임직원보수 일람표'!E59 -> 6 | T60: = | U60: =O60*Q60*S60 -> 13050000
L61: 생활지도원 | N61: 박영규 | O61: ='사. 임직원보수 일람표'!G60 -> 2241000 | P61: X | Q61: 1 | R61: X | S61: ='사. 임직원보수 일람표'!E60 -> 6 | T61: = | U61: =O61*Q61*S61 -> 13446000
L62: 생활지도원 | N62: 이상헌 | O62: ='사. 임직원보수 일람표'!G61 -> 2047000 | P62: X | Q62: 1 | R62: X | S62: ='사. 임직원보수 일람표'!E61 -> 4 | T62: = | U62: =O62*Q62*S62 -> 8188000
L63: 생활지도원 | N63: 이상헌 | O63: ='사. 임직원보수 일람표'!G62 -> 2109000 | P63: X | Q63: 1 | R63: X | S63: ='사. 임직원보수 일람표'!E62 -> 8 | T63: = | U63: =O63*Q63*S63 -> 16872000
... L72: 생활지도원 | N72: 임지혜 | O72: ='사. 임직원보수 일람표'!G71 -> 2175000 | P72: X | Q72: 1 | R72: X | S72: ='사. 임직원보수 일람표'!E71 -> 12 | T72: = | U72: =O72*Q72*S72 -> 26100000
L73: 생활지도원 | N73: 김형배 | O73: ='사. 임직원보수 일람표'!G73 -> 1987000 | P73: X | Q73: 1 | R73: X | S73: ='사. 임직원보수 일람표'!E73 -> 2 | T73: = | U73: =O73*Q73*S73 -> 3974000
L74: 생활지도원 | N74: 김형배 | O74: ='사. 임직원보수 일람표'!G74 -> 2047000 | P74: X | Q74: 1 | R74: X | S74: ='사. 임직원보수 일람표'!E74 -> 10 | T74: = | U74: =O74*Q74*S74 -> 20470000
L75: 생활지도원 | N75: 한승희 | O75: ='사. 임직원보수 일람표'!G75 -> 1873000 | P75: X | Q75: 1 | R75: X | S75: ='사. 임직원보수 일람표'!E75 -> 5 | T75: = | U75: =O75*Q75*S75 -> 9365000
L76: 생활지도원 | N76: 한승희 | O76: ='사. 임직원보수 일람표'!G76 -> 1929000 | P76: X | Q76: 1 | R76: X | S76: ='사. 임직원보수 일람표'!E76 -> 7 | T76: = | U76: =O76*Q76*S76 -> 13503000
L77: 생활지도원 | N77: 박민들 | O77: ='사. 임직원보수 일람표'!G77 -> 1873000 | P77: X | Q77: 1 | R77: X | S77: ='사. 임직원보수 일람표'!E77 -> 10 | T77: = | U77: =O77*Q77*S77 -> 18730000
L78: 생활지도원 | N78: 박민들 | O78: ='사. 임직원보수 일람표'!G78 -> 1929000 | P78: X | Q78: 1 | R78: X | S78: ='사. 임직원보수 일람표'!E78 -> 2 | T78: = | U78: =O78*Q78*S78 -> 3858000
L79: 생활지도원 | N79: 박지웅 | O79: ='사. 임직원보수 일람표'!G79 -> 1821000 | P79: X | Q79: 1 | R79: X | S79: ='사. 임직원보수 일람표'!E79 -> 2 | T79: = | U79: =O79*Q79*S79 -> 3642000
L80: 생활지도원 | N80: 박지웅 | O80: ='사. 임직원보수 일람표'!G80 -> 1873000 | P80: X | Q80: 1 | R80: X | S80: ='사. 임직원보수 일람표'!E80 -> 10 | T80: = | U80: =O80*Q80*S80 -> 18730000
L81: 생활지도원 | N81: 이혜란 | O81: ='사. 임직원보수 일람표'!G81 -> 2047000 | P81: X | Q81: 1 | R81: X | S81: ='사. 임직원보수 일람표'!E81 -> 3 | T81: = | U81: =O81*Q81*S81 -> 6141000
L82: 생활지도원 | N82: 이혜란 | O82: ='사. 임직원보수 일람표'!G82 -> 2109000 | P82: X | Q82: 1 | R82: X | S82: ='사. 임직원보수 일람표'!E82 -> 9 | T82: = | U82: =O82*Q82*S82 -> 18981000
L83: 생활지도원 | N83: 김도아 | O83: ='사. 임직원보수 일람표'!G83 -> 1821000 | P83: X | Q83: 1 | R83: X | S83: ='사. 임직원보수 일람표'!E83 -> 4 | T83: = | U83: =O83*Q83*S83 -> 7284000
L84: 생활지도원 | N84: 이충현 | O84: ='사. 임직원보수 일람표'!G85 -> 1873000 | P84: X | Q84: 1 | R84: X | S84: ='사. 임직원보수 일람표'!E85 -> 1 | T84: = | U84: =O84*Q84*S84 -> 1873000
L85: 생활지도원 | N85: 이충현 | O85: ='사. 임직원보수 일람표'!G86 -> 1929000 | P85: X | Q85: 1 | R85: X | S85: ='사. 임직원보수 일람표'!E86 -> 11 | T85: = | U85: =O85*Q85*S85 -> 21219000
L86: 생활지도원 | N86: 박은혜 | O86: ='사. 임직원보수 일람표'!G88 -> 1987000 | P86: X | Q86: 1 | R86: X | S86: ='사. 임직원보수 일람표'!E88 -> 11 | T86: = | U86: =O86*Q86*S86 -> 21857000
L87: 생활지도원 | N87: 김형균 | O87: ='사. 임직원보수 일람표'!G90 -> 2175000 | P87: X | Q87: 1 | R87: X | S87: ='사. 임직원보수 일람표'!E90 -> 9 | T87: = | U87: =O87*Q87*S87 -> 19575000
L88: 생활지도원 | N88: 김민제 | O88: ='사. 임직원보수 일람표'!G91 -> 2109000 | P88: X | Q88: 1 | R88: X | S88: ='사. 임직원보수 일람표'!E91 -> 2 | T88: = | U88: =O88*Q88*S88 -> 4218000
L89: 생활지도원 | N89: 김민제 | O89: ='사. 임직원보수 일람표'!G92 -> 2175000 | P89: X | Q89: 1 | R89: X | S89: ='사. 임직원보수 일람표'!E92 -> 7 | T89: = | U89: =O89*Q89*S89 -> 15225000
L90: 생활지도원 | N90: 하종호 | O90: ='사. 임직원보수 일람표'!G93 -> 1987000 | P90: X | Q90: 1 | R90: X | S90: ='사. 임직원보수 일람표'!E93 -> 4 | T90: = | U90: =O90*Q90*S90 -> 7948000
L91: 생활지도원 | N91: 하종호 | O91: ='사. 임직원보수 일람표'!G94 -> 2047000 | P91: X | Q91: 1 | R91: X | S91: ='사. 임직원보수 일람표'!E94 -> 5 | T91: = | U91: =O91*Q91*S91 -> 10235000
L92: 생활지도원 | N92: 남택림 | O92: ='사. 임직원보수 일람표'!G96 -> 2047000 | P92: X | Q92: 1 | R92: X | S92: ='사. 임직원보수 일람표'!E96 -> 8 | T92: = | U92: =O92*Q92*S92 -> 16376000
L93: 생활지도원 | N93: 김보경 | O93: ='사. 임직원보수 일람표'!G97 -> 2175000 | P93: X | Q93: 1 | R93: X | S93: ='사. 임직원보수 일람표'!E97 -> 5 | T93: = | U93: =O93*Q93*S93 -> 10875000
L94: 생활지도원 | N94: 김보경 | O94: ='사. 임직원보수 일람표'!G98 -> 2241000 | P94: X | Q94: 1 | R94: X | S94: ='사. 임직원보수 일람표'!E98 -> 3 | T94: = | U94: =O94*Q94*S94 -> 6723000
L95: 생활지도원 | N95: 이건엽 | O95: ='사. 임직원보수 일람표'!G99 -> 1929000 | P95: X | Q95: 1 | R95: X | S95: ='사. 임직원보수 일람표'!E99 -> 6 | T95: = | U95: =O95*Q95*S95 -> 11574000
L96: 생활지도원 | N96: 정택진 | O96: ='사. 임직원보수 일람표'!G101 -> 2175000 | P96: X | Q96: 1 | R96: X | S96: ='사. 임직원보수 일람표'!E101 -> 5 | T96: = | U96: =O96*Q96*S96 -> 10875000
L97: 생활지도원 | N97: 이슬 | O97: ='사. 임직원보수 일람표'!G103 -> 2493000 | P97: X | Q97: 1 | R97: X | S97: ='사. 임직원보수 일람표'!E103 -> 2 | T97: = | U97: =O97*Q97*S97 -> 4986000
L98: 생활지도원 | N98: 한찬혁 | O98: ='사. 임직원보수 일람표'!G105 -> 2684000 | P98: X | Q98: 1 | R98: X | S98: ='사. 임직원보수 일람표'!E105 -> 1 | T98: = | U98: =O98*Q98*S98 -> 2684000
L99: 생활지도원 | N99: 최동운 | O99: ='사. 임직원보수 일람표'!G107 -> 2175000 | P99: X | Q99: 1 | R99: X | S99: ='사. 임직원보수 일람표'!E107 -> 2 | T99: = | U99: =O99*Q99*S99 -> 4350000
L100: 생활지도원 | N100: 송혜인 | O100: ='사. 임직원보수 일람표'!G109 -> 1873000 | P100: X | Q100: 1 | R100: X | S100: ='사. 임직원보수 일람표'!E109 -> 1 | T100: = | U100: =O100*Q100*S100 -> 1873000
L101: 위생원 | N101: 이순옥 | O101: ='사. 임직원보수 일람표'!G111 -> 2259000 | P101: X | Q101: 1 | R101: X | S101: ='사. 임직원보수 일람표'!E111 -> 8 | T101: = | U101: =O101*Q101*S101 -> 18072000
L102: 위생원 | N102: 이순옥 | O102: ='사. 임직원보수 일람표'!G112 -> 2306000 | P102: X | Q102: 1 | R102: X | S102: ='사. 임직원보수 일람표'!E112 -> 4 | T102: = | U102: =O102*Q102*S102 -> 9224000
L103: 조리원 | N103: 이미영 | O103: ='사. 임직원보수 일람표'!G113 -> 1796000 | P103: X | Q103: 1 | R103: X | S103: ='사. 임직원보수 일람표'!E113 -> 12 | T103: = | U103: =O103*Q103*S103 -> 21552000
L104: 조리원 | N104: 정순정 | O104: ='사. 임직원보수 일람표'!G115 -> 2049000 | P104: X | Q104: 1 | R104: X | S104: ='사. 임직원보수 일람표'!E115 -> 2 | T104: = | U104: =O104*Q104*S104 -> 4098000
L105: 조리원 | N105: 정순정 | O105: ='사. 임직원보수 일람표'!G116 -> 2091000 | P105: X | Q105: 1 | R105: X | S105: ='사. 임직원보수 일람표'!E116 -> 10 | T105: = | U105: =O105*Q105*S105 -> 20910000
L106: 조리원 | N106: 최미란 | O106: ='사. 임직원보수 일람표'!G117 -> 1796000 | P106: X | Q106: 1 | R106: X | S106: ='사. 임직원보수 일람표'!E117 -> 6 | T106: = | U106: =O106*Q106*S106 -> 10776000
L107: 조리원 | N107: 오혜은 | O107: ='사. 임직원보수 일람표'!G119 -> 1967000 | P107: X | Q107: 1 | R107: X | S107: ='사. 임직원보수 일람표'!E119 -> 6 | T107: = | U107: =O107*Q107*S107 -> 11802000
L108: 촉탁의 | N108: 박제석 | O108: ='사. 임직원보수 일람표'!G121 -> 2536000 | P108: X | Q108: 1 | R108: X | S108: ='사. 임직원보수 일람표'!E121 -> 12 | T108: = | U108: =O108*Q108*S108 -> 30432000
L109: 생활지도원 | M109: (7종) | N109: 유동식 | O109: ='사. 임직원보수 일람표'!H130 -> 2175000 | P109: X | Q109: 1 | R109: X | S109: ='사. 임직원보수 일람표'!E130 -> 1 | T109: = | U109: =O109*Q109*S109 -> 2175000
...

Sheet 마.세입세출(개요)
A1: 마. 세입·세출 개요
E2: (단위:원)
A3: 구 분 | B3: 세 입 | D3: 세 출
A4: 총 계 | B4: =C5+C14+C20+C27 -> 3.62915e+09 | D4: =E5+E14+E20+E27 -> 3.62915e+09
A5: 보 조 금 | B5: 소계 | C5: =SUM(C6:C13) -> 2.9707e+09 | D5: 소계 | E5: =SUM(E6:E13) -> 2.9707e+09
B6: 국고보조금 | C6: ='다. 세입내역서'!E18 -> 1928458500 | D6: 인건비 | E6: ='라. 세출내역서'!H8 -> 2.6686685e+09
B7: 시도보조금 | C7: ='다. 세입내역서'!E23+'다. 세입내역서'!E28 -> 1.026393e+09 | D7: 업무추진비 | E7: ='라. 세출내역서'!H514 -> 0
B8: 기타보조금 | C8: ='다. 세입내역서'!E36 -> 6720000 | D8: 사무비운영비 | E8: ='라. 세출내역서'!H519 -> 62458000
B9: 이월금 | C9: ='라. 세출내역서'!E668 -> 8513190 | D9: 시설비 | E9: ='라. 세출내역서'!H562 -> 16430000
B10: 잡수입 | C10: ='라. 세출내역서'!E664 -> 615340 | D10: 사업비운영비 | E10: ='라. 세출내역서'!H598 -> 162239200
D11: 사업비 | E11: ='라. 세출내역서'!H615 -> 51775800
D12: 잡지출 | E12: ='라. 세출내역서'!H664 -> 615340
B13: - | C13: 0 | D13: 보조금반환 | E13: =[1]라.국도비세출!F59+'[1]다-1.도시(군)세입'!F25 -> 8513190
A14: 법인전입금 | B14: 소계 | C14: =SUM(C15:C19) -> 43080563 | D14: 소계 | E14: =SUM(E15:E19) -> 43080563
B15: 법인전입금 | C15: ='다. 세입내역서'!E42 -> 40000000 | D15: 인건비 | E15: ='라. 세출내역서'!I8 -> 32259920
B16: 이월금 | C16: 3080563 | D16: 업무추진비 | E16: ='라. 세출내역서'!I514 -> 0
B17: - | C17: ='[1]다-2.자부담세입'!E17 -> 0 | D17: =D8 -> 사무비운영비 | E17: ='라. 세출내역서'!I519 -> 3820643
B18: - | C18: ='[1]다-2.자부담세입'!E20 -> 0 | D18: =D9 -> 시설비 | E18: ='라. 세출내역서'!I562 -> 5000000
B19: - | D19: ='라. 세출내역서'!B615 -> 사업비 | E19: ='라. 세출내역서'!I615 -> 2000000
A20: 자 부 담 | B20: 소계 | C20: =SUM(C21:C25) -> 213869437 | D20: 소계 | E20: =SUM(E21:E26) -> 213869437
B21: 입소자부담금수입 | C21: ='다. 세입내역서'!E9 -> 134400000 | D21: 인건비 | E21: ='라. 세출내역서'!J8 -> 2000000
B22: 이월금 | C22: =자부담세출!V2+자부담세출!V4+자부담세출!V5+자부담세출!V6 -> 19352559 | D22: =D16 -> 업무추진비 | E22: ='라. 세출내역서'!J514 -> 2000000
B23: 잡수입 | C23: =+자부담세출!U4+자부담세출!U5+자부담세출!U6 -> 60116878 | D23: =D17 -> 사무비운영비 | E23: ='라. 세출내역서'!J519 -> 58869437
D24: =D18 -> 시설비 | E24: ='라. 세출내역서'!J562 -> 5000000
D25: =D19 -> 사업비 | E25: ='라. 세출내역서'!J598 -> 102000000
C26: 0 | D26: =D11 -> 사업비 | E26: ='라. 세출내역서'!J615 -> 44000000
A27: 후 원 금 | B27: 소계 | C27: =SUM(C28:C32) -> 401500000 | D27: 소계 | E27: =SUM(E28:E35) -> 4.015e+08
B28: 지정후원금수입 | C28: ='[1]다-3.후원금세입'!E18 -> 38500000 | D28: =D21 -> 인건비 | E28: ='라. 세출내역서'!K8 -> 38150810
B29: 비지정후원금수입 | C29: ='[1]다-3.후원금세입'!E19 -> 340000000 | D29: =D22 -> 업무추진비 | E29: ='라. 세출내역서'!K514 -> 0
B30: - | C30: 0 | D30: =D8 -> 사무비운영비 | E30: ='라. 세출내역서'!K519 -> 112809085
B31: 전년도후원금이월금 | C31: ='다. 세입내역서'!E49 -> 22458368 | D31: =D9 -> 시설비 | E31: ='라. 세출내역서'!K562 -> 203400000
B32: 잡수입 | C32: ='[1]다-3.후원금세입'!E33 -> 541632 | D32: =D25 -> 사업비 | E32: ='라. 세출내역서'!K598 -> 10000000
D33: =D26 -> 사업비 | E33: ='라. 세출내역서'!K615 -> 33280000
D34: ='라. 세출내역서'!B653 -> 결연사업비 | E34: ='라. 세출내역서'!K653 -> 2820000
D35: ='라. 세출내역서'!C658 -> 과년도지출 | E35: ='라. 세출내역서'!K658 -> 1040105
E68: 0

Sheet 바. 증감사유
A1: 바. 증감사유
N2: (단위 : 원)
A3: 세 입 | I3: 세 출
A4: 과 목 | D4: 2020년 당초예산(A) | E4: 1차추경 예산 (B) | F4: 증감금액 (C=B-A) | G4: 증감율(%) (C/A*100) | H4: 증감사유 | I4: 과 목 | L4: =D4 -> 2020년 당초예산(A) | M4: =E4 -> 1차추경 예산 (B) | N4: 증감금액 (C=B-A) | O4: 증감율(%) (C/A*100) | P4: 증감사유
A5: 관 | B5: 항 | C5: 목 | I5: 관 | J5: 항 | K5: 목
A6: 합 계 | D6: =D7+D13+D16+D30+D35+D45+D10+D24 -> 3230720000 | E6: =E7+E13+E16+E30+E35+E45+E10+E24 -> 3.62915e+09 | F6: =F7+F13+F16+F30+F35+F45+F10+F24 -> 3.9843e+08 | G6: =F6/D6*100 -> 12.332545 | I6: 합 계 | L6: =SUM(L7,L24,L29,L45,L48,L51) -> 3230720000 | M6: =SUM(M7,M24,M29,M45,M48,M51) -> 3.62915e+09 | N6: =M6-L6 -> 3.9843e+08 | O6: =N6/L6*100 -> 12.332545
A7: 입소자부담금 | B7: 계 | D7: 134400000 | E7: =E8 -> 134400000 | F7: =F8 -> 0 | G7: =F7/D7*100 -> 0 | I7: 사무비 | J7: 계 | L7: 2628751180 | M7: =SUM(M8,M15,M17) -> 2.9810364e+09 | N7: =M7-L7 -> 3.5228519e+08 | O7: =N7/L7*100 -> 13.401237
B8: 입소비용수입 | C8: 소계 | D8: 134400000 | E8: =E9 -> 134400000 | F8: =F9 -> 0 | G8: =F8/D8*100 -> 0 | J8: 인건비 | K8: 소계 | L8: 2393247270 | M8: =SUM(M9:M14) -> 2.7410792e+09 | N8: =M8-L8 -> 3.4783193e+08 | O8: =N8/L8*100 -> 14.53389
C9: 입소비용수입 | D9: 134400000 | E9: ='다. 세입내역서'!E9 -> 134400000 | F9: =E9-D9 -> 0 | G9: =F9/D9*100 -> 0 | K9: 급여 | L9: 1479465000 | M9: ='라. 세출내역서'!E9 -> 1687166000 | N9: =M9-L9 -> 207701000 | O9: =N9/L9*100 -> 14.038926 | P9: *종사자 인건비 호봉 산정 예산반영 증액 * 교대인력 12명 지원 충원에 따른 예산반영 증액
A10: 사업수입 | B10: 계 | D10: 0 | E10: =E11 -> 0 | F10: =F11 -> 0 | G10: 0 | K10: 일용잡금 | L10: 9600000 | M10: ='라. 세출내역서'!E133 -> 9600000 | N10: =M10-L10 -> 0 | O10: =N10/L10*100 -> 0
B11: 사업수입 | C11: 소계 | D11: 0 | E11: =E12 -> 0 | F11: =F12 -> 0 | G11: 0 | K11: 제수당 | L11: 509510880 | M11: ='라. 세출내역서'!E135 -> 597343050 | N11: =M11-L11 -> 87832170 | O11: =N11/L11*100 -> 17.238527 | P11: 실제근무반영 연장수당, 가족수당 증액
C12: 프로그램사업수입 | D12: 0 | E12: ='[1]다-2.자부담세입'!E13 -> 0 | F12: =E12-D12 -> 0 | G12: 0 | K12: 퇴직금및퇴직적립금 | L12: 164978100 | M12: ='라. 세출내역서'!E482 -> 187840130 | N12: =M12-L12 -> 22862030 | O12: =N12/L12*100 -> 13.857615 | P12: 종사자 인건비에 의한 예산증액
A13: 과년도수입 | B13: 계 | D13: 0 | E13: =E14 -> 0 | F13: =F14 -> 0 | G13: 0 | K13: 사회보험부담비용 | L13: 187693290 | M13: ='라. 세출내역서'!E486 -> 2.2213002e+08 | N13: =M13-L13 -> 34436730 | O13: =N13/L13*100 -> 18.347342 | P13: 건강보험인상 및 종사자정원 증원에 따른 실지급액대비 예산증액
B14: 과년도수입 | C14: 소계 | D14: 0 | E14: =E15 -> 0 | F14: =F15 -> 0 | G14: 0 | K14: 기타후생경비 | L14: 42000000 | M14: ='라. 세출내역서'!E502 -> 37000000 | N14: =M14-L14 -> -5000000 | O14: =N14/L14*100 -> -11.904762 | P14: 코로나19로 인한 직원연수 취소등으로 예산감액
C15: 과년도수입 | D15: 0 | E15: 0 | F15: =E15-D15 -> 0 | G15: 0 | J15: 업무추진비 | K15: 소계 | L15: 2490000 | M15: =M16 -> 2000000 | N15: =M15-L15 -> -490000 | O15: =N15/L15*100 -> -19.678715
A16: 보조금수입 | B16: 계 | D16: 2591323820 | E16: =E17+E23+E28 -> 2.9615715e+09 | F16: =F17+F23+F28 -> 3.7024765e+08 | G16: =F16/D16*100 -> 14.287973 | K16: 회의비 | L16: 2490000 | M16: ='라. 세출내역서'!E515 -> 2000000 | N16: =M16-L16 -> -490000 | O16: =N16/L16*100 -> -19.678715 | P16: 코로나19로 인한 회의축소에 따른 예산감액
B17: 보조금수입 | C17: 소계 | D17: =SUM(D18:D21) -> 2591323820 | E17: =SUM(E18:E21) -> 2.9615715e+09 | F17: =SUM(F18:F21) -> 3.7024765e+08 | G17: =F17/D17*100 -> 14.287973 | J17: 운영비 | K17: 소계 | L17: 233013910 | M17: =SUM(M18:M23) -> 237957165 | N17: =M17-L17 -> 4943255 | O17: =N17/L17*100 -> 2.121442
C18: 국도시보조금 (70%) | D18: 1672616764 | E18: ='다. 세입내역서'!E18 -> 1928458500 | F18: =E18-D18 -> 255841736 | G18: =F18/D18*100 -> 15.295897 | H18: *2020년 종사자인건비 지원기준에 따른 호봉산정 *교대인력 12명추가지원에 따른 예산액 증액 | K18: 여비 | L18: 5000000 | M18: ='라. 세출내역서'!E520 -> 2000000 | N18: =M18-L18 -> -3000000 | O18: =N18/L18*100 -> -60 | P18: 코로나19로 인한 온라인교육 전환등으로 예산감액
C19: 시도보조금 (30%) | D19: 717435756 | E19: ='다. 세입내역서'!E23 -> 8.2708187e+08 | F19: =E19-D19 -> 1.0964611e+08 | G19: =F19/D19*100 -> 15.283057 | H19: 2020년 종사자 인건비 지원기준에 따른 호봉산정 | K19: 수용비및수수료 | L19: 55288080 | M19: ='라. 세출내역서'!E522 -> 57956715 | N19: =M19-L19 -> 2668635 | O19: =N19/L19*100 -> 4.8267818 | P19: 화성시지원 전자결재시스템 도입에 따른 유지비용(1,980,000원) 추가 편성등 예산 증액
C20: 시도보조금 (100%) | D20: 194551300 | E20: ='다. 세입내역서'!E28 -> 199311100 | F20: =E20-D20 -> 4759800 | G20: =F20/D20*100 -> 2.4465527 | H20: 7종운영지원 종사자(운전원,조리원,생활지도원) 2020년 종사자 인건비 지원기준에 따른 호봉산정 | K20: 공공요금 | L20: 119100000 | M20: ='라. 세출내역서'!E539 -> 135000000 | N20: =M20-L20 -> 15900000 | O20: =N20/L20*100 -> 13.350126 | P20: 준하홀 프로그램실 활성화에 따른 공공요금 사용량 증가로 예산증액
C21: 기타보조금 | D21: 6720000 | E21: ='다. 세입내역서'!E36 -> 6720000 | F21: =E21-D21 -> 0 | G21: =F21/D21*100 -> 0 | H21: 2020년 경기도 재활프로그램 중증장애인의 직업능력개발을 위한 목공프로그램 “우드잡 woodjob” 선정 | K21: 제세공과금 | L21: 13625830 | M21: ='라. 세출내역서'!E546 -> 13700450 | N21: =M21-L21 -> 74620 | O21: =N21/L21*100 -> 0.54763636
K22: 차량비 | L22: 26000000 | M22: ='라. 세출내역서'!E554 -> 22800000 | N22: =M22-L22 -> -3200000 | O22: =N22/L22*100 -> -12.307692 | P22: 코로나19로 인한 외부활동 감소에 따른 예산감액
K23: 기타운영비 | L23: 14000000 | M23: ='라. 세출내역서'!E557 -> 6500000 | N23: =M23-L23 -> -7500000 | O23: =N23/L23*100 -> -53.571429 | P23: 코로나19로 인한 각종행사취소등으로예산감액
A24: 후원금 | B24: 계 | D24: 364200000 | E24: =E25+E34 -> 378460000 | F24: =F25+F34 -> 14260000 | G24: =F24/D24*100 -> 3.9154311 | I24: 재산조성비 | J24: 계 | L24: 167900000 | M24: =M25 -> 229830000 | N24: =M24-L24 -> 61930000 | O24: =N24/L24*100 -> 36.885051
B25: 후원금수입 | C25: 소계 | D25: 364200000 | E25: =SUM(E26:E27) -> 378460000 | F25: =SUM(F26:F27) -> 14260000 | G25: =F25/D25*100 -> 3.9154311 | J25: 시설비 | K25: 소계 | L25: 167900000 | M25: =SUM(M26:M28) -> 229830000 | N25: =M25-L25 -> 61930000 | O25: =N25/L25*100 -> 36.885051
C26: 지정후원금 | D26: 14200000 | E26: ='다. 세입내역서'!E39 -> 38500000 | F26: =E26-D26 -> 24300000 | G26: =F26/D26*100 -> 171.12676 | H26: 교구수해복구지정후원금 예산증액 | K26: 시설비 | L26: 10000000 | M26: ='라. 세출내역서'!E563 -> 0 | N26: =M26-L26 -> -10000000 | O26: =N26/L26*100 -> -100 | P26: 자산취득비 부족분 충당 시설비 예산감액
C27: 비지정후원금 | D27: 350000000 | E27: ='다. 세입내역서'!E40 -> 339960000 | F27: =E27-D27 -> -10040000 | G27: =F27/D27*100 -> -2.8685714 | K27: 자산취득비 | L27: 65900000 | M27: ='라. 세출내역서'!E564 -> 107730000 | N27: =M27-L27 -> 41830000 | O27: =N27/L27*100 -> 63.474962 | P27: - 생활동노후가구교체(31,308,000원), - 이미용실환경조성이미용의자(2,387,000원), - 식기세척기구입(13,200,000원), - 컨벤션오븐구입(18,700,000원), - 준아홀 냉난방기 구입(5,720,000원), - 준아홀 펠넷난로구입(3,660,000원) - 음식물처리기 할부금(매월330,000원), - 경차모닝구입할부금(매월292,287원), - 12인승스타렉스할부금(매월719,824원), - 25인승 버스할부금(4월까지 1,047,100원)등 기기구입및 매월할부금등에 의한 예산증액
K28: 시설장비유지비 | L28: 92000000 | M28: ='라. 세출내역서'!E580 -> 122100000 | N28: =M28-L28 -> 30100000 | O28: =N28/L28*100 -> 32.717391 | P28: 이용인생활동 태풍과 장마로인한 누수 보수공사비용추가
I29: 사업비 | J29: 계 | L29: 401372640 | M29: 408115000 | N29: =M29-L29 -> 6742360 | O29: =N29/L29*100 -> 1.6798255
A30: 전입금 | B30: 계 | D30: 40000000 | E30: =E31 -> 40000000 | F30: =F31 -> 0 | G30: =F30/D30*100 -> 0 | J30: 운영비 | K30: 소계 | L30: 254332640 | M30: 274239200 | N30: =M30-L30 -> 19906560 | O30: =N30/L30*100 -> 7.8269781
B31: 전입금 | C31: 소계 | D31: 40000000 | E31: =E32 -> 40000000 | F31: =F32 -> 0 | G31: =F31/D31*100 -> 0 | K31: 생계비 | L31: 209362640 | M31: ='라. 세출내역서'!E599 -> 230739200 | N31: =M31-L31 -> 21376560 | O31: =N31/L31*100 -> 10.210303 | P31: 수급자 변동 및 생계비지원 증액에의한 예산 편성
C32: 법인전입금 | D32: 40000000 | E32: ='다. 세입내역서'!E43 -> 40000000 | F32: =E32-D32 -> 0 | G32: =F32/D32*100 -> 0 | K32: 수용기관경비 | L32: 37970000 | M32: ='라. 세출내역서'!E605 -> 36500000 | N32: =M32-L32 -> -1470000 | O32: =N32/L32*100 -> -3.8714775 | P32: 일상용품 이용인 개인구입으로 인한 예산감액
K33: 피복비 | L33: 4000000 | M33: ='라. 세출내역서'!E610 -> 4000000 | N33: =M33-L33 -> 0 | O33: =N33/L33*100 -> 0
K34: 의료비 | L34: 3000000 | M34: ='라. 세출내역서'!E612 -> 3000000 | N34: =M34-L34 -> 0 | O34: =N34/L34*100 -> 0
A35: 이월금 | B35: 계 | D35: 53487000 | E35: =E36 -> 53404680 | F35: =F36 -> -82320 | G35: =F35/D35*100 -> -0.15390656 | K35: 연료비 | L35: 0 | M35: ='라. 세출내역서'!E614 -> 0 | N35: =M35-L35 -> 0 | O35: 0
B36: 이월금 | C36: 소계 | D36: =SUM(D37:D41) -> 53487000 | E36: =SUM(E37:E41) -> 53404680 | F36: =SUM(F37:F41) -> -82320 | G36: =F36/D36*100 -> -0.15390656 | J36: 사업비 | K36: 소계 | L36: 145540000 | M36: =SUM(M37:M42) -> 131055800 | N36: -14484200 | O36: =N36/L36*100 -> -9.9520407
C37: 이월금(보조금) | D37: ='다. 세입내역서'!D46 -> 31287000 | E37: ='다. 세입내역서'!E46 -> 8513190 | F37: =E37-D37 -> -22773810 | G37: =F37/D37*100 -> -72.790009 | H37: 2019년 보조금 반환금 및 이월금 반영 예산조정 | K37: 사회심리 재활사업비 | L37: 89000000 | M37: ='라. 세출내역서'!E616 -> 72427000 | N37: =M37-L37 -> -16573000 | O37: =N37/L37*100 -> -18.621348 | P37: 코로나19로 인한 문화체험취소등 외부활동 감소로 인한 예산 감액
C38: 이월금(법인전입금) | D38: ='다. 세입내역서'!D47 -> 500000 | E38: ='다. 세입내역서'!E47 -> 3080563 | F38: =E38-D38 -> 2580563 | G38: =F38/D38*100 -> 516.1126 | K38: 직업재활사업비 | L38: 5000000 | M38: ='라. 세출내역서'!E635 -> 5000000 | N38: =M38-L38 -> 0 | O38: =N38/L38*100 -> 0
C39: 이월금(자부담) | D39: ='다. 세입내역서'!D48 -> 5800000 | E39: ='다. 세입내역서'!E48 -> 19352559 | F39: =E39-D39 -> 13552559 | G39: =F39/D39*100 -> 233.66481 | K39: 4종운영지원사업비 | L39: 32840000 | M39: ='라. 세출내역서'!E637 -> 32840000 | N39: =M39-L39 -> 0 | O39: =N39/L39*100 -> 0
C40: 이월금(후원금) | D40: ='다. 세입내역서'!D49 -> 15900000 | E40: ='다. 세입내역서'!E49 -> 22458368 | F40: =E40-D40 -> 6558368 | G40: =F40/D40*100 -> 41.247597 | K40: 7종운영지원사업비 | L40: 6600000 | M40: ='라. 세출내역서'!E643 -> 6600000 | N40: =M40-L40 -> 0 | O40: =N40/L40*100 -> 0
C41: 이월사업비 | D41: ='다. 세입내역서'!D50 -> 0 | E41: ='다. 세입내역서'!E50 -> 0 | F41: =E41-D41 -> 0 | G41: 0 | K41: 재활프로그램사업비 | L41: 10000000 | M41: ='라. 세출내역서'!E646 -> 10000000 | N41: =M41-L41 -> 0 | O41: =N41/L41*100 -> 0 | P41: 2020년 경기도 재활프로그램 중증장애인의 직업능력개발을 위한 목공프로그램 “우드잡 woodjob” 선정
K42: 기 능 보 강 사업비 | L42: 2100000 | M42: ='라. 세출내역서'!E650 -> 4188800 | N42: =M42-L42 -> 2088800 | O42: =N42/L42*100 -> 99.466667 | P42: *국도비 공기청정기렌탈지원사업선정에 따른 예산편성 (렌탈료 매월 174,900원) *화성시지원 코로나19 예방 방역물품지원사업 (2,090,000원)
J43: 결연사업비 | K43: 소계 | L43: 1500000 | M43: =M44 -> 2820000 | N43: =M43-L43 -> 1320000 | O43: =N43/L43*100 -> 88
K44: 결연후원금 | L44: 1500000 | M44: ='라. 세출내역서'!E654 -> 2820000 | N44: =M44-L44 -> 1320000 | O44: =N44/L44*100 -> 88 | P44: 결원후원자 증원에 의한 예산증액
A45: 잡수입 | B45: 계 | D45: 47309180 | E45: =E46 -> 61313850 | F45: =F46 -> 14004670 | G45: =F45/D45*100 -> 29.602437 | I45: 과년도지출 | J45: 계 | L45: 800000 | M45: =M46 -> 1040105 | N45: =M45-L45 -> 240105 | O45: =N45/L45*100 -> 30.013125
B46: 잡수입 | C46: 소계 | D46: 47309180 | E46: =SUM(E47:E49) -> 61313850 | F46: =SUM(F47:F49) -> 14004670 | G46: =F46/D46*100 -> 29.602437 | J46: 과년도지출 | K46: 소계 | L46: 800000 | M46: =M47 -> 1040105 | N46: =M46-L46 -> 240105 | O46: =N46/L46*100 -> 30.013125
C47: 불용품매각대 | D47: 500000 | E47: ='다. 세입내역서'!E53 -> 500000 | F47: =E47-D47 -> 0 | G47: =F47/D47*100 -> 0 | K47: 과년도지출 | L47: 800000 | M47: ='라. 세출내역서'!E658 -> 1040105 | N47: =M47-L47 -> 240105 | O47: =N47/L47*100 -> 30.013125 | P47: 2019년 복사기 임대료, CMS 후원금수수료, 위생재료비등 미지급분
C48: 기타예금이자수입 | D48: 1759180 | E48: ='다. 세입내역서'!E54 -> 1763850 | F48: =E48-D48 -> 4670 | G48: =F48/D48*100 -> 0.26546459 | I48: 잡지출 | J48: 계 | L48: 609180 | M48: =M49 -> 615340 | N48: =M48-L48 -> 6160 | O48: =N48/L48*100 -> 1.0111954
C49: 기타잡수입 | D49: 45050000 | E49: ='다. 세입내역서'!E55 -> 59050000 | F49: =E49-D49 -> 14000000 | G49: =F49/D49*100 -> 31.076582 | H49: 육아휴직종사자 복직에따른 고용노동부 기업지원금 예산편성 | J49: 잡지출 | K49: 소계 | L49: 609180 | M49: =M50 -> 615340 | N49: =M49-L49 -> 6160 | O49: =N49/L49*100 -> 1.0111954
K50: 잡지출 | L50: 609180 | M50: ='라. 세출내역서'!E664 -> 615340 | N50: =M50-L50 -> 6160 | O50: =N50/L50*100 -> 1.0111954
I51: 예비비및기타 | J51: 계 | L51: 31287000 | M51: =M52 -> 8513190 | N51: =M51-L51 -> -22773810 | O51: =N51/L51*100 -> -72.790009
J52: 예비비및기타 | K52: 소계 | L52: 31287000 | M52: =M53 -> 8513190 | N52: =M52-L52 -> -22773810 | O52: =N52/L52*100 -> -72.790009
K53: 보조금반환금 | L53: 31287000 | M53: ='라. 세출내역서'!E668 -> 8513190 | N53: =M53-L53 -> -22773810 | O53: =N53/L53*100 -> -72.790009 | P53: 2019년 보조금반환액

Sheet 사. 임직원보수 일람표
A1: 사. 임직원 보수 일람표
A2: 보조금 직원
A3: 순번 | B3: 직책 | C3: 성명 | D3: 승급월 | F3: 호봉 | G3: 기본급 | H3: 급여 | I3: 제수당 | P3: 퇴직금 및 퇴직적립금 | Q3: 국민연금 | R3: 보조금 건강보험 | S3: 보조금 장기요양 | T3: 보조금 고용보험 | U3: 보조금 산재보험 | V3: 사회보험 부담금 | W3: 공제액계 | X3: 합계 | Y3: 지자체 별도 지급액 | AB3: 비고
I4: 명절휴가비 | J4: 가족수당 | K4: 시급 | L4: 연장수당 | M4: 연장추가 지원수당 | N4: 직책수당 | O4: 제수당 계 | Y4: 경기도 특수근무수당 | Z4: 경기도 처우개선비 | AA4: 지자체 지급액 계
A5: 1 | B5: 시설장 | C5: 이기수 | D5: 6 | E5: 5 | F5: 13 | G5: 3701000 | H5: =G5*E5 -> 18505000 | I5: =G5*60% -> 2220600 | J5: 0 | K5: =ROUND(G5*1/209*1.5,-1) -> 26560 | L5: =(K5*20)*E5 -> 2656000 | M5: =(K5*5)*E5 -> 664000 | O5: =SUM(I5,J5,L5,M5,N5) -> 5540600 | P5: =ROUNDUP((H5+I5+J5+L5+M5)*1/12,-1) -> 2003800 | R5: =ROUNDUP((H5+I5+J5+L5+M5)*3.335%,-1) -> 801930 | S5: =ROUNDUP(R5*10.25%,-1) -> 82200 | V5: =SUM(Q5:U5) -> 884130 | W5: =SUM(P5,V5) -> 2887930 | X5: =SUM(H5,H6,W5,W6,O5,O6) -> 64480190 | Y5: =250000*12 -> 3000000 | Z5: =50000*12 -> 600000 | AA5: =Z5+Y5 -> 3600000
E6: 7 | F6: 14 | G6: 3785000 | H6: =G6*E6 -> 26495000 | I6: =G6*60% -> 2271000 | J6: 0 | K6: =ROUND(G6*1/209*1.5,-1) -> 27170 | L6: =(K6*20)*E6 -> 3803800 | M6: =(K6*5)*E6 -> 950950 | O6: =SUM(I6,J6,L6,M6,N6) -> 7025750 | P6: =ROUNDUP((H6+I6+J6+L6+M6)*1/12,-1) -> 2793400 | R6: =ROUNDUP((H6+I6+J6+L6+M6)*3.335%,-1) -> 1117920 | S6: =ROUNDUP(R6*10.25%,-1) -> 114590 | V6: =SUM(Q6:U6) -> 1232510 | W6: =SUM(P6,V6) -> 4025910
A7: 2 | B7: 사무국장 | C7: 금형민 | D7: 5 | E7: 4 | F7: 18 | G7: 3763000 | H7: =G7*E7 -> 15052000 | I7: =G7*60% -> 2257800 | J7: =120000*12 -> 1440000 | K7: =ROUND(G7*1/209*1.5,-1) -> 27010 | L7: =(K7*20)*E7 -> 2160800 | M7: =(K7*5)*E7 -> 540200 | O7: =SUM(I7,J7,L7,M7,N7) -> 6398800 | P7: =ROUNDUP((H7+I7+J7+L7+M7)*1/12,-1) -> 1787570 | Q7: =ROUND((H7+I7+J7+L7+M7)*4.5%,-1) -> 965290 | R7: =ROUNDUP((H7+I7+J7+L7+M7)*3.335%,-1) -> 715390 | S7: =ROUNDUP(R7*10.25%,-1) -> 73330 | T7: =ROUND((H7+I7+J7+L7+M7)*1.05%,-1) -> 225230 | U7: =ROUND((H7+I7+J7+L7+M7)*0.8%,-1) -> 171610 | V7: =SUM(Q7:U7) -> 2150850 | W7: =SUM(P7,V7) -> 3938420 | X7: =SUM(H7,H8,W7,W8,O7,O8) -> 70821780 | Y7: =250000*12 -> 3000000 | Z7: =50000*12 -> 600000 | AA7: =Z7+Y7 -> 3600000
E8: 8 | F8: 19 | G8: 3825000 | H8: =G8*E8 -> 30600000 | I8: =G8*60% -> 2295000 | J8: 0 | K8: =ROUND(G8*1/209*1.5,-1) -> 27450 | L8: =(K8*20)*E8 -> 4392000 | M8: =(K8*5)*E8 -> 1098000 | O8: =SUM(I8,J8,L8,M8,N8) -> 7785000 | P8: =ROUNDUP((H8+I8+J8+L8+M8)*1/12,-1) -> 3198750 | Q8: =ROUND((H8+I8+J8+L8+M8)*4.5%,-1) -> 1727330 | R8: =ROUNDUP((H8+I8+J8+L8+M8)*3.335%,-1) -> 1280140 | S8: =ROUNDUP(R8*10.25%,-1) -> 131220 | T8: =ROUND((H8+I8+J8+L8+M8)*1.05%,-1) -> 403040 | U8: =ROUND((H8+I8+J8+L8+M8)*0.8%,-1) -> 307080 | V8: =SUM(Q8:U8) -> 3848810 | W8: =SUM(P8,V8) -> 7047560
A9: 3 | B9: 상담평가원 (과장) | C9: 김정윤 | D9: 7 | E9: 6 | F9: 16 | G9: 3244000 | H9: =G9*E9 -> 19464000 | I9: =G9*60% -> 1946400 | J9: =40000*12 -> 480000 | K9: =ROUND(G9*1/209*1.5,-1) -> 23280 | L9: =(K9*20)*E9 -> 2793600 | M9: =(K9*5)*E9 -> 698400 | O9: =SUM(I9,J9,L9,M9,N9) -> 5918400 | P9: =ROUNDUP((H9+I9+J9+L9+M9)*1/12,-1) -> 2115200 | Q9: =ROUND((H9+I9+J9+L9+M9)*4.5%,-1) -> 1142210 | R9: =ROUNDUP((H9+I9+J9+L9+M9)*3.335%,-1) -> 846510 | S9: =ROUNDUP(R9*10.25%,-1) -> 86770 | T9: =ROUND((H9+I9+J9+L9+M9)*1.05%,-1) -> 266520 | U9: =ROUND((H9+I9+J9+L9+M9)*0.8%,-1) -> 203060 | V9: =SUM(Q9:U9) -> 2545070 | W9: =SUM(P9,V9) -> 4660270 | X9: =SUM(H9,H10,W9,W10,O9,O10) -> 60081430 | Y9: =250000*12 -> 3000000 | Z9: =50000*12 -> 600000 | AA9: =Z9+Y9 -> 3600000
E10: 6 | F10: 17 | G10: 3306000 | H10: =G10*E10 -> 19836000 | I10: =G10*60% -> 1983600 | J10: 0 | K10: =ROUND(G10*1/209*1.5,-1) -> 23730 | L10: =(K10*20)*E10 -> 2847600 | M10: =(K10*5)*E10 -> 711900 | O10: =SUM(I10,J10,L10,M10,N10) -> 5543100 | P10: =ROUNDUP((H10+I10+J10+L10+M10)*1/12,-1) -> 2114930 | Q10: =ROUND((H10+I10+J10+L10+M10)*4.5%,-1) -> 1142060 | R10: =ROUNDUP((H10+I10+J10+L10+M10)*3.335%,-1) -> 846400 | S10: =ROUNDUP(R10*10.25%,-1) -> 86760 | T10: =ROUND((H10+I10+J10+L10+M10)*1.05%,-1) -> 266480 | U10: =ROUND((H10+I10+J10+L10+M10)*0.8%,-1) -> 203030 | V10: =SUM(Q10:U10) -> 2544730 | W10: =SUM(P10,V10) -> 4659660
A11: 4 | B11: 영양사 (팀장) | C11: 김혜영 | D11: 4 | E11: 3 | F11: 23 | G11: 3679000 | H11: =G11*E11 -> 11037000 | I11: =G11*60% -> 2207400 | J11: =40000*12 -> 480000 | K11: =ROUND(G11*1/209*1.5,-1) -> 26400 | L11: =(K11*20)*E11 -> 1584000 | M11: =(K11*5)*E11 -> 396000 | O11: =SUM(I11,J11,L11,M11,N11) -> 4667400 | P11: =ROUNDUP((H11+I11+J11+L11+M11)*1/12,-1) -> 1308700 | Q11: =ROUND((H11+I11+J11+L11+M11)*4.5%,-1) -> 706700 | R11: =ROUNDUP((H11+I11+J11+L11+M11)*3.335%,-1) -> 523750 | S11: =ROUNDUP(R11*10.25%,-1) -> 53690 | T11: =ROUND((H11+I11+J11+L11+M11)*1.05%,-1) -> 164900 | U11: =ROUND((H11+I11+J11+L11+M11)*0.8%,-1) -> 125640 | V11: =SUM(Q11:U11) -> 1574680 | W11: =SUM(P11,V11) -> 2883380 | X11: =SUM(H11,H12,W11,W12,O11,O12) -> 68020510 | Y11: =250000*12 -> 3000000 | Z11: =50000*12 -> 600000 | AA11: =Z11+Y11 -> 3600000
E12: 9 | F12: 24 | G12: 3724000 | H12: =G12*E12 -> 33516000 | I12: =G12*60% -> 2234400 | J12: 0 | K12: =ROUND(G12*1/209*1.5,-1) -> 26730 | L12: =(K12*20)*E12 -> 4811400 | M12: =(K12*5)*E12 -> 1202850 | O12: =SUM(I12,J12,L12,M12,N12) -> 8248650 | P12: =ROUNDUP((H12+I12+J12+L12+M12)*1/12,-1) -> 3480390 | Q12: =ROUND((H12+I12+J12+L12+M12)*4.5%,-1) -> 1879410 | R12: =ROUNDUP((H12+I12+J12+L12+M12)*3.335%,-1) -> 1392860 | S12: =ROUNDUP(R12*10.25%,-1) -> 142770 | T12: =ROUND((H12+I12+J12+L12+M12)*1.05%,-1) -> 438530 | U12: =ROUND((H12+I12+J12+L12+M12)*0.8%,-1) -> 334120 | V12: =SUM(Q12:U12) -> 4187690 | W12: =SUM(P12,V12) -> 7668080
A13: 5 | B13: 선임지도원 (팀장) | C13: 이선이 | D13: 11 | E13: 11 | F13: 12 | G13: 2732000 | H13: =G13*E13 -> 30052000 | I13: =(G13*60%)*2 -> 3278400 | J13: =40000*12 -> 480000 | K13: =ROUND(G13*1/209*1.5,-1) -> 19610 | L13: =(K13*20)*E13 -> 4314200 | M13: =(K13*5)*E13 -> 1078550 | O13: =SUM(I13,J13,L13,M13,N13) -> 9151150 | P13: =ROUNDUP((H13+I13+J13+L13+M13)*1/12,-1) -> 3266930 | Q13: =ROUND((H13+I13+J13+L13+M13)*4.5%,-1) -> 1764140 | R13: =ROUNDUP((H13+I13+J13+L13+M13)*3.335%,-1) -> 1307430 | S13: =ROUNDUP(R13*10.25%,-1) -> 134020 | T13: =ROUND((H13+I13+J13+L13+M13)*1.05%,-1) -> 411630 | U13: =ROUND((H13+I13+J13+L13+M13)*0.8%,-1) -> 313630 | V13: =SUM(Q13:U13) -> 3930850 | W13: =SUM(P13,V13) -> 7197780 | X13: =SUM(H13,H14,W13,W14,O13,O14) -> 50315120 | Y13: =250000*12 -> 3000000 | Z13: =50000*12 -> 600000 | AA13: =Z13+Y13 -> 3600000
E14: 1 | F14: 13 | G14: 2804000 | H14: =G14*E14 -> 2804000 | I14: 0 | J14: 0 | K14: =ROUND(G14*1/209*1.5,-1) -> 20120 | L14: =(K14*20)*E14 -> 402400 | M14: =(K14*5)*E14 -> 100600 | O14: =SUM(I14,J14,L14,M14,N14) -> 503000 | P14: =ROUNDUP((H14+I14+J14+L14+M14)*1/12,-1) -> 275590 | Q14: =ROUND((H14+I14+J14+L14+M14)*4.5%,-1) -> 148820 | R14: =ROUNDUP((H14+I14+J14+L14+M14)*3.335%,-1) -> 110290 | S14: =ROUNDUP(R14*10.25%,-1) -> 11310 | T14: =ROUND((H14+I14+J14+L14+M14)*1.05%,-1) -> 34720 | U14: =ROUND((H14+I14+J14+L14+M14)*0.8%,-1) -> 26460 | V14: =SUM(Q14:U14) -> 331600 | W14: =SUM(P14,V14) -> 607190
A15: 6 | B15: 간호사 (팀장) | C15: 전광숙 | D15: 1 | E15: 7 | F15: 23 | G15: 3679000 | H15: =G15*E15 -> 25753000 | I15: =G15*60% -> 2207400 | J15: =40000*7 -> 280000 | K15: =ROUND(G15*1/209*1.5,-1) -> 26400 | L15: =(K15*20)*E15 -> 3696000 | M15: =(K15*5)*E15 -> 924000 | O15: =SUM(I15,J15,L15,M15,N15) -> 7107400 | P15: =ROUNDUP((H15+I15+J15+L15+M15)*1/12,-1) -> 2738370 | Q15: =ROUND((H15+I15+J15+L15+M15)*4.5%,-1) -> 1478720 | R15: =ROUNDUP((H15+I15+J15+L15+M15)*3.335%,-1) -> 1095900 | S15: =ROUNDUP(R15*10.25%,-1) -> 112330 | T15: =ROUND((H15+I15+J15+L15+M15)*1.05%,-1) -> 345030 | U15: =ROUND((H15+I15+J15+L15+M15)*0.8%,-1) -> 262880 | V15: =SUM(Q15:U15) -> 3294860 | W15: =SUM(P15,V15) -> 6033230 | X15: =SUM(H15,H16,W15,W16,O15,O16) -> 38893630 | Y15: =250000*7 -> 1750000 | Z15: =50000*7 -> 350000 | AA15: =Z15+Y15 -> 2100000 | AB15: 20.07 퇴사
H16: =G16*E16 -> 0 | I16: =G16*60% -> 0 | K16: =ROUND(G16*1/209*1.5,-1) -> 0 | L16: =(K16*20)*E16 -> 0 | M16: =(K16*5)*E16 -> 0 | O16: =SUM(I16,J16,L16,M16,N16) -> 0 | P16: =ROUNDUP((H16+I16+J16+L16+M16)*1/12,-1) -> 0 | Q16: =ROUND((H16+I16+J16+L16+M16)*4.5%,-1) -> 0 | R16: =ROUNDUP((H16+I16+J16+L16+M16)*3.335%,-1) -> 0 | S16: =ROUNDUP(R16*10.25%,-1) -> 0 | T16: =ROUND((H16+I16+J16+L16+M16)*1.05%,-1) -> 0 | U16: =ROUND((H16+I16+J16+L16+M16)*0.8%,-1) -> 0 | V16: =SUM(Q16:U16) -> 0 | W16: =SUM(P16,V16) -> 0
A17: 7 | B17: 간호사 | C17: 엄광식 | D17: 12 | E17: 3 | F17: 6 | G17: 2358000 | H17: =G17*E17 -> 7074000 | I17: =G17*60% -> 1414800 | J17: =40000*4 -> 160000 | K17: =ROUND(G17*1/209*1.5,-1) -> 16920 | L17: =(K17*20)*E17 -> 1015200 | M17: =(K17*5)*E17 -> 253800 | N17: 0 | O17: =SUM(I17,J17,L17,M17,N17) -> 2843800 | P17: =ROUNDUP((H17+I17+J17+L17+M17)*1/12,-1) -> 826490 | Q17: =ROUND((H17+I17+J17+L17+M17)*4.5%,-1) -> 446300 | R17: =ROUNDUP((H17+I17+J17+L17+M17)*3.335%,-1) -> 330760 | S17: =ROUNDUP(R17*10.25%,-1) -> 33910 | T17: =ROUND((H17+I17+J17+L17+M17)*1.05%,-1) -> 104140 | U17: =ROUND((H17+I17+J17+L17+M17)*0.8%,-1) -> 79340 | V17: =SUM(Q17:U17) -> 994450 | W17: =SUM(P17,V17) -> 1820940 | X17: =SUM(H17,H18,W17,W18,O17,O18) -> 15178300 | Y17: =250000*4 -> 1000000 | Z17: =50000*4 -> 200000 | AA17: =Z17+Y17 -> 1200000 | AB17: 20.09 입사
E18: 1 | F18: 7 | G18: 2464000 | H18: =G18*E18 -> 2464000 | K18: =ROUND(G18*1/209*1.5,-1) -> 17680 | L18: =(K18*20)*E18 -> 353600 | M18: =(K18*5)*E18 -> 88400 | O18: =SUM(I18,J18,L18,M18,N18) -> 442000 | P18: =ROUNDUP((H18+I18+J18+L18+M18)*1/12,-1) -> 242170 | Q18: =ROUND((H18+I18+J18+L18+M18)*4.5%,-1) -> 130770 | R18: =ROUNDUP((H18+I18+J18+L18+M18)*3.335%,-1) -> 96920 | S18: =ROUNDUP(R18*10.25%,-1) -> 9940 | T18: =ROUND((H18+I18+J18+L18+M18)*1.05%,-1) -> 30510 | U18: =ROUND((H18+I18+J18+L18+M18)*0.8%,-1) -> 23250 | V18: =SUM(Q18:U18) -> 291390 | W18: =SUM(P18,V18) -> 533560
A19: 8 | B19: 언어치료사 | C19: 최민성 | D19: 4 | E19: =D19-1 -> 3 | F19: 11 | G19: 2880000 | H19: =G19*E19 -> 8640000 | I19: =G19*60% -> 1728000 | J19: =60000*12 -> 720000 | K19: =ROUND(G19*1/209*1.5,-1) -> 20670 | L19: =(K19*20)*E19 -> 1240200 | M19: =(K19*5)*E19 -> 310050 | O19: =SUM(I19,J19,L19,M19,N19) -> 3998250 | P19: =ROUNDUP((H19+I19+J19+L19+M19)*1/12,-1) -> 1053190 | Q19: =ROUND((H19+I19+J19+L19+M19)*4.5%,-1) -> 568720 | R19: =ROUNDUP((H19+I19+J19+L19+M19)*3.335%,-1) -> 421490 | S19: =ROUNDUP(R19*10.25%,-1) -> 43210 | T19: =ROUND((H19+I19+J19+L19+M19)*1.05%,-1) -> 132700 | U19: =ROUND((H19+I19+J19+L19+M19)*0.8%,-1) -> 101110 | V19: =SUM(Q19:U19) -> 1267230 | W19: =SUM(P19,V19) -> 2320420 | X19: =SUM(H19,H20,W19,W20,O19,O20) -> 54276400 | Y19: =250000*12 -> 3000000 | Z19: =50000*12 -> 600000 | AA19: =Z19+Y19 -> 3600000
E20: 9 | F20: 12 | G20: 2962000 | H20: =G20*E20 -> 26658000 | I20: =G20*60% -> 1777200 | K20: =ROUND(G20*1/209*1.5,-1) -> 21260 | L20: =(K20*20)*E20 -> 3826800 | M20: =(K20*5)*E20 -> 956700 | O20: =SUM(I20,J20,L20,M20,N20) -> 6560700 | P20: =ROUNDUP((H20+I20+J20+L20+M20)*1/12,-1) -> 2768230 | Q20: =ROUND((H20+I20+J20+L20+M20)*4.5%,-1) -> 1494840 | R20: =ROUNDUP((H20+I20+J20+L20+M20)*3.335%,-1) -> 1107850 | S20: =ROUNDUP(R20*10.25%,-1) -> 113560 | T20: =ROUND((H20+I20+J20+L20+M20)*1.05%,-1) -> 348800 | U20: =ROUND((H20+I20+J20+L20+M20)*0.8%,-1) -> 265750 | V20: =SUM(Q20:U20) -> 3330800 | W20: =SUM(P20,V20) -> 6099030
A21: 9 | B21: 작업치료사 | C21: 이민지 | D21: 10 | E21: 2 | F21: 5 | G21: 2182000 | H21: =G21*E21 -> 4364000 | I21: =G21*60% -> 1309200 | J21: =40000*2 -> 80000 | K21: =ROUND(G21*1/209*1.5,-1) -> 15660 | L21: =(K21*20)*E21 -> 626400 | M21: =(K21*5)*E21 -> 156600 | O21: =SUM(I21,J21,L21,M21,N21) -> 2172200 | P21: =ROUNDUP((H21+I21+J21+L21+M21)*1/12,-1) -> 544690 | Q21: =ROUND((H21+I21+J21+L21+M21)*4.5%,-1) -> 294130 | R21: =ROUNDUP((H21+I21+J21+L21+M21)*3.335%,-1) -> 217990 | S21: =ROUNDUP(R21*10.25%,-1) -> 22350 | T21: =ROUND((H21+I21+J21+L21+M21)*1.05%,-1) -> 68630 | U21: =ROUND((H21+I21+J21+L21+M21)*0.8%,-1) -> 52290 | V21: =SUM(Q21:U21) -> 655390 | W21: =SUM(P21,V21) -> 1200080 | X21: =SUM(H21,H22,W21,W22,O21,O22) -> 7736280 | Y21: =200000*2 -> 400000 | Z21: =50000*2 -> 100000 | AA21: =Z21+Y21 -> 500000 | AB21: 20.02 퇴사
H22: =G22*E22 -> 0 | I22: =G22*60% -> 0 | K22: =ROUND(G22*1/209*1.5,-1) -> 0 | L22: =(K22*20)*E22 -> 0 | M22: =(K22*5)*E22 -> 0 | O22: =SUM(I22,J22,L22,M22,N22) -> 0 | P22: =ROUNDUP((H22+I22+J22+L22+M22)*1/12,-1) -> 0 | Q22: =ROUND((H22+I22+J22+L22+M22)*4.5%,-1) -> 0 | R22: =ROUNDUP((H22+I22+J22+L22+M22)*3.335%,-1) -> 0 | S22: =ROUNDUP(R22*10.25%,-1) -> 0 | T22: =ROUND((H22+I22+J22+L22+M22)*1.05%,-1) -> 0 | U22: =ROUND((H22+I22+J22+L22+M22)*0.8%,-1) -> 0 | V22: =SUM(Q22:U22) -> 0 | W22: =SUM(P22,V22) -> 0
A23: 10 | B23: 작업치료사 | C23: 이동철 | D23: 2 | E23: 9 | F23: 6 | G23: 2358000 | H23: =G23*E23 -> 21222000 | I23: =G23*60% -> 1414800 | J23: =40000*9 -> 360000 | K23: =ROUND(G23*1/209*1.5,-1) -> 16920 | L23: =(K23*20)*E23 -> 3045600 | M23: =(K23*5)*E23 -> 761400 | O23: =SUM(I23,J23,L23,M23,N23) -> 5581800 | P23: =ROUNDUP((H23+I23+J23+L23+M23)*1/12,-1) -> 2233650 | Q23: =ROUND((H23+I23+J23+L23+M23)*4.5%,-1) -> 1206170 | R23: =ROUNDUP((H23+I23+J23+L23+M23)*3.335%,-1) -> 893910 | S23: =ROUNDUP(R23*10.25%,-1) -> 91630 | T23: =ROUND((H23+I23+J23+L23+M23)*1.05%,-1) -> 281440 | U23: =ROUND((H23+I23+J23+L23+M23)*0.8%,-1) -> 214430 | V23: =SUM(Q23:U23) -> 2687580 | W23: =SUM(P23,V23) -> 4921230 | X23: =SUM(H23,H24,W23,W24,O23,O24) -> 31725030 | Y23: =250000*9 -> 2250000 | Z23: =50000*9 -> 450000 | AA23: =Z23+Y23 -> 2700000 | AB23: 20.04 입사
H24: =G24*E24 -> 0 | I24: =G24*60% -> 0 | K24: =ROUND(G24*1/209*1.5,-1) -> 0 | L24: =(K24*20)*E24 -> 0 | M24: =(K24*5)*E24 -> 0 | O24: =SUM(I24,J24,L24,M24,N24) -> 0 | P24: =ROUNDUP((H24+I24+J24+L24+M24)*1/12,-1) -> 0 | Q24: =ROUND((H24+I24+J24+L24+M24)*4.5%,-1) -> 0 | R24: =ROUNDUP((H24+I24+J24+L24+M24)*3.335%,-1) -> 0 | S24: =ROUNDUP(R24*10.25%,-1) -> 0 | T24: =ROUND((H24+I24+J24+L24+M24)*1.05%,-1) -> 0 | U24: =ROUND((H24+I24+J24+L24+M24)*0.8%,-1) -> 0 | V24: =SUM(Q24:U24) -> 0 | W24: =SUM(P24,V24) -> 0
A25: 11 | B25: 물리치료사 | C25: 김효선 | D25: 8 | E25: 7 | F25: 12 | G25: 2962000 | H25: =G25*E25 -> 20734000 | I25: =G25*60% -> 1777200 | J25: =60000*12 -> 720000 | K25: =ROUND(G25*1/209*1.5,-1) -> 21260 | L25: =(K25*20)*E25 -> 2976400 | M25: =(K25*5)*E25 -> 744100 | O25: =SUM(I25,J25,L25,M25,N25) -> 6217700 | P25: =ROUNDUP((H25+I25+J25+L25+M25)*1/12,-1) -> 2245980 | Q25: =ROUND((H25+I25+J25+L25+M25)*4.5%,-1) -> 1212830 | R25: =ROUNDUP((H25+I25+J25+L25+M25)*3.335%,-1) -> 898840 | S25: =ROUNDUP(R25*10.25%,-1) -> 92140 | T25: =ROUND((H25+I25+J25+L25+M25)*1.05%,-1) -> 282990 | U25: =ROUND((H25+I25+J25+L25+M25)*0.8%,-1) -> 215610 | V25: =SUM(Q25:U25) -> 2702410 | W25: =SUM(P25,V25) -> 4948390 | X25: =SUM(H25,H26,W25,W26,O25,O26) -> 55255170 | Y25: =250000*12 -> 3000000 | Z25: =50000*12 -> 600000 | AA25: =Z25+Y25 -> 3600000
E26: 5 | F26: 13 | G26: 3037000 | H26: =G26*E26 -> 15185000 | I26: =G26*60% -> 1822200 | K26: =ROUND(G26*1/209*1.5,-1) -> 21800 | L26: =(K26*20)*E26 -> 2180000 | M26: =(K26*5)*E26 -> 545000 | O26: =SUM(I26,J26,L26,M26,N26) -> 4547200 | P26: =ROUNDUP((H26+I26+J26+L26+M26)*1/12,-1) -> 1644350 | Q26: =ROUND((H26+I26+J26+L26+M26)*4.5%,-1) -> 887950 | R26: =ROUNDUP((H26+I26+J26+L26+M26)*3.335%,-1) -> 658070 | S26: =ROUNDUP(R26*10.25%,-1) -> 67460 | T26: =ROUND((H26+I26+J26+L26+M26)*1.05%,-1) -> 207190 | U26: =ROUND((H26+I26+J26+L26+M26)*0.8%,-1) -> 157860 | V26: =SUM(Q26:U26) -> 1978530 | W26: =SUM(P26,V26) -> 3622880
A27: 12 | B27: 사회재활 교사(과장) | C27: 이성수 | D27: 10 | E27: 9 | F27: 15 | G27: 3179000 | H27: =G27*E27 -> 28611000 | I27: =G27*60% -> 1907400 | J27: =40000*12 -> 480000 | K27: =ROUND(G27*1/209*1.5,-1) -> 22820 | L27: =(K27*20)*E27 -> 4107600 | M27: =(K27*5)*E27 -> 1026900 | O27: =SUM(I27,J27,L27,M27,N27) -> 7521900 | P27: =ROUNDUP((H27+I27+J27+L27+M27)*1/12,-1) -> 3011080 | Q27: =ROUND((H27+I27+J27+L27+M27)*4.5%,-1) -> 1625980 | R27: =ROUNDUP((H27+I27+J27+L27+M27)*3.335%,-1) -> 1205040 | S27: =ROUNDUP(R27*10.25%,-1) -> 123520 | T27: =ROUND((H27+I27+J27+L27+M27)*1.05%,-1) -> 379400 | U27: =ROUND((H27+I27+J27+L27+M27)*0.8%,-1) -> 289060 | V27: =SUM(Q27:U27) -> 3623000 | W27: =SUM(P27,V27) -> 6634080 | X27: =SUM(H27,H28,W27,W28,O27,O28) -> 58656150 | Y27: =250000*12 -> 3000000 | Z27: =50000*12 -> 600000 | AA27: =Z27+Y27 -> 3600000
E28: 3 | F28: 16 | G28: 3244000 | H28: =G28*E28 -> 9732000 | I28: =G28*60% -> 1946400 | K28: =ROUND(G28*1/209*1.5,-1) -> 23280 | L28: =(K28*20)*E28 -> 1396800 | M28: =(K28*5)*E28 -> 349200 | O28: =SUM(I28,J28,L28,M28,N28) -> 3692400 | P28: =ROUNDUP((H28+I28+J28+L28+M28)*1/12,-1) -> 1118700 | Q28: =ROUND((H28+I28+J28+L28+M28)*4.5%,-1) -> 604100 | R28: =ROUNDUP((H28+I28+J28+L28+M28)*3.335%,-1) -> 447710 | S28: =ROUNDUP(R28*10.25%,-1) -> 45900 | T28: =ROUND((H28+I28+J28+L28+M28)*1.05%,-1) -> 140960 | U28: =ROUND((H28+I28+J28+L28+M28)*0.8%,-1) -> 107400 | V28: =SUM(Q28:U28) -> 1346070 | W28: =SUM(P28,V28) -> 2464770
A29: 13 | B29: 선임지도원 (팀장) | C29: 심영은 | D29: 8 | E29: 7 | F29: 11 | G29: 2660000 | H29: =G29*E29 -> 18620000 | I29: =G29*60% -> 1596000 | J29: =60000*12 -> 720000 | K29: =ROUND(G29*1/209*1.5,-1) -> 19090 | L29: =(K29*20)*E29 -> 2672600 | M29: =(K29*5)*E29 -> 668150 | O29: =SUM(I29,J29,L29,M29,N29) -> 5656750 | P29: =ROUNDUP((H29+I29+J29+L29+M29)*1/12,-1) -> 2023070 | Q29: =ROUND((H29+I29+J29+L29+M29)*4.5%,-1) -> 1092450 | R29: =ROUNDUP((H29+I29+J29+L29+M29)*3.335%,-1) -> 809630 | S29: =ROUNDUP(R29*10.25%,-1) -> 82990 | T29: =ROUND((H29+I29+J29+L29+M29)*1.05%,-1) -> 254910 | U29: =ROUND((H29+I29+J29+L29+M29)*0.8%,-1) -> 194210 | V29: =SUM(Q29:U29) -> 2434190 | W29: =SUM(P29,V29) -> 4457260 | X29: =SUM(H29,H30,W29,W30,O29,O30) -> 49743480 | Y29: =250000*12 -> 3000000 | Z29: =50000*12 -> 600000 | AA29: =Z29+Y29 -> 3600000
E30: 5 | F30: 12 | G30: 2732000 | H30: =G30*E30 -> 13660000 | I30: =G30*60% -> 1639200 | K30: =ROUND(G30*1/209*1.5,-1) -> 19610 | L30: =(K30*20)*E30 -> 1961000 | M30: =(K30*5)*E30 -> 490250 | O30: =SUM(I30,J30,L30,M30,N30) -> 4090450 | P30: =ROUNDUP((H30+I30+J30+L30+M30)*1/12,-1) -> 1479210 | Q30: =ROUND((H30+I30+J30+L30+M30)*4.5%,-1) -> 798770 | R30: =ROUNDUP((H30+I30+J30+L30+M30)*3.335%,-1) -> 591980 | S30: =ROUNDUP(R30*10.25%,-1) -> 60680 | T30: =ROUND((H30+I30+J30+L30+M30)*1.05%,-1) -> 186380 | U30: =ROUND((H30+I30+J30+L30+M30)*0.8%,-1) -> 142000 | V30: =SUM(Q30:U30) -> 1779810 | W30: =SUM(P30,V30) -> 3259020
A31: 14 | B31: 사무원 | C31: 유준 | D31: 4 | E31: 3 | F31: 13 | G31: 2558000 | H31: =G31*E31 -> 7674000 | I31: =G31*60% -> 1534800 | K31: =ROUND(G31*1/209*1.5,-1) -> 18360 | L31: =(K31*20)*E31 -> 1101600 | M31: =(K31*5)*E31 -> 275400 | O31: =SUM(I31,J31,L31,M31,N31) -> 2911800 | P31: =ROUNDUP((H31+I31+J31+L31+M31)*1/12,-1) -> 882150 | Q31: =ROUND((H31+I31+J31+L31+M31)*4.5%,-1) -> 476360 | R31: =ROUNDUP((H31+I31+J31+L31+M31)*3.335%,-1) -> 353040 | S31: =ROUNDUP(R31*10.25%,-1) -> 36190 | T31: =ROUND((H31+I31+J31+L31+M31)*1.05%,-1) -> 111150 | U31: =ROUND((H31+I31+J31+L31+M31)*0.8%,-1) -> 84690 | V31: =SUM(Q31:U31) -> 1061430 | W31: =SUM(P31,V31) -> 1943580 | X31: =SUM(H31,H32,W31,W32,O31,O32) -> 47359430 | Y31: =250000*12 -> 3000000 | Z31: =50000*12 -> 600000 | AA31: =Z31+Y31 -> 3600000
E32: 9 | F32: 14 | G32: 2624000 | H32: =G32*E32 -> 23616000 | I32: =G32*60% -> 1574400 | K32: =ROUND(G32*1/209*1.5,-1) -> 18830 | L32: =(K32*20)*E32 -> 3389400 | M32: =(K32*5)*E32 -> 847350 | O32: =SUM(I32,J32,L32,M32,N32) -> 5811150 | P32: =ROUNDUP((H32+I32+J32+L32+M32)*1/12,-1) -> 2452270 | Q32: =ROUND((H32+I32+J32+L32+M32)*4.5%,-1) -> 1324220 | R32: =ROUNDUP((H32+I32+J32+L32+M32)*3.335%,-1) -> 981400 | S32: =ROUNDUP(R32*10.25%,-1) -> 100600 | T32: =ROUND((H32+I32+J32+L32+M32)*1.05%,-1) -> 308990 | U32: =ROUND((H32+I32+J32+L32+M32)*0.8%,-1) -> 235420 | V32: =SUM(Q32:U32) -> 2950630 | W32: =SUM(P32,V32) -> 5402900
A33: 15 | B33: 생활지도원 (팀장) | C33: 신희철 | D33: 2 | E33: 1 | F33: 12 | G33: 2493000 | H33: =G33*E33 -> 2493000 | I33: =G33*60% -> 1495800 | J33: =40000*12 -> 480000 | K33: =ROUND(G33*1/209*1.5,-1) -> 17890 | L33: =(K33*20)*E33 -> 357800 | M33: =(K33*5)*E33 -> 89450 | O33: =SUM(I33,J33,L33,M33,N33) -> 2423050 | P33: =ROUNDUP((H33+I33+J33+L33+M33)*1/12,-1) -> 409680 | Q33: =ROUND((H33+I33+J33+L33+M33)*4.5%,-1) -> 221220 | R33: =ROUNDUP((H33+I33+J33+L33+M33)*3.335%,-1) -> 163960 | S33: =ROUNDUP(R33*10.25%,-1) -> 16810 | T33: =ROUND((H33+I33+J33+L33+M33)*1.05%,-1) -> 51620 | U33: =ROUND((H33+I33+J33+L33+M33)*0.8%,-1) -> 39330 | V33: =SUM(Q33:U33) -> 492940 | W33: =SUM(P33,V33) -> 902620 | X33: =SUM(H33,H34,W33,W34,O33,O34) -> 46915470 | Y33: =250000*12 -> 3000000 | Z33: =50000*12 -> 600000 | AA33: =Z33+Y33 -> 3600000
E34: 11 | F34: 13 | G34: 2558000 | H34: =G34*E34 -> 28138000 | I34: =G34*60% -> 1534800 | K34: =ROUND(G34*1/209*1.5,-1) -> 18360 | L34: =(K34*20)*E34 -> 4039200 | M34: =(K34*5)*E34 -> 1009800 | O34: =SUM(I34,J34,L34,M34,N34) -> 6583800 | P34: =ROUNDUP((H34+I34+J34+L34+M34)*1/12,-1) -> 2893490 | Q34: =ROUND((H34+I34+J34+L34+M34)*4.5%,-1) -> 1562480 | R34: =ROUNDUP((H34+I34+J34+L34+M34)*3.335%,-1) -> 1157980 | S34: =ROUNDUP(R34*10.25%,-1) -> 118700 | T34: =ROUND((H34+I34+J34+L34+M34)*1.05%,-1) -> 364580 | U34: =ROUND((H34+I34+J34+L34+M34)*0.8%,-1) -> 277770 | V34: =SUM(Q34:U34) -> 3481510 | W34: =SUM(P34,V34) -> 6375000
A35: 16 | B35: 생활지도원 | C35: 홍은향 | D35: 6 | E35: 5 | F35: 15 | G35: 2684000 | H35: =G35*E35 -> 13420000 | I35: =G35*60% -> 1610400 | J35: =120000*12 -> 1440000 | K35: =ROUND(G35*1/209*1.5,-1) -> 19260 | L35: =(K35*40)*E35 -> 3852000 | O35: =SUM(I35,J35,L35,M35,N35) -> 6902400 | P35: =ROUNDUP((H35+I35+J35+L35+M35)*1/12,-1) -> 1693540 | Q35: =ROUND((H35+I35+J35+L35+M35)*4.5%,-1) -> 914510 | R35: =ROUNDUP((H35+I35+J35+L35+M35)*3.335%,-1) -> 677760 | S35: =ROUNDUP(R35*10.25%,-1) -> 69480 | T35: =ROUND((H35+I35+J35+L35+M35)*1.05%,-1) -> 213390 | U35: =ROUND((H35+I35+J35+L35+M35)*0.8%,-1) -> 162580 | V35: =SUM(Q35:U35) -> 2037720 | W35: =SUM(P35,V35) -> 3731260 | X35: =SUM(H35,H36,W35,W36,O35,O36) -> 55241100 | Y35: =250000*12 -> 3000000 | Z35: =50000*12 -> 600000 | AA35: =Z35+Y35 -> 3600000
E36: 7 | F36: 16 | G36: 2742000 | H36: =G36*E36 -> 19194000 | I36: =G36*60% -> 1645200 | K36: =ROUND(G36*1/209*1.5,-1) -> 19680 | L36: =(K36*40)*E36 -> 5510400 | O36: =SUM(I36,J36,L36,M36,N36) -> 7155600 | P36: =ROUNDUP((H36+I36+J36+L36+M36)*1/12,-1) -> 2195800 | Q36: =ROUND((H36+I36+J36+L36+M36)*4.5%,-1) -> 1185730 | R36: =ROUNDUP((H36+I36+J36+L36+M36)*3.335%,-1) -> 878760 | S36: =ROUNDUP(R36*10.25%,-1) -> 90080 | T36: =ROUND((H36+I36+J36+L36+M36)*1.05%,-1) -> 276670 | U36: =ROUND((H36+I36+J36+L36+M36)*0.8%,-1) -> 210800 | V36: =SUM(Q36:U36) -> 2642040 | W36: =SUM(P36,V36) -> 4837840
A37: 17 | B37: 생활지도원 | C37: 이도란 | D37: 5 | E37: 4 | F37: 10 | G37: 2365000 | H37: =G37*E37 -> 9460000 | I37: =G37*60% -> 1419000 | J37: =40000*12 -> 480000 | K37: =ROUND(G37*1/209*1.5,-1) -> 16970 | L37: =(K37*20)*E37 -> 1357600 | M37: =(K37*5)*E37 -> 339400 | O37: =SUM(I37,J37,L37,M37,N37) -> 3596000 | P37: =ROUNDUP((H37+I37+J37+L37+M37)*1/12,-1) -> 1088000 | Q37: =ROUND((H37+I37+J37+L37+M37)*4.5%,-1) -> 587520 | R37: =ROUNDUP((H37+I37+J37+L37+M37)*3.335%,-1) -> 435420 | S37: =ROUNDUP(R37*10.25%,-1) -> 44640 | T37: =ROUND((H37+I37+J37+L37+M37)*1.05%,-1) -> 137090 | U37: =ROUND((H37+I37+J37+L37+M37)*0.8%,-1) -> 104450 | V37: =SUM(Q37:U37) -> 1309120 | W37: =SUM(P37,V37) -> 2397120 | X37: =SUM(H37,H38,W37,W38,O37,O38) -> 44293720 | Y37: =250000*12 -> 3000000 | Z37: =50000*12 -> 600000 | AA37: =Z37+Y37 -> 3600000
E38: 8 | F38: 11 | G38: 2428000 | H38: =G38*E38 -> 19424000 | I38: =G38*60% -> 1456800 | K38: =ROUND(G38*1/209*1.5,-1) -> 17430 | L38: =(K38*20)*E38 -> 2788800 | M38: =(K38*5)*E38 -> 697200 | O38: =SUM(I38,J38,L38,M38,N38) -> 4942800 | P38: =ROUNDUP((H38+I38+J38+L38+M38)*1/12,-1) -> 2030570 | Q38: =ROUND((H38+I38+J38+L38+M38)*4.5%,-1) -> 1096510 | R38: =ROUNDUP((H38+I38+J38+L38+M38)*3.335%,-1) -> 812640 | S38: =ROUNDUP(R38*10.25%,-1) -> 83300 | T38: =ROUND((H38+I38+J38+L38+M38)*1.05%,-1) -> 255850 | U38: =ROUND((H38+I38+J38+L38+M38)*0.8%,-1) -> 194930 | V38: =SUM(Q38:U38) -> 2443230 | W38: =SUM(P38,V38) -> 4473800
A39: 18 | B39: 생활지도원 | C39: 윤용진 | D39: 12 | E39: 11 | F39: 13 | G39: 2558000 | H39: =G39*E39 -> 28138000 | I39: =G39*60% -> 1534800 | K39: =ROUND(G39*1/209*1.5,-1) -> 18360 | L39: =(K39*40)*E39 -> 8078400 | O39: =SUM(I39,J39,L39,M39,N39) -> 9613200 | P39: =ROUNDUP((H39+I39+J39+L39+M39)*1/12,-1) -> 3145940 | Q39: =ROUND((H39+I39+J39+L39+M39)*4.5%,-1) -> 1698800 | R39: =ROUNDUP((H39+I39+J39+L39+M39)*3.335%,-1) -> 1259010 | S39: =ROUNDUP(R39*10.25%,-1) -> 129050 | T39: =ROUND((H39+I39+J39+L39+M39)*1.05%,-1) -> 396390 | U39: =ROUND((H39+I39+J39+L39+M39)*0.8%,-1) -> 302010 | V39: =SUM(Q39:U39) -> 3785260 | W39: =SUM(P39,V39) -> 6931200 | X39: =SUM(H39,H40,W39,W40,O39,O40) -> 50543130 | Y39: =250000*12 -> 3000000 | Z39: =50000*12 -> 600000 | AA39: =Z39+Y39 -> 3600000
E40: 1 | F40: 14 | G40: 2624000 | H40: =G40*E40 -> 2624000 | I40: =G40*60% -> 1574400 | K40: =ROUND(G40*1/209*1.5,-1) -> 18830 | L40: =(K40*40)*E40 -> 753200 | O40: =SUM(I40,J40,L40,M40,N40) -> 2327600 | P40: =ROUNDUP((H40+I40+J40+L40+M40)*1/12,-1) -> 412640 | Q40: =ROUND((H40+I40+J40+L40+M40)*4.5%,-1) -> 222820 | R40: =ROUNDUP((H40+I40+J40+L40+M40)*3.335%,-1) -> 165140 | S40: =ROUNDUP(R40*10.25%,-1) -> 16930 | T40: =ROUND((H40+I40+J40+L40+M40)*1.05%,-1) -> 51990 | U40: =ROUND((H40+I40+J40+L40+M40)*0.8%,-1) -> 39610 | V40: =SUM(Q40:U40) -> 496490 | W40: =SUM(P40,V40) -> 909130
A41: 19 | B41: 생활지도원 (팀장) | C41: 김종민 | D41: 11 | E41: 10 | F41: 14 | G41: 2624000 | H41: =G41*E41 -> 26240000 | I41: =G41*60% -> 1574400 | K41: =ROUND(G41*1/209*1.5,-1) -> 18830 | L41: =(K41*20)*E41 -> 3766000 | M41: =(K41*5)*E41 -> 941500 | O41: =SUM(I41,J41,L41,M41,N41) -> 6281900 | P41: =ROUNDUP((H41+I41+J41+L41+M41)*1/12,-1) -> 2710160 | Q41: =ROUND((H41+I41+J41+L41+M41)*4.5%,-1) -> 1463490 | R41: =ROUNDUP((H41+I41+J41+L41+M41)*3.335%,-1) -> 1084610 | S41: =ROUNDUP(R41*10.25%,-1) -> 111180 | T41: =ROUND((H41+I41+J41+L41+M41)*1.05%,-1) -> 341480 | U41: =ROUND((H41+I41+J41+L41+M41)*0.8%,-1) -> 260180 | V41: =SUM(Q41:U41) -> 3260940 | W41: =SUM(P41,V41) -> 5971100 | X41: =SUM(H41,H42,W41,W42,O41,O42) -> 47892460 | Y41: =250000*12 -> 3000000 | Z41: =50000*12 -> 600000 | AA41: =Z41+Y41 -> 3600000
E42: 2 | F42: 15 | G42: 2684000 | H42: =G42*E42 -> 5368000 | I42: =G42*60% -> 1610400 | K42: =ROUND(G42*1/209*1.5,-1) -> 19260 | L42: =(K42*20)*E42 -> 770400 | M42: =(K42*5)*E42 -> 192600 | O42: =SUM(I42,J42,L42,M42,N42) -> 2573400 | P42: =ROUNDUP((H42+I42+J42+L42+M42)*1/12,-1) -> 661790 | Q42: =ROUND((H42+I42+J42+L42+M42)*4.5%,-1) -> 357360 | R42: =ROUNDUP((H42+I42+J42+L42+M42)*3.335%,-1) -> 264850 | S42: =ROUNDUP(R42*10.25%,-1) -> 27150 | T42: =ROUND((H42+I42+J42+L42+M42)*1.05%,-1) -> 83380 | U42: =ROUND((H42+I42+J42+L42+M42)*0.8%,-1) -> 63530 | V42: =SUM(Q42:U42) -> 796270 | W42: =SUM(P42,V42) -> 1458060
A43: 20 | B43: 생활지도원 (팀장) | C43: 권구철 | D43: 5 | E43: 4 | F43: 11 | G43: 2428000 | H43: =G43*E43 -> 9712000 | I43: =G43*60% -> 1456800 | J43: =120000*12 -> 1440000 | K43: =ROUND(G43*1/209*1.5,-1) -> 17430 | L43: =(K43*20)*E43 -> 1394400 | M43: =(K43*5)*E43 -> 348600 | O43: =SUM(I43,J43,L43,M43,N43) -> 4639800 | P43: =ROUNDUP((H43+I43+J43+L43+M43)*1/12,-1) -> 1195990 | Q43: =ROUND((H43+I43+J43+L43+M43)*4.5%,-1) -> 645830 | R43: =ROUNDUP((H43+I43+J43+L43+M43)*3.335%,-1) -> 478640 | S43: =ROUNDUP(R43*10.25%,-1) -> 49070 | T43: =ROUND((H43+I43+J43+L43+M43)*1.05%,-1) -> 150690 | U43: =ROUND((H43+I43+J43+L43+M43)*0.8%,-1) -> 114810 | V43: =SUM(Q43:U43) -> 1439040 | W43: =SUM(P43,V43) -> 2635030 | X43: =SUM(H43,H44,W43,W44,O43,O44) -> 48974630 | Y43: =250000*12 -> 3000000 | Z43: =50000*12 -> 600000 | AA43: =Z43+Y43 -> 3600000
E44: 8 | F44: 12 | G44: 2693000 | H44: =G44*E44 -> 21544000 | I44: =G44*60% -> 1615800 | K44: =ROUND(G44*1/209*1.5,-1) -> 19330 | L44: =(K44*20)*E44 -> 3092800 | M44: =(K44*5)*E44 -> 773200 | O44: =SUM(I44,J44,L44,M44,N44) -> 5481800 | P44: =ROUNDUP((H44+I44+J44+L44+M44)*1/12,-1) -> 2252150 | Q44: =ROUND((H44+I44+J44+L44+M44)*4.5%,-1) -> 1216160 | R44: =ROUNDUP((H44+I44+J44+L44+M44)*3.335%,-1) -> 901320 | S44: =ROUNDUP(R44*10.25%,-1) -> 92390 | T44: =ROUND((H44+I44+J44+L44+M44)*1.05%,-1) -> 283770 | U44: =ROUND((H44+I44+J44+L44+M44)*0.8%,-1) -> 216210 | V44: =SUM(Q44:U44) -> 2709850 | W44: =SUM(P44,V44) -> 4962000
A45: 21 | B45: 생활지도원 (팀장) | C45: 김유경 | D45: 4 | E45: 3 | F45: 9 | G45: 2304000 | H45: =G45*E45 -> 6912000 | I45: =G45*60% -> 1382400 | J45: =40000*12 -> 480000 | K45: =ROUND(G45*1/209*1.5,-1) -> 16540 | L45: =(K45*20)*E45 -> 992400 | M45: =(K45*5)*E45 -> 248100 | O45: =SUM(I45,J45,L45,M45,N45) -> 3102900 | P45: =ROUNDUP((H45+I45+J45+L45+M45)*1/12,-1) -> 834580 | Q45: =ROUND((H45+I45+J45+L45+M45)*4.5%,-1) -> 450670 | R45: =ROUNDUP((H45+I45+J45+L45+M45)*3.335%,-1) -> 334000 | S45: =ROUNDUP(R45*10.25%,-1) -> 34240 | T45: =ROUND((H45+I45+J45+L45+M45)*1.05%,-1) -> 105160 | U45: =ROUND((H45+I45+J45+L45+M45)*0.8%,-1) -> 80120 | V45: =SUM(Q45:U45) -> 1004190 | W45: =SUM(P45,V45) -> 1838770 | X45: =SUM(H45,H46,W45,W46,O45,O46) -> 43245460 | Y45: =250000*12 -> 3000000 | Z45: =50000*12 -> 600000 | AA45: =Z45+Y45 -> 3600000
E46: 9 | F46: 10 | G46: 2365000 | H46: =G46*E46 -> 21285000 | I46: =G46*60% -> 1419000 | K46: =ROUND(G46*1/209*1.5,-1) -> 16970 | L46: =(K46*20)*E46 -> 3054600 | M46: =(K46*5)*E46 -> 763650 | O46: =SUM(I46,J46,L46,M46,N46) -> 5237250 | P46: =ROUNDUP((H46+I46+J46+L46+M46)*1/12,-1) -> 2210190 | Q46: =ROUND((H46+I46+J46+L46+M46)*4.5%,-1) -> 1193500 | R46: =ROUNDUP((H46+I46+J46+L46+M46)*3.335%,-1) -> 884520 | S46: =ROUNDUP(R46*10.25%,-1) -> 90670 | T46: =ROUND((H46+I46+J46+L46+M46)*1.05%,-1) -> 278480 | U46: =ROUND((H46+I46+J46+L46+M46)*0.8%,-1) -> 212180 | V46: =SUM(Q46:U46) -> 2659350 | W46: =SUM(P46,V46) -> 4869540
A47: 22 | B47: 생활지도원 | C47: 문슬기 | D47: 4 | E47: 3 | F47: 9 | G47: 2304000 | H47: =G47*E47 -> 6912000 | I47: =G47*60% -> 1382400 | J47: =40000*12 -> 480000 | K47: =ROUND(G47*1/209*1.5,-1) -> 16540 | L47: =(K47*20)*E47 -> 992400 | M47: =(K47*5)*E47 -> 248100 | O47: =SUM(I47,J47,L47,M47,N47) -> 3102900 | P47: =ROUNDUP((H47+I47+J47+L47+M47)*1/12,-1) -> 834580 | Q47: =ROUND((H47+I47+J47+L47+M47)*4.5%,-1) -> 450670 | R47: =ROUNDUP((H47+I47+J47+L47+M47)*3.335%,-1) -> 334000 | S47: =ROUNDUP(R47*10.25%,-1) -> 34240 | T47: =ROUND((H47+I47+J47+L47+M47)*1.05%,-1) -> 105160 | U47: =ROUND((H47+I47+J47+L47+M47)*0.8%,-1) -> 80120 | V47: =SUM(Q47:U47) -> 1004190 | W47: =SUM(P47,V47) -> 1838770 | X47: =SUM(H47,H48,W47,W48,O47,O48) -> 43245460 | Y47: =250000*12 -> 3000000 | Z47: =50000*12 -> 600000 | AA47: =Z47+Y47 -> 3600000
E48: 9 | F48: 10 | G48: 2365000 | H48: =G48*E48 -> 21285000 | I48: =G48*60% -> 1419000 | K48: =ROUND(G48*1/209*1.5,-1) -> 16970 | L48: =(K48*20)*E48 -> 3054600 | M48: =(K48*5)*E48 -> 763650 | O48: =SUM(I48,J48,L48,M48,N48) -> 5237250 | P48: =ROUNDUP((H48+I48+J48+L48+M48)*1/12,-1) -> 2210190 | Q48: =ROUND((H48+I48+J48+L48+M48)*4.5%,-1) -> 1193500 | R48: =ROUNDUP((H48+I48+J48+L48+M48)*3.335%,-1) -> 884520 | S48: =ROUNDUP(R48*10.25%,-1) -> 90670 | T48: =ROUND((H48+I48+J48+L48+M48)*1.05%,-1) -> 278480 | U48: =ROUND((H48+I48+J48+L48+M48)*0.8%,-1) -> 212180 | V48: =SUM(Q48:U48) -> 2659350 | W48: =SUM(P48,V48) -> 4869540
A49: 23 | B49: 생활지도원 | C49: 유선주 | D49: 7 | E49: 5 | F49: 12 | G49: 2493000 | H49: =G49*E49 -> 12465000 | I49: =G49*60% -> 1495800 | J49: =20000*5 -> 100000 | K49: =ROUND(G49*1/209*1.5,-1) -> 17890 | L49: =(K49*40)*E49 -> 3578000 | O49: =SUM(I49,J49,L49,M49,N49) -> 5173800 | P49: =ROUNDUP((H49+I49+J49+L49+M49)*1/12,-1) -> 1469900 | Q49: =ROUND((H49+I49+J49+L49+M49)*4.5%,-1) -> 793750 | R49: =ROUNDUP((H49+I49+J49+L49+M49)*3.335%,-1) -> 588260 | S49: =ROUNDUP(R49*10.25%,-1) -> 60300 | T49: =ROUND((H49+I49+J49+L49+M49)*1.05%,-1) -> 185210 | U49: =ROUND((H49+I49+J49+L49+M49)*0.8%,-1) -> 141110 | V49: =SUM(Q49:U49) -> 1768630 | W49: =SUM(P49,V49) -> 3238530 | X49: =SUM(H49,H50,W49,W50,O49,O50) -> 20877330 | Y49: =250000*5 -> 1250000 | Z49: =50000*5 -> 250000 | AA49: =Z49+Y49 -> 1500000 | AB49: 20.05 퇴사
H50: =G50*E50 -> 0 | I50: =G50*60% -> 0 | K50: =ROUND(G50*1/209*1.5,-1) -> 0 | L50: =(K50*40)*E50 -> 0 | O50: =SUM(I50,J50,L50,M50,N50) -> 0 | P50: =ROUNDUP((H50+I50+J50+L50+M50)*1/12,-1) -> 0 | Q50: =ROUND((H50+I50+J50+L50+M50)*4.5%,-1) -> 0 | R50: =ROUNDUP((H50+I50+J50+L50+M50)*3.335%,-1) -> 0 | S50: =ROUNDUP(R50*10.25%,-1) -> 0 | T50: =ROUND((H50+I50+J50+L50+M50)*1.05%,-1) -> 0 | U50: =ROUND((H50+I50+J50+L50+M50)*0.8%,-1) -> 0 | V50: =SUM(Q50:U50) -> 0 | W50: =SUM(P50,V50) -> 0
A51: 24 | B51: 생활지도원 | C51: 민병선 | D51: 3 | E51: 2 | F51: 10 | G51: 2365000 | H51: =G51*E51 -> 4730000 | I51: =G51*60% -> 1419000 | J51: =60000*12 -> 720000 | K51: =ROUND(G51*1/209*1.5,-1) -> 16970 | L51: =(K51*20)*E51 -> 678800 | M51: =(K51*5)*E51 -> 169700 | O51: =SUM(I51,J51,L51,M51,N51) -> 2987500 | P51: =ROUNDUP((H51+I51+J51+L51+M51)*1/12,-1) -> 643130 | Q51: =ROUND((H51+I51+J51+L51+M51)*4.5%,-1) -> 347290 | R51: =ROUNDUP((H51+I51+J51+L51+M51)*3.335%,-1) -> 257380 | S51: =ROUNDUP(R51*10.25%,-1) -> 26390 | T51: =ROUND((H51+I51+J51+L51+M51)*1.05%,-1) -> 81030 | U51: =ROUND((H51+I51+J51+L51+M51)*0.8%,-1) -> 61740 | V51: =SUM(Q51:U51) -> 773830 | W51: =SUM(P51,V51) -> 1416960 | X51: =SUM(H51,H52,W51,W52,O51,O52) -> 44754130 | Y51: =250000*12 -> 3000000 | Z51: =50000*12 -> 600000 | AA51: =Z51+Y51 -> 3600000
E52: 10 | F52: 11 | G52: 2428000 | H52: =G52*E52 -> 24280000 | I52: =G52*60% -> 1456800 | K52: =ROUND(G52*1/209*1.5,-1) -> 17430 | L52: =(K52*20)*E52 -> 3486000 | M52: =(K52*5)*E52 -> 871500 | O52: =SUM(I52,J52,L52,M52,N52) -> 5814300 | P52: =ROUNDUP((H52+I52+J52+L52+M52)*1/12,-1) -> 2507860 | Q52: =ROUND((H52+I52+J52+L52+M52)*4.5%,-1) -> 1354240 | R52: =ROUNDUP((H52+I52+J52+L52+M52)*3.335%,-1) -> 1003650 | S52: =ROUNDUP(R52*10.25%,-1) -> 102880 | T52: =ROUND((H52+I52+J52+L52+M52)*1.05%,-1) -> 315990 | U52: =ROUND((H52+I52+J52+L52+M52)*0.8%,-1) -> 240750 | V52: =SUM(Q52:U52) -> 3017510 | W52: =SUM(P52,V52) -> 5525370
A53: 25 | B53: 생활지도원 | C53: 조원일 | D53: 6 | E53: 5 | F53: 11 | G53: 2428000 | H53: =G53*E53 -> 12140000 | I53: =G53*60% -> 1456800 | J53: =40000*12 -> 480000 | K53: =ROUND(G53*1/209*1.5,-1) -> 17430 | L53: =(K53*20)*E53 -> 1743000 | M53: =(K53*5)*E53 -> 435750 | O53: =SUM(I53,J53,L53,M53,N53) -> 4115550 | P53: =ROUNDUP((H53+I53+J53+L53+M53)*1/12,-1) -> 1354630 | Q53: =ROUND((H53+I53+J53+L53+M53)*4.5%,-1) -> 731500 | R53: =ROUNDUP((H53+I53+J53+L53+M53)*3.335%,-1) -> 542130 | S53: =ROUNDUP(R53*10.25%,-1) -> 55570 | T53: =ROUND((H53+I53+J53+L53+M53)*1.05%,-1) -> 170680 | U53: =ROUND((H53+I53+J53+L53+M53)*0.8%,-1) -> 130040 | V53: =SUM(Q53:U53) -> 1629920 | W53: =SUM(P53,V53) -> 2984550 | X53: =SUM(H53,H54,W53,W54,O53,O54) -> 45371130 | Y53: =250000*12 -> 3000000 | Z53: =50000*12 -> 600000 | AA53: =Z53+Y53 -> 3600000
E54: 7 | F54: 12 | G54: 2493000 | H54: =G54*E54 -> 17451000 | I54: =G54*60% -> 1495800 | K54: =ROUND(G54*1/209*1.5,-1) -> 17890 | L54: =(K54*20)*E54 -> 2504600 | M54: =(K54*5)*E54 -> 626150 | O54: =SUM(I54,J54,L54,M54,N54) -> 4626550 | P54: =ROUNDUP((H54+I54+J54+L54+M54)*1/12,-1) -> 1839800 | Q54: =ROUND((H54+I54+J54+L54+M54)*4.5%,-1) -> 993490 | R54: =ROUNDUP((H54+I54+J54+L54+M54)*3.335%,-1) -> 736290 | S54: =ROUNDUP(R54*10.25%,-1) -> 75470 | T54: =ROUND((H54+I54+J54+L54+M54)*1.05%,-1) -> 231810 | U54: =ROUND((H54+I54+J54+L54+M54)*0.8%,-1) -> 176620 | V54: =SUM(Q54:U54) -> 2213680 | W54: =SUM(P54,V54) -> 4053480
A55: 26 | B55: 생활지도원 | C55: 한상수 | D55: 3 | E55: 2 | F55: 11 | G55: 2428000 | H55: =G55*E55 -> 4856000 | I55: =G55*60% -> 1456800 | J55: =120000*7 -> 840000 | K55: =ROUND(G55*1/209*1.5,-1) -> 17430 | L55: =(K55*40)*E55 -> 1394400 | O55: =SUM(I55,J55,L55,M55,N55) -> 3691200 | P55: =ROUNDUP((H55+I55+J55+L55+M55)*1/12,-1) -> 712270 | Q55: =ROUND((H55+I55+J55+L55+M55)*4.5%,-1) -> 384620 | R55: =ROUNDUP((H55+I55+J55+L55+M55)*3.335%,-1) -> 285050 | S55: =ROUNDUP(R55*10.25%,-1) -> 29220 | T55: =ROUND((H55+I55+J55+L55+M55)*1.05%,-1) -> 89750 | U55: =ROUND((H55+I55+J55+L55+M55)*0.8%,-1) -> 68380 | V55: =SUM(Q55:U55) -> 857020 | W55: =SUM(P55,V55) -> 1569290 | X55: =SUM(H55,H56,W55,W56,O55,O56) -> 29105030 | Y55: =250000*7 -> 1750000 | Z55: =50000*7 -> 350000 | AA55: =Z55+Y55 -> 2100000 | AB55: 20.07 퇴사
E56: 5 | F56: 12 | G56: 2493000 | H56: =G56*E56 -> 12465000 | K56: =ROUND(G56*1/209*1.5,-1) -> 17890 | L56: =(K56*40)*E56 -> 3578000 | O56: =SUM(I56,J56,L56,M56,N56) -> 3578000 | P56: =ROUNDUP((H56+I56+J56+L56+M56)*1/12,-1) -> 1336920 | Q56: =ROUND((H56+I56+J56+L56+M56)*4.5%,-1) -> 721940 | R56: =ROUNDUP((H56+I56+J56+L56+M56)*3.335%,-1) -> 535040 | S56: =ROUNDUP(R56*10.25%,-1) -> 54850 | T56: =ROUND((H56+I56+J56+L56+M56)*1.05%,-1) -> 168450 | U56: =ROUND((H56+I56+J56+L56+M56)*0.8%,-1) -> 128340 | V56: =SUM(Q56:U56) -> 1608620 | W56: =SUM(P56,V56) -> 2945540
A57: 27 | B57: 생활지도원 | C57: 심종환 | D57: 7 | E57: 6 | F57: 9 | G57: 2304000 | H57: =G57*E57 -> 13824000 | I57: =G57*60% -> 1382400 | J57: =100000*12 -> 1200000 | K57: =ROUND(G57*1/209*1.5,-1) -> 16540 | L57: =(K57*20)*E57 -> 1984800 | M57: =(K57*5)*E57 -> 496200 | O57: =SUM(I57,J57,L57,M57,N57) -> 5063400 | P57: =ROUNDUP((H57+I57+J57+L57+M57)*1/12,-1) -> 1573950 | Q57: =ROUND((H57+I57+J57+L57+M57)*4.5%,-1) -> 849930 | R57: =ROUNDUP((H57+I57+J57+L57+M57)*3.335%,-1) -> 629900 | S57: =ROUNDUP(R57*10.25%,-1) -> 64570 | T57: =ROUND((H57+I57+J57+L57+M57)*1.05%,-1) -> 198320 | U57: =ROUND((H57+I57+J57+L57+M57)*0.8%,-1) -> 151100 | V57: =SUM(Q57:U57) -> 1893820 | W57: =SUM(P57,V57) -> 3467770 | X57: =SUM(H57,H58,W57,W58,O57,O58) -> 43842880 | Y57: =250000*12 -> 3000000 | Z57: =50000*12 -> 600000 | AA57: =Z57+Y57 -> 3600000
E58: 6 | F58: 10 | G58: 2365000 | H58: =G58*E58 -> 14190000 | I58: =G58*60% -> 1419000 | K58: =ROUND(G58*1/209*1.5,-1) -> 16970 | L58: =(K58*20)*E58 -> 2036400 | M58: =(K58*5)*E58 -> 509100 | O58: =SUM(I58,J58,L58,M58,N58) -> 3964500 | P58: =ROUNDUP((H58+I58+J58+L58+M58)*1/12,-1) -> 1512880 | Q58: =ROUND((H58+I58+J58+L58+M58)*4.5%,-1) -> 816950 | R58: =ROUNDUP((H58+I58+J58+L58+M58)*3.335%,-1) -> 605460 | S58: =ROUNDUP(R58*10.25%,-1) -> 62060 | T58: =ROUND((H58+I58+J58+L58+M58)*1.05%,-1) -> 190620 | U58: =ROUND((H58+I58+J58+L58+M58)*0.8%,-1) -> 145240 | V58: =SUM(Q58:U58) -> 1820330 | W58: =SUM(P58,V58) -> 3333210
A59: 28 | B59: 생활지도원 | C59: 박영규 | D59: 7 | E59: 6 | F59: 7 | G59: 2175000 | H59: =G59*E59 -> 13050000 | I59: =G59*60% -> 1305000 | K59: =ROUND(G59*1/209*1.5,-1) -> 15610 | L59: =(K59*40)*E59 -> 3746400 | O59: =SUM(I59,J59,L59,M59,N59) -> 5051400 | P59: =ROUNDUP((H59+I59+J59+L59+M59)*1/12,-1) -> 1508450 | Q59: =ROUND((H59+I59+J59+L59+M59)*4.5%,-1) -> 814560 | R59: =ROUNDUP((H59+I59+J59+L59+M59)*3.335%,-1) -> 603690 | S59: =ROUNDUP(R59*10.25%,-1) -> 61880 | T59: =ROUND((H59+I59+J59+L59+M59)*1.05%,-1) -> 190060 | U59: =ROUND((H59+I59+J59+L59+M59)*0.8%,-1) -> 144810 | V59: =SUM(Q59:U59) -> 1815000 | W59: =SUM(P59,V59) -> 3323450 | X59: =SUM(H59,H60,W59,W60,O59,O60) -> 43498800 | Y59: =250000*12 -> 3000000 | Z59: =50000*12 -> 600000 | AA59: =Z59+Y59 -> 3600000
E60: 6 | F60: 8 | G60: 2241000 | H60: =G60*E60 -> 13446000 | I60: =G60*60% -> 1344600 | K60: =ROUND(G60*1/209*1.5,-1) -> 16080 | L60: =(K60*40)*E60 -> 3859200 | O60: =SUM(I60,J60,L60,M60,N60) -> 5203800 | P60: =ROUNDUP((H60+I60+J60+L60+M60)*1/12,-1) -> 1554150 | Q60: =ROUND((H60+I60+J60+L60+M60)*4.5%,-1) -> 839240 | R60: =ROUNDUP((H60+I60+J60+L60+M60)*3.335%,-1) -> 621980 | S60: =ROUNDUP(R60*10.25%,-1) -> 63760 | T60: =ROUND((H60+I60+J60+L60+M60)*1.05%,-1) -> 195820 | U60: =ROUND((H60+I60+J60+L60+M60)*0.8%,-1) -> 149200 | V60: =SUM(Q60:U60) -> 1870000 | W60: =SUM(P60,V60) -> 3424150
A61: 29 | B61: 생활지도원 | C61: 이상헌 | D61: 5 | E61: 4 | F61: 5 | G61: 2047000 | H61: =G61*E61 -> 8188000 | I61: =G61*60% -> 1228200 | K61: =ROUND(G61*1/209*1.5,-1) -> 14690 | L61: =(K61*40)*E61 -> 2350400 | O61: =SUM(I61,J61,L61,M61,N61) -> 3578600 | P61: =ROUNDUP((H61+I61+J61+L61+M61)*1/12,-1) -> 980550 | Q61: =ROUND((H61+I61+J61+L61+M61)*4.5%,-1) -> 529500 | R61: =ROUNDUP((H61+I61+J61+L61+M61)*3.335%,-1) -> 392420 | S61: =ROUNDUP(R61*10.25%,-1) -> 40230 | T61: =ROUND((H61+I61+J61+L61+M61)*1.05%,-1) -> 123550 | U61: =ROUND((H61+I61+J61+L61+M61)*0.8%,-1) -> 94130 | V61: =SUM(Q61:U61) -> 1179830 | W61: =SUM(P61,V61) -> 2160380 | X61: =SUM(H61,H62,W61,W62,O61,O62) -> 41128770 | Y61: =200000*4 -> 800000 | Z61: =50000*12 -> 600000 | AA61: =SUM(Y61:Z62) -> 3400000
E62: 8 | F62: 6 | G62: 2109000 | H62: =G62*E62 -> 16872000 | I62: =G62*60% -> 1265400 | K62: =ROUND(G62*1/209*1.5,-1) -> 15140 | L62: =(K62*40)*E62 -> 4844800 | O62: =SUM(I62,J62,L62,M62,N62) -> 6110200 | P62: =ROUNDUP((H62+I62+J62+L62+M62)*1/12,-1) -> 1915190 | Q62: =ROUND((H62+I62+J62+L62+M62)*4.5%,-1) -> 1034200 | R62: =ROUNDUP((H62+I62+J62+L62+M62)*3.335%,-1) -> 766460 | S62: =ROUNDUP(R62*10.25%,-1) -> 78570 | T62: =ROUND((H62+I62+J62+L62+M62)*1.05%,-1) -> 241310 | U62: =ROUND((H62+I62+J62+L62+M62)*0.8%,-1) -> 183860 | V62: =SUM(Q62:U62) -> 2304400 | W62: =SUM(P62,V62) -> 4219590 | Y62: =250000*8 -> 2000000
A63: 30 | B63: 생활지도원 | C63: 윤민 | D63: 10 | E63: 9 | F63: 4 | G63: 1987000 | H63: =G63*E63 -> 17883000 | I63: =G63*60% -> 1192200 | K63: =ROUND(G63*1/209*1.5,-1) -> 14260 | L63: =(K63*40)*E63 -> 5133600 | O63: =SUM(I63,J63,L63,M63,N63) -> 6325800 | P63: =ROUNDUP((H63+I63+J63+L63+M63)*1/12,-1) -> 2017400 | Q63: =ROUND((H63+I63+J63+L63+M63)*4.5%,-1) -> 1089400 | R63: =ROUNDUP((H63+I63+J63+L63+M63)*3.335%,-1) -> 807370 | S63: =ROUNDUP(R63*10.25%,-1) -> 82760 | T63: =ROUND((H63+I63+J63+L63+M63)*1.05%,-1) -> 254190 | U63: =ROUND((H63+I63+J63+L63+M63)*0.8%,-1) -> 193670 | V63: =SUM(Q63:U63) -> 2427390 | W63: =SUM(P63,V63) -> 4444790 | X63: =SUM(H63,H64,W63,W64,O63,O64) -> 39462260 | Y63: =200000*12 -> 2400000 | Z63: =50000*12 -> 600000 | AA63: =SUM(Y63:Z64) -> 3000000
E64: 3 | F64: 5 | G64: 2047000 | H64: =G64*E64 -> 6141000 | I64: =G64*60% -> 1228200 | K64: =ROUND(G64*1/209*1.5,-1) -> 14690 | L64: =(K64*40)*E64 -> 1762800 | O64: =SUM(I64,J64,L64,M64,N64) -> 2991000 | P64: =ROUNDUP((H64+I64+J64+L64+M64)*1/12,-1) -> 761000 | Q64: =ROUND((H64+I64+J64+L64+M64)*4.5%,-1) -> 410940 | R64: =ROUNDUP((H64+I64+J64+L64+M64)*3.335%,-1) -> 304560 | S64: =ROUNDUP(R64*10.25%,-1) -> 31220 | T64: =ROUND((H64+I64+J64+L64+M64)*1.05%,-1) -> 95890 | U64: =ROUND((H64+I64+J64+L64+M64)*0.8%,-1) -> 73060 | V64: =SUM(Q64:U64) -> 915670 | W64: =SUM(P64,V64) -> 1676670
A65: 31 | B65: 생활지도원 | C65: 서용욱 | D65: 5 | E65: 4 | F65: 5 | G65: 2047000 | H65: =G65*E65 -> 8188000 | I65: =G65*60% -> 1228200 | J65: =40000*12 -> 480000 | K65: =ROUND(G65*1/209*1.5,-1) -> 14690 | L65: =(K65*40)*E65 -> 2350400 | O65: =SUM(I65,J65,L65,M65,N65) -> 4058600 | P65: =ROUNDUP((H65+I65+J65+L65+M65)*1/12,-1) -> 1020550 | Q65: =ROUND((H65+I65+J65+L65+M65)*4.5%,-1) -> 551100 | R65: =ROUNDUP((H65+I65+J65+L65+M65)*3.335%,-1) -> 408430 | S65: =ROUNDUP(R65*10.25%,-1) -> 41870 | T65: =ROUND((H65+I65+J65+L65+M65)*1.05%,-1) -> 128590 | U65: =ROUND((H65+I65+J65+L65+M65)*0.8%,-1) -> 97970 | V65: =SUM(Q65:U65) -> 1227960 | W65: =SUM(P65,V65) -> 2248510 | X65: =SUM(H65,H66,W65,W66,O65,O66) -> 41696900 | Y65: =200000*4 -> 800000 | Z65: =50000*12 -> 600000 | AA65: =SUM(Y65:Z66) -> 3400000
E66: 8 | F66: 6 | G66: 2109000 | H66: =G66*E66 -> 16872000 | I66: =G66*60% -> 1265400 | K66: =ROUND(G66*1/209*1.5,-1) -> 15140 | L66: =(K66*40)*E66 -> 4844800 | O66: =SUM(I66,J66,L66,M66,N66) -> 6110200 | P66: =ROUNDUP((H66+I66+J66+L66+M66)*1/12,-1) -> 1915190 | Q66: =ROUND((H66+I66+J66+L66+M66)*4.5%,-1) -> 1034200 | R66: =ROUNDUP((H66+I66+J66+L66+M66)*3.335%,-1) -> 766460 | S66: =ROUNDUP(R66*10.25%,-1) -> 78570 | T66: =ROUND((H66+I66+J66+L66+M66)*1.05%,-1) -> 241310 | U66: =ROUND((H66+I66+J66+L66+M66)*0.8%,-1) -> 183860 | V66: =SUM(Q66:U66) -> 2304400 | W66: =SUM(P66,V66) -> 4219590 | Y66: =250000*8 -> 2000000
A67: 32 | B67: 생활지도원 | C67: 김형권 | D67: 11 | E67: 10 | F67: 5 | G67: 2047000 | H67: =G67*E67 -> 20470000 | I67: =G67*60% -> 1228200 | K67: =ROUND(G67*1/209*1.5,-1) -> 14690 | L67: =(K67*40)*E67 -> 5876000 | O67: =SUM(I67,J67,L67,M67,N67) -> 7104200 | P67: =ROUNDUP((H67+I67+J67+L67+M67)*1/12,-1) -> 2297850 | Q67: =ROUND((H67+I67+J67+L67+M67)*4.5%,-1) -> 1240840 | R67: =ROUNDUP((H67+I67+J67+L67+M67)*3.335%,-1) -> 919600 | S67: =ROUNDUP(R67*10.25%,-1) -> 94260 | T67: =ROUND((H67+I67+J67+L67+M67)*1.05%,-1) -> 289530 | U67: =ROUND((H67+I67+J67+L67+M67)*0.8%,-1) -> 220590 | V67: =SUM(Q67:U67) -> 2764820 | W67: =SUM(P67,V67) -> 5062670 | X67: =SUM(H67,H68,W67,W68,O67,O68) -> 40560630 | Y67: =200000*10 -> 2000000 | Z67: =50000*12 -> 600000 | AA67: =SUM(Y67:Z68) -> 3100000
E68: 2 | F68: 6 | G68: 2109000 | H68: =G68*E68 -> 4218000 | I68: =G68*60% -> 1265400 | K68: =ROUND(G68*1/209*1.5,-1) -> 15140 | L68: =(K68*40)*E68 -> 1211200 | O68: =SUM(I68,J68,L68,M68,N68) -> 2476600 | P68: =ROUNDUP((H68+I68+J68+L68+M68)*1/12,-1) -> 557890 | Q68: =ROUND((H68+I68+J68+L68+M68)*4.5%,-1) -> 301260 | R68: =ROUNDUP((H68+I68+J68+L68+M68)*3.335%,-1) -> 223270 | S68: =ROUNDUP(R68*10.25%,-1) -> 22890 | T68: =ROUND((H68+I68+J68+L68+M68)*1.05%,-1) -> 70290 | U68: =ROUND((H68+I68+J68+L68+M68)*0.8%,-1) -> 53560 | V68: =SUM(Q68:U68) -> 671270 | W68: =SUM(P68,V68) -> 1229160 | Y68: =250000*2 -> 500000
A69: 33 | B69: 생활지도원 | C69: 이재훈 | D69: 11 | E69: 10 | F69: 5 | G69: 2047000 | H69: =G69*E69 -> 20470000 | I69: =G69*60% -> 1228200 | J69: =20000*12 -> 240000 | K69: =ROUND(G69*1/209*1.5,-1) -> 14690 | L69: =(K69*40)*E69 -> 5876000 | O69: =SUM(I69,J69,L69,M69,N69) -> 7344200 | P69: =ROUNDUP((H69+I69+J69+L69+M69)*1/12,-1) -> 2317850 | Q69: =ROUND((H69+I69+J69+L69+M69)*4.5%,-1) -> 1251640 | R69: =ROUNDUP((H69+I69+J69+L69+M69)*3.335%,-1) -> 927610 | S69: =ROUNDUP(R69*10.25%,-1) -> 95090 | T69: =ROUND((H69+I69+J69+L69+M69)*1.05%,-1) -> 292050 | U69: =ROUND((H69+I69+J69+L69+M69)*0.8%,-1) -> 222510 | V69: =SUM(Q69:U69) -> 2788900 | W69: =SUM(P69,V69) -> 5106750 | X69: =SUM(H69,H70,W69,W70,O69,O70) -> 40844710 | Y69: =200000*10 -> 2000000 | Z69: =50000*12 -> 600000 | AA69: =SUM(Y69:Z70) -> 3100000
E70: 2 | F70: 6 | G70: 2109000 | H70: =G70*E70 -> 4218000 | I70: =G70*60% -> 1265400 | K70: =ROUND(G70*1/209*1.5,-1) -> 15140 | L70: =(K70*40)*E70 -> 1211200 | O70: =SUM(I70,J70,L70,M70,N70) -> 2476600 | P70: =ROUNDUP((H70+I70+J70+L70+M70)*1/12,-1) -> 557890 | Q70: =ROUND((H70+I70+J70+L70+M70)*4.5%,-1) -> 301260 | R70: =ROUNDUP((H70+I70+J70+L70+M70)*3.335%,-1) -> 223270 | S70: =ROUNDUP(R70*10.25%,-1) -> 22890 | T70: =ROUND((H70+I70+J70+L70+M70)*1.05%,-1) -> 70290 | U70: =ROUND((H70+I70+J70+L70+M70)*0.8%,-1) -> 53560 | V70: =SUM(Q70:U70) -> 671270 | W70: =SUM(P70,V70) -> 1229160 | Y70: =250000*2 -> 500000
A71: 34 | B71: 생활지도원 | C71: 임지혜 | D71: 1 | E71: 12 | F71: 7 | G71: 2175000 | H71: =G71*E71 -> 26100000 | I71: =(G71*60%)*2 -> 2610000 | J71: =40000*12 -> 480000 | K71: =ROUND(G71*1/209*1.5,-1) -> 15610 | L71: =(K71*40)*E71 -> 7492800 | O71: =SUM(I71,J71,L71,M71,N71) -> 10582800 | P71: =ROUNDUP((H71+I71+J71+L71+M71)*1/12,-1) -> 3056900 | Q71: =ROUND((H71+I71+J71+L71+M71)*4.5%,-1) -> 1650730 | R71: =ROUNDUP((H71+I71+J71+L71+M71)*3.335%,-1) -> 1223380 | S71: =ROUNDUP(R71*10.25%,-1) -> 125400 | T71: =ROUND((H71+I71+J71+L71+M71)*1.05%,-1) -> 385170 | U71: =ROUND((H71+I71+J71+L71+M71)*0.8%,-1) -> 293460 | V71: =SUM(Q71:U71) -> 3678140 | W71: =SUM(P71,V71) -> 6735040 | X71: =SUM(H71,H72,W71,W72,O71,O72) -> 43417840 | Y71: =250000*12 -> 3000000 | Z71: =50000*12 -> 600000 | AA71: =SUM(Y71:Z72) -> 3600000
H72: =G72*E72 -> 0 | I72: =G72*60% -> 0 | K72: =ROUND(G72*1/209*1.5,-1) -> 0 | L72: =(K72*40)*E72 -> 0 | O72: =SUM(I72,J72,L72,M72,N72) -> 0 | P72: =ROUNDUP((H72+I72+J72+L72+M72)*1/12,-1) -> 0 | Q72: =ROUND((H72+I72+J72+L72+M72)*4.5%,-1) -> 0 | R72: =ROUNDUP((H72+I72+J72+L72+M72)*3.335%,-1) -> 0 | S72: =ROUNDUP(R72*10.25%,-1) -> 0 | T72: =ROUND((H72+I72+J72+L72+M72)*1.05%,-1) -> 0 | U72: =ROUND((H72+I72+J72+L72+M72)*0.8%,-1) -> 0 | V72: =SUM(Q72:U72) -> 0 | W72: =SUM(P72,V72) -> 0
A73: 35 | B73: 생활지도원 | C73: 김형배 | D73: 3 | E73: 2 | F73: 4 | G73: 1987000 | H73: =G73*E73 -> 3974000 | I73: =G73*60% -> 1192200 | J73: =40000*12 -> 480000 | K73: =ROUND(G73*1/209*1.5,-1) -> 14260 | L73: =(K73*40)*E73 -> 1140800 | O73: =SUM(I73,J73,L73,M73,N73) -> 2813000 | P73: =ROUNDUP((H73+I73+J73+L73+M73)*1/12,-1) -> 565590 | Q73: =ROUND((H73+I73+J73+L73+M73)*4.5%,-1) -> 305420 | R73: =ROUNDUP((H73+I73+J73+L73+M73)*3.335%,-1) -> 226350 | S73: =ROUNDUP(R73*10.25%,-1) -> 23210 | T73: =ROUND((H73+I73+J73+L73+M73)*1.05%,-1) -> 71260 | U73: =ROUND((H73+I73+J73+L73+M73)*0.8%,-1) -> 54300 | V73: =SUM(Q73:U73) -> 680540 | W73: =SUM(P73,V73) -> 1246130 | X73: =SUM(H73,H74,W73,W74,O73,O74) -> 40670000 | Y73: =200000*12 -> 2400000 | Z73: =50000*12 -> 600000 | AA73: =SUM(Y73:Z74) -> 3000000
E74: 10 | F74: 5 | G74: 2047000 | H74: =G74*E74 -> 20470000 | I74: =G74*60% -> 1228200 | K74: =ROUND(G74*1/209*1.5,-1) -> 14690 | L74: =(K74*40)*E74 -> 5876000 | O74: =SUM(I74,J74,L74,M74,N74) -> 7104200 | P74: =ROUNDUP((H74+I74+J74+L74+M74)*1/12,-1) -> 2297850 | Q74: =ROUND((H74+I74+J74+L74+M74)*4.5%,-1) -> 1240840 | R74: =ROUNDUP((H74+I74+J74+L74+M74)*3.335%,-1) -> 919600 | S74: =ROUNDUP(R74*10.25%,-1) -> 94260 | T74: =ROUND((H74+I74+J74+L74+M74)*1.05%,-1) -> 289530 | U74: =ROUND((H74+I74+J74+L74+M74)*0.8%,-1) -> 220590 | V74: =SUM(Q74:U74) -> 2764820 | W74: =SUM(P74,V74) -> 5062670
A75: 36 | B75: 생활지도원 | C75: 한승희 | D75: 6 | E75: 5 | F75: 2 | G75: 1873000 | H75: =G75*E75 -> 9365000 | I75: =G75*60% -> 1123800 | K75: =ROUND(G75*1/209*1.5,-1) -> 13440 | L75: =(K75*40)*E75 -> 2688000 | O75: =SUM(I75,J75,L75,M75,N75) -> 3811800 | P75: =ROUNDUP((H75+I75+J75+L75+M75)*1/12,-1) -> 1098070 | Q75: =ROUND((H75+I75+J75+L75+M75)*4.5%,-1) -> 592960 | R75: =ROUNDUP((H75+I75+J75+L75+M75)*3.335%,-1) -> 439450 | S75: =ROUNDUP(R75*10.25%,-1) -> 45050 | T75: =ROUND((H75+I75+J75+L75+M75)*1.05%,-1) -> 138360 | U75: =ROUND((H75+I75+J75+L75+M75)*0.8%,-1) -> 105410 | V75: =SUM(Q75:U75) -> 1321230 | W75: =SUM(P75,V75) -> 2419300 | X75: =SUM(H75,H76,W75,W76,O75,O76) -> 37534880 | Y75: =200000*12 -> 2400000 | Z75: =50000*12 -> 600000 | AA75: =SUM(Y75:Z76) -> 3000000
E76: 7 | F76: 3 | G76: 1929000 | H76: =G76*E76 -> 13503000 | I76: =G76*60% -> 1157400 | K76: =ROUND(G76*1/209*1.5,-1) -> 13840 | L76: =(K76*40)*E76 -> 3875200 | O76: =SUM(I76,J76,L76,M76,N76) -> 5032600 | P76: =ROUNDUP((H76+I76+J76+L76+M76)*1/12,-1) -> 1544640 | Q76: =ROUND((H76+I76+J76+L76+M76)*4.5%,-1) -> 834100 | R76: =ROUNDUP((H76+I76+J76+L76+M76)*3.335%,-1) -> 618170 | S76: =ROUNDUP(R76*10.25%,-1) -> 63370 | T76: =ROUND((H76+I76+J76+L76+M76)*1.05%,-1) -> 194620 | U76: =ROUND((H76+I76+J76+L76+M76)*0.8%,-1) -> 148280 | V76: =SUM(Q76:U76) -> 1858540 | W76: =SUM(P76,V76) -> 3403180
A77: 37 | B77: 생활지도원 | C77: 박민들 | D77: 11 | E77: 10 | F77: 2 | G77: 1873000 | H77: =G77*E77 -> 18730000 | I77: =(G77*60%)*2 -> 2247600 | K77: =ROUND(G77*1/209*1.5,-1) -> 13440 | L77: =(K77*40)*E77 -> 5376000 | O77: =SUM(I77,J77,L77,M77,N77) -> 7623600 | P77: =ROUNDUP((H77+I77+J77+L77+M77)*1/12,-1) -> 2196140 | Q77: =ROUND((H77+I77+J77+L77+M77)*4.5%,-1) -> 1185910 | R77: =ROUNDUP((H77+I77+J77+L77+M77)*3.335%,-1) -> 878900 | S77: =ROUNDUP(R77*10.25%,-1) -> 90090 | T77: =ROUND((H77+I77+J77+L77+M77)*1.05%,-1) -> 276710 | U77: =ROUND((H77+I77+J77+L77+M77)*0.8%,-1) -> 210830 | V77: =SUM(Q77:U77) -> 2642440 | W77: =SUM(P77,V77) -> 4838580 | X77: =SUM(H77,H78,W77,W78,O77,O78) -> 37069000 | Y77: =200000*12 -> 2400000 | Z77: =50000*12 -> 600000 | AA77: =SUM(Y77:Z78) -> 3000000
E78: 2 | F78: 3 | G78: 1929000 | H78: =G78*E78 -> 3858000 | K78: =ROUND(G78*1/209*1.5,-1) -> 13840 | L78: =(K78*40)*E78 -> 1107200 | O78: =SUM(I78,J78,L78,M78,N78) -> 1107200 | P78: =ROUNDUP((H78+I78+J78+L78+M78)*1/12,-1) -> 413770 | Q78: =ROUND((H78+I78+J78+L78+M78)*4.5%,-1) -> 223430 | R78: =ROUNDUP((H78+I78+J78+L78+M78)*3.335%,-1) -> 165590 | S78: =ROUNDUP(R78*10.25%,-1) -> 16980 | T78: =ROUND((H78+I78+J78+L78+M78)*1.05%,-1) -> 52130 | U78: =ROUND((H78+I78+J78+L78+M78)*0.8%,-1) -> 39720 | V78: =SUM(Q78:U78) -> 497850 | W78: =SUM(P78,V78) -> 911620
A79: 38 | B79: 생활지도원 | C79: 박지웅 | D79: 3 | E79: 2 | F79: 1 | G79: 1821000 | H79: =G79*E79 -> 3642000 | I79: =G79*60% -> 1092600 | J79: =20000*12 -> 240000 | K79: =ROUND(G79*1/209*1.5,-1) -> 13070 | L79: =(K79*40)*E79 -> 1045600 | O79: =SUM(I79,J79,L79,M79,N79) -> 2378200 | P79: =ROUNDUP((H79+I79+J79+L79+M79)*1/12,-1) -> 501690 | Q79: =ROUND((H79+I79+J79+L79+M79)*4.5%,-1) -> 270910 | R79: =ROUNDUP((H79+I79+J79+L79+M79)*3.335%,-1) -> 200780 | S79: =ROUNDUP(R79*10.25%,-1) -> 20580 | T79: =ROUND((H79+I79+J79+L79+M79)*1.05%,-1) -> 63210 | U79: =ROUND((H79+I79+J79+L79+M79)*0.8%,-1) -> 48160 | V79: =SUM(Q79:U79) -> 603640 | W79: =SUM(P79,V79) -> 1105330 | X79: =SUM(H79,H80,W79,W80,O79,O80) -> 36987580 | Y79: =200000*12 -> 2400000 | Z79: =50000*12 -> 600000 | AA79: =SUM(Y79:Z80) -> 3000000
E80: 10 | F80: 2 | G80: 1873000 | H80: =G80*E80 -> 18730000 | I80: =G80*60% -> 1123800 | K80: =ROUND(G80*1/209*1.5,-1) -> 13440 | L80: =(K80*40)*E80 -> 5376000 | O80: =SUM(I80,J80,L80,M80,N80) -> 6499800 | P80: =ROUNDUP((H80+I80+J80+L80+M80)*1/12,-1) -> 2102490 | Q80: =ROUND((H80+I80+J80+L80+M80)*4.5%,-1) -> 1135340 | R80: =ROUNDUP((H80+I80+J80+L80+M80)*3.335%,-1) -> 841420 | S80: =ROUNDUP(R80*10.25%,-1) -> 86250 | T80: =ROUND((H80+I80+J80+L80+M80)*1.05%,-1) -> 264910 | U80: =ROUND((H80+I80+J80+L80+M80)*0.8%,-1) -> 201840 | V80: =SUM(Q80:U80) -> 2529760 | W80: =SUM(P80,V80) -> 4632250
A81: 39 | B81: 생활지도원 | C81: 이혜란 | D81: 4 | E81: 3 | F81: 5 | G81: 2047000 | H81: =G81*E81 -> 6141000 | I81: =G81*60% -> 1228200 | J81: =40000*12 -> 480000 | K81: =ROUND(G81*1/209*1.5,-1) -> 14690 | L81: =(K81*20)*E81 -> 881400 | M81: =(K81*5)*E81 -> 220350 | O81: =SUM(I81,J81,L81,M81,N81) -> 2809950 | P81: =ROUNDUP((H81+I81+J81+L81+M81)*1/12,-1) -> 745920 | Q81: =ROUND((H81+I81+J81+L81+M81)*4.5%,-1) -> 402790 | R81: =ROUNDUP((H81+I81+J81+L81+M81)*3.335%,-1) -> 298520 | S81: =ROUNDUP(R81*10.25%,-1) -> 30600 | T81: =ROUND((H81+I81+J81+L81+M81)*1.05%,-1) -> 93980 | U81: =ROUND((H81+I81+J81+L81+M81)*0.8%,-1) -> 71610 | V81: =SUM(Q81:U81) -> 897500 | W81: =SUM(P81,V81) -> 1643420 | X81: =SUM(H81,H82,W81,W82,O81,O82) -> 38590000 | Y81: =200000*3 -> 600000 | Z81: =50000*12 -> 600000 | AA81: =SUM(Y81:Z82) -> 3000000
E82: 9 | F82: 6 | G82: 2109000 | H82: =G82*E82 -> 18981000 | I82: =G82*60% -> 1265400 | K82: =ROUND(G82*1/209*1.5,-1) -> 15140 | L82: =(K82*20)*E82 -> 2725200 | M82: =(K82*5)*E82 -> 681300 | O82: =SUM(I82,J82,L82,M82,N82) -> 4671900 | P82: =ROUNDUP((H82+I82+J82+L82+M82)*1/12,-1) -> 1971080 | Q82: =ROUND((H82+I82+J82+L82+M82)*4.5%,-1) -> 1064380 | R82: =ROUNDUP((H82+I82+J82+L82+M82)*3.335%,-1) -> 788830 | S82: =ROUNDUP(R82*10.25%,-1) -> 80860 | T82: =ROUND((H82+I82+J82+L82+M82)*1.05%,-1) -> 248360 | U82: =ROUND((H82+I82+J82+L82+M82)*0.8%,-1) -> 189220 | V82: =SUM(Q82:U82) -> 2371650 | W82: =SUM(P82,V82) -> 4342730 | Y82: =200000*9 -> 1800000
A83: 40 | B83: 생활지도원 | C83: 김도아 | D83: 8 | E83: 4 | F83: 1 | G83: 1821000 | H83: =G83*E83 -> 7284000 | I83: =G83*60% -> 1092600 | K83: =ROUND(G83*1/209*1.5,-1) -> 13070 | L83: =(K83*40)*E83 -> 2091200 | O83: =SUM(I83,J83,L83,M83,N83) -> 3183800 | P83: =ROUNDUP((H83+I83+J83+L83+M83)*1/12,-1) -> 872320 | Q83: =ROUND((H83+I83+J83+L83+M83)*4.5%,-1) -> 471050 | R83: =ROUNDUP((H83+I83+J83+L83+M83)*3.335%,-1) -> 349110 | S83: =ROUNDUP(R83*10.25%,-1) -> 35790 | T83: =ROUND((H83+I83+J83+L83+M83)*1.05%,-1) -> 109910 | U83: =ROUND((H83+I83+J83+L83+M83)*0.8%,-1) -> 83740 | V83: =SUM(Q83:U83) -> 1049600 | W83: =SUM(P83,V83) -> 1921920 | X83: =SUM(H83,H84,W83,W84,O83,O84) -> 12389720 | Y83: =200000*4 -> 800000 | Z83: =50000*4 -> 200000 | AA83: =SUM(Y83:Z84) -> 1000000
H84: =G84*E84 -> 0 | I84: =G84*60% -> 0 | K84: =ROUND(G84*1/209*1.5,-1) -> 0 | L84: =(K84*40)*E84 -> 0 | O84: =SUM(I84,J84,L84,M84,N84) -> 0 | P84: =ROUNDUP((H84+I84+J84+L84+M84)*1/12,-1) -> 0 | Q84: =ROUND((H84+I84+J84+L84+M84)*4.5%,-1) -> 0 | R84: =ROUNDUP((H84+I84+J84+L84+M84)*3.335%,-1) -> 0 | S84: =ROUNDUP(R84*10.25%,-1) -> 0 | T84: =ROUND((H84+I84+J84+L84+M84)*1.05%,-1) -> 0 | U84: =ROUND((H84+I84+J84+L84+M84)*0.8%,-1) -> 0 | V84: =SUM(Q84:U84) -> 0 | W84: =SUM(P84,V84) -> 0
A85: 41 | B85: 생활지도원 | C85: 이충현 | D85: 2 | E85: 1 | F85: 2 | G85: 1873000 | H85: =G85*E85 -> 1873000 | I85: =G85*60% -> 1123800 | J85: =20000*12 -> 240000 | K85: =ROUND(G85*1/209*1.5,-1) -> 13440 | L85: =(K85*40)*E85 -> 537600 | O85: =SUM(I85,J85,L85,M85,N85) -> 1901400 | P85: =ROUNDUP((H85+I85+J85+L85+M85)*1/12,-1) -> 314540 | Q85: =ROUND((H85+I85+J85+L85+M85)*4.5%,-1) -> 169850 | R85: =ROUNDUP((H85+I85+J85+L85+M85)*3.335%,-1) -> 125880 | S85: =ROUNDUP(R85*10.25%,-1) -> 12910 | T85: =ROUND((H85+I85+J85+L85+M85)*1.05%,-1) -> 39630 | U85: =ROUND((H85+I85+J85+L85+M85)*0.8%,-1) -> 30200 | V85: =SUM(Q85:U85) -> 378470 | W85: =SUM(P85,V85) -> 693010 | X85: =SUM(H85,H86,W85,W86,O85,O86) -> 38159830 | Y85: =200000*12 -> 2400000 | Z85: =50000*12 -> 600000 | AA85: =SUM(Y85:Z86) -> 3000000
E86: 11 | F86: 3 | G86: 1929000 | H86: =G86*E86 -> 21219000 | I86: =G86*60% -> 1157400 | K86: =ROUND(G86*1/209*1.5,-1) -> 13840 | L86: =(K86*40)*E86 -> 6089600 | O86: =SUM(I86,J86,L86,M86,N86) -> 7247000 | P86: =ROUNDUP((H86+I86+J86+L86+M86)*1/12,-1) -> 2372170 | Q86: =ROUND((H86+I86+J86+L86+M86)*4.5%,-1) -> 1280970 | R86: =ROUNDUP((H86+I86+J86+L86+M86)*3.335%,-1) -> 949350 | S86: =ROUNDUP(R86*10.25%,-1) -> 97310 | T86: =ROUND((H86+I86+J86+L86+M86)*1.05%,-1) -> 298890 | U86: =ROUND((H86+I86+J86+L86+M86)*0.8%,-1) -> 227730 | V86: =SUM(Q86:U86) -> 2854250 | W86: =SUM(P86,V86) -> 5226420
A87: 42 | B87: 생활지도원 | C87: 박은혜 | D87: 2 | E87: 1 | H87: =G87*E87 -> 0 | I87: =G87*60% -> 0 | K87: =ROUND(G87*1/209*1.5,-1) -> 0 | L87: =(K87*40)*E87 -> 0 | O87: =SUM(I87,J87,L87,M87,N87) -> 0 | P87: =ROUNDUP((H87+I87+J87+L87+M87)*1/12,-1) -> 0 | Q87: =ROUND((H87+I87+J87+L87+M87)*4.5%,-1) -> 0 | R87: =ROUNDUP((H87+I87+J87+L87+M87)*3.335%,-1) -> 0 | S87: =ROUNDUP(R87*10.25%,-1) -> 0 | T87: =ROUND((H87+I87+J87+L87+M87)*1.05%,-1) -> 0 | U87: =ROUND((H87+I87+J87+L87+M87)*0.8%,-1) -> 0 | V87: =SUM(Q87:U87) -> 0 | W87: =SUM(P87,V87) -> 0 | X87: =SUM(H87,H88,W87,W88,O87,O88) -> 34707480 | Y87: =200000*11 -> 2200000 | Z87: =50000*11 -> 550000 | AA87: =SUM(Y87:Z88) -> 2750000 | AB87: 20.02 입사
E88: 11 | F88: 4 | G88: 1987000 | H88: =G88*E88 -> 21857000 | I88: =(G88*60%)*1 -> 1192200 | K88: =ROUND(G88*1/209*1.5,-1) -> 14260 | L88: =(K88*40)*E88 -> 6274400 | O88: =SUM(I88,J88,L88,M88,N88) -> 7466600 | P88: =ROUNDUP((H88+I88+J88+L88+M88)*1/12,-1) -> 2443640 | Q88: =ROUND((H88+I88+J88+L88+M88)*4.5%,-1) -> 1319560 | R88: =ROUNDUP((H88+I88+J88+L88+M88)*3.335%,-1) -> 977950 | S88: =ROUNDUP(R88*10.25%,-1) -> 100240 | T88: =ROUND((H88+I88+J88+L88+M88)*1.05%,-1) -> 307900 | U88: =ROUND((H88+I88+J88+L88+M88)*0.8%,-1) -> 234590 | V88: =SUM(Q88:U88) -> 2940240 | W88: =SUM(P88,V88) -> 5383880
A89: 43 | B89: 생활지도원 | C89: 김형균 | D89: 4 | H89: =G89*E89 -> 0 | I89: =G89*60% -> 0 | K89: =ROUND(G89*1/209*1.5,-1) -> 0 | L89: =(K89*40)*E89 -> 0 | O89: =SUM(I89,J89,L89,M89,N89) -> 0 | P89: =ROUNDUP((H89+I89+J89+L89+M89)*1/12,-1) -> 0 | Q89: =ROUND((H89+I89+J89+L89+M89)*4.5%,-1) -> 0 | R89: =ROUNDUP((H89+I89+J89+L89+M89)*3.335%,-1) -> 0 | S89: =ROUNDUP(R89*10.25%,-1) -> 0 | T89: =ROUND((H89+I89+J89+L89+M89)*1.05%,-1) -> 0 | U89: =ROUND((H89+I89+J89+L89+M89)*0.8%,-1) -> 0 | V89: =SUM(Q89:U89) -> 0 | W89: =SUM(P89,V89) -> 0 | X89: =SUM(H89,H90,W89,W90,O89,O90) -> 31364990 | Y89: =250000*9 -> 2250000 | Z89: =50000*9 -> 450000 | AA89: =SUM(Y89:Z90) -> 2700000 | AB89: 20.04 입사
E90: 9 | F90: 7 | G90: 2175000 | H90: =G90*E90 -> 19575000 | I90: =G90*60% -> 1305000 | K90: =ROUND(G90*1/209*1.5,-1) -> 15610 | L90: =(K90*40)*E90 -> 5619600 | O90: =SUM(I90,J90,L90,M90,N90) -> 6924600 | P90: =ROUNDUP((H90+I90+J90+L90+M90)*1/12,-1) -> 2208300 | Q90: =ROUND((H90+I90+J90+L90+M90)*4.5%,-1) -> 1192480 | R90: =ROUNDUP((H90+I90+J90+L90+M90)*3.335%,-1) -> 883770 | S90: =ROUNDUP(R90*10.25%,-1) -> 90590 | T90: =ROUND((H90+I90+J90+L90+M90)*1.05%,-1) -> 278250 | U90: =ROUND((H90+I90+J90+L90+M90)*0.8%,-1) -> 212000 | V90: =SUM(Q90:U90) -> 2657090 | W90: =SUM(P90,V90) -> 4865390
A91: 44 | B91: 생활지도원 | C91: 김민제 | D91: 6 | E91: 2 | F91: 6 | G91: 2109000 | H91: =G91*E91 -> 4218000 | J91: =20000*9 -> 180000 | K91: =ROUND(G91*1/209*1.5,-1) -> 15140 | L91: =(K91*40)*E91 -> 1211200 | O91: =SUM(I91,J91,L91,M91,N91) -> 1391200 | P91: =ROUNDUP((H91+I91+J91+L91+M91)*1/12,-1) -> 467440 | Q91: =ROUND((H91+I91+J91+L91+M91)*4.5%,-1) -> 252410 | R91: =ROUNDUP((H91+I91+J91+L91+M91)*3.335%,-1) -> 187070 | S91: =ROUNDUP(R91*10.25%,-1) -> 19180 | T91: =ROUND((H91+I91+J91+L91+M91)*1.05%,-1) -> 58900 | U91: =ROUND((H91+I91+J91+L91+M91)*0.8%,-1) -> 44870 | V91: =SUM(Q91:U91) -> 562430 | W91: =SUM(P91,V91) -> 1029870 | X91: =SUM(H91,H92,W91,W92,O91,O92) -> 31377320 | Y91: =250000*9 -> 2250000 | Z91: =50000*9 -> 450000 | AA91: =SUM(Y91:Z92) -> 2700000 | AB91: 20.04 입사
E92: 7 | F92: 7 | G92: 2175000 | H92: =G92*E92 -> 15225000 | I92: =G92*60% -> 1305000 | K92: =ROUND(G92*1/209*1.5,-1) -> 15610 | L92: =(K92*40)*E92 -> 4370800 | O92: =SUM(I92,J92,L92,M92,N92) -> 5675800 | P92: =ROUNDUP((H92+I92+J92+L92+M92)*1/12,-1) -> 1741740 | Q92: =ROUND((H92+I92+J92+L92+M92)*4.5%,-1) -> 940540 | R92: =ROUNDUP((H92+I92+J92+L92+M92)*3.335%,-1) -> 697050 | S92: =ROUNDUP(R92*10.25%,-1) -> 71450 | T92: =ROUND((H92+I92+J92+L92+M92)*1.05%,-1) -> 219460 | U92: =ROUND((H92+I92+J92+L92+M92)*0.8%,-1) -> 167210 | V92: =SUM(Q92:U92) -> 2095710 | W92: =SUM(P92,V92) -> 3837450
A93: 45 | B93: 생활지도원 | C93: 하종호 | D93: 8 | E93: 4 | F93: 4 | G93: 1987000 | H93: =G93*E93 -> 7948000 | J93: =20000*9 -> 180000 | K93: =ROUND(G93*1/209*1.5,-1) -> 14260 | L93: =(K93*40)*E93 -> 2281600 | O93: =SUM(I93,J93,L93,M93,N93) -> 2461600 | P93: =ROUNDUP((H93+I93+J93+L93+M93)*1/12,-1) -> 867470 | Q93: =ROUND((H93+I93+J93+L93+M93)*4.5%,-1) -> 468430 | R93: =ROUNDUP((H93+I93+J93+L93+M93)*3.335%,-1) -> 347170 | S93: =ROUNDUP(R93*10.25%,-1) -> 35590 | T93: =ROUND((H93+I93+J93+L93+M93)*1.05%,-1) -> 109300 | U93: =ROUND((H93+I93+J93+L93+M93)*0.8%,-1) -> 83280 | V93: =SUM(Q93:U93) -> 1043770 | W93: =SUM(P93,V93) -> 1911240 | X93: =SUM(H93,H94,W93,W94,O93,O94) -> 29366130 | Y93: =200000*9 -> 1800000 | Z93: =50000*9 -> 450000 | AA93: =SUM(Y93:Z94) -> 2250000 | AB93: 20.04 입사
E94: 5 | F94: 5 | G94: 2047000 | H94: =G94*E94 -> 10235000 | I94: =G94*60% -> 1228200 | K94: =ROUND(G94*1/209*1.5,-1) -> 14690 | L94: =(K94*40)*E94 -> 2938000 | O94: =SUM(I94,J94,L94,M94,N94) -> 4166200 | P94: =ROUNDUP((H94+I94+J94+L94+M94)*1/12,-1) -> 1200100 | Q94: =ROUND((H94+I94+J94+L94+M94)*4.5%,-1) -> 648050 | R94: =ROUNDUP((H94+I94+J94+L94+M94)*3.335%,-1) -> 480290 | S94: =ROUNDUP(R94*10.25%,-1) -> 49230 | T94: =ROUND((H94+I94+J94+L94+M94)*1.05%,-1) -> 151210 | U94: =ROUND((H94+I94+J94+L94+M94)*0.8%,-1) -> 115210 | V94: =SUM(Q94:U94) -> 1443990 | W94: =SUM(P94,V94) -> 2644090
A95: 46 | B95: 생활지도원 | C95: 남택림 | D95: 5 | E95: 4 | H95: =G95*E95 -> 0 | I95: =G95*60% -> 0 | K95: =ROUND(G95*1/209*1.5,-1) -> 0 | L95: =(K95*40)*E95 -> 0 | O95: =SUM(I95,J95,L95,M95,N95) -> 0 | P95: =ROUNDUP((H95+I95+J95+L95+M95)*1/12,-1) -> 0 | Q95: =ROUND((H95+I95+J95+L95+M95)*4.5%,-1) -> 0 | R95: =ROUNDUP((H95+I95+J95+L95+M95)*3.335%,-1) -> 0 | S95: =ROUNDUP(R95*10.25%,-1) -> 0 | T95: =ROUND((H95+I95+J95+L95+M95)*1.05%,-1) -> 0 | U95: =ROUND((H95+I95+J95+L95+M95)*0.8%,-1) -> 0 | V95: =SUM(Q95:U95) -> 0 | W95: =SUM(P95,V95) -> 0 | X95: =SUM(H95,H96,W95,W96,O95,O96) -> 26400250 | Y95: =200000*8 -> 1600000 | Z95: =50000*8 -> 400000 | AA95: =SUM(Y95:Z96) -> 2000000 | AB95: 20.05 입사
E96: 8 | F96: 5 | G96: 2047000 | H96: =G96*E96 -> 16376000 | I96: =G96*60% -> 1228200 | K96: =ROUND(G96*1/209*1.5,-1) -> 14690 | L96: =(K96*40)*E96 -> 4700800 | O96: =SUM(I96,J96,L96,M96,N96) -> 5929000 | P96: =ROUNDUP((H96+I96+J96+L96+M96)*1/12,-1) -> 1858750 | Q96: =ROUND((H96+I96+J96+L96+M96)*4.5%,-1) -> 1003730 | R96: =ROUNDUP((H96+I96+J96+L96+M96)*3.335%,-1) -> 743880 | S96: =ROUNDUP(R96*10.25%,-1) -> 76250 | T96: =ROUND((H96+I96+J96+L96+M96)*1.05%,-1) -> 234200 | U96: =ROUND((H96+I96+J96+L96+M96)*0.8%,-1) -> 178440 | V96: =SUM(Q96:U96) -> 2236500 | W96: =SUM(P96,V96) -> 4095250
A97: 47 | B97: 생활지도원 | C97: 김보경 | D97: 8 | E97: 5 | F97: 7 | G97: 2175000 | H97: =G97*E97 -> 10875000 | K97: =ROUND(G97*1/209*1.5,-1) -> 15610 | L97: =(K97*40)*E97 -> 3122000 | O97: =SUM(I97,J97,L97,M97,N97) -> 3122000 | P97: =ROUNDUP((H97+I97+J97+L97+M97)*1/12,-1) -> 1166420 | Q97: =ROUND((H97+I97+J97+L97+M97)*4.5%,-1) -> 629870 | R97: =ROUNDUP((H97+I97+J97+L97+M97)*3.335%,-1) -> 466800 | S97: =ROUNDUP(R97*10.25%,-1) -> 47850 | T97: =ROUND((H97+I97+J97+L97+M97)*1.05%,-1) -> 146970 | U97: =ROUND((H97+I97+J97+L97+M97)*0.8%,-1) -> 111980 | V97: =SUM(Q97:U97) -> 1403470 | W97: =SUM(P97,V97) -> 2569890 | X97: =SUM(H97,H98,W97,W98,O97,O98) -> 28399600 | Y97: =250000*8 -> 2000000 | Z97: =50000*8 -> 400000 | AA97: =SUM(Y97:Z98) -> 2400000 | AB97: 20.05 입사
E98: 3 | F98: 8 | G98: 2241000 | H98: =G98*E98 -> 6723000 | I98: =G98*60% -> 1344600 | K98: =ROUND(G98*1/209*1.5,-1) -> 16080 | L98: =(K98*40)*E98 -> 1929600 | O98: =SUM(I98,J98,L98,M98,N98) -> 3274200 | P98: =ROUNDUP((H98+I98+J98+L98+M98)*1/12,-1) -> 833100 | Q98: =ROUND((H98+I98+J98+L98+M98)*4.5%,-1) -> 449870 | R98: =ROUNDUP((H98+I98+J98+L98+M98)*3.335%,-1) -> 333410 | S98: =ROUNDUP(R98*10.25%,-1) -> 34180 | T98: =ROUND((H98+I98+J98+L98+M98)*1.05%,-1) -> 104970 | U98: =ROUND((H98+I98+J98+L98+M98)*0.8%,-1) -> 79980 | V98: =SUM(Q98:U98) -> 1002410 | W98: =SUM(P98,V98) -> 1835510
A99: 48 | B99: 생활지도원 | C99: 이건엽 | D99: 6 | E99: 6 | F99: 3 | G99: 1929000 | H99: =G99*E99 -> 11574000 | I99: =G99*60% -> 1157400 | J99: =260000*6 -> 1560000 | K99: =ROUND(G99*1/209*1.5,-1) -> 13840 | L99: =(K99*40)*E99 -> 3321600 | O99: =SUM(I99,J99,L99,M99,N99) -> 6039000 | P99: =ROUNDUP((H99+I99+J99+L99+M99)*1/12,-1) -> 1467750 | Q99: =ROUND((H99+I99+J99+L99+M99)*4.5%,-1) -> 792590 | R99: =ROUNDUP((H99+I99+J99+L99+M99)*3.335%,-1) -> 587400 | S99: =ROUNDUP(R99*10.25%,-1) -> 60210 | T99: =ROUND((H99+I99+J99+L99+M99)*1.05%,-1) -> 184940 | U99: =ROUND((H99+I99+J99+L99+M99)*0.8%,-1) -> 140900 | V99: =SUM(Q99:U99) -> 1766040 | W99: =SUM(P99,V99) -> 3233790 | X99: =SUM(H99,H100,W99,W100,O99,O100) -> 20846790 | Y99: =200000*6 -> 1200000 | Z99: =50000*6 -> 300000 | AA99: =SUM(Y99:Z100) -> 1500000 | AB99: 20.07 입사
H100: =G100*E100 -> 0 | I100: =G100*60% -> 0 | K100: =ROUND(G100*1/209*1.5,-1) -> 0 | L100: =(K100*40)*E100 -> 0 | O100: =SUM(I100,J100,L100,M100,N100) -> 0 | P100: =ROUNDUP((H100+I100+J100+L100+M100)*1/12,-1) -> 0 | Q100: =ROUND((H100+I100+J100+L100+M100)*4.5%,-1) -> 0 | R100: =ROUNDUP((H100+I100+J100+L100+M100)*3.335%,-1) -> 0 | S100: =ROUNDUP(R100*10.25%,-1) -> 0 | T100: =ROUND((H100+I100+J100+L100+M100)*1.05%,-1) -> 0 | U100: =ROUND((H100+I100+J100+L100+M100)*0.8%,-1) -> 0 | V100: =SUM(Q100:U100) -> 0 | W100: =SUM(P100,V100) -> 0
...

Sheet 아. 일용잡급일람표
A1: 아. 일용잡급 일람표
A3: 순번 | B3: 직책 | C3: 성명 | D3: 호봉 | E3: 급여 | F3: 제수당 | L3: 퇴직금 및 퇴직적립금 | M3: 사회보험부담금 | N3: 총합계 | O3: 비고
F4: 00수당 | G4: 00수당 | H4: 00수당 | I4: 00수당 | J4: 00수당 | K4: 제수당 계
A5: 1 | C5: 한정숙 | D5: 1 | E5: 9600000 | N5: =SUM(E5:M5) -> 9600000
A6: 2
A7: 3
A8: 4
A9: 5
A10: 6
A11: 합 계 | N11: =SUM(N5:N10) -> 9600000
A13: ※ 보건복지가족부 0000년 00000 종사자 보수지급기준표 적용.

Sheet 수급자보장급여
A2: ※ '국민기초 생활보장 급여'월별 산출내역표
AE3: (단위:원)
A4: 월 | B4: 구 분 | G4: 금 액 | AE4: 비 고
A5: 총 계 | G5: =ROUND(G16+G25+G34+G43+G52+G61+G70+G79+G88+G97+G107+G116,-1) -> 140739200
A6: 총계 | B6: 소계 | G6: =G7+G9+G11+G13 -> 140739200 | AE6: ※생활보장급여 입소 현인원
B7: 위로금 | C7: 소계 | G7: =G8 -> 3543500
C8: 특별위로금 | G8: =G18+G27+G36+G45+G54+G63+G72+G81+G90+G99+G109+G118 -> 3543500 | H8: 37300 | I8: 원 | R8: =G8 -> 3543500 | AE8: 2회
B9: 주부식비 | C9: 소계 | G9: =G10 -> 135608100
C10: 주부식비 | G10: =ROUND(G20+G29+G38+G47+G56+G65+G74+G83+G92+G101+G111+G120,-1) -> 135608100 | H10: 236251 | I10: 원 | R10: =G10 -> 135608100 | AE10: 12회
B11: 월동대책비 | C11: 소계 | G11: =G12 -> 1587600
C12: 월동대책비 | G12: =G21+G30+G39+G48+G57+G66+G75+G84+G93+G103+G112+G121 -> 1587600 | H12: 33075 | I12: 원 | R12: =G12 -> 1587600 | AE12: 1회
B13: 소계 | C13: 소계 | G13: =G14+G15 -> 0
B14: 피복비 | C14: 피복비 | H14: =G14/12/51 -> 0 | R14: =G14 -> 0 | AE14: 12회
A16: 1월 | B16: 소계 | G16: =G17+G19+G22 -> 12856900 | AE16: ※생활보장급여 입소 현인원
B17: 위로금 | C17: 소계 | G17: =G18 -> 1753100
C18: 특별위로금 | G18: =R18 -> 1753100 | H18: 37300 | I18: 원 | J18: × | K18: 47 | L18: 명 | M18: × | N18: 1 | O18: 일 | P18: = | R18: =H18*K18*N18 -> 1753100
B19: 주부식비 | C19: 소계 | G19: =SUM(G20:G21) -> 11103800
C20: 주부식비 | G20: =R20 -> 11103800 | H20: 236251 | I20: 원 | J20: × | K20: 47 | L20: 명 | M20: × | N20: 1 | O20: 월 | P20: = | R20: =ROUND(H20*K20*N20,-1) -> 11103800
C21: 월동대책비
B22: 피복비 | C22: 소계 | G22: =SUM(G23:G24) -> 0
C23: 피복비 | G23: =R23 -> 0 | I23: 원 | J23: × | K23: 51 | L23: 명 | M23: × | N23: 1 | O23: 개월 | P23: = | R23: =ROUND(H23*K23*N23,-1) -> 0
C24: 동내의 | G24: =R24 -> 0 | I24: 원 | J24: × | L24: 명 | M24: × | O24: 회 | P24: = | R24: =H24*K24*N24 -> 0
A25: 2월 | B25: 소계 | G25: =G26+G28+G31 -> 11103800 | AE25: ※생활보장급여 입소 현인원
B26: 위로금 | C26: 소계 | G26: =G27 -> 0
C27: 특별위로금 | G27: =R27 -> 0 | I27: 원 | J27: × | L27: 명 | M27: × | N27: 1 | O27: 일 | P27: = | R27: =H27*K27*N27 -> 0 | AE27: 설지급
B28: 주부식비 | C28: 소계 | G28: =SUM(G29:G30) -> 11103800
C29: 주부식비 | G29: =R29 -> 11103800 | H29: =H20 -> 236251 | I29: 원 | J29: × | K29: 47 | L29: 명 | M29: × | N29: 1 | O29: 월 | P29: = | R29: =ROUND(H29*K29*N29,-1) -> 11103800
C30: 월동대책비
B31: 피복비 | C31: 소계 | G31: =SUM(G32:G33) -> 0
C32: 피복비 | G32: =R32 -> 0 | H32: =H23 -> 0 | I32: 원 | J32: × | K32: 51 | L32: 명 | M32: × | N32: 1 | O32: 개월 | P32: = | R32: =ROUND(H32*K32*N32,-1) -> 0
C33: 동내의 | G33: =R33 -> 0 | I33: 원 | J33: × | L33: 명 | M33: × | O33: 회 | P33: = | R33: =H33*K33*N33 -> 0
A34: 3월 | B34: 소계 | G34: =G35+G37+G40 -> 11340050 | AE34: ※생활보장급여 입소 현인원
B35: 위로금 | C35: 소계 | G35: =G36 -> 0
C36: 특별위로금 | G36: =R36 -> 0 | I36: 원 | J36: × | L36: 명 | M36: × | O36: 일 | P36: = | R36: =H36*K36*N36 -> 0
B37: 주부식비 | C37: 소계 | G37: =SUM(G38:G39) -> 11340050
C38: 주부식비 | G38: =R38 -> 11340050 | H38: =H29 -> 236251 | I38: 원 | J38: × | K38: 48 | L38: 명 | M38: × | N38: 1 | O38: 월 | P38: = | R38: =ROUND(H38*K38*N38,-1) -> 11340050
C39: 월동대책비
B40: 피복비 | C40: 소계 | G40: =SUM(G41:G42) -> 0
C41: 피복비 | G41: =R41 -> 0 | H41: =H32 -> 0 | I41: 원 | J41: × | K41: 51 | L41: 명 | M41: × | N41: 1 | O41: 개월 | P41: = | R41: =ROUND(H41*K41*N41,-1) -> 0
C42: 동내의 | G42: =R42 -> 0 | I42: 원 | J42: × | L42: 명 | M42: × | O42: 회 | P42: = | R42: =H42*K42*N42 -> 0
A43: 4월 | B43: 소계 | G43: =G44+G46+G49 -> 11340050 | AE43: ※생활보장급여 입소 현인원
B44: 위로금 | C44: 소계 | G44: =G45 -> 0
C45: 특별위로금 | G45: =R45 -> 0 | I45: 원 | J45: × | L45: 명 | M45: × | O45: 일 | P45: = | R45: =H45*K45*N45 -> 0
B46: 주부식비 | C46: 소계 | G46: =SUM(G47:G48) -> 11340050
C47: 주부식비 피복비 | G47: =R47 -> 11340050 | H47: =H38 -> 236251 | I47: 원 | J47: × | K47: 48 | L47: 명 | M47: × | N47: 1 | O47: 월 | P47: = | R47: =ROUND(H47*K47*N47,-1) -> 11340050
C48: 월동대책비
B49: 피복비 | C49: 소계 | G49: =SUM(G50:G51) -> 0
C50: 피복비 | G50: =R50 -> 0 | H50: =H41 -> 0 | I50: 원 | J50: × | K50: 51 | L50: 명 | M50: × | N50: 1 | O50: 개월 | P50: = | R50: =ROUND(H50*K50*N50,-1) -> 0
C51: 동내의 | G51: =R51 -> 0 | I51: 원 | J51: × | L51: 명 | M51: × | O51: 회 | P51: = | R51: =H51*K51*N51 -> 0
A52: 5월 | B52: 소계 | G52: =G53+G55+G58 -> 11340050 | AE52: ※생활보장급여 입소 현인원
B53: 위로금 | C53: 소계 | G53: =G54 -> 0
C54: 특별위로금 | G54: =R54 -> 0 | I54: 원 | J54: × | L54: 명 | M54: × | O54: 일 | P54: = | R54: =H54*K54*N54 -> 0
B55: 주부식비 | C55: 소계 | G55: =SUM(G56:G57) -> 11340050
C56: 주부식비 | G56: =R56 -> 11340050 | H56: =H47 -> 236251 | I56: 원 | J56: × | K56: 48 | L56: 명 | M56: × | N56: 1 | O56: 월 | P56: = | R56: =ROUND(H56*K56*N56,-1) -> 11340050
C57: 월동대책비
B58: 피복비 | C58: 소계 | G58: =SUM(G59:G60) -> 0
C59: 피복비 | G59: =R59 -> 0 | H59: =H50 -> 0 | I59: 원 | J59: × | K59: 51 | L59: 명 | M59: × | N59: 1 | O59: 개월 | P59: = | R59: =ROUND(H59*K59*N59,-1) -> 0
C60: 동내의 | G60: =R60 -> 0 | I60: 원 | J60: × | L60: 명 | M60: × | O60: 회 | P60: = | R60: =H60*K60*N60 -> 0
A61: 6월 | B61: 소계 | G61: =G62+G64+G67 -> 11340050 | AE61: ※생활보장급여 입소 현인원
B62: 위로금 | C62: 소계 | G62: =G63 -> 0
C63: 특별위로금 | G63: =R63 -> 0 | I63: 원 | J63: × | L63: 명 | M63: × | N63: 1 | O63: 회 | P63: = | R63: =H63*K63*N63 -> 0
B64: 주부식비 | C64: 소계 | G64: =SUM(G65:G66) -> 11340050
C65: 주부식비 피복비 | G65: =R65 -> 11340050 | H65: =H56 -> 236251 | I65: 원 | J65: × | K65: 48 | L65: 명 | M65: × | N65: 1 | O65: 월 | P65: = | R65: =ROUND(H65*K65*N65,-1) -> 11340050
C66: 월동대책비
B67: 피복비 | C67: 소계 | E67: 0 | G67: =SUM(G68:G69) -> 0
C68: 피복비 | G68: =R68 -> 0 | H68: =H59 -> 0 | I68: 원 | J68: × | K68: 51 | L68: 명 | M68: × | N68: 1 | O68: 개월 | P68: = | R68: =ROUND(H68*K68*N68,-1) -> 0
C69: 동내의 | G69: =R69 -> 0 | I69: 원 | J69: × | L69: 명 | M69: × | O69: 회 | P69: = | R69: =H69*K69*N69 -> 0
A70: 7월 | B70: 소계 | G70: =G71+G73+G76 -> 11340050 | AE70: ※생활보장급여 입소 현인원
B71: 위로금 | C71: 소계 | G71: =G72 -> 0
C72: 특별위로금 | G72: =R72 -> 0 | I72: 원 | J72: × | L72: 명 | M72: × | O72: 일 | P72: = | R72: =H72*K72*N72 -> 0
B73: 주부식비 | C73: 소계 | G73: =SUM(G74:G75) -> 11340050
C74: 주부식비 | G74: =R74 -> 11340050 | H74: =H65 -> 236251 | I74: 원 | J74: × | K74: 48 | L74: 명 | M74: × | N74: 1 | O74: 월 | P74: = | R74: =ROUND(H74*K74*N74,-1) -> 11340050
C75: 월동대책비 | I75: 원 | J75: × | L75: 명 | M75: × | N75: 1 | O75: 회 | P75: =
B76: 피복비 | C76: 소계 | G76: =SUM(G77:G78) -> 0
C77: 피복비 | G77: =R77 -> 0 | H77: =H68 -> 0 | I77: 원 | J77: × | K77: 51 | L77: 명 | M77: × | N77: 1 | O77: 개월 | P77: = | R77: =ROUND(H77*K77*N77,-1) -> 0
C78: 동내의 | G78: =R78 -> 0 | I78: 원 | J78: × | L78: 명 | M78: × | N78: 1 | O78: 회 | P78: = | R78: =H78*K78*N78 -> 0
A79: 8월 | B79: 소계 | G79: =G80+G82+G85 -> 11340050 | AE79: ※생활보장급여 입소 현인원
B80: 위로금 | C80: 소계 | G80: =G81 -> 0
C81: 특별위로금 | G81: =R81 -> 0 | I81: 원 | J81: × | L81: 명 | M81: × | O81: 일 | P81: = | R81: =H81*K81*N81 -> 0
B82: 주부식비 | C82: 소계 | G82: =SUM(G83:G84) -> 11340050
C83: 주부식비 | G83: =R83 -> 11340050 | H83: =H74 -> 236251 | I83: 원 | J83: × | K83: 48 | L83: 명 | M83: × | N83: 1 | O83: 월 | P83: = | R83: =ROUND(H83*K83*N83,-1) -> 11340050
C84: 월동대책비 | I84: 원 | J84: × | L84: 명 | M84: × | O84: 회 | P84: =
B85: 피복비 | C85: 소계 | G85: =SUM(G86:G87) -> 0
C86: 피복비 | G86: =R86 -> 0 | H86: =H77 -> 0 | I86: 원 | J86: × | K86: 51 | L86: 명 | M86: × | N86: 1 | O86: 개월 | P86: = | R86: =ROUND(H86*K86*N86,-1) -> 0
C87: 동내의 | G87: =R87 -> 0 | I87: 원 | J87: × | L87: 명 | M87: × | O87: 회 | P87: = | R87: =H87*K87*N87 -> 0
A88: 9월 | B88: 소계 | G88: =G89+G91+G94 -> 13130450 | AE88: ※생활보장급여 입소 현인원
B89: 위로금 | C89: 소계 | G89: =G90 -> 1790400
C90: 특별위로금 | G90: =R90 -> 1790400 | H90: 37300 | I90: 원 | J90: × | K90: 48 | L90: 명 | M90: × | N90: 1 | O90: 일 | P90: = | R90: =H90*K90*N90 -> 1790400 | AE90: 추석지급
B91: 주부식비 | C91: 소계 | G91: =SUM(G92:G93) -> 11340050
C92: 주부식비 | G92: =R92 -> 11340050 | H92: =H83 -> 236251 | I92: 원 | J92: × | K92: 48 | L92: 명 | M92: × | N92: 1 | O92: 월 | P92: = | R92: =ROUND(H92*K92*N92,-1) -> 11340050
C93: 월동대책비 | G93: =R93 -> 0 | I93: 원 | J93: × | L93: 명 | M93: × | N93: 1 | O93: 회 | P93: = | R93: =ROUND(H93*K93*N93,-1) -> 0
B94: 피복비 | C94: 소계 | G94: =SUM(G95:G96) -> 0
C95: 피복비 | G95: =R95 -> 0 | H95: =H86 -> 0 | I95: 원 | J95: × | K95: 51 | L95: 명 | M95: × | N95: 1 | O95: 개월 | P95: = | R95: =ROUND(H95*K95*N95,-1) -> 0
C96: 동내의 | G96: =R96 -> 0 | I96: 원 | J96: × | L96: 명 | M96: × | N96: 1 | O96: 회 | P96: = | R96: =H96*K96*N96 -> 0
A97: 10월 | B97: 소계 | G97: =G98+G100+G102+G104 -> 12927650 | AE97: ※생활보장급여 입소 현인원
B98: 위로금 | C98: 소계 | G98: =G99 -> 0
C99: 특별위로금 | G99: =R99 -> 0 | I99: 원 | J99: × | L99: 명 | M99: × | O99: 일 | P99: = | R99: =H99*K99*N99 -> 0
B100: 소계 | C100: 소계 | G100: =G101 -> 11340050
B101: 주부식비 | C101: 주부식비 | G101: =R101 -> 11340050 | H101: =H92 -> 236251 | I101: 원 | J101: × | K101: 48 | L101: 명 | M101: × | N101: 1 | O101: 월 | P101: = | R101: =ROUND(H101*K101*N101,-1) -> 11340050
B102: 소계 | C102: 소계 | G102: =G103 -> 1587600
...

Sheet 4종
A1: ※ '장애인복지시설 입소자지원(4종)'산출내역표
P2: (단위:원)
A3: 관 | B3: 항 | C3: 목 | D3: 산 출 내 역 | O3: 금 액 | P3: 비 고
A4: 소 계 | O4: =O5+O19+O33+O40 -> 32840000
A5: 입소자부식비 | B5: 입소자부식비 | C5: 입소자부식비 | D5: 계 | O5: =SUM(O7:O18) -> 14600000
D6: 12월 | E6: 500 | F6: 원 | G6: × | H6: 80 | I6: 명 | J6: × | K6: 365 | L6: 일 | M6: = | N6: =E6*H6*K6 -> 14600000 | O6: =N6 -> 14600000
D7: 1 월 | E7: 500 | F7: 원 | G7: × | H7: 80 | I7: 명 | J7: × | K7: 31 | L7: 일 | M7: = | N7: =E7*H7*K7 -> 1240000 | O7: =N7 -> 1240000
D8: 2 월 | E8: 500 | F8: 원 | G8: × | H8: 80 | I8: 명 | J8: × | K8: 28 | L8: 일 | M8: = | N8: =E8*H8*K8 -> 1120000 | O8: =N8 -> 1120000
D9: 3 월 | E9: 500 | F9: 원 | G9: × | H9: 80 | I9: 명 | J9: × | K9: 31 | L9: 일 | M9: = | N9: =E9*H9*K9 -> 1240000 | O9: =N9 -> 1240000
D10: 4 월 | E10: 500 | F10: 원 | G10: × | H10: 80 | I10: 명 | J10: × | K10: 30 | L10: 일 | M10: = | N10: =E10*H10*K10 -> 1200000 | O10: =N10 -> 1200000
D11: 5 월 | E11: 500 | F11: 원 | G11: × | H11: 80 | I11: 명 | J11: × | K11: 31 | L11: 일 | M11: = | N11: =E11*H11*K11 -> 1240000 | O11: =N11 -> 1240000
D12: 6 월 | E12: 500 | F12: 원 | G12: × | H12: 80 | I12: 명 | J12: × | K12: 30 | L12: 일 | M12: = | N12: =E12*H12*K12 -> 1200000 | O12: =N12 -> 1200000
D13: 7 월 | E13: 500 | F13: 원 | G13: × | H13: 80 | I13: 명 | J13: × | K13: 31 | L13: 일 | M13: = | N13: =E13*H13*K13 -> 1240000 | O13: =N13 -> 1240000
D14: 8 월 | E14: 500 | F14: 원 | G14: × | H14: 80 | I14: 명 | J14: × | K14: 31 | L14: 일 | M14: = | N14: =E14*H14*K14 -> 1240000 | O14: =N14 -> 1240000
D15: 9 월 | E15: 500 | F15: 원 | G15: × | H15: 80 | I15: 명 | J15: × | K15: 30 | L15: 일 | M15: = | N15: =E15*H15*K15 -> 1200000 | O15: =N15 -> 1200000
D16: 10 월 | E16: 500 | F16: 원 | G16: × | H16: 80 | I16: 명 | J16: × | K16: 31 | L16: 일 | M16: = | N16: =E16*H16*K16 -> 1240000 | O16: =N16 -> 1240000
D17: 11 월 | E17: 500 | F17: 원 | G17: × | H17: 80 | I17: 명 | J17: × | K17: 30 | L17: 일 | M17: = | N17: =E17*H17*K17 -> 1200000 | O17: =N17 -> 1200000
D18: 12 월 | E18: 500 | F18: 원 | G18: × | H18: 80 | I18: 명 | J18: × | K18: 31 | L18: 일 | M18: = | N18: =E18*H18*K18 -> 1240000 | O18: =N18 -> 1240000
A19: 입소자간식비 | B19: 입소자간식비 | C19: 입소자간식비 | D19: 계 | O19: =SUM(O21:O32) -> 4800000
D20: 12월 | E20: 5000 | F20: 원 | G20: × | H20: 80 | I20: 명 | J20: × | K20: 12 | L20: 개월 | M20: = | N20: =E20*H20*K20 -> 4800000 | O20: =N20 -> 4800000
D21: 1 월 | E21: 5000 | F21: 원 | G21: × | H21: 80 | I21: 명 | J21: × | K21: 1 | L21: 개월 | M21: = | N21: =E21*H21*K21 -> 400000 | O21: =N21 -> 400000
D22: 2 월 | E22: 5000 | F22: 원 | G22: × | H22: 80 | I22: 명 | J22: × | K22: 1 | L22: 개월 | M22: = | N22: =E22*H22*K22 -> 400000 | O22: =N22 -> 400000
D23: 3 월 | E23: 5000 | F23: 원 | G23: × | H23: 80 | I23: 명 | J23: × | K23: 1 | L23: 개월 | M23: = | N23: =E23*H23*K23 -> 400000 | O23: =N23 -> 400000
D24: 4 월 | E24: 5000 | F24: 원 | G24: × | H24: 80 | I24: 명 | J24: × | K24: 1 | L24: 개월 | M24: = | N24: =E24*H24*K24 -> 400000 | O24: =N24 -> 400000
D25: 5 월 | E25: 5000 | F25: 원 | G25: × | H25: 80 | I25: 명 | J25: × | K25: 1 | L25: 개월 | M25: = | N25: =E25*H25*K25 -> 400000 | O25: =N25 -> 400000
D26: 6 월 | E26: 5000 | F26: 원 | G26: × | H26: 80 | I26: 명 | J26: × | K26: 1 | L26: 개월 | M26: = | N26: =E26*H26*K26 -> 400000 | O26: =N26 -> 400000
D27: 7 월 | E27: 5000 | F27: 원 | G27: × | H27: 80 | I27: 명 | J27: × | K27: 1 | L27: 개월 | M27: = | N27: =E27*H27*K27 -> 400000 | O27: =N27 -> 400000
D28: 8 월 | E28: 5000 | F28: 원 | G28: × | H28: 80 | I28: 명 | J28: × | K28: 1 | L28: 개월 | M28: = | N28: =E28*H28*K28 -> 400000 | O28: =N28 -> 400000
D29: 9 월 | E29: 5000 | F29: 원 | G29: × | H29: 80 | I29: 명 | J29: × | K29: 1 | L29: 개월 | M29: = | N29: =E29*H29*K29 -> 400000 | O29: =N29 -> 400000
D30: 10 월 | E30: 5000 | F30: 원 | G30: × | H30: 80 | I30: 명 | J30: × | K30: 1 | L30: 개월 | M30: = | N30: =E30*H30*K30 -> 400000 | O30: =N30 -> 400000
D31: 11 월 | E31: 5000 | F31: 원 | G31: × | H31: 80 | I31: 명 | J31: × | K31: 1 | L31: 개월 | M31: = | N31: =E31*H31*K31 -> 400000 | O31: =N31 -> 400000
D32: 12 월 | E32: 5000 | F32: 원 | G32: × | H32: 80 | I32: 명 | J32: × | K32: 1 | L32: 개월 | M32: = | N32: =E32*H32*K32 -> 400000 | O32: =N32 -> 400000
A33: 입소자피복비 및 특별급식비 | B33: 입소자피복비 및 특별급식비 | C33: 입소자피복비 및 특별급식비 | D33: 계 | O33: =SUM(O36:O39) -> 10240000
D34: 피복비 | E34: 20000 | F34: 원 | G34: × | H34: 80 | I34: 명 | J34: × | K34: 4 | L34: 회 | M34: = | N34: =E34*H34*K34 -> 6400000 | O34: =N34 -> 6400000
D35: 특별 급식비 | E35: 12000 | F35: 원 | G35: × | H35: 80 | I35: 명 | J35: × | K35: 4 | L35: 회 | M35: = | N35: =E35*H35*K35 -> 3840000 | O35: =N35 -> 3840000
D36: 설날 | E36: 32000 | F36: 원 | G36: × | H36: 80 | I36: 명 | J36: × | K36: 1 | L36: 회 | M36: = | N36: =E36*H36*K36 -> 2560000 | O36: =N36 -> 2560000
D37: 장애인 의날 | E37: 32000 | F37: 원 | G37: × | H37: 80 | I37: 명 | J37: × | K37: 1 | L37: 회 | M37: = | N37: =E37*H37*K37 -> 2560000 | O37: =N37 -> 2560000
D38: 추석 | E38: 32000 | F38: 원 | G38: × | H38: 80 | I38: 명 | J38: × | K38: 1 | L38: 회 | M38: = | N38: =E38*H38*K38 -> 2560000 | O38: =N38 -> 2560000
D39: 연말 | E39: 32000 | F39: 원 | G39: × | H39: 80 | I39: 명 | J39: × | K39: 1 | L39: 회 | M39: = | N39: =E39*H39*K39 -> 2560000 | O39: =N39 -> 2560000
A40: 입소자 건강진단비 | B40: 입소자 건강진단비 | C40: 입소자 건강진단비 | D40: 계 | O40: =O41 -> 3200000
D41: 년1회 | E41: 40000 | F41: 원 | G41: × | H41: 80 | I41: 명 | J41: × | K41: 1 | L41: 회 | M41: = | N41: =E41*H41*K41 -> 3200000 | O41: =N41 -> 3200000
E67: 0

Sheet 시군구세출
A1: 라-1. 세 출
A2: 2) 보조금 세출내역
A3: 7종 | Q3: (단위:원)
A4: 과 목 | E4: ='[1]다-3.후원금세입'!D4:D5 -> 당초예산 ( A ) | F4: ='[1]다-3.후원금세입'!E4:E5 -> 1차추경 ( B ) | G4: 증감(B-A) | I4: 산 출 내 역
A5: 관 | B5: 항 | C5: 목 | D5: 세목 | G5: 금액 | H5: 비율(%)
A6: 총 계 | E6: 207420000 | F6: =SUM(F7,F20,F34,F37) -> 207510000 | G6: =F6-E6 -> 90000 | H6: =G6/E6*100 -> 0.043390223
A7: 사무비 | B7: 인건비 | C7: 계 | E7: 155111300 | F7: =F8+F9+F14+F15 -> 155850630 | G7: =F7-E7 -> 739330 | H7: =G7/E7*100 -> 0.47664484 | T7: =F7-F13 -> 129367580 | U7: 7종인건비
C8: 급여 | E8: 78161000 | F8: ='[1]인건비총계표(보조금)'!F676 -> 81016000 | G8: =F8-E8 -> 2855000 | H8: =G8/E8*100 -> 3.6527168 | I8: 종사자인건비 총계표 참조
C9: 제수당 | D9: 소계 | E9: 57149600 | F9: =SUM(F10:F13) -> 54712250 | G9: =F9-E9 -> -2437350 | H9: =G9/E9*100 -> -4.2648592 | I9: 종사자인건비 총계표 참조
D10: 명절휴가비 | E10: 7817400 | F10: ='[1]인건비총계표(보조금)'!M676 -> 8104800 | G10: =F10-E10 -> 287400 | H10: =G10/E10*100 -> 3.6764142
D11: 연장근로수당 | E11: 21756400 | F11: ='[1]인건비총계표(보조금)'!R676 -> 18924400 | G11: =F11-E11 -> -2832000 | H11: =G11/E11*100 -> -13.016859
D12: 가족수당 | E12: 1200000 | F12: ='[1]인건비총계표(보조금)'!O676 -> 1200000 | G12: =F12-E12 -> 0 | H12: =G12/E12*100 -> 0
D13: 연장추가 지원수당 | E13: 26375800 | F13: ='[1]인건비총계표(보조금)'!S5+'[1]인건비총계표(보조금)'!S676 -> 26483050 | G13: =F13-E13 -> 107250 | H13: =G13/E13*100 -> 0.40662274
C14: 퇴직적립금 | E14: 9178460 | F14: ='[1]인건비총계표(보조금)'!W676 -> 9209190 | G14: =F14-E14 -> 30730 | H14: =G14/E14*100 -> 0.33480562
C15: 사회보험부담금 | D15: 소계 | E15: 10622240 | F15: =SUM(F16:F19) -> 10913190 | G15: =F15-E15 -> 290950 | H15: =G15/E15*100 -> 2.7390645
D16: 건강보험 부담금 | E16: 3814500 | F16: ='[1]인건비총계표(보조금)'!Y676+'[1]인건비총계표(보조금)'!Z676 -> 4056970 | G16: =F16-E16 -> 242470 | H16: =G16/E16*100 -> 6.3565343
D17: 국민연금 부담금 | E17: 4935400 | F17: ='[1]인건비총계표(보조금)'!X676 -> 4977540 | G17: =F17-E17 -> 42140 | H17: =G17/E17*100 -> 0.8538315
D18: 고용보험 부담금 | E18: 991240 | F18: ='[1]인건비총계표(보조금)'!AA676 -> 994600 | G18: =F18-E18 -> 3360 | H18: =G18/E18*100 -> 0.33896937
D19: 산재보험 부담금 | E19: 881100 | F19: ='[1]인건비총계표(보조금)'!AB676 -> 884080 | G19: =F19-E19 -> 2980 | H19: =G19/E19*100 -> 0.3382136
A20: 사업비 | B20: 계 | E20: 46160000 | F20: =SUM(F21,F25,F31,F33) -> 48250000 | G20: =F20-E20 -> 2090000
C21: 7종운영지원사업비 | D21: 소계 | E21: 6600000 | F21: =SUM(F22:F24) -> 6600000 | G21: =F21-E21 -> 0
D22: 차량운영비 | E22: 3600000 | F22: 3600000 | G22: =F22-E22 -> 0 | H22: =G22/E22*100 -> 0 | I22: 300,000원 X 12개월 = 3,600,000원
D23: 환경개선사업 | E23: 0 | F23: 0 | G23: =F23-E23 -> 0 | H23: =G23/E23*100 -> #DIV/0! | I23: 7,000,000원 X 1개소 = 7,000,000원
D24: 간병인비 | E24: 3000000 | F24: 3000000 | G24: =F24-E24 -> 0 | H24: =G24/E24*100 -> 0 | I24: 200,000원*15회=3,000,000원
C25: 4종운영지원사업비 | D25: 소계 | E25: 32840000 | F25: =SUM(F26:F30) -> 32840000 | G25: =F25-E25 -> 0
D26: 입소자 부식비 | E26: 14600000 | F26: ='[1]4종'!O5 -> 14600000 | G26: =F26-E26 -> 0 | I26: 500원 X 80명 X 365일
D27: 입소자 간식비 | E27: 4800000 | F27: ='[1]4종'!O19 -> 4800000 | G27: =F27-E27 -> 0 | I27: 5,000원 X 80명 X 12개월
D28: 입소자 피복비 | E28: 6400000 | F28: ='[1]4종'!O34 -> 6400000 | G28: =F28-E28 -> 0 | I28: 20,000원 X 80명 X 4회
D29: 입소자 특별급식비 | E29: 3840000 | F29: ='[1]4종'!O35 -> 3840000 | G29: =F29-E29 -> 0 | I29: 12,000원 X 80명 X 4회
D30: 입소자 건강진단비 | E30: 3200000 | F30: ='[1]4종'!O41 -> 3200000 | G30: =F30-E30 -> 0 | I30: 40,000원 X 80명 X 1회
C31: 재활프로그램사업비 | D31: 소계 | E31: 6720000 | F31: =F32 -> 6720000 | G31: =F31-E31 -> 0
D32: 재활프로그램사업비 | E32: 6720000 | F32: 6720000 | G32: =F32-E32 -> 0
C33: 기능보강 사업비 | D33: 기능보강 사업비 | E33: 0 | F33: 2090000 | G33: =F33-E33 -> 2090000 | H33: =G33/E33*100 -> #DIV/0! | I33: 코로나19예방을 위한 방역물품 지원
A34: 잡지출 | B34: 계 | E34: 66700 | F34: =F35 -> 66180 | G34: =F34-E34 -> -520 | H34: =G34/E34*100 -> -0.77961019
B35: 잡지출 | C35: 소계 | E35: 66700 | F35: =F36 -> 66180 | G35: =F35-E35 -> -520 | H35: =G35/E35*100 -> -0.77961019
C36: 잡지출 | E36: 66700 | F36: 66180 | G36: =F36-E36 -> -520 | H36: =G36/E36*100 -> -0.77961019
A37: 예비비및기타 | B37: 계 | E37: 6082000 | F37: =F38 -> 3343190 | G37: =F37-E37 -> -2738810 | H37: =G37/E37*100 -> -45.031404
B38: 보조금반환 | C38: 소계 | E38: 6082000 | F38: =F39 -> 3343190 | G38: =F38-E38 -> -2738810 | H38: =G38/E38*100 -> -45.031404
C39: 보조금반환 | E39: 6082000 | F39: ='[1]다-1.도시(군)세입'!F25 -> 3343190 | G39: =F39-E39 -> -2738810 | H39: =G39/E39*100 -> -45.031404 | I39: 2019년 결산에 의한 보조금 반환액

Sheet 국도비세출
A1: 라. 세 출
A2: 1) 보조금 세출내역
Q3: (단위:원)
A4: 과 목 | E4: ='[1]다-3.후원금세입'!D4:D5 -> 당초예산 ( A ) | F4: ='[1]다-3.후원금세입'!E4:E5 -> 1차추경 ( B ) | G4: 증감(B-A) | I4: 산 출 내 역
A5: 관 | B5: 항 | C5: 목 | D5: 세목 | G5: 금액 | H5: 비율(%) | T5: 80명기준 | U5: 실수령액기준
A6: 총 계 | E6: 2415800000 | F6: =F7+F36+F41+F56+F59 -> 2767810000 | G6: =F6-E6 -> 352010000 | H6: =G6/E6*100 -> 14.571157 | I6: * 시설당기본지원 : 2,286,000원*30명 = 68,580,000원 * 생활장애인가중지원 : 635,000원*50명 = 31,750,000원 * 전자결제시스텀운영비 : 1,485,000원 | T6: =(68580000)+(31750000)+1485000 -> 101815000 | U6: =68580000+31115000+1485000 -> 101180000 | V6: =T6-U6 -> 635000
A7: 사무비 | B7: 계 | E7: 2212619880 | F7: =F8+F22+F26 -> 2579874390 | G7: =F7-E7 -> 367254510 | H7: =G7/E7*100 -> 16.598175 | I7: 운영비합계액 | Q7: 101815000 | R7: 원 | T7: =SUM(F22,F27,F28,F29,F30,F31,F32,F33,F34,F37,F48,F49,F51) -> 101815000
B8: 인건비 | C8: 소계 | E8: 2153919880 | F8: =F9+F10+F16+F21+F15 -> 2517416390 | G8: =F8-E8 -> 363496510 | H8: =G8/E8*100 -> 16.876046 | T8: =T6-T7 -> 0
C9: 급여 | E9: 1391304000 | F9: ='[1]인건비총계표(보조금)'!F5+'[1]인건비총계표(보조금)'!F733 -> 1615353000 | G9: =F9-E9 -> 224049000 | H9: =G9/E9*100 -> 16.103526 | I9: 종사자인건비 총계표 참조
C10: 제수당 | D10: 소계 | E10: 433361280 | F10: =SUM(F11:F13) -> 514179280 | G10: =F10-E10 -> 80818000 | H10: =G10/E10*100 -> 18.649105
D11: 명절휴가비 | E11: 134188200 | F11: ='[1]인건비총계표(보조금)'!M5+'[1]인건비총계표(보조금)'!M733 -> 157686600 | G11: =F11-E11 -> 23498400 | H11: =G11/E11*100 -> 17.511525
D12: 연장근로수당 | E12: 277853080 | F12: ='[1]인건비총계표(보조금)'!R5+'[1]인건비총계표(보조금)'!R733 -> 335572680 | G12: =F12-E12 -> 57719600 | H12: =G12/E12*100 -> 20.773425
D13: 가족수당 | E13: 21320000 | F13: ='[1]인건비총계표(보조금)'!O5+'[1]인건비총계표(보조금)'!O733 -> 20920000 | G13: =F13-E13 -> -400000 | H13: =G13/E13*100 -> -1.8761726 | I13: 종사자인건비 총계표 참조
H14: =G14/E14*100 -> #DIV/0! | T14: =[1]다.국도시세입!F6-[1]라.국도비세출!F6 -> 0
C15: 퇴직적립금 | E15: 153616310 | F15: ='[1]인건비총계표(보조금)'!W5+'[1]인건비총계표(보조금)'!W733 -> 179026890 | G15: =F15-E15 -> 25410580 | H15: =G15/E15*100 -> 16.54159
C16: 사회보험부담금 | D16: 소계 | E16: 175638290 | F16: =SUM(F17:F20) -> 208857220 | G16: =F16-E16 -> 33218930 | H16: =G16/E16*100 -> 18.913262 | Z16: ='[1]인건비총계표(보조금)'!U5-'[1]인건비총계표(보조금)'!U630 -> 1843998180
D17: 건강보험 부담금 | E17: 63773810 | F17: ='[1]인건비총계표(보조금)'!Y5+'[1]인건비총계표(보조금)'!Z5+'[1]인건비총계표(보조금)'!Y733+'[1]인건비총계표(보조금)'!Z733-7030 -> 78114360 | G17: =F17-E17 -> 14340550 | H17: =G17/E17*100 -> 22.486582 | I17: 건강보험보험료 : 2,124,498,180원*3.335% = 70,852,020원 장기요양보험료 : 70,852,020*10.25% = 7,262,340원 | T17: ='[1]인건비총계표(보조금)'!U5+'[1]인건비총계표(보조금)'!U733-'[1]인건비총계표(보조금)'!U630 -> 2124498180 | U17: =ROUNDUP((T17*6.67%)/2,-1) -> 70852020 | V17: =ROUNDUP(U17*10.25%,-1) -> 7262340 | W17: =SUM(U17:V17) -> 78114360 | X17: =W17-F17 -> 0 | Z17: =SUM(Y16:Y17) -> 0
D18: 국민연금 부담금 | E18: 81880880 | F18: ='[1]인건비총계표(보조금)'!X5+'[1]인건비총계표(보조금)'!X733 -> 95602820 | G18: =F18-E18 -> 13721940 | H18: =G18/E18*100 -> 16.758418 | I18: 국민연금보험료 : 1,819,575,080원*4.5% = 81,880,880원 | T18: ='[1]인건비총계표(보조금)'!U5-'[1]인건비총계표(보조금)'!U630 -> 1843998180 | U18: =ROUNDUP(T18*4.5%,-1) -> 82979920 | V18: =F18-U18 -> 12622900 | W18: =SUM(U18:V18) -> 95602820 | X18: =W18-F18 -> 0
D19: 고용보험 부담금 | E19: 15873670 | F19: ='[1]인건비총계표(보조금)'!AA5+'[1]인건비총계표(보조금)'!AA733 -> 18603390 | G19: =F19-E19 -> 2729720 | H19: =G19/E19*100 -> 17.196527 | I19: 고용보험료 : 1,763,741,030원*0.9% = 15,873,670원 | T19: ='[1]인건비총계표(보조금)'!U5-'[1]인건비총계표(보조금)'!U6-'[1]인건비총계표(보조금)'!U630 -> 1786567680 | U19: =ROUNDUP(T19*0.9%,-1) -> 16079110 | V19: =F19-U19 -> 2524280 | W19: =SUM(U19:V19) -> 18603390 | X19: =W19-F19 -> 0
D20: 산재보험 부담금 | E20: 14109930 | F20: ='[1]인건비총계표(보조금)'!AB5+'[1]인건비총계표(보조금)'!AB733 -> 16536650 | G20: =F20-E20 -> 2426720 | H20: =G20/E20*100 -> 17.198668 | I20: 산재보험료 : 1,763,741,030원*0.8%= | O20: 14,109,930원 | T20: ='[1]인건비총계표(보조금)'!U5-'[1]인건비총계표(보조금)'!U6-'[1]인건비총계표(보조금)'!U630 -> 1786567680 | U20: =ROUNDUP(T20*0.8%,-1) -> 14292550 | V20: =F20-U20 -> 2244100 | W20: =SUM(U20:V20) -> 16536650 | X20: =W20-F20 -> 0
C21: 기타후생경비 | E21: 0 | F21: 0 | G21: =F21-E21 -> 0 | H21: =G21/E21*100 -> #DIV/0! | W21: =SUM(U21:V21) -> 0
B22: 업무 추진비 | C22: 소계 | E22: 490000 | F22: =SUM(F23:F25) -> 0 | G22: =F22-E22 -> -490000 | H22: =G22/E22*100 -> -100
C23: 기관운영비 | E23: 0 | F23: 0 | G23: =F23-E23 -> 0 | H23: =G23/E23*100 -> #DIV/0!
C24: 직책보조비 | E24: 0 | F24: 0 | G24: =F24-E24 -> 0 | H24: =G24/E24*100 -> #DIV/0!
C25: 회의비 | E25: 490000 | G25: =F25-E25 -> -490000 | H25: =G25/E25*100 -> -100 | I25: 인권지킴이단 회의비
B26: 운영비 | C26: 소계 | E26: 58210000 | F26: =F27+F28+F29+F30+F34+F35 -> 62458000 | G26: =F26-E26 -> 4248000 | H26: =G26/E26*100 -> 7.2977152
C27: 여비 | E27: 0 | F27: 0 | G27: =F27-E27 -> 0 | H27: =G27/E27*100 -> #DIV/0!
C28: 수용비및 수수료 | E28: 9084170 | F28: =9291720-34170 -> 9257550 | G28: =F28-E28 -> 173380 | H28: =G28/E28*100 -> 1.9085948 | I28: 사무용품비, 인쇄비, 수수료 등
C29: 공공요금 | E29: 38000000 | F29: 45000000 | G29: =F29-E29 -> 7000000 | H29: =G29/E29*100 -> 18.421053 | I29: 수도료,전기료,우편료,전화료,운송료 등
C30: 제세공과금 | E30: 6625830 | F30: =3666280+34170 -> 3700450 | G30: =F30-E30 -> -2925380 | H30: =G30/E30*100 -> -44.151148 | I30: 화재, 음식물, 영업배상책임, 자동차보험료 등
D31: 화재보험료 | G31: =F31-E31 -> 0 | H31: =G31/E31*100 -> #DIV/0! | I31: 소멸성 보험에 가입 | U31: =SUM(U29:U30) -> 0
D32: 상해보험료 | E32: 0 | F32: 0 | G32: =F32-E32 -> 0 | H32: =G32/E32*100 -> #DIV/0!
G33: =F33-E33 -> 0 | H33: =G33/E33*100 -> #DIV/0!
C34: 차량비 | E34: 4500000 | F34: 4500000 | G34: =F34-E34 -> 0 | H34: =G34/E34*100 -> 0 | I34: 실제 운행중인 업무용 차량 연료 및 소모품 교체등
C35: 기타운영비 | E35: 0 | F35: 0 | G35: =F35-E35 -> 0 | H35: =G35/E35*100 -> #DIV/0! | I35: 화재, 음식물, 영업배상책임, 자동차보험료 등
A36: 재산조성비 | B36: 계 | E36: 12000000 | F36: =F37 -> 16430000 | G36: =F36-E36 -> 4430000 | H36: =G36/E36*100 -> 36.916667
B37: 시설비 | C37: 소계 | E37: 12000000 | F37: =SUM(F38:F40) -> 16430000 | G37: =F37-E37 -> 4430000 | H37: =G37/E37*100 -> 36.916667
C38: 시설비 | E38: 0 | F38: 0 | G38: =F38-E38 -> 0 | H38: =G38/E38*100 -> #DIV/0!
C39: 자산취득비 | E39: 0 | F39: 330000 | G39: =F39-E39 -> 330000 | H39: =G39/E39*100 -> #DIV/0! | I39: 전자결재시스템구축을 위한NAS구입
C40: 시설장비 유지비 | D40: 건물유지비 | E40: 12000000 | F40: 16100000 | G40: =F40-E40 -> 4100000 | H40: =G40/E40*100 -> 34.166667 | I40: 건물 유지 관리비
A41: 사업비 | B41: 계 | E41: 165432640 | F41: =F42+F50 -> 165765000 | G41: =F41-E41 -> 332360 | H41: =G41/E41*100 -> 0.20090352
B42: 운영비 | C42: 소계 | E42: 155332640 | F42: =SUM(F43,F47) -> 162239200 | G42: =F42-E42 -> 6906560 | H42: =G42/E42*100 -> 4.4463031
C43: 생계비 | D43: 소계 | E43: 134362640 | F43: =SUM(F44:F46) -> 140739200 | G43: =F43-E43 -> 6376560 | H43: =G43/E43*100 -> 4.7457835
D44: 특별위로금 | E44: 3412200 | F44: =[1]생활보장급여!G8 -> 3543500 | G44: =F44-E44 -> 131300 | H44: =G44/E44*100 -> 3.8479573 | I44: 37,300원 X 47명 X 1회 / 36,300원 X 48명 X 1회 (설,추석)지급
D45: 주부식비 | E45: 129440280 | F45: =[1]생활보장급여!G10 -> 135608100 | G45: =F45-E45 -> 6167820 | H45: =G45/E45*100 -> 4.7649928 | I45: 236,251원 X 47명 X 3회 / 229,504원 X 48명 X 9회
D46: 월동대책비 | E46: 1510160 | F46: =[1]생활보장급여!G11 -> 1587600 | G46: =F46-E46 -> 77440 | H46: =G46/E46*100 -> 5.1279335 | I46: 33,075원 X 48명 X 1회
C47: 수용기관경비 | D47: 소계 | E47: 20970000 | F47: =SUM(F48:F49) -> 21500000 | G47: =F47-E47 -> 530000 | H47: =G47/E47*100 -> 2.5274201
D48: 위생재료비 | E48: 7000000 | F48: 7000000 | G48: =F48-E48 -> 0 | H48: =G48/E48*100 -> 0 | I48: 장애인의 위생관리를 위한 용품 구입비 등
D49: 일상용품비 | E49: 13970000 | F49: 14500000 | G49: =F49-E49 -> 530000 | H49: =G49/E49*100 -> 3.793844 | I49: 일상 생활용품 경비
B50: 사업비 | C50: 소계 | E50: 10100000 | F50: =SUM(F51:F52) -> 3525800 | G50: =F50-E50 -> -6574200 | H50: =G50/E50*100 -> -65.091089
C51: 사회심리 재활사업비 | D51: 여행경비등 | E51: 8000000 | F51: =792000+635000 -> 1427000 | G51: =F51-E51 -> -6573000 | H51: =G51/E51*100 -> -82.1625 | I51: 코로나19로 인한 외부활동 축소
C52: 기 능 보 강 사업비 | D52: 소계 | E52: 2100000 | F52: =SUM(F53:F55) -> 2098800 | G52: =F52-E52 -> -1200 | H52: =G52/E52*100 -> -0.057142857
D53: 기 능 보 강 사업비 | E53: 2100000 | F53: 2098800 | G53: =F53-E53 -> -1200 | H53: 0 | I53: 공기청정기 지원사업선정에 따른 차액발생
H54: 0
D55: 기 능 보 강 사업비 | G55: =F55-E55 -> 0 | H55: 0
A56: 잡지출 | B56: 계 | E56: 542480 | F56: =F57 -> 570610 | G56: =F56-E56 -> 28130 | H56: =G56/E56*100 -> 5.1854446
B57: 잡지출 | C57: 소계 | E57: 542480 | F57: =F58 -> 570610 | G57: =F57-E57 -> 28130 | H57: =G57/E57*100 -> 5.1854446
C58: 잡지출 | E58: 542480 | F58: 570610 | G58: =F58-E58 -> 28130 | H58: =G58/E58*100 -> 5.1854446
A59: 예비비및기타 | B59: 계 | E59: 25205000 | F59: =F60 -> 5170000 | G59: =F59-E59 -> -20035000 | H59: =G59/E59*100 -> -79.488197
B60: 보조금반환 | C60: 소계 | E60: 25205000 | F60: =F61 -> 5170000 | G60: =F60-E60 -> -20035000 | H60: =G60/E60*100 -> -79.488197
C61: 보조금반환 | E61: 25205000 | F61: =[1]다.국도시세입!F34 -> 5170000 | G61: =F61-E61 -> -20035000 | H61: =G61/E61*100 -> -79.488197

Sheet 자부담세출
A1: 라. 세 출 | T1: 합계액 | U1: =SUM(U2:U6) -> 234516878 | V1: =SUM(V2:V6) -> 22433122 | W1: =SUM(U1:V1) -> 256950000
A2: 3) 자부담 세출내역 | T2: 유료입소/이월금 | U2: ='[1]다-2.자부담세입'!E8 -> 134400000 | V2: 9105019 | W2: =SUM(U2:V2) -> 143505019 | X2: =W2-S8 -> 0
I3: (단위:원) | T3: 법인전입/이월금 | U3: ='[1]다-2.자부담세입'!E25 -> 40000000 | V3: 3080563 | W3: =SUM(U3:V3) -> 43080563 | X3: =W3-T8 -> 19000000
A4: 과 목 | E4: =[1]라.국도비세출!E4:E5 -> 당초예산 ( A ) | F4: =[1]라.국도비세출!F4:F5 -> 1차추경 ( B ) | G4: 증감(B-A) | I4: 산 출 내 역 | T4: 잡수입/불용품/이월금 | U4: ='[1]다-2.자부담세입'!E34+'[1]다-2.자부담세입'!E32-'[1]라-2.자부담세출'!U5 -> 25550000 | V4: 7098481 | W4: =SUM(U4:V4) -> 32648481 | X4: =W4-U8 -> 0
A5: 관 | B5: 항 | C5: 목 | D5: 세목 | G5: 금액 | H5: 비율(%) | S5: ='[1]다-2.자부담세입'!E6-'[1]라-2.자부담세출'!W1 -> 0 | T5: 종사자식대/이월금 | U5: 34000000 | V5: 2970859 | W5: =SUM(U5:V5) -> 36970859 | X5: =W5-V8 -> 0
A6: 총 계 | E6: 226800000 | F6: =F7+F45+F50+F90+F87+F84 -> 237950000 | G6: =G7+G45+G50+G90+G87+G84 -> 11150000 | H6: =G6/E6*100 -> 4.9162257 | S6: ='[1]다-2.자부담세입'!E6-'[1]라-2.자부담세출'!F6 -> 0 | T6: 예금이자/이월금 | U6: ='[1]다-2.자부담세입'!E33 -> 566878 | V6: 178200 | W6: =SUM(U6:V6) -> 745078 | X6: =W6-W8 -> 0
A7: 사무비 | B7: 계 | E7: 88800000 | F7: =F8+F33+F38 -> 79950000 | G7: =F7-E7 -> -8850000 | H7: =G7/E7*100 -> -9.9662162 | S7: 유료입소/이월금 | T7: 법인전입/이월금 | U7: 잡수입/이월금 | V7: 종사자/이월금 | W7: 예금이자/이월금
B8: 인건비 | C8: 소계 | E8: 33511060 | F8: =F9+F10+F11+F12+F26+F27+F32 -> 14543720 | G8: =F8-E8 -> -18967340 | H8: =G8/E8*100 -> -56.600239 | S8: =SUM(S9:S92) -> 143505019 | T8: =SUM(T9:T92) -> 24080563 | U8: =SUM(U9:U92) -> 32648481 | V8: =SUM(V9:V92) -> 36970859 | W8: =SUM(W9:W92) -> 745078 | X8: =SUM(S8:W8)-W1 -> -19000000
C9: 급여 | E9: 0 | F9: 0 | G9: =F9-E9 -> 0 | H9: =G9/E9*100 -> #DIV/0!
C10: 상여금 | E10: 0 | F10: 0 | G10: =F10-E10 -> 0 | H10: =G10/E10*100 -> #DIV/0!
C11: 일용잡급 | E11: 0 | F11: 0 | G11: =F11-E11 -> 0 | H11: =G11/E11*100 -> #DIV/0!
C12: 제수당 | D12: 소계 | E12: 19000000 | F12: =SUM(F13:F25) -> 0 | G12: =F12-E12 -> -19000000 | H12: =G12/E12*100 -> -100 | T12: =F12 -> 0
D13: 가계보조수당 | E13: 0 | F13: 0 | G13: =F13-E13 -> 0 | H13: =G13/E13*100 -> #DIV/0!
D14: 교통급식비 | E14: 0 | F14: 0 | G14: =F14-E14 -> 0 | H14: =G14/E14*100 -> #DIV/0!
D15: 명절휴가비 | E15: 0 | F15: 0 | G15: =F15-E15 -> 0 | H15: =G15/E15*100 -> #DIV/0!
D16: 생활복지사수당 | E16: 0 | F16: 0 | G16: =F16-E16 -> 0 | H16: =G16/E16*100 -> #DIV/0!
D17: 생활지도원수당 | E17: 0 | F17: 0 | G17: =F17-E17 -> 0 | H17: =G17/E17*100 -> #DIV/0!
D18: 조리.위생수당 | E18: 0 | F18: 0 | G18: =F18-E18 -> 0 | H18: =G18/E18*100 -> #DIV/0!
G19: =F19-E19 -> 0 | H19: =G19/E19*100 -> #DIV/0!
D20: 가족수당 | E20: 0 | F20: 0 | G20: =F20-E20 -> 0 | H20: =G20/E20*100 -> #DIV/0!
D21: 직책수당 | E21: 19000000 | F21: ='사. 임직원보수 일람표'!N123 -> 0 | G21: =F21-E21 -> -19000000 | H21: =G21/E21*100 -> -100 | I21: 기관장(300,000원),사무국장(200,000원), 과장(150,000원,2명),팀장(100,000원, 8명)
E22: 0 | F22: 0 | G22: =F22-E22 -> 0 | H22: =G22/E22*100 -> #DIV/0!
E23: 0 | F23: 0 | G23: =F23-E23 -> 0 | H23: =G23/E23*100 -> #DIV/0!
E24: 0 | F24: 0 | G24: =F24-E24 -> 0 | H24: =G24/E24*100 -> #DIV/0!
E25: 0 | F25: 0 | G25: =F25-E25 -> 0 | H25: =G25/E25*100 -> #DIV/0!
C26: 퇴직금및 적립금 | E26: 1583330 | F26: ='[1]인건비총계표(자부담)'!U5 -> 1583330 | G26: =F26-E26 -> 0 | H26: =G26/E26*100 -> 0 | T26: =F26 -> 1583330
C27: 사회보험 부담비용 | D27: 소계 | E27: 927730 | F27: =SUM(F28:F31) -> 960390 | G27: =F27-E27 -> 32660 | H27: =G27/E27*100 -> 3.5204208 | T27: =F27 -> 960390
D28: 건강보험부담금 | E28: 665930 | F28: ='[1]인건비총계표(자부담)'!W5+'[1]인건비총계표(자부담)'!X5+10 -> 698590 | G28: =F28-E28 -> 32660 | H28: =G28/E28*100 -> 4.9044194 | I28: 건강보험보험료 : 19,000,000원*3.335% = 633,650원 장기요양보험료 : 633,650원*10.25% = 64,940원
D29: 국민연금부담금 | E29: 0 | F29: 0 | G29: =F29-E29 -> 0 | H29: =G29/E29*100 -> #DIV/0!
D30: 고용보험부담금 | E30: 138600 | F30: ='[1]인건비총계표(자부담)'!Y5 -> 138600 | G30: =F30-E30 -> 0 | H30: =G30/E30*100 -> 0 | I30: 고용보험료 : 15,400,000원*0.9% = 138,600원
D31: 산재보험부담금 | E31: 123200 | F31: ='[1]인건비총계표(자부담)'!Z5 -> 123200 | G31: =F31-E31 -> 0 | H31: =G31/E31*100 -> 0 | I31: 산재보험료 : 15,400,000원*0.8% = 123,200원
C32: 기타후생경비 | E32: 12000000 | F32: 12000000 | G32: =F32-E32 -> 0 | H32: =G32/E32*100 -> 0 | I32: 종사자체육대회,기타상해보험,해외연수등복리후생비 등 | T32: =F32-2000000 -> 10000000 | U32: 2000000
B33: 업무 추진비 | C33: 소계 | E33: 2000000 | F33: =SUM(F34:F37) -> 2000000 | G33: =F33-E33 -> 0 | H33: =G33/E33*100 -> 0
C34: 기관운영비 | E34: 0 | F34: 0 | G34: =F34-E34 -> 0 | H34: =G34/E34*100 -> #DIV/0!
C35: 직책보조비 | E35: 0 | F35: 0 | G35: =F35-E35 -> 0 | H35: =G35/E35*100 -> #DIV/0!
C36: 홍보비 | E36: 0 | F36: 0 | G36: =F36-E36 -> 0 | H36: =G36/E36*100 -> #DIV/0!
C37: 회의비 | E37: 2000000 | F37: 2000000 | G37: =F37-E37 -> 0 | H37: =G37/E37*100 -> 0 | I37: 인권지킴이, 운영위원회등 경비 | U37: 2000000
B38: 운영비 | C38: 소계 | E38: 53288940 | F38: =SUM(F39:F44) -> 63406280 | G38: =F38-E38 -> 10117340 | H38: =G38/E38*100 -> 18.985816
C39: 여비 | E39: 0 | F39: 0 | G39: =F39-E39 -> 0 | H39: 0
C40: 수용비및 수수료 | E40: 5688940 | F40: 6906280 | G40: =F40-E40 -> 1217340 | H40: =G40/E40*100 -> 21.398362 | I40: 사무용품비, 인쇄비, 수수료 등 | T40: =69503-32660 -> 36843 | U40: =F40-T40 -> 6869437
C41: 공공요금 | E41: 41100000 | F41: 50000000 | G41: =F41-E41 -> 8900000 | H41: =G41/E41*100 -> 21.654501 | I41: 수도료,전기료,우편료,전화료,운송료 등 | S41: =F41-2000000-7000000+475878 -> 41475878 | T41: 2000000 | U41: =F41-S41-T41 -> 6524122
C42: 제세공과금 | E42: 2000000 | F42: 2000000 | G42: =F42-E42 -> 0 | H42: =G42/E42*100 -> 0 | I42: 제세공과금 | S42: =F42 -> 2000000
C43: 차량비 | E43: 500000 | F43: 500000 | G43: =F43-E43 -> 0 | H43: =G43/E43*100 -> 0 | I43: 차량 주유비 및 정비료 | T43: =F43 -> 500000
C44: 기타운영비 | E44: 4000000 | F44: 4000000 | G44: =F44-E44 -> 0 | H44: =G44/E44*100 -> 0 | I44: 직원근무복, 기타행사비(부활,성탄) | T44: =F44-2000000 -> 2000000 | U44: 2000000
A45: 재산조성비 | B45: 계 | E45: 5000000 | F45: =F46 -> 10000000 | G45: =F45-E45 -> 5000000 | H45: =G45/E45*100 -> 100
B46: 시설비 | C46: 소계 | E46: 5000000 | F46: =SUM(F47:F49) -> 10000000 | G46: =F46-E46 -> 5000000 | H46: =G46/E46*100 -> 100
C47: 시설비 | E47: 0 | F47: 0 | G47: =F47-E47 -> 0 | H47: =G47/E47*100 -> #DIV/0! | I47: 시설공사비
C48: 자산취득비 | E48: 5000000 | F48: 5000000 | G48: =F48-E48 -> 0 | H48: =G48/E48*100 -> 0 | I48: 음식물처리기,10년이상 사용된 노후설비기구 교체비용 | T48: =F48 -> 5000000
C49: 시설장비 유지비 | E49: 0 | F49: 5000000 | G49: =F49-E49 -> 5000000 | H49: =G49/E49*100 -> #DIV/0! | I49: 생활동 방수공사등 노후설비보강 | U49: =G49 -> 5000000
A50: 사업비 | B50: 계 | E50: 133000000 | F50: =F51+F62+F73 -> 148000000 | G50: =F50-E50 -> 15000000 | H50: =G50/E50*100 -> 11.278195
B51: 운영비 | C51: 소계 | E51: 87000000 | F51: =SUM(F52,F53,F54,F57) -> 102000000 | G51: =F51-E51 -> 15000000 | H51: =G51/E51*100 -> 17.241379
C52: 생계비 | E52: 70000000 | F52: 85000000 | G52: =F52-E52 -> 15000000 | H52: =G52/E52*100 -> 21.428571 | I52: 거주인 생계비 : 7,083,330원*12월=85,000,000원 | S52: =F52-V52-U52 -> 43029141 | U52: 5000000 | V52: =W5 -> 36970859
C53: 피복비 | E53: 4000000 | F53: 4000000 | G53: =F53-E53 -> 0 | H53: =G53/E53*100 -> 0 | I53: 거주인 피복구입비 : 2,000,000원*2회=4,000,000원 | S53: =F53 -> 4000000
C54: 수용기관경비 | D54: 소계 | E54: 11000000 | F54: =SUM(F55:F56) -> 11000000 | G54: =F54-E54 -> 0 | H54: =G54/E54*100 -> 0
D55: 수용기관경비 | E55: 3000000 | F55: 3000000 | G55: =F55-E55 -> 0 | H55: =G55/E55*100 -> 0 | I55: 수용기관경비 250,000원*12월=3,000,000원 | S55: =F55 -> 3000000
D56: 일상용품비 | E56: 8000000 | F56: 8000000 | G56: =F56-E56 -> 0 | H56: =G56/E56*100 -> 0 | I56: 일상용품구입비 833,330원*12월=10,000,000원 | S56: =F56 -> 8000000
C57: 의료비 | E57: 2000000 | F57: 2000000 | G57: =F57-E57 -> 0 | H57: =G57/E57*100 -> 0 | S57: =F57 -> 2000000
C58: 직업재활비 | E58: 0 | F58: 0 | G58: =F58-E58 -> 0 | H58: =G58/E58*100 -> #DIV/0!
C59: 자활사업비 | E59: 0 | F59: 0 | G59: =F59-E59 -> 0 | H59: =G59/E59*100 -> #DIV/0!
C60: 특별급식비 | E60: 0 | F60: 0 | G60: =F60-E60 -> 0 | H60: =G60/E60*100 -> #DIV/0!
C61: 연료비 | E61: 0 | F61: 0 | G61: =F61-E61 -> 0 | H61: =G61/E61*100 -> #DIV/0!
B62: 교육비 | C62: 소계 | E62: 0 | F62: =SUM(F63:F72) -> 0 | G62: =F62-E62 -> 0 | H62: =G62/E62*100 -> #DIV/0!
C63: 수업료 | E63: 0 | F63: 0 | G63: =F63-E63 -> 0 | H63: =G63/E63*100 -> #DIV/0!
C64: 학용품비 | E64: 0 | F64: 0 | G64: =F64-E64 -> 0 | H64: =G64/E64*100 -> #DIV/0!
C65: 도서구입비 | E65: 0 | F65: 0 | G65: =F65-E65 -> 0 | H65: =G65/E65*100 -> #DIV/0!
C66: 교통비 | E66: 0 | F66: 0 | G66: =F66-E66 -> 0 | H66: =G66/E66*100 -> #DIV/0!
C67: 급식비 | E67: 0 | F67: 0 | G67: =F67-E67 -> 0 | H67: =G67/E67*100 -> #DIV/0!
C68: 학습지원비 | E68: 0 | F68: 0 | G68: =F68-E68 -> 0 | H68: =G68/E68*100 -> #DIV/0!
C69: 수학여행비 | E69: 0 | F69: 0 | G69: =F69-E69 -> 0 | H69: =G69/E69*100 -> #DIV/0!
C70: 교복비 | E70: 0 | F70: 0 | G70: =F70-E70 -> 0 | H70: =G70/E70*100 -> #DIV/0!
C71: 이미용비 | E71: 0 | F71: 0 | G71: =F71-E71 -> 0 | H71: =G71/E71*100 -> #DIV/0!
C72: 기타교육비 | E72: 0 | F72: 0 | G72: =F72-E72 -> 0 | H72: =G72/E72*100 -> #DIV/0!
B73: 사업비 | C73: 소계 | E73: 46000000 | F73: =F74+F75+F76+F77+F78+F80 -> 46000000 | G73: =F73-E73 -> 0 | H73: =G73/E73*100 -> 0
C74: 의료재활사업비 | E74: 0 | F74: 0 | G74: =F74-E74 -> 0 | H74: 0
C75: 사회심리 재활사업비 | E75: 41000000 | F75: 41000000 | G75: =F75-E75 -> 0 | H75: 0 | I75: 여행,등산,놀이 등에 소요되는 여비,기구 구입비 | S75: 35000000 | T75: 2000000 | U75: 3254922 | W75: 745078
C76: 교육재활사업비 | E76: 0 | F76: 0 | G76: =F76-E76 -> 0 | H76: 0 | I76: 생활장애인의 교육 및 교양함양을 위한 교재/도서 구입비 (미술,한글교실 등)
C77: 직업재활 사업비 | E77: 5000000 | F77: 5000000 | G77: =F77-E77 -> 0 | H77: 0 | I77: 직업재활활동에 소요되는 비용 | S77: 5000000
C78: 기능보강사업비 | E78: 0 | F78: 0 | G78: =F78-E78 -> 0 | H78: =F78/F6*100 -> 0
G79: =F79-E79 -> 0 | H79: 0
C80: 재활승마사업비 | D80: 소계 | E80: 0 | F80: =F81 -> 0 | G80: =F80-E80 -> 0 | H80: 0
D81: 재활승마사업비 | G81: =F81-E81 -> 0 | H81: 0
C82: 공동모금회사업비 | D82: 소계 | E82: 0 | F82: =F83 -> 0 | G82: =F82-E82 -> 0 | H82: 0
D83: 공동모금회사업비 | E83: 0 | F83: 0 | G83: =F83-E83 -> 0 | H83: 0
A84: 과년도지출 | B84: 계 | E84: 0 | F84: =F85 -> 0 | G84: =F84-E84 -> 0 | H84: 0
B85: 과년도지출 | C85: 소계 | E85: 0 | F85: =F86 -> 0 | G85: =F85-E85 -> 0 | H85: 0
C86: 과년도지출 | E86: 0 | F86: 0 | G86: =F86-E86 -> 0 | H86: 0
A87: 잡지출 | B87: 계 | E87: 0 | F87: =F88 -> 0 | G87: =F87-E87 -> 0 | H87: =F87/F6*100 -> 0
B88: 잡지출 | C88: 소계 | E88: 0 | F88: =F89 -> 0 | G88: =F88-E88 -> 0 | H88: =F88/F6*100 -> 0
C89: 잡지출 | E89: 0 | F89: 0 | G89: =F89-E89 -> 0 | H89: =F89/F6*100 -> 0
A90: 예비비 | B90: 계 | E90: 0 | F90: =F91 -> 0 | G90: =F90-E90 -> 0 | H90: =F90/F6*100 -> 0
B91: 예비비 | C91: 소계 | E91: 0 | F91: =F92 -> 0 | G91: =F91-E91 -> 0 | H91: =F91/F6*100 -> 0
C92: 예비비 | G92: =F92-E92 -> 0 | H92: =F92/F6*100 -> 0

Sheet 후원금세출
A1: 라. 세 출
A2: 4) 후원금 세출내역
I3: (단위:원) | T3: =T6/V6 -> 0.64279442 | U3: =U6/V6 -> 0.35720558 | V3: =SUM(T3:U3) -> 1
A4: 과 목 | E4: ='[1]라-2.자부담세출'!E4:E5 -> 당초예산 ( A ) | F4: ='[1]라-2.자부담세출'!F4:F5 -> 1차추경 ( B ) | G4: 증감(B-A) | I4: 산 출 내 역 | T4: 직접 | U4: 간접 | V4: 계
A5: 관 | B5: 항 | C5: 목 | D5: 세목 | G5: 금액 | H5: 비율(%)
A6: 총 계 | E6: 380700000 | F6: =F7+F47+F52+F92+F89 -> 401500000 | G6: =G7+G47+G52+G92+G89 -> 20800000 | H6: =G6/E6*100 -> 5.4636196 | T6: =SUM(T8,T43,T44,T45,T51,T52) -> 250111310 | U6: =SUM(U39,U40,U44,U46,U50,U89) -> 138988690 | V6: =SUM(T6:U6) -> 389100000
A7: 사무비 | B7: 계 | E7: 172220000 | F7: =F8+F33+F38 -> 150959895 | G7: =G8+G33+G38 -> -21260105 | H7: =G7/E7*100 -> -12.344736 | V7: ='[1]다-3.후원금세입'!E6-'[1]라-3.후원금세출'!F6 -> 0
B8: 인건비 | C8: 소계 | E8: 50705030 | F8: =F9+F10+F11+F12+F26+F27+F32 -> 38011310 | G8: =F8-E8 -> -12693720 | H8: =G8/E8*100 -> -25.034439 | T8: =F8 -> 38011310 | X8: ='[1]다-3.후원금세입'!E6 -> 401500000
C9: 급여 | E9: 10000000 | F9: 3000000 | G9: =F9-E9 -> -7000000 | H9: =G9/E9*100 -> -70 | X9: =X8-F6 -> 0
C10: 상여금 | E10: 0 | F10: ='[1]인건비총계표(후원금)'!G49+'[1]인건비총계표(후원금)'!J49+'[1]인건비총계표(후원금)'!H49 -> 0 | G10: =F10-E10 -> 0 | H10: =G10/E10*100 -> #DIV/0!
C11: 일용잡급 | E11: 9600000 | F11: 9600000 | G11: =F11-E11 -> 0 | H11: =G11/E11*100 -> 0 | I11: 식당보조원 1명(1일 100,000 X 월6일) X 12개월 | X11: =X8-F6 -> 0
C12: 제수당 | D12: 소계 | E12: 0 | F12: =SUM(F13:F25) -> 0 | G12: =F12-E12 -> 0 | H12: =G12/E12*100 -> #DIV/0!
D13: 가계보조수당 | E13: 0 | F13: ='[1]인건비총계표(후원금)'!K49 -> 0 | G13: =F13-E13 -> 0 | H13: =G13/E13*100 -> #DIV/0!
D14: 교통급식비 | E14: 0 | F14: ='[1]인건비총계표(후원금)'!L6+'[1]인건비총계표(후원금)'!L49 -> 0 | G14: =F14-E14 -> 0 | H14: =G14/E14*100 -> #DIV/0!
D15: 명절휴가비 | E15: 0 | F15: ='[1]인건비총계표(후원금)'!M49 -> 0 | G15: =F15-E15 -> 0 | H15: =G15/E15*100 -> #DIV/0!
D16: 생활복지사수당 | E16: 0 | F16: 0 | G16: =F16-E16 -> 0 | H16: =G16/E16*100 -> #DIV/0!
D17: 생활지도원수당 | E17: 0 | F17: ='[1]인건비총계표(후원금)'!N49 -> 0 | G17: =F17-E17 -> 0 | H17: =G17/E17*100 -> #DIV/0!
D18: 조리.위생수당 | E18: 0 | F18: 0 | G18: =F18-E18 -> 0 | H18: =G18/E18*100 -> #DIV/0!
D19: 연장근로수당 | E19: 0 | F19: ='[1]인건비(후원금)'!L5 -> 0 | G19: =F19-E19 -> 0 | H19: =G19/E19*100 -> #DIV/0! | I19: 직원 처우개선비에 따른 연장근로수당
D20: 가족수당 | E20: 0 | F20: ='[1]인건비총계표(후원금)'!O49 -> 0 | G20: =F20-E20 -> 0 | H20: =G20/E20*100 -> #DIV/0!
D21: 직책보조비 | E21: 0 | F21: ='[1]인건비총계표(후원금)'!R49 -> 0 | G21: =F21-E21 -> 0 | H21: =G21/E21*100 -> #DIV/0!
D22: 자가운전보조금 | E22: 0 | F22: 0 | G22: =F22-E22 -> 0 | H22: =G22/E22*100 -> #DIV/0!
D23: 특수근무수당(도) | E23: 0 | F23: ='[1]인건비총계표(후원금)'!S49 -> 0 | G23: =F23-E23 -> 0 | H23: =G23/E23*100 -> #DIV/0!
D24: 처우개선비 | E24: 0 | F24: 0 | G24: =F24-E24 -> 0 | H24: =G24/E24*100 -> #DIV/0!
D25: 보전수당 | G25: =F25-E25 -> 0 | H25: =G25/E25*100 -> #DIV/0!
C26: 퇴직금및 적립금 | E26: 600000 | F26: =ROUNDUP(F9*8.3333%,-1) -> 250000 | G26: =F26-E26 -> -350000 | H26: =G26/E26*100 -> -58.333333
C27: 사회보험 부담비용 | D27: 소계 | E27: 505030 | F27: =SUM(F28:F31) -> 161310 | G27: =F27-E27 -> -343720 | H27: =G27/E27*100 -> -68.059323 | S27: 보험료산출
D28: 건강보험 부담금 | E28: 335030 | F28: =U28 -> 110310 | G28: =F28-E28 -> -224720 | H28: =G28/E28*100 -> -67.07459 | I28: 건강보험보험료 : 3,000,000원*3.335% = 100,050원 장기요양보험료 : 100,050원*10.25% = 10,260원 | S28: =ROUNDUP(F9*3.335%,-1) -> 100050 | T28: =ROUNDUP(S28*10.25%,-1) -> 10260 | U28: =SUM(S28:T28) -> 110310
D29: 국민연금부담금 | E29: 0 | F29: ='[1]인건비총계표(후원금)'!W49 -> 0 | G29: =F29-E29 -> 0 | H29: =G29/E29*100 -> #DIV/0! | S29: =ROUNDUP(F22*3.12%,-1) -> 0
D30: 고용보험 부담금 | E30: 90000 | F30: =T30 -> 27000 | G30: =F30-E30 -> -63000 | H30: =G30/E30*100 -> -70 | I30: 고용보험료 : 5,000,000원*0.9% = 45,000원 | S30: =F9 -> 3000000 | T30: =ROUNDUP(S30*0.9%,-1) -> 27000
D31: 산재보험 부담금 | E31: 80000 | F31: =T31 -> 24000 | G31: =F31-E31 -> -56000 | H31: =G31/E31*100 -> -70 | I31: 산재보험료 : 5,000,000원*0.8% = 40,000원 | S31: =F9 -> 3000000 | T31: =ROUNDUP(S31*0.8%,-1) -> 24000
C32: 기타후생경비 | E32: 30000000 | F32: 25000000 | G32: =F32-E32 -> -5000000 | H32: =G32/E32*100 -> -16.666667 | I32: 직원 동아리지원 및 역량강화훈련비,보수교육비 등
B33: 업무추진비 | C33: 소계 | E33: 0 | F33: =SUM(F34:F37) -> 0 | G33: =F33-E33 -> 0 | H33: =G33/E33*100 -> #DIV/0! | U33: =F33 -> 0
C34: 기관운영비 | E34: 0 | F34: 0 | G34: =F34-E34 -> 0 | H34: =G34/E34*100 -> #DIV/0!
C35: 직책보조비 | E35: 0 | F35: 0 | G35: =F35-E35 -> 0 | H35: =G35/E35*100 -> #DIV/0!
C36: 홍보비 | E36: 0 | F36: 0 | G36: =F36-E36 -> 0 | H36: =G36/E36*100 -> #DIV/0!
C37: 회의비 | E37: 0 | F37: 0 | G37: =F37-E37 -> 0 | H37: =G37/E37*100 -> #DIV/0!
B38: 운영비 | C38: 소계 | E38: 121514970 | F38: =SUM(F39,F40,F43:F46) -> 112948585 | G38: =F38-E38 -> -8566385 | H38: =G38/E38*100 -> -7.049654
C39: 여비 | E39: 5000000 | F39: 2000000 | G39: =F39-E39 -> -3000000 | H39: =G39/E39*100 -> -60 | I39: 교육참가비 및 여비 등 | U39: =F39 -> 2000000
C40: 수용비및 수수료 | D40: 소계 | E40: 40514970 | F40: =SUM(F41:F42) -> 41948585 | G40: =F40-E40 -> 1433615 | H40: =G40/E40*100 -> 3.5384822 | I40: CMS관리/소모품구입 | U40: =F40 -> 41948585
D41: 수용비및 수수료 | E41: 22514970 | F41: =23348585+600000 -> 23948585 | G41: =F41-E41 -> 1433615 | H41: =G41/E41*100 -> 6.3673858 | I41: 사무용품비, 인쇄비, 수수료 등
D42: 홍보비 | E42: 18000000 | F42: 18000000 | G42: =F42-E42 -> 0 | H42: =G42/E42*100 -> 0 | I42: 기관홍보물제작,소식지 제작
C43: 공공요금 | E43: 40000000 | F43: 40000000 | G43: =F43-E43 -> 0 | H43: =G43/E43*100 -> 0 | I43: 전기,전화,수도요금.DM발송,우편물발송요금 등 | T43: =F43 -> 40000000
C44: 제세공과금 | E44: 5000000 | F44: 8000000 | G44: =F44-E44 -> 3000000 | H44: =G44/E44*100 -> 60 | I44: 음식물배상보험, 가스안전보험, 협회비 보험료 등 | T44: =F44-U44 -> 7000000 | U44: 1000000
C45: 차량비 | E45: 21000000 | F45: 18000000 | G45: =F45-E45 -> -3000000 | H45: =G45/E45*100 -> -14.285714 | I45: 기관보유차량 유류비용 및 점검등 유지비용 | T45: =F45 -> 18000000
C46: 기타운영비 | E46: 10000000 | F46: 3000000 | G46: =F46-E46 -> -7000000 | H46: =G46/E46*100 -> -70 | I46: 종사자 단체복 구입등 | U46: =F46 -> 3000000
A47: 재산 조성비 | B47: 계 | E47: 150900000 | F47: =F48 -> 203400000 | G47: =F47-E47 -> 52500000 | H47: =G47/E47*100 -> 34.791252
B48: 시설비 | C48: 소계 | E48: 150900000 | F48: =SUM(F49:F51) -> 203400000 | G48: =F48-E48 -> 52500000 | H48: =G48/E48*100 -> 34.791252
C49: 시설비 | E49: 10000000 | G49: =F49-E49 -> -10000000 | H49: 100 | U49: =F49 -> 0
C50: 자산취득비 | E50: 60900000 | F50: 102400000 | G50: =F50-E50 -> 41500000 | H50: =G50/E50*100 -> 68.144499 | I50: 이용인생활동 가구, 음식물처리기,식기세척기,전기오븐등 10년이상 사용된 노후설비기구 교체비용및 업무용차량 구입할부금 | T50: 12400000 | U50: =F50-T50 -> 90000000
C51: 시설장비 유지비 | E51: 80000000 | F51: 101000000 | G51: =F51-E51 -> 21000000 | H51: =G51/E51*100 -> 26.25 | I51: 전기안전점검료, 정화조유지비,승강기유지비 등 | T51: =F51 -> 101000000
A52: 사업비 | B52: 계 | E52: 56780000 | F52: =SUM(F53,F76,F87) -> 46100000 | G52: =F52-E52 -> -10680000 | H52: =G52/E52*100 -> -18.80944 | T52: =F52 -> 46100000
B53: 운영비 | C53: 소계 | E53: 12000000 | F53: =SUM(F54,F55,F59) -> 10000000 | G53: =F53-E53 -> -2000000 | H53: =G53/E53*100 -> -16.666667
C54: 생계비 | E54: 5000000 | F54: 5000000 | G54: =F54-E54 -> 0 | H54: =G54/E54*100 -> 0
C55: 수용기관경비 | D55: 소계 | E55: 6000000 | F55: =SUM(F56:F57) -> 4000000 | G55: =F55-E55 -> -2000000 | H55: =G55/E55*100 -> -33.333333
D56: 수용기관 경비 | E56: 3000000 | F56: 1000000 | G56: =F56-E56 -> -2000000 | H56: =G56/E56*100 -> -66.666667
D57: 위생재료비 | E57: 3000000 | F57: 3000000 | G57: =F57-E57 -> 0 | H57: =G57/E57*100 -> 0
C58: 피복비 | E58: 0 | F58: 0 | G58: =F58-E58 -> 0 | H58: =G58/E58*100 -> #DIV/0!
C59: 의료비 | E59: 1000000 | F59: 1000000 | G59: =F59-E59 -> 0 | H59: =G59/E59*100 -> 0
C60: 장의비 | E60: 0 | F60: 0 | G60: =F60-E60 -> 0 | H60: =G60/E60*100 -> #DIV/0!
C61: 직업재활비 | E61: 0 | F61: 0 | G61: =F61-E61 -> 0 | H61: =G61/E61*100 -> #DIV/0!
C62: 자활사업비 | E62: 0 | F62: 0 | G62: =F62-E62 -> 0 | H62: =G62/E62*100 -> #DIV/0!
C63: 특별급식비 | E63: 0 | F63: 0 | G63: =F63-E63 -> 0 | H63: =G63/E63*100 -> #DIV/0!
C64: 연료비 | E64: 0 | F64: 0 | G64: =F64-E64 -> 0 | H64: =G64/E64*100 -> #DIV/0!
B65: 교육비 | C65: 소계 | E65: 0 | F65: =SUM(F66:F75) -> 0 | G65: =F65-E65 -> 0 | H65: =G65/E65*100 -> #DIV/0!
C66: 수업료 | E66: 0 | F66: 0 | G66: =F66-E66 -> 0 | H66: =G66/E66*100 -> #DIV/0!
C67: 학용품비 | E67: 0 | F67: 0 | G67: =F67-E67 -> 0 | H67: =G67/E67*100 -> #DIV/0!
C68: 도서구입비 | E68: 0 | F68: 0 | G68: =F68-E68 -> 0 | H68: =G68/E68*100 -> #DIV/0!
C69: 교통비 | E69: 0 | F69: 0 | G69: =F69-E69 -> 0 | H69: =G69/E69*100 -> #DIV/0!
C70: 급식비 | E70: 0 | F70: 0 | G70: =F70-E70 -> 0 | H70: =G70/E70*100 -> #DIV/0!
C71: 학습지원비 | E71: 0 | F71: 0 | G71: =F71-E71 -> 0 | H71: =G71/E71*100 -> #DIV/0!
C72: 수학여행비 | E72: 0 | F72: 0 | G72: =F72-E72 -> 0 | H72: =G72/E72*100 -> #DIV/0!
C73: 교복비 | E73: 0 | F73: 0 | G73: =F73-E73 -> 0 | H73: =G73/E73*100 -> #DIV/0!
C74: 이미용비 | E74: 0 | F74: 0 | G74: =F74-E74 -> 0 | H74: =G74/E74*100 -> #DIV/0!
C75: 기타교육비 | E75: 0 | F75: 0 | G75: =F75-E75 -> 0 | H75: =G75/E75*100 -> #DIV/0!
B76: 사업비 | C76: 소계 | E76: 43280000 | F76: =SUM(F78:F82) -> 33280000 | G76: =F76-E76 -> -10000000 | H76: =G76/E76*100 -> -23.10536
C77: 의료재활사업비 | E77: 0 | F77: 0 | G77: =F77-E77 -> 0 | H77: =G77/E77*100 -> #DIV/0!
C78: 사회심리 재활사업비 | E78: 40000000 | F78: 30000000 | G78: =F78-E78 -> -10000000 | H78: =G78/E78*100 -> -25 | I78: 여행,등산,놀이 등에 소요되는 여비,기구 구입비
C79: 교육재활사업비 | E79: 0 | F79: 0 | G79: =F79-E79 -> 0 | H79: =G79/E79*100 -> #DIV/0! | I79: 생활장애인의 교육 및 교양함양을 위한 교재/도서 구입비
C80: 직업재활 사업비 | E80: 0 | F80: 0 | G80: =F80-E80 -> 0 | H80: =G80/E80*100 -> #DIV/0!
C81: 재활프로그램 사업비 | E81: 3280000 | F81: 3280000 | G81: =F81-E81 -> 0 | H81: =G81/E81*100 -> 0 | I81: 2020년 재활프로그램 중증장애인의 직업능력개발을 위한 목공프로그램 “우드잡 woodjob” 선정
G82: =F82-E82 -> 0 | H82: =G82/E82*100 -> #DIV/0!
C83: 기능보강사업비 | D83: 소계 | E83: 0 | F83: =F84 -> 0 | G83: =F83-E83 -> 0 | H83: =G83/E83*100 -> #DIV/0!
D84: 기능보강사업비 | E84: 0 | F84: 0 | G84: =F84-E84 -> 0 | H84: =G84/E84*100 -> #DIV/0! | I84: 기능보강사업 직업재활프로그램실 증축공사종료 | T84: =F84 -> 0
C85: 공동모금회사업비 | D85: 소계 | E85: 0 | F85: =F86 -> 0 | G85: =F85-E85 -> 0 | H85: =G85/E85*100 -> #DIV/0! | T85: =F85 -> 0
D86: 공동모금회사업비 | E86: 0 | F86: 0 | G86: =F86-E86 -> 0 | H86: =G86/E86*100 -> #DIV/0!
B87: 결연 사업비 | C87: 소계 | E87: 1500000 | F87: =F88 -> 2820000 | G87: =F87-E87 -> 1320000 | H87: =G87/E87*100 -> 88
C88: 결연후원금 | E88: 1500000 | F88: 2820000 | G88: =F88-E88 -> 1320000 | H88: =G88/E88*100 -> 88
A89: 과년도 지출 | B89: 계 | E89: 800000 | F89: =F90 -> 1040105 | G89: =F89-E89 -> 240105 | H89: =G89/E89*100 -> 30.013125 | U89: =F89 -> 1040105
B90: 과년도지출 | C90: 소계 | E90: 800000 | F90: =F91 -> 1040105 | G90: =F90-E90 -> 240105 | H90: =G90/E90*100 -> 30.013125
C91: 과년도지출 | E91: 800000 | F91: 1040105 | G91: =F91-E91 -> 240105 | H91: =G91/E91*100 -> 30.013125 | I91: 일용직인건비등 2019년 미지급분정산
A92: 잡지출 | B92: 계 | E92: 0 | F92: =F93 -> 0 | G92: =F92-E92 -> 0 | H92: =G92/E92*100 -> #DIV/0! | U92: =F92 -> 0
B93: 예비비 및기타 | C93: 계 | E93: 0 | F93: =F94 -> 0 | G93: =F93-E93 -> 0 | H93: =G93/E93*100 -> #DIV/0!
C94: 반환금 | D94: 소계 | E94: 0 | F94: =F95 -> 0 | G94: =F94-E94 -> 0 | H94: =G94/E94*100 -> #DIV/0!
A95: 예비비 | D95: 공동모금회 사업비반환 | E95: 0 | F95: 0 | G95: =F95-E95 -> 0 | H95: =G95/E95*100 -> #DIV/0! | U95: =F95 -> 0
B96: 예비비 | C96: 소계 | E96: 0 | F96: =F97 -> 0 | G96: =F96-E96 -> 0 | H96: =G96/E96*100 -> #DIV/0!
C97: 예비비 | E97: 0 | F97: 0 | G97: =F97-E97 -> 0 | H97: =G97/E97*100 -> #DIV/0!

Sheet 다.후원금세입
A1: 다. 세 입
A2: 3) 후원금세입내역
H3: (단위:원)
A4: 과 목 | D4: ='[1]다-2.자부담세입'!D4:D5 -> 당초예산 ( A ) | E4: ='[1]다-2.자부담세입'!E4:E5 -> 1차추경 ( B ) | F4: 증감(B-A) | H4: 산 출 내 역
A5: 관 | B5: 항 | C5: 목 | F5: 금액 | G5: 비율(%)
A6: 총 계 | D6: 380700000 | E6: =E16+E22+E26+E29+E33 -> 401500000 | F6: =F10+F22+F26+F29+F33+F13+F7+F16 -> 20800000 | G6: =F6/D6*100 -> 5.4636196 | J6: =E6-'[1]라-3.후원금세출'!F6 -> 0
A7: 입소자부담금 | B7: 계 | D7: 0 | E7: =E8 -> 0 | F7: =F8 -> 0 | G7: 0
B8: 입소비용수입 | C8: 소계 | D8: 0 | E8: =E9 -> 0 | F8: =F9 -> 0 | G8: 0
C9: 입소비용수입 | D9: 0 | E9: 0 | F9: =E9-D9 -> 0 | G9: 0
A10: 과년도수입 | B10: 계 | D10: 0 | E10: =E11 -> 0 | F10: =F11 -> 0 | G10: 0
B11: 과년도수입 | C11: 소계 | D11: 0 | E11: =E12 -> 0 | F11: =F12 -> 0 | G11: 0
C12: 과년도수입 | D12: 0 | E12: 0 | F12: =E12-D12 -> 0 | G12: 0
A13: 보조금수입 | B13: 계 | D13: 0 | E13: =E14 -> 0 | F13: =F14 -> 0 | G13: 0
B14: 후원금수입 | C14: 소계 | D14: 0 | E14: =E15 -> 0 | F14: =F15 -> 0 | G14: 0
C15: 후원금수입 | D15: 0 | E15: 0 | F15: =E15-D15 -> 0 | G15: 0
A16: 후원금수입 | B16: 계 | D16: 364200000 | E16: =E17+E20 -> 378500000 | F16: =E16-D16 -> 14300000 | G16: =F16/D16*100 -> 3.9264141
B17: 후원금수입 | C17: 소계 | D17: 364200000 | E17: =SUM(E18:E19) -> 378500000 | F17: =E17-D17 -> 14300000 | G17: =F17/D17*100 -> 3.9264141
C18: 지정후원금 | D18: 14200000 | E18: =12400000+3280000+2820000+20000000 -> 38500000 | F18: =E18-D18 -> 24300000 | G18: =F18/D18*100 -> 171.12676 | H18: * 차량구입 지정후원 : 12,400,000원 * 재활프로그램 지정후원 : 3,280,000원 * 결연후원금 : 2,820,000원 * 재난복구지정후원(법인) : 20,000,000원
C19: 비지정후원금 | D19: 350000000 | E19: 340000000 | F19: =E19-D19 -> -10000000 | G19: =F19/D19*100 -> -2.8571429 | H19: * 월평균 28,333,333원*12월
F20: =E20-D20 -> 0 | G20: =F20/D20*100 -> #DIV/0!
F21: =E21-D21 -> 0 | G21: =F21/D21*100 -> #DIV/0!
A22: 차입금 | B22: 계 | D22: 0 | E22: =E23 -> 0 | F22: =E22-D22 -> 0 | G22: 0
B23: 차입금 | C23: 소계 | D23: 0 | E23: =SUM(E24:E25) -> 0 | F23: =E23-D23 -> 0 | G23: 0
C24: 금융기관차입 | D24: 0 | E24: 0 | F24: =E24-D24 -> 0 | G24: 0
C25: 기타차입금 | D25: 0 | E25: 0 | F25: =E25-D25 -> 0 | G25: 0
A26: 전입금 | B26: 계 | D26: 0 | E26: =E27 -> 0 | F26: =E26-D26 -> 0 | G26: 0
B27: 전입금 | C27: 소계 | D27: 0 | E27: =E28 -> 0 | F27: =E27-D27 -> 0 | G27: 0
C28: 법인전입금 | D28: 0 | E28: 0 | F28: =E28-D28 -> 0 | G28: 0
A29: 이월금 | B29: 계 | D29: 15900000 | E29: =E30 -> 22458368 | F29: =E29-D29 -> 6558368 | G29: =F29/D29*100 -> 41.247597
B30: 이월금 | C30: 소계 | D30: 15900000 | E30: =SUM(E31:E32) -> 22458368 | F30: =E30-D30 -> 6558368 | G30: =F30/D30*100 -> 41.247597
C31: 전년도이월금 | D31: 15900000 | E31: =18629586+3008670+820112 -> 22458368 | F31: =E31-D31 -> 6558368 | G31: =F31/D31*100 -> 41.247597 | H31: * 비지정후원금 이월금 (18,629,586원), * 지정후원금 이월금 ( 3,008,670원), * 후원금예금이자 이월금 ( 원).
C32: 이월사업비 | D32: 0 | E32: 0 | F32: =E32-D32 -> 0 | G32: 0
A33: 잡수입 | B33: 계 | D33: 600000 | E33: =E34 -> 541632 | F33: =E33-D33 -> -58368 | G33: =F33/D33*100 -> -9.728
B34: 잡수입 | C34: 소계 | D34: 600000 | E34: =SUM(E35:E37) -> 541632 | F34: =E34-D34 -> -58368 | G34: =F34/D34*100 -> -9.728
C35: 불용품매각대 | D35: 0 | E35: 0 | F35: =E35-D35 -> 0 | G35: 0
C36: 기타예금이자수입 | D36: 600000 | E36: 541632 | F36: =E36-D36 -> -58368 | G36: =F36/D36*100 -> -9.728 | L36: =시군구세출!E39+국도비세출!E61+자부담세입!D28+다.후원금세입!D31 -> 53487000
C37: 기타잡수입 | D37: 0 | E37: 0 | F37: =E37-D37 -> 0 | G37: 0
E67: 0

Sheet 자부담세입
A1: 다. 세 입
A2: 2) 자부담세입내역
H3: (단위:원)
A4: 과 목 | D4: =[1]다.국도시세입!E4:E5 -> 당초예산 ( A ) | E4: =[1]다.국도시세입!F4:F5 -> 1차추경 ( B ) | F4: 증감 (B-A) | H4: 산 출 내 역
A5: 관 | B5: 항 | C5: 목 | F5: 금액 | G5: 비율(%)
A6: 총 계 | D6: 226800000 | E6: =E7+E10+E13+E16+E19+E23+E26+E30 -> 256950000 | F6: =F7+F10+F13+F16+F19+F23+F26+F30 -> 30150000 | G6: =F6/D6*100 -> 13.293651 | J6: =E6-'[1]라-2.자부담세출'!F6 -> 0
A7: 입소자부담금 | B7: 계 | D7: 134400000 | E7: =E8 -> 134400000 | F7: =F8 -> 0 | G7: =F7/D7*100 -> 0
B8: 입소비용수입 | C8: 소계 | D8: 134400000 | E8: =E9 -> 134400000 | F8: =F9 -> 0 | G8: =F8/D8*100 -> 0
C9: 입소비용수입 | D9: 134400000 | E9: 134400000 | F9: =E9-D9 -> 0 | G9: =F9/D9*100 -> 0 | H9: 실비인원 32명*350,000원*12개월=134,400,000원
A10: 사업수입 | B10: 계 | D10: 0 | E10: =E11 -> 0 | F10: =F11 -> 0 | G10: 0
B11: 사업수입 | C11: 소계 | D11: 0 | E11: =E12 -> 0 | F11: =F12 -> 0 | G11: 0
C12: 프로그램사업수입 | D12: 0 | E12: 0 | F12: =E12-D12 -> 0 | G12: 0 | H12: 0
A13: 과년도수입 | B13: 계 | D13: 0 | E13: =E14 -> 0 | F13: =F14 -> 0 | G13: 0
B14: 과년도수입 | C14: 소계 | D14: 0 | E14: =E15 -> 0 | F14: =F15 -> 0 | G14: 0
C15: 과년도수입 | D15: 0 | E15: 0 | F15: =E15-D15 -> 0 | G15: 0
A16: 보조금수입 | B16: 계 | D16: 0 | E16: =E17 -> 0 | F16: =F17 -> 0 | G16: 0
C17: 소계 | D17: 0 | E17: =E18 -> 0 | F17: =F18 -> 0 | G17: 0
D18: 0 | E18: 0 | F18: =C18-B18 -> 0 | G18: 0
A19: 차입금 | B19: 계 | D19: 0 | E19: =E20 -> 0 | F19: =F20 -> 0 | G19: 0
B20: 차입금 | C20: 소계 | D20: 0 | E20: =SUM(E21:E22) -> 0 | F20: =SUM(F21:F22) -> 0 | G20: 0
C21: 금융기관차입 | D21: 0 | E21: 0 | F21: =E21-D21 -> 0 | G21: 0
C22: 기타차입금 | D22: 0 | E22: 0 | F22: =E22-D22 -> 0 | G22: 0
A23: 전입금 | B23: 계 | D23: 40000000 | E23: =E24 -> 40000000 | F23: =F24 -> 0 | G23: =F23/D23*100 -> 0
B24: 전입금 | C24: 소계 | D24: 40000000 | E24: =E25 -> 40000000 | F24: =F25 -> 0 | G24: =F24/D24*100 -> 0
C25: 법인전입금 | D25: 40000000 | E25: 40000000 | F25: =E25-D25 -> 0 | G25: =F25/D25*100 -> 0
A26: 이월금 | B26: 계 | D26: 6300000 | E26: =E27 -> 22433122 | F26: =F27 -> 16133122 | G26: =F26/D26*100 -> 256.0813
B27: 이월금 | C27: 소계 | D27: 6300000 | E27: =SUM(E28:E29) -> 22433122 | F27: =SUM(F28:F29) -> 16133122 | G27: =F27/D27*100 -> 256.0813
C28: 전년도이월금 | D28: 6300000 | E28: =9105019+3080563+2970859+7098481+160842+17358 -> 22433122 | F28: =E28-D28 -> 16133122 | G28: =F28/D28*100 -> 256.0813 | H28: * 입소비용수입 이월금( 9,105,019원) * 법인전입금 이월금 ( 3,080,563원) * 종사자식대 이월금 ( 2,970,859원) * 기타 잡수입 이월금 ( 7,098,481원) * 예금이자 이월금 ( 178,200원)
C29: 이월사업비 | D29: 0 | E29: 0 | F29: =E29-D29 -> 0 | G29: 0
A30: 잡수입 | B30: 계 | D30: 46100000 | E30: =E31 -> 60116878 | F30: =F31 -> 14016878 | G30: =F30/D30*100 -> 30.405375
B31: 잡수입 | C31: 소계 | D31: 46100000 | E31: =SUM(E32:E34) -> 60116878 | F31: =SUM(F32:F34) -> 14016878 | G31: =F31/D31*100 -> 30.405375
C32: 불용품매각대 | D32: 500000 | E32: 500000 | F32: =E32-D32 -> 0 | G32: =F32/D32*100 -> 0
C33: 기타예금이자수입 | D33: 550000 | E33: 566878 | F33: =E33-D33 -> 16878 | G33: =F33/D33*100 -> 3.0687273
C34: 기타잡수입 | D34: 45050000 | E34: 59050000 | F34: =E34-D34 -> 14000000 | G34: =F34/D34*100 -> 31.076582 | H34: 종사자급식비34,000,000/ 임대료(SK,LG) 6,050,000/ 기타 19,000,000
E67: 0

Sheet 국도비세입
A1: 다. 세 입
A2: 1) 보조금세입내역
I3: (단위:원)
A4: 과 목 | E4: ='[1]나.세입세출(총괄)'!D4:D5 -> 당초예산 ( A ) | F4: ='[1]나.세입세출(총괄)'!E4:E5 -> 1차추경 ( B ) | G4: 증감 (B-A) | I4: 산 출 내 역
A5: 관 | B5: 항 | C5: 목 | G5: 금액 | H5: 비율(%)
A6: 총 계 | E6: 2415800000 | F6: =F7+F10+F13+F32+F36 -> 2767810000 | G6: =G7+G10+G13+G32+G36 -> 352010000 | H6: =G6/E6*100 -> 14.571157 | J6: =E6-[1]라.국도비세출!E6 -> 0 | K6: =F6-[1]라.국도비세출!F6 -> 0
A7: 입소자부담금 | B7: 계 | E7: 0 | F7: =F8 -> 0 | G7: =G8 -> 0 | H7: 0
B8: 입소비용수입 | C8: 소계 | E8: 0 | F8: =F9 -> 0 | G8: =F8-E8 -> 0 | H8: 0
C9: 입소비용수입 | E9: 0 | F9: 0 | G9: =F9-E9 -> 0 | H9: 0
A10: 과년도수입 | B10: 계 | E10: 0 | F10: =F11 -> 0 | G10: =G11 -> 0 | H10: 0
B11: 과년도수입 | C11: 소계 | E11: 0 | F11: =F12 -> 0 | G11: =G12 -> 0 | H11: 0
C12: 과년도수입 | E12: 0 | F12: 0 | G12: =F12-E12 -> 0 | H12: 0
A13: 보조금수입 | B13: 계 | E13: 2390052520 | F13: =SUM(F14,F25) -> 2762069390 | G13: =F13-E13 -> 372016870 | H13: =G13/E13*100 -> 15.565217
B14: 보조금수입 | C14: 소계 | E14: 2390052520 | F14: =SUM(F15,F20) -> 2762069390 | G14: =F14-E14 -> 372016870 | H14: =G14/E14*100 -> 15.565217
C15: 국고보조금(70%) | D15: 소 계 | E15: 1672616764 | F15: =SUM(F16:F19) -> 1933028813 | G15: =F15-E15 -> 260412049 | H15: =G15/E15*100 -> 15.56914 | I15: * 인 건 비(70%) : 1,762,166,875원 * 관 리 운 영 비(70%) : 71,270,500원 * 생 계 비(70%) : 98,517,440원 * 기능보강사업비(50%) : 1,049,400원
C16: 인건비(70%) | D16: =[1]라.국도비세출!B8 -> 인건비 | E16: 1507743916 | F16: =([1]라.국도비세출!F9+[1]라.국도비세출!F11+[1]라.국도비세출!F12+[1]라.국도비세출!F13+[1]라.국도비세출!F15+[1]라.국도비세출!F16)*70% -> 1762191473 | G16: =F16-E16 -> 254447557 | H16: =G16/E16*100 -> 16.876046
C17: 관리운영비(70%) | D17: 운영비 | E17: 69769000 | F17: =[1]라.국도비세출!Q7*70% -> 71270500 | G17: =F17-E17 -> 1501500 | H17: =G17/E17*100 -> 2.1521019
C18: 생계비(70%) | D18: 생계비 | E18: 94053848 | F18: =[1]라.국도비세출!F43*70% -> 98517440 | G18: =F18-E18 -> 4463592 | H18: =G18/E18*100 -> 4.7457835
C19: 기능보강사업비(50%) | E19: 1050000 | F19: =[1]라.국도비세출!F52/2 -> 1049400 | G19: =F19-E19 -> -600 | H19: 0
C20: 시도보조금(30%) | D20: 소 계 | E20: 717435756 | F20: =SUM(F21:F24) -> 829040577 | G20: =F20-E20 -> 111604821 | H20: =G20/E20*100 -> 15.556072 | I20: * 인 건 비 (30%) : 646,119,303원 * 관리운영비 (30%) : 30,544,500원 * 생 계 비 (30%) : 42,221,760원 * 기능보강사업(50%) : 1,049,400원
C21: 인건비(30%) | D21: =D16 -> 인건비 | E21: 646175964 | F21: =([1]라.국도비세출!F9+[1]라.국도비세출!F11+[1]라.국도비세출!F12+[1]라.국도비세출!F13+[1]라.국도비세출!F15+[1]라.국도비세출!F16)*30% -> 755224917 | G21: =F21-E21 -> 109048953 | H21: =G21/E21*100 -> 16.876046
C22: 관리운영비(30%) | D22: =D17 -> 운영비 | E22: 29901000 | F22: =[1]라.국도비세출!Q7*30% -> 30544500 | G22: =F22-E22 -> 643500 | H22: =G22/E22*100 -> 2.1521019
C23: 생계비(30%) | D23: =D18 -> 생계비 | E23: 40308792 | F23: =[1]라.국도비세출!F43*30% -> 42221760 | G23: =F23-E23 -> 1912968 | H23: =G23/E23*100 -> 4.7457835
C24: 기능보강사업비(50%) | E24: 1050000 | F24: =[1]라.국도비세출!F52/2 -> 1049400 | G24: =F24-E24 -> -600 | H24: 0
B25: 기타보조금 | C25: 소계 | D25: 소 계 | G25: =F25-E25 -> 0 | H25: =G25/E25*100 -> #DIV/0!
C26: 기타보조금 | G26: =F26-E26 -> 0 | H26: =G26/E26*100 -> #DIV/0!
H27: =G27/E27*100 -> #DIV/0!
G28: =F28-E28 -> 0 | H28: =G28/E28*100 -> #DIV/0!
E29: 0 | F29: 0 | G29: =F29-E29 -> 0 | H29: =G29/E29*100 -> #DIV/0!
G30: =F30-E30 -> 0 | H30: =G30/E30*100 -> #DIV/0!
E31: 0 | F31: 0 | G31: =F31-E31 -> 0 | H31: =G31/E31*100 -> #DIV/0!
A32: 이월금 | B32: 계 | E32: 25205000 | F32: =F33 -> 5170000 | G32: =G33 -> -20035000 | H32: =G32/E32*100 -> -79.488197
B33: 이월금 | C33: 소계 | E33: 25205000 | F33: =SUM(F34:F35) -> 5170000 | G33: =SUM(G34:G35) -> -20035000 | H33: =G33/E33*100 -> -79.488197
C34: 전년도이월금 | E34: 25205000 | F34: 5170000 | G34: =F34-E34 -> -20035000 | H34: =G34/E34*100 -> -79.488197 | I34: * 운영비 이월금 : 5,003,680원 * 운영비 예금이자 이월금 : 162,040원 * 생계비 예금이자 이월금 : 4,280원
C35: 이월사업비 | E35: 0 | F35: 0 | G35: =F35-E35 -> 0 | H35: =G35/E35*100 -> #DIV/0!
A36: 잡수입 | B36: 계 | E36: 542480 | F36: =F37 -> 570610 | G36: =G37 -> 28130 | H36: =G36/E36*100 -> 5.1854446
B37: 잡수입 | C37: 소계 | E37: 542480 | F37: =SUM(F38:F40) -> 570610 | G37: =SUM(G38:G40) -> 28130 | H37: =G37/E37*100 -> 5.1854446
C38: 불용품매각대 | E38: 0 | F38: 0 | G38: =F38-E38 -> 0 | H38: 0
C39: 기타예금이자수입 | E39: 542480 | F39: =[1]라.국도비세출!F58 -> 570610 | G39: =F39-E39 -> 28130 | H39: =G39/E39*100 -> 5.1854446
C40: 기타잡수입 | E40: 0 | F40: 0 | G40: =F40-E40 -> 0 | H40: 0
F74: 0

Sheet 시군구세입
A1: 다-1. 세 입
A2: 1) 보조금세입내역
I3: (단위:원)
A4: 과 목 | E4: ='[1]나.세입세출(총괄)'!D4:D5 -> 당초예산 ( A ) | F4: ='[1]나.세입세출(총괄)'!E4:E5 -> 1차추경 ( B ) | G4: 증감 (B-A) | I4: 산 출 내 역
A5: 관 | B5: 항 | C5: 목 | D5: 세목 | G5: 금액 | H5: 비율(%)
A6: 총 계 | E6: 207420000 | F6: =F7+F10+F13+F23+F27 -> 207510000 | G6: =G7+G10+G13+G23+G27 -> 90000 | H6: =G6/E6*100 -> 0.043390223 | K6: =F6-'[1]라-1.도시(군)세출'!F6 -> 0
A7: 입소자부담금 | B7: 계 | E7: 0 | F7: =F8 -> 0 | G7: =G8 -> 0 | H7: 0 | K7: =E6-'[1]라-1.도시(군)세출'!E6 -> 0
B8: 입소비용수입 | C8: 소계 | E8: 0 | F8: =F9 -> 0 | G8: =F8-E8 -> 0 | H8: 0
C9: 입소비용수입 | E9: 0 | F9: 0 | G9: =F9-E9 -> 0 | H9: 0
A10: 과년도수입 | B10: 계 | E10: 0 | F10: =F11 -> 0 | G10: =G11 -> 0 | H10: 0
B11: 과년도수입 | C11: 소계 | E11: 0 | F11: =F12 -> 0 | G11: =G12 -> 0 | H11: 0
C12: 과년도수입 | E12: 0 | F12: 0 | G12: =F12-E12 -> 0 | H12: 0
A13: 시도보조금 | B13: 계 | E13: 201271300 | F13: =SUM(F14,F21) -> 204100630 | G13: =F13-E13 -> 2829330 | H13: =G13/E13*100 -> 1.4057295
B14: 시도보조금 | C14: 소계 | E14: 194551300 | F14: =SUM(F15:F20) -> 197380630 | G14: =F14-E14 -> 2829330 | H14: =G14/E14*100 -> 1.4542848
D15: 7종인건비 | E15: 155111300 | F15: ='[1]라-1.도시(군)세출'!F7 -> 155850630 | G15: =F15-E15 -> 739330 | H15: =G15/E15*100 -> 0.47664484 | I15: * 7종 인건비 보조금 : 134,853,900원 * 연장추가지원수당 : 26,480,700원 | K15: ='[1]라-1.도시(군)세출'!T7+'[1]라-1.도시(군)세출'!F13-F15 -> 0
D16: ='[1]라-1.도시(군)세출'!D22 -> 차량운영비 | E16: 3600000 | F16: ='[1]라-1.도시(군)세출'!F22 -> 3600000 | G16: =F16-E16 -> 0 | H16: =G16/E16*100 -> 0
D17: ='[1]라-1.도시(군)세출'!D23 -> 환경개선사업 | E17: 0 | F17: ='[1]라-1.도시(군)세출'!F23 -> 0 | G17: =F17-E17 -> 0 | H17: =G17/E17*100 -> #DIV/0!
D18: ='[1]라-1.도시(군)세출'!D24 -> 간병인비 | E18: 3000000 | F18: ='[1]라-1.도시(군)세출'!F24 -> 3000000 | G18: =F18-E18 -> 0 | H18: =G18/E18*100 -> 0
D19: 4종(100%) | E19: 32840000 | F19: ='[1]라-1.도시(군)세출'!F25 -> 32840000 | G19: =F19-E19 -> 0 | H19: =G19/E19*100 -> 0
D20: 기능보강사업비 | F20: ='[1]라-1.도시(군)세출'!F33 -> 2090000 | G20: =F20-E20 -> 2090000 | H20: =G20/E20*100 -> #DIV/0!
B21: 기타보조금 | C21: 소계 | D21: 소 계 | E21: 6720000 | F21: =F22 -> 6720000 | G21: =F21-E21 -> 0 | H21: =G21/E21*100 -> 0
C22: 기타보조금 | D22: 재활프로그램사업비 | E22: 6720000 | F22: 6720000 | G22: =F22-E22 -> 0 | H22: =G22/E22*100 -> 0 | I22: 2020년 재활프로그램 중증장애인의 직업능력개발을 위한 목공프로그램 “우드잡 woodjob” 선정
A23: 이월금 | B23: 계 | E23: =E24 -> 6082000 | F23: =F24 -> 3343190 | G23: =G24 -> -2738810 | H23: =G23/E23*100 -> -45.031404
B24: 이월금 | C24: 소계 | E24: 6082000 | F24: =SUM(F25:F26) -> 3343190 | G24: =SUM(G25:G26) -> -2738810 | H24: =G24/E24*100 -> -45.031404
C25: 전년도이월금 | E25: 6082000 | F25: 3343190 | G25: =F25-E25 -> -2738810 | H25: =G25/E25*100 -> -45.031404 | I25: * 7종 보조금 이월금 : 1,231,470원 * 7종 예금이자 이월금 : 11,940원 * 4종 보조금 이월금 : 40,000원 * 4종 예금이자 이월금 : 6,190원 * 재활프로그램 예금이자 이월금: 3,400원 * 추가지원 보조금 이월금 : 1,690,580원 * 추가지원 예금이자 이월금 : 4,460원 * 기능보강 이월금 : 341,740원 * 기능보강 예금이자 이월금 : 13,410원
C26: 이월사업비 | E26: 0 | F26: 0 | G26: =F26-E26 -> 0 | H26: =G26/E26*100 -> #DIV/0!
A27: 잡수입 | B27: 계 | E27: 66700 | F27: =F28 -> 66180 | G27: =G28 -> -520 | H27: =G27/E27*100 -> -0.77961019
B28: 잡수입 | C28: 소계 | E28: 66700 | F28: =SUM(F29:F31) -> 66180 | G28: =SUM(G29:G31) -> -520 | H28: =G28/E28*100 -> -0.77961019
C29: 불용품매각대 | E29: 0 | F29: 0 | G29: =F29-E29 -> 0 | H29: 0
C30: 기타예금이자수입 | E30: 66700 | F30: ='[1]라-1.도시(군)세출'!F36 -> 66180 | G30: =F30-E30 -> -520 | H30: =G30/E30*100 -> -0.77961019
C31: 기타잡수입 | E31: 0 | F31: 0 | G31: =F31-E31 -> 0 | H31: 0
F65: 0

Sheet 세입세출내역
A1: 나. 세입·세출 총괄
M2: (단위:원)
A3: 세 입 | H3: 세 출
A4: 과 목 | D4: 당초예산 ( A ) | E4: 1차추경 ( B ) | F4: 증감 (B-A) | H4: 과 목 | K4: =D4 -> 당초예산 ( A ) | L4: =E4 -> 1차추경 ( B ) | M4: 증감 (B-A)
A5: 관 | B5: 항 | C5: 목 | F5: 금액 | G5: 비율(%) | H5: 관 | I5: 항 | J5: 목 | M5: 금액 | N5: 비율(%)
A6: 총 계 | D6: 3230720000 | E6: =E7+E13+E16+E36+E39+E43+E10+E30 -> 3633770000 | F6: =F7+F13+F16+F36+F39+F43+F10+F30 -> 403050000 | G6: =F6/D6*100 -> 12.475547 | H6: 총 계 | K6: 3230720000 | L6: =SUM(L7,L24,L29,L45,L48,L51) -> 3633770000 | M6: =L6-K6 -> 403050000 | N6: =M6/K6*100 -> 12.475547 | O6: =K6-D6 -> 0 | P6: =E6-L6 -> 0
A7: 입소자부담금 | B7: 계 | D7: 134400000 | E7: =E8 -> 134400000 | F7: =F8 -> 0 | G7: =F7/D7*100 -> 0 | H7: 사무비 | I7: 계 | K7: 2628751180 | L7: =SUM(L8,L15,L17) -> 2985634915 | M7: =M8+M15+M17 -> 356883735 | N7: =M7/K7*100 -> 13.57617
B8: 입소비용수입 | C8: 소계 | D8: 134400000 | E8: =E9 -> 134400000 | F8: =F9 -> 0 | G8: =F8/D8*100 -> 0 | I8: 인건비 | J8: 소계 | K8: 2393247270 | L8: =SUM(L9:L14) -> 2744822050 | M8: =SUM(M9:M14) -> 351574780 | N8: =M8/K8*100 -> 14.690282
C9: 입소비용수입 | D9: 134400000 | E9: ='[1]다-2.자부담세입'!E9 -> 134400000 | F9: =E9-D9 -> 0 | G9: =F9/D9*100 -> 0 | J9: 급여 | K9: 1479465000 | L9: =[1]라.국도비세출!F9+'[1]라-3.후원금세출'!F9+'[1]라-1.도시(군)세출'!F8 -> 1699369000 | M9: =L9-K9 -> 219904000 | N9: =M9/K9*100 -> 14.863751
A10: 사업수입 | B10: 계 | D10: 0 | E10: =E11 -> 0 | F10: =F11 -> 0 | G10: =F10/D10*100 -> #DIV/0! | J10: 일용잡금 | K10: 9600000 | L10: ='[1]라-3.후원금세출'!F11 -> 9600000 | M10: =L10-K10 -> 0 | N10: =M10/K10*100 -> 0
B11: 사업수입 | C11: 소계 | D11: 0 | E11: =E12 -> 0 | F11: =F12 -> 0 | G11: =F11/D11*100 -> #DIV/0! | J11: 제수당 | K11: 509510880 | L11: =[1]라.국도비세출!F10+'[1]라-3.후원금세출'!F12+'[1]라-2.자부담세출'!F12+'[1]라-1.도시(군)세출'!F9 -> 587891530 | M11: =L11-K11 -> 78380650 | N11: =M11/K11*100 -> 15.383509
C12: 프로그램사업수입 | D12: 0 | E12: ='[1]다-2.자부담세입'!E12 -> 0 | F12: =E12-D12 -> 0 | G12: =F12/D12*100 -> #DIV/0! | J12: 퇴직금및퇴직적립금 | K12: 164978100 | L12: =[1]라.국도비세출!F15+'[1]라-3.후원금세출'!F26+'[1]라-2.자부담세출'!F26+'[1]라-1.도시(군)세출'!F14 -> 190069410 | M12: =L12-K12 -> 25091310 | N12: =M12/K12*100 -> 15.208873
A13: 과년도수입 | B13: 계 | D13: 0 | E13: =E14 -> 0 | F13: =F14 -> 0 | G13: =F13/D13*100 -> #DIV/0! | J13: 사회보험부담비용 | K13: 187693290 | L13: =[1]라.국도비세출!F16+'[1]라-3.후원금세출'!F27+'[1]라-2.자부담세출'!F27+'[1]라-1.도시(군)세출'!F15 -> 220892110 | M13: =L13-K13 -> 33198820 | N13: =M13/K13*100 -> 17.687803
B14: 과년도수입 | C14: 소계 | D14: 0 | E14: =E15 -> 0 | F14: =F15 -> 0 | G14: =F14/D14*100 -> #DIV/0! | J14: 기타후생경비 | K14: 42000000 | L14: =[1]라.국도비세출!F21+'[1]라-2.자부담세출'!F32+'[1]라-3.후원금세출'!F32 -> 37000000 | M14: =L14-K14 -> -5000000 | N14: =M14/K14*100 -> -11.904762
C15: 과년도수입 | D15: 0 | E15: =[1]다.국도시세입!F12+'[1]다-2.자부담세입'!E15 -> 0 | F15: =E15-D15 -> 0 | G15: =F15/D15*100 -> #DIV/0! | I15: 업무추진비 | J15: 소계 | K15: 2490000 | L15: =L16 -> 2000000 | M15: =L15-K15 -> -490000 | N15: =M15/K15*100 -> -19.678715
A16: 보조금수입 | B16: 계 | D16: 2591323820 | E16: =E17+E23+E28 -> 2966170020 | F16: =F17+F23+F28 -> 374846200 | G16: =F16/D16*100 -> 14.465433 | J16: 회의비 | K16: 2490000 | L16: =[1]라.국도비세출!F25+'[1]라-2.자부담세출'!F37+'[1]라-3.후원금세출'!F37 -> 2000000 | M16: =L16-K16 -> -490000 | N16: =M16/K16*100 -> -19.678715
B17: =[1]다.국도시세입!B14 -> 보조금수입 | C17: 소계 | D17: =SUM(D18:D21) -> 2591323820 | E17: =SUM(E18:E21) -> 2966170020 | F17: =SUM(F18:F21) -> 374846200 | G17: =F17/D17*100 -> 14.465433 | I17: 운영비 | J17: 소계 | K17: 233013910 | L17: =SUM(L18:L23) -> 238812865 | M17: =SUM(M18:M23) -> 5798955 | N17: =M17/K17*100 -> 2.4886733
C18: 국도시보조금(70%) | D18: 1672616764 | E18: =[1]다.국도시세입!F15 -> 1933028813 | F18: =E18-D18 -> 260412049 | G18: =F18/D18*100 -> 15.56914 | J18: 여비 | K18: 5000000 | L18: =[1]라.국도비세출!F27+'[1]라-3.후원금세출'!F39 -> 2000000 | M18: =L18-K18 -> -3000000 | N18: =M18/K18*100 -> -60
C19: =[1]다.국도시세입!C20 -> 시도보조금(30%) | D19: =[1]다.국도시세입!E20 -> 717435756 | E19: =[1]다.국도시세입!F20 -> 829040577 | F19: =E19-D19 -> 111604821 | G19: =F19/D19*100 -> 15.556072 | J19: 수용비및수수료 | K19: 55288080 | L19: =[1]라.국도비세출!F28+'[1]라-2.자부담세출'!F40+'[1]라-3.후원금세출'!F40 -> 58112415 | M19: =L19-K19 -> 2824335 | N19: =M19/K19*100 -> 5.1083977
C20: 시도보조금(100%) | D20: ='[1]다-1.도시(군)세입'!E14 -> 194551300 | E20: ='[1]다-1.도시(군)세입'!F14 -> 197380630 | F20: =E20-D20 -> 2829330 | G20: =F20/D20*100 -> 1.4542848 | J20: 공공요금 | K20: 119100000 | L20: =[1]라.국도비세출!F29+'[1]라-2.자부담세출'!F41+'[1]라-3.후원금세출'!F43 -> 135000000 | M20: =L20-K20 -> 15900000 | N20: =M20/K20*100 -> 13.350126
C21: ='[1]다-1.도시(군)세입'!C22 -> 기타보조금 | D21: ='[1]다-1.도시(군)세입'!E22 -> 6720000 | E21: ='[1]다-1.도시(군)세입'!F22 -> 6720000 | F21: =E21-D21 -> 0 | G21: 0 | J21: 제세공과금 | K21: 13625830 | L21: =[1]라.국도비세출!F30+'[1]라-2.자부담세출'!F42+'[1]라-3.후원금세출'!F44 -> 13700450 | M21: =L21-K21 -> 74620 | N21: =M21/K21*100 -> 0.54763636
D22: 0 | E22: 0 | F22: =C22-B22 -> 0 | G22: 0 | J22: 차량비 | K22: 26000000 | L22: =[1]라.국도비세출!F34+'[1]라-2.자부담세출'!F43+'[1]라-3.후원금세출'!F45 -> 23000000 | M22: =L22-K22 -> -3000000 | N22: =M22/K22*100 -> -11.538462
D23: 0 | E23: =SUM(E24:E27) -> 0 | F23: =SUM(F24:F27) -> 0 | G23: 0 | J23: 기타운영비 | K23: 14000000 | L23: =[1]라.국도비세출!F35+'[1]라-2.자부담세출'!F44+'[1]라-3.후원금세출'!F46 -> 7000000 | M23: =L23-K23 -> -7000000 | N23: =M23/K23*100 -> -50
D24: 0 | E24: =[1]다.국도시세입!F28 -> 0 | F24: =C24-B24 -> 0 | G24: 0 | H24: 재산조성비 | I24: 계 | K24: 167900000 | L24: =SUM(L25) -> 229830000 | M24: =M25 -> 61930000 | N24: =M24/K24*100 -> 36.885051
D25: 0 | E25: =[1]다.국도시세입!F29 -> 0 | F25: =C25-B25 -> 0 | G25: 0 | I25: 시설비 | J25: 소계 | K25: 167900000 | L25: =SUM(L26:L28) -> 229830000 | M25: =SUM(M26:M28) -> 61930000 | N25: =M25/K25*100 -> 36.885051
D26: 0 | E26: =[1]다.국도시세입!F30 -> 0 | F26: =C26-B26 -> 0 | G26: 0 | J26: 시설비 | K26: 10000000 | L26: =[1]라.국도비세출!F38+'[1]라-2.자부담세출'!F47+'[1]라-3.후원금세출'!F49 -> 0 | M26: =L26-K26 -> -10000000 | N26: =M26/K26*100 -> -100
D27: 0 | E27: =[1]다.국도시세입!F31 -> 0 | F27: =C27-B27 -> 0 | G27: 0 | J27: 자산취득비 | K27: 65900000 | L27: =[1]라.국도비세출!F39+'[1]라-2.자부담세출'!F48+'[1]라-3.후원금세출'!F50 -> 107730000 | M27: =L27-K27 -> 41830000 | N27: =M27/K27*100 -> 63.474962
D28: 0 | E28: =E29 -> 0 | F28: =F29 -> 0 | G28: 0 | J28: 시설장비유지비 | K28: 92000000 | L28: =[1]라.국도비세출!F40+'[1]라-2.자부담세출'!F49+'[1]라-3.후원금세출'!F51 -> 122100000 | M28: =L28-K28 -> 30100000 | N28: =M28/K28*100 -> 32.717391
D29: 0 | E29: ='[1]다-3.후원금세입'!E14 -> 0 | F29: =E29-D29 -> 0 | G29: 0 | H29: 사업비 | I29: 계 | K29: 401372640 | L29: =SUM(L30,L36,L43) -> 408115000 | M29: =L29-K29 -> 6742360 | N29: =M29/K29*100 -> 1.6798255
A30: 후원금 | B30: 계 | D30: 364200000 | E30: =E31+E34 -> 378500000 | F30: =F31+F34 -> 14300000 | G30: =F30/D30*100 -> 3.9264141 | I30: 운영비 | J30: 소계 | K30: 254332640 | L30: =SUM(L31:L35) -> 274239200 | M30: =SUM(M31:M35) -> 19906560 | N30: =M30/K30*100 -> 7.8269781
B31: 후원금수입 | C31: 소계 | D31: 364200000 | E31: =SUM(E32:E33) -> 378500000 | F31: =SUM(F32:F33) -> 14300000 | G31: =F31/D31*100 -> 3.9264141 | J31: 생계비 | K31: 209362640 | L31: =[1]라.국도비세출!F44+[1]라.국도비세출!F45+[1]라.국도비세출!F46+'[1]라-2.자부담세출'!F52+'[1]라-3.후원금세출'!F54 -> 230739200 | M31: =L31-K31 -> 21376560 | N31: =M31/K31*100 -> 10.210303
C32: 지정후원금 | D32: 14200000 | E32: ='[1]다-3.후원금세입'!E18 -> 38500000 | F32: =E32-D32 -> 24300000 | G32: =F32/D32*100 -> 171.12676 | J32: 피복비 | K32: 4000000 | L32: ='[1]라-2.자부담세출'!F53 -> 4000000 | M32: =L32-K32 -> 0 | N32: =M32/K32*100 -> 0
C33: 비지정후원금 | D33: 350000000 | E33: ='[1]다-3.후원금세입'!E19 -> 340000000 | F33: =E33-D33 -> -10000000 | G33: =F33/D33*100 -> -2.8571429 | J33: ='[1]라-2.자부담세출'!C54 -> 수용기관경비 | K33: 37970000 | L33: =[1]라.국도비세출!F47+'[1]라-2.자부담세출'!F54+'[1]라-3.후원금세출'!F55 -> 36500000 | M33: =L33-K33 -> -1470000 | N33: =M33/K33*100 -> -3.8714775
D34: 0 | E34: =E35 -> 0 | F34: =F35 -> 0 | G34: 0 | J34: 의료비 | K34: 3000000 | L34: ='[1]라-2.자부담세출'!F57+'[1]라-3.후원금세출'!F59 -> 3000000 | M34: =L34-K34 -> 0 | N34: =M34/K34*100 -> 0
D35: 0 | E35: ='[1]다-3.후원금세입'!E20 -> 0 | F35: =E35-D35 -> 0 | G35: 0 | J35: 연료비 | K35: 0 | L35: ='[1]라-3.후원금세출'!F64 -> 0 | M35: =L35-K35 -> 0 | N35: 0
A36: 전입금 | B36: 계 | D36: 40000000 | E36: =E37 -> 40000000 | F36: =F37 -> 0 | G36: =F36/D36*100 -> 0 | I36: 사업비 | J36: 소계 | K36: 145540000 | L36: =SUM(L37:L42) -> 131055800 | M36: =L36-K36 -> -14484200 | N36: =M36/K36*100 -> -9.9520407
B37: 전입금 | C37: 소계 | D37: 40000000 | E37: =E38 -> 40000000 | F37: =F38 -> 0 | G37: =F37/D37*100 -> 0 | J37: 사회심리재활사업비 | K37: 89000000 | L37: =[1]라.국도비세출!F51+'[1]라-2.자부담세출'!F75+'[1]라-3.후원금세출'!F78 -> 72427000 | M37: =L37-K37 -> -16573000 | N37: =M37/K37*100 -> -18.621348
C38: 법인전입금 | D38: 40000000 | E38: ='[1]다-2.자부담세입'!E25 -> 40000000 | F38: =E38-D38 -> 0 | G38: =F38/D38*100 -> 0 | J38: 직업재활사업비 | K38: 5000000 | L38: ='[1]라-2.자부담세출'!F77+'[1]라-3.후원금세출'!F80 -> 5000000 | M38: =L38-K38 -> 0 | N38: =M38/K38*100 -> 0
A39: 이월금 | B39: 계 | D39: 53487000 | E39: =E40 -> 53404680 | F39: =F40 -> -82320 | G39: =F39/D39*100 -> -0.15390656 | J39: 4종운영지원사업비 | K39: 32840000 | L39: ='[1]라-1.도시(군)세출'!F25 -> 32840000 | M39: =L39-K39 -> 0 | N39: =M39/K39*100 -> 0
B40: 이월금 | C40: 소계 | D40: 53487000 | E40: =SUM(E41:E42) -> 53404680 | F40: =SUM(F41:F42) -> -82320 | G40: =F40/D40*100 -> -0.15390656 | J40: 7종운영지원사업비 | K40: 6600000 | L40: ='[1]라-1.도시(군)세출'!F21 -> 6600000 | M40: =L40-K40 -> 0 | N40: =M40/K40*100 -> 0
C41: 전년도이월금 | D41: 53487000 | E41: =[1]다.국도시세입!F34+'[1]다-2.자부담세입'!E28+'[1]다-3.후원금세입'!E31+'[1]다-1.도시(군)세입'!F23 -> 53404680 | F41: =E41-D41 -> -82320 | G41: =F41/D41*100 -> -0.15390656 | J41: 재활프로그램사업비 | K41: 10000000 | L41: ='[1]라-1.도시(군)세출'!F32+'[1]라-3.후원금세출'!F81 -> 10000000 | M41: =L41-K41 -> 0 | N41: =M41/K41*100 -> 0
C42: 이월사업비 | D42: 0 | E42: =[1]다.국도시세입!F35+'[1]다-2.자부담세입'!E29 -> 0 | F42: =E42-D42 -> 0 | J42: 기 능 보 강 사업비 | K42: 2100000 | L42: =[1]라.국도비세출!F52+'[1]라-1.도시(군)세출'!F33 -> 4188800 | M42: =L42-K42 -> 2088800 | N42: =M42/K42*100 -> 99.466667
A43: 잡수입 | B43: 계 | D43: 47309180 | E43: =E44 -> 61295300 | F43: =F44 -> 13986120 | G43: =F43/D43*100 -> 29.563226 | I43: 결연사업비 | J43: 소계 | K43: 1500000 | L43: =L44 -> 2820000 | M43: =M44 -> 1320000 | N43: =M43/K43*100 -> 88
B44: 잡수입 | C44: 소계 | D44: 47309180 | E44: =SUM(E45:E47) -> 61295300 | F44: =SUM(F45:F47) -> 13986120 | G44: =F44/D44*100 -> 29.563226 | J44: 결연후원금 | K44: 1500000 | L44: ='[1]라-3.후원금세출'!F88 -> 2820000 | M44: =L44-K44 -> 1320000 | N44: =M44/K44*100 -> 88
C45: 불용품매각대 | D45: 500000 | E45: =[1]다.국도시세입!F38+'[1]다-2.자부담세입'!E32 -> 500000 | F45: =E45-D45 -> 0 | G45: =F45/D45*100 -> 0 | H45: 과년도지출 | I45: 계 | K45: 800000 | L45: =L46 -> 1040105 | M45: =M46 -> 240105 | N45: =M44/K44*100 -> 88
C46: 기타예금이자수입 | D46: 1759180 | E46: =[1]다.국도시세입!F39+'[1]다-2.자부담세입'!E33+'[1]다-3.후원금세입'!E36+'[1]다-1.도시(군)세입'!F30 -> 1745300 | F46: =E46-D46 -> -13880 | G46: =F46/D46*100 -> -0.78900397 | I46: 과년도지출 | J46: 소계 | K46: 800000 | L46: =SUM(L47) -> 1040105 | M46: =M47 -> 240105 | N46: =M45/K45*100 -> 30.013125
C47: 기타잡수입 | D47: 45050000 | E47: =[1]다.국도시세입!F40+'[1]다-2.자부담세입'!E34 -> 59050000 | F47: =E47-D47 -> 14000000 | G47: =F47/D47*100 -> 31.076582 | J47: 과년도지출 | K47: 800000 | L47: ='[1]라-3.후원금세출'!F90 -> 1040105 | M47: =L47-K47 -> 240105 | N47: =M46/K46*100 -> 30.013125
H48: 잡지출 | I48: 계 | K48: 609180 | L48: =SUM(L49) -> 636790 | M48: =M49 -> 27610 | N48: =M47/K47*100 -> 30.013125
I49: 잡지출 | J49: 소계 | K49: 609180 | L49: =SUM(L50) -> 636790 | M49: =M50 -> 27610 | N49: =M48/K48*100 -> 4.5323221
J50: 잡지출 | K50: 609180 | L50: =[1]라.국도비세출!F58+'[1]라-1.도시(군)세출'!F36 -> 636790 | M50: =L50-K50 -> 27610 | N50: =M49/K49*100 -> 4.5323221
H51: 예비비및기타 | I51: 계 | K51: 31287000 | L51: =SUM(L52) -> 8513190 | M51: =M52 -> -22773810 | N51: =M50/K50*100 -> 4.5323221
I52: 예비비및기타 | J52: 소계 | K52: 31287000 | L52: =SUM(L53) -> 8513190 | M52: =M53 -> -22773810 | N52: =M51/K51*100 -> -72.790009
J53: 보조금반환금 | K53: 31287000 | L53: =[1]라.국도비세출!F61+'[1]라-1.도시(군)세출'!F39 -> 8513190 | M53: =L53-K53 -> -22773810 | N53: =M52/K52*100 -> -72.790009
