Workbook
Name F: #REF!
Name F: #REF!
Name F: #REF!
Name F: #REF!
Name F: #REF!
Name F: #REF!
Name F: #REF!

Sheet 표지
A4: 2023년도
A11: 2023년
A12: 세입ㆍ세출 예산서(안)
A23: 천주교수원교구사회복지회
A24: 둘 다 섯 해 누 리
E67: 0

Sheet 가. 예산총칙
A2: 가. 예 산 총 칙
A4: 제1조 | B4: 본 예산(안)은 사회복지법인 천주교 수원교구 사회복지회 소속 장애인거주시설 '둘다섯해누리'의
B5: 2022년도(2022.01.01 ~ 2022.12.31) 예산으로
B6: 사회복지법인 및 사회복지시설 재무회계규칙 제9조 1항에 의한다.
A8: 제2조 | B8: 세입세출 예산 총액은 | D8: ='다. 세입내역서'!E6 -> 4265740000 | E8: 원으로, | G8: 세입세출의 명세는 다음과 같다.
B10: 1. 세입의 주요재원은 다음과 같다. (관 기준)
B11: 1) | C11: 입소자부담금 | D11: ='나. 세입세출(총괄)'!E8 -> 84000000 | E11: 원 | G11: 2) | H11: 사업수입 | I11: 0 | J11: 원
B12: 3) | C12: 보조금수입 | D12: ='나. 세입세출(총괄)'!E17 -> 3635150270 | E12: 원 | G12: 4) | H12: 후원금수입 | I12: ='나. 세입세출(총괄)'!E25 -> 353400000 | J12: 원
B13: 5) | C13: 차입금 | D13: 0 | E13: 원 | G13: 6) | H13: 전입금 | I13: ='나. 세입세출(총괄)'!E31 -> 40000000 | J13: 원
B14: 7) | C14: 이월금 | D14: ='나. 세입세출(총괄)'!E35 -> 103790000 | E14: 원 | G14: 8) | H14: 잡수입 | I14: ='나. 세입세출(총괄)'!E46 -> 49399730 | J14: 원
B16: 2. 세출의 내용은 다음과 같다. (관 또는 항기준)
B17: 1) | C17: 사무비 | D17: ='나. 세입세출(총괄)'!L8 -> 3650290750 | E17: 원 | G17: 2) | H17: 재산조성비 | I17: ='나. 세입세출(총괄)'!L25 -> 146933378 | J17: 원
B18: 3) | C18: 사업비 | D18: ='나. 세입세출(총괄)'!L30 -> 416354042 | E18: 원 | G18: 4) | H18: 잡지출 | I18: ='나. 세입세출(총괄)'!L51 -> 549730 | J18: 원
B19: 5) | C19: 과년도지출 | D19: ='나. 세입세출(총괄)'!L48 -> 1609200 | E19: 원 | G19: 6) | H19: 예비비및기타 | I19: ='나. 세입세출(총괄)'!L54 -> 50002900 | J19: 원
E20: 원
B22: 3. 명시이월 사업은 | G22: 이며, 예산은 | I22: 0 | J22: 원이다.
B24: 4. 신설사업은 | D24: ①기능보강사업 1 : 거주시설 공기청정기렌탈지원 사업으로 예산은 | I24: ='라. 세출내역서'!U811 -> 2100000 | J24: 원이다.
D25: ②바보의나눔공모사업 선정으로예산은 | I25: ='라. 세출내역서'!K815 -> 9000000 | J25: 원이다.
D26: ③ | J26: 원이다.
D27: ④ | J27: 원이다.
D28: ⑤ | I28: ='라. 세출내역서'!E795 -> 0 | J28: 원이다.
D29: ⑥ | J29: 원이다.
A30: 제3조 | B30: 본예산(안)은 법인 이사회의 승인을 얻어 확정한다.
A32: 제4조 | B32: 법인이사회의 예산승인을 받기 전에 일반경비 및 긴급을 요하는 예산집행은 직전예산에 준하여
B33: 지출할 수 있으며, 그 집행된 예산은 당해 연도의 확정예산에 의하여 집행된 것으로 간주한다.
A35: 제5조 | B35: 각 계정과목 내의 항목의 예산집행은 당해 계정과목의 승인예산의 범위 내에서 항목간 예산을
B36: 일부 조정하여 사용할 수 있다.
A38: 제6조 | B38: 「사회복지법인 및 사회복지시설 재무회계규칙」 제16조에 의거하여 예산을 전용할 수 있다.
B39: 단, 관·항간 예산을 전용 할 경우 법인 이사회의 의결을 거쳐야 한다.
A41: 제7조 | B41: 국가 또는 지방자치단체로부터 교부된 보조금 및 지정후원금, 수익자부담 경비 등은
B42: 추가경정예산의 성립 이전이라도 보조 및 후원 목적에 적절한 경우 먼저 사용할 수 있으며,
B43: 이는 반드시 차기 추가경정예산에 반영하여야 한다.
A45: 제8조 | B45: 국가, 지방자치단체 및 사회복지기금 등에서 공모사업 선정으로 받은 보조금은 사회복지법인
B46: 및 사회복지시설 재무회계규칙에 따라 기타보조금에 편성되어야 한다.
B47: (만약, 지정후원금 또는 별도 사업비 편성이 용이하다는 지차체의 증빙자료(공문)가 있을시에만
B48: 별도 편성 가능)
A50: 제9조 | B50: 기타 회계 관련 규정의 개정으로 예산과목이 변경된 경우에는 당해연도 변경된 과목으로 승인
B51: 된 것으로 하며, 그 외의 예산총칙에 명시되지 아니한 사항은 「사회복지법인
B52: 및 사회복지시설 재무회계규칙」에 따라 집행한다.

Sheet 나. 세입세출(총괄)
A2: 나. 세입.세출 총괄표
M3: (단위 : 원)
A4: 세 입 | H4: 세 출
A5: 과 목 | D5: 전년도예산 (A) | E5: 2023년예산 (B) | F5: 증감금액 (C=B-A) | G5: 증감율(%) (C/A*100) | H5: 과 목 | K5: =D5 -> 전년도예산 (A) | L5: =E5 -> 2023년예산 (B) | M5: 증감금액 (C=B-A) | N5: 증감율(%) (C/A*100)
A6: 관 | B6: 항 | C6: 목 | H6: 관 | I6: 항 | J6: 목
A7: 합 계 | D7: 4484599000 | E7: =E8+E14+E17+E25+E35+E46+E11+E31 -> 4265740000 | F7: =F8+F14+F17+F25+F35+F46+F11+F31 -> -218859000 | G7: =F7/D7*100 -> -4.8802357 | H7: 합 계 | K7: 4484599000 | L7: =SUM(L8,L25,L30,L48,L51,L54) -> 4265740000 | M7: =L7-K7 -> -218859000 | N7: =M7/K7*100 -> -4.8802357 | O7: =E7-L7 -> 0
A8: 입소자부담금 | B8: 계 | D8: 79800000 | E8: =E9 -> 84000000 | F8: =F9 -> 4200000 | G8: =F8/D8*100 -> 5.2631579 | H8: 사무비 | I8: 계 | K8: 3562580358 | L8: =SUM(L9,L16,L18) -> 3650290750 | M8: =L8-K8 -> 87710392 | N8: =M8/K8*100 -> 2.4619906
B9: 입소비용수입 | C9: 소계 | D9: 79800000 | E9: =E10 -> 84000000 | F9: =F10 -> 4200000 | G9: =F9/D9*100 -> 5.2631579 | I9: 인건비 | J9: 소계 | K9: 3312868198 | L9: =SUM(L10:L15) -> 3383850590 | M9: =L9-K9 -> 70982392 | N9: =M9/K9*100 -> 2.1426265 | O9: =L9-'라. 세출내역서'!E9 -> 0
C10: 입소비용수입 | D10: 79800000 | E10: ='다. 세입내역서'!E9 -> 84000000 | F10: =E10-D10 -> 4200000 | G10: =F10/D10*100 -> 5.2631579 | J10: 급여 | K10: 1987419000 | L10: ='라. 세출내역서'!E10 -> 2033209000 | M10: =L10-K10 -> 45790000 | N10: =M10/K10*100 -> 2.3039933
A11: 사업수입 | B11: 계 | D11: 0 | E11: =E12 -> 0 | F11: =F12 -> 0 | G11: 0 | J11: 일용잡급 | K11: 12000000 | L11: ='라. 세출내역서'!E145 -> 12000000 | M11: =L11-K11 -> 0 | N11: =M11/K11*100 -> 0
B12: 사업수입 | C12: 소계 | D12: 0 | E12: =E13 -> 0 | F12: =F13 -> 0 | G12: 0 | J12: 제수당 | K12: 783337200 | L12: ='라. 세출내역서'!E147 -> 795425660 | M12: =L12-K12 -> 12088460 | N12: =M12/K12*100 -> 1.5432
C13: 프로그램사업수입 | D13: 0 | E13: ='[1]다-2.자부담세입'!E13 -> 0 | F13: =E13-D13 -> 0 | G13: 0 | J13: 퇴직금및퇴직적립금 | K13: 228301750 | L13: ='라. 세출내역서'!E645 -> 233124920 | M13: =L13-K13 -> 4823170 | N13: =M13/K13*100 -> 2.1126294
A14: 과년도수입 | B14: 계 | D14: 0 | E14: =E15 -> 0 | F14: =F15 -> 0 | G14: 0 | J14: 사회보험부담비용 | K14: 276089990 | L14: ='라. 세출내역서'!E649 -> 284041010 | M14: =L14-K14 -> 7951020 | N14: =M14/K14*100 -> 2.8798654
B15: 과년도수입 | C15: 소계 | D15: 0 | E15: =E16 -> 0 | F15: =F16 -> 0 | G15: 0 | J15: 기타후생경비 | K15: 25720258 | L15: ='라. 세출내역서'!E665 -> 26050000 | M15: =L15-K15 -> 329742 | N15: =M15/K15*100 -> 1.2820322
C16: 과년도수입 | D16: 0 | E16: 0 | F16: =E16-D16 -> 0 | G16: 0 | I16: 업무추진비 | J16: 소계 | K16: 1000000 | L16: =L17 -> 1000000 | M16: =L16-K16 -> 0 | N16: =M16/K16*100 -> 0
A17: 보조금수입 | B17: 계 | D17: 3608312530 | E17: =E18+E24+E29 -> 3635150270 | F17: =F18+F24+F29 -> 26837740 | G17: =F17/D17*100 -> 0.74377537 | J17: 회의비 | K17: 1000000 | L17: ='라. 세출내역서'!E678 -> 1000000 | M17: =L17-K17 -> 0 | N17: =M17/K17*100 -> 0
B18: 보조금수입 | C18: 소계 | D18: 3608312530 | E18: =SUM(E19:E22) -> 3635150270 | F18: =SUM(F19:F22) -> 26837740 | G18: =F18/D18*100 -> 0.74377537 | I18: 운영비 | J18: 소계 | K18: 248712160 | L18: =SUM(L19:L24) -> 265440160 | M18: =L18-K18 -> 16728000 | N18: =M18/K18*100 -> 6.7258473 | O18: =L18-'라. 세출내역서'!E682 -> 0
C19: 국고보조금 | D19: 3302048430 | E19: ='다. 세입내역서'!E18 -> 3342904930 | F19: =E19-D19 -> 40856500 | G19: =F19/D19*100 -> 1.2373077 | J19: 여비 | K19: 1500000 | L19: ='라. 세출내역서'!E683 -> 1500000 | M19: =L19-K19 -> 0 | N19: =M19/K19*100 -> 0
C20: 시도보조금 | D20: 222017050 | E20: ='다. 세입내역서'!E23 -> 202696110 | F20: =E20-D20 -> -19320940 | G20: =F20/D20*100 -> -8.7024578 | J20: 수용비및수수료 | K20: 60443323 | L20: ='라. 세출내역서'!E685 -> 62970160 | M20: =L20-K20 -> 2526837 | N20: =M20/K20*100 -> 4.1805064
C21: 시군구보조금 | D21: 80247050 | E21: ='다. 세입내역서'!E30 -> 89549230 | F21: =E21-D21 -> 9302180 | G21: =F21/D21*100 -> 11.591928 | J21: 공공요금 | K21: 127161967 | L21: ='라. 세출내역서'!E702 -> 129000000 | M21: =L21-K21 -> 1838033 | N21: =M21/K21*100 -> 1.4454267
C22: 기타보조금 | D22: 4000000 | E22: ='다. 세입내역서'!E32 -> 0 | F22: =E22-D22 -> -4000000 | G22: =F22/D22*100 -> -100 | J22: 제세공과금 | K22: 14006870 | L22: ='라. 세출내역서'!E709 -> 14170000 | M22: =L22-K22 -> 163130 | N22: =M22/K22*100 -> 1.1646428
J23: 차량비 | K23: 39000000 | L23: ='라. 세출내역서'!E717 -> 50000000 | M23: =L23-K23 -> 11000000 | N23: =M23/K23*100 -> 28.205128
J24: 기타운영비 | K24: 6600000 | L24: ='라. 세출내역서'!E720 -> 7800000 | M24: =L24-K24 -> 1200000 | N24: =M24/K24*100 -> 18.181818
A25: 후원금 | B25: 계 | D25: 395740000 | E25: =E26+E29 -> 353400000 | F25: =F26 -> -42340000 | G25: =F25/D25*100 -> -10.698944 | H25: 재산조성비 | I25: 계 | K25: 201575500 | L25: =L26 -> 146933378 | M25: =L25-K25 -> -54642122 | N25: =M25/K25*100 -> -27.107521 | O25: =L25-'라. 세출내역서'!E725 -> 0
B26: 후원금수입 | C26: 소계 | D26: 395740000 | E26: =SUM(E27:E28) -> 353400000 | F26: =SUM(F27:F28) -> -42340000 | G26: =F26/D26*100 -> -10.698944 | I26: 시설비 | J26: 소계 | K26: 201575500 | L26: =SUM(L27:L29) -> 146933378 | M26: =L26-K26 -> -54642122 | N26: =M26/K26*100 -> -27.107521
C27: 지정후원금 | D27: 71740000 | E27: ='다. 세입내역서'!E35 -> 29400000 | F27: =E27-D27 -> -42340000 | G27: =F27/D27*100 -> -59.018679 | J27: 시설비 | K27: 70000000 | L27: ='라. 세출내역서'!E727 -> 86000000 | M27: =L27-K27 -> 16000000 | N27: 0
C28: 비지정후원금 | D28: 324000000 | E28: ='다. 세입내역서'!E36 -> 324000000 | F28: =E28-D28 -> 0 | G28: =F28/D28*100 -> 0 | J28: 자산취득비 | K28: 70000000 | L28: ='라. 세출내역서'!E734 -> 19156157 | M28: =L28-K28 -> -50843843 | N28: =M28/K28*100 -> -72.634061
J29: 시설장비유지비 | K29: 61575500 | L29: ='라. 세출내역서'!E741 -> 41777221 | M29: =L29-K29 -> -19798279 | N29: =M29/K29*100 -> -32.152851
H30: 사업비 | I30: 계 | K30: 467265202 | L30: =SUM(L31,L37,L46) -> 416354042 | M30: =L30-K30 -> -50911160 | N30: =M30/K30*100 -> -10.89556 | O30: =L30-'라. 세출내역서'!E757 -> 0
A31: 전입금 | B31: 계 | D31: 40000000 | E31: =E32 -> 40000000 | F31: =F32 -> 0 | G31: =F31/D31*100 -> 0 | I31: 운영비 | J31: 소계 | K31: 300865740 | L31: =SUM(L32:L36) -> 295141680 | M31: =L31-K31 -> -5724060 | N31: =M31/K31*100 -> -1.9025297
B32: 전입금 | C32: 소계 | D32: 40000000 | E32: =E33 -> 40000000 | F32: =F33 -> 0 | G32: =F32/D32*100 -> 0 | J32: 생계비 | K32: 255915740 | L32: ='라. 세출내역서'!E759 -> 249641680 | M32: =L32-K32 -> -6274060 | N32: =M32/K32*100 -> -2.4516116
C33: 법인전입금 | D33: 40000000 | E33: ='다. 세입내역서'!E39 -> 40000000 | F33: =E33-D33 -> 0 | G33: =F33/D33*100 -> 0 | J33: 수용기관경비 | K33: 30000000 | L33: ='라. 세출내역서'!E766 -> 30000000 | M33: =L33-K33 -> 0 | N33: =M33/K33*100 -> 0
J34: 피복비 | K34: 1800000 | L34: ='라. 세출내역서'!E771 -> 4000000 | M34: =L34-K34 -> 2200000 | N34: =M34/K34*100 -> 122.22222
A35: 이월금 | B35: 계 | D35: 311147999 | E35: =E36 -> 103790000 | F35: =F36 -> -207357999 | G35: =F35/D35*100 -> -66.642884 | J35: 의료비 | K35: 7150000 | L35: ='라. 세출내역서'!E773 -> 5500000 | M35: =L35-K35 -> -1650000 | N35: =M35/K35*100 -> -23.076923
B36: 이월금 | C36: 소계 | D36: 311147999 | E36: =SUM(E37:E40) -> 103790000 | F36: =SUM(F37:F41) -> -207357999 | G36: =F36/D36*100 -> -66.642884 | J36: 연료비 | K36: 6000000 | L36: ='라. 세출내역서'!E775 -> 6000000 | M36: =L36-K36 -> 0 | N36: 100
C37: 이월금(보조금) | D37: 250613106 | E37: ='다. 세입내역서'!E42 -> 50000000 | F37: =E37-D37 -> -200613106 | G37: =F37/D37*100 -> -80.048928 | I37: 사업비 | J37: 소계 | K37: 162799462 | L37: =SUM(L38:L45) -> 117612362 | M37: =L37-K37 -> -45187100 | N37: =M37/K37*100 -> -27.756296
C38: 이월금(법인전입금) | D38: 4721463 | E38: ='다. 세입내역서'!E43 -> 1120000 | F38: =E38-D38 -> -3601463 | G38: =F38/D38*100 -> -76.278539 | J38: 사회심리재활사업비 | K38: 66072362 | L38: ='라. 세출내역서'!E777 -> 66072362 | M38: =L38-K38 -> 0 | N38: =M38/K38*100 -> 0
C39: 이월금(자부담) | D39: 14424572 | E39: ='다. 세입내역서'!E44 -> 21700000 | F39: =E39-D39 -> 7275428 | G39: =F39/D39*100 -> 50.437739 | J39: ='라. 세출내역서'!C795 -> 환경개선사업비 | K39: 22000000 | L39: ='라. 세출내역서'!E795 -> 0 | M39: =L39-K39 -> -22000000 | N39: 100
C40: 이월금(후원금) | D40: 41388858 | E40: ='다. 세입내역서'!E45 -> 30970000 | F40: =E40-D40 -> -10418858 | G40: =F40/D40*100 -> -25.173099 | J40: 4종운영지원사업비 | K40: 32840000 | L40: ='라. 세출내역서'!E797 -> 32840000 | M40: =L40-K40 -> 0 | N40: =M40/K40*100 -> 0
C41: 이월사업비 | D41: 0 | E41: 0 | F41: =E41-D41 -> 0 | G41: 0 | J41: 7종운영지원사업비 | K41: 6600000 | L41: ='라. 세출내역서'!E803 -> 6600000 | M41: =L41-K41 -> 0 | N41: =M41/K41*100 -> 0
...

Sheet 다. 세입내역서
A2: 다. 세입내역서
J3: (단위 : 원)
A4: 과 목 | D4: ='나. 세입세출(총괄)'!$D$5 -> 전년도예산 (A) | E4: ='나. 세입세출(총괄)'!$E$5 -> 2023년예산 (B) | F4: 증감금액 (C=B-A) | G4: 증감율(%) (C/A*100) | H4: 산 출 내 역
A5: 관 | B5: 항 | C5: 목
A6: 합 계 | D6: 4484599000 | E6: =E7+E13+E16+E37+E40+E47+E10+E33 -> 4265740000 | F6: =F7+F13+F16+F37+F40+F47+F10+F33 -> -218859000 | G6: =F6/D6*100 -> -4.8802357 | K6: =E6-'라. 세출내역서'!E7 -> 0 | N6: =E6-'라. 세출내역서'!E7 -> 0
A7: 입소자부담금 | B7: 계 | D7: 79800000 | E7: =E8 -> 84000000 | F7: =F8 -> 4200000 | G7: =F7/D7*100 -> 5.2631579
B8: 입소비용수입 | C8: 소계 | D8: 79800000 | E8: =E9 -> 84000000 | F8: =F9 -> 4200000 | G8: =F8/D8*100 -> 5.2631579
C9: 입소비용수입 | D9: 79800000 | E9: 84000000 | F9: =E9-D9 -> 4200000 | G9: =F9/D9*100 -> 5.2631579 | H9: *실비인원(20명*350,000원*12개월)
A10: 사업수입 | B10: 계 | D10: 0 | E10: 0 | F10: 0 | G10: 0
B11: 사업수입 | C11: 소계 | D11: 0 | E11: 0 | F11: 0 | G11: 0
C12: 프로그램사업수입 | D12: 0 | E12: 0 | F12: 0 | G12: 0
A13: 과년도수입 | B13: 계 | D13: 0 | E13: 0 | F13: =E13-D13 -> 0 | G13: 0
B14: 과년도수입 | C14: 소계 | D14: 0 | E14: 0 | F14: =E14-D14 -> 0 | G14: 0
C15: 과년도수입 | D15: 0 | E15: 0 | F15: 0 | G15: 0
A16: 보조금수입 | B16: 계 | D16: 3608312530 | E16: =E17 -> 3635150270 | F16: =E16-D16 -> 26837740 | G16: =F16/D16*100 -> 0.74377537
B17: 보조금수입 | C17: 소계 | D17: 3608312530 | E17: =SUM(E18,E23,E30,E32,) -> 3635150270 | F17: =E17-D17 -> 26837740 | G17: =F17/D17*100 -> 0.74377537
C18: 국고보조금 | D18: 3302048430 | E18: =SUM(E19:E22) -> 3342904930 | F18: =E18-D18 -> 40856500 | G18: =F18/D18*100 -> 1.2373077 | H18: * 인 건 비 : 3,022,463,250원 * 관 리 운 영 비 : 123,700,000원 * 생 계 비 : 194,641,680원 * 기능보강사업비 : 2,100.000원 | M18: 운영비인건비 | N18: 교대 인건비 | O18: 휴일수당
C19: 인건비 | D19: 2965233690 | E19: =('라. 세출내역서'!H9-'다. 세입내역서'!E24-'다. 세입내역서'!E25-E31) -> 3022463250 | F19: =E19-D19 -> 57229560 | G19: =F19/D19*100 -> 1.9300185 | L19: ='라. 세출내역서'!H9 -> 3275268590 | M19: ='사. 임직원보수 일람표'!I103+'사. 임직원보수 일람표'!J103+'사. 임직원보수 일람표'!K103+'사. 임직원보수 일람표'!M103 -> 2060421800 | N19: ='사. 임직원보수 일람표'!S103+'사. 임직원보수 일람표'!T103+'사. 임직원보수 일람표'!U103+'사. 임직원보수 일람표'!V103+'사. 임직원보수 일람표'!W103+'사. 임직원보수 일람표'!X103 -> 390389480 | O19: ='사. 임직원보수 일람표'!O103 -> 54170400
C20: 관리운영비 | D20: 123899000 | E20: =('라. 세출내역서'!H677+'라. 세출내역서'!H682+'라. 세출내역서'!H726+'라. 세출내역서'!H766+'라. 세출내역서'!H777) -> 123700000 | F20: =E20-D20 -> -199000 | G20: =F20/D20*100 -> -0.16061469 | L20: =E19+E24+E25+E31 -> 3275268590 | M20: ='사. 임직원보수 일람표'!I149+'사. 임직원보수 일람표'!J149+'사. 임직원보수 일람표'!K149+'사. 임직원보수 일람표'!M149 -> 416187000 | N20: ='사. 임직원보수 일람표'!S149+'사. 임직원보수 일람표'!T149+'사. 임직원보수 일람표'!U149+'사. 임직원보수 일람표'!V149+'사. 임직원보수 일람표'!W149+'사. 임직원보수 일람표'!X149 -> 81459770 | O20: ='사. 임직원보수 일람표'!O149 -> 19834800
C21: 생계비 | D21: 210815740 | E21: ='라. 세출내역서'!H759 -> 194641680 | F21: =E21-D21 -> -16174060 | G21: =F21/D21*100 -> -7.6721311 | L21: =L19-L20 -> 0 | M21: =SUM(M19:M20) -> 2476608800 | N21: =SUM(N19:N20) -> 471849250 | O21: =SUM(O19:O20) -> 74005200 | P21: =SUM(L21:O21) -> 3022463250
C22: 기능보강사업비 | D22: 2100000 | E22: ='라. 세출내역서'!E810 -> 2100000 | F22: =E22-D22 -> 0 | G22: =F22/D22*100 -> 0
C23: 시도보조금 | D23: 222017050 | E23: =SUM(E24:E29) -> 202696110 | F23: =E23-D23 -> -19320940 | G23: =F23/D23*100 -> -8.7024578 | H23: * 6종 인 건 비 : 134,400,810원 * 연장추가지원수당 : 28,855,300원 * 차 량 운 영 비 : 3,600,000원 * 간 병 인 비 : 3,000,000원 * 4종 운영지원보조금 : 32,840,000원
C24: 6종인건비 | D24: 132338050 | E24: ='사. 임직원보수 일람표'!AA116-'사. 임직원보수 일람표'!P116 -> 134400810 | F24: =E24-D24 -> 2062760 | G24: =F24/D24*100 -> 1.5587051 | L24: =E24-P24 -> 0 | M24: ='사. 임직원보수 일람표'!I116+'사. 임직원보수 일람표'!J116+'사. 임직원보수 일람표'!K116+'사. 임직원보수 일람표'!M116 -> 109031400 | N24: ='사. 임직원보수 일람표'!S116+'사. 임직원보수 일람표'!T116+'사. 임직원보수 일람표'!U116+'사. 임직원보수 일람표'!V116+'사. 임직원보수 일람표'!W116+'사. 임직원보수 일람표'!X116 -> 21288210 | O24: ='사. 임직원보수 일람표'!O116 -> 4081200 | P24: =SUM(M24:O24) -> 134400810
C25: 연장추가지원수당 | D25: 28239000 | E25: ='사. 임직원보수 일람표'!P214 -> 28855300 | F25: =E25-D25 -> 616300 | G25: =F25/D25*100 -> 2.1824427
C26: 차량운영비 | D26: 3600000 | E26: 3600000 | F26: =E26-D26 -> 0 | G26: =F26/D26*100 -> 0
C27: 환경개선사업 | D27: 22000000 | F27: =E27-D27 -> -22000000 | G27: 0
C28: 간병인비 | D28: 3000000 | E28: 3000000 | F28: =E28-D28 -> 0 | G28: =F28/D28*100 -> 0
C29: 4종 | D29: 32840000 | E29: 32840000 | F29: =E29-D29 -> 0 | G29: =F29/D29*100 -> 0
C30: 시군구보조금 | D30: 80247050 | E30: =SUM(E31) -> 89549230 | F30: =E30-D30 -> 9302180 | H30: *의료인력추가지원인건비 : 85,549,230원
C31: 의료인력인건비 | D31: 80247050 | E31: ='사. 임직원보수 일람표'!AA161 -> 89549230 | F31: =E31-D31 -> 9302180 | L31: =E31-O31 -> 0 | M31: ='사. 임직원보수 일람표'!I161+'사. 임직원보수 일람표'!J161+'사. 임직원보수 일람표'!K161+'사. 임직원보수 일람표'!M161+'사. 임직원보수 일람표'!O161 -> 75452760 | N31: ='사. 임직원보수 일람표'!S161+'사. 임직원보수 일람표'!T161+'사. 임직원보수 일람표'!U161+'사. 임직원보수 일람표'!V161+'사. 임직원보수 일람표'!W161+'사. 임직원보수 일람표'!X161 -> 14096470 | O31: =SUM(M31:N31) -> 89549230
C32: 기타보조금 | D32: 4000000 | F32: =E32-D32 -> -4000000 | G32: =F32/D32*100 -> -100
A33: 후원금 | B33: 계 | D33: 395740000 | E33: =E34 -> 353400000 | F33: =E33-D33 -> -42340000 | G33: =F33/D33*100 -> -10.698944
B34: 후원금수입 | C34: 소계 | D34: 395740000 | E34: =SUM(E35:E36) -> 353400000 | F34: =E34-D34 -> -42340000 | G34: =F34/D34*100 -> -10.698944
C35: 지정후원금 | D35: 71740000 | E35: =16800000+3600000+9000000 -> 29400000 | F35: =E35-D35 -> -42340000 | G35: =F35/D35*100 -> -59.018679 | H35: * 기관차량구입 및 할부금 : 1,400,000원 X 12개월 = 16,800,000원 * 결연후원금 : 300,000원 X 12개월 = 3,600,000원 * 바보의 나눔사업 선정 : 1,000,000원 X 9개월 = 9,000,000원
C36: 비지정후원금 | D36: 324000000 | E36: =27000000*12 -> 324000000 | F36: =E36-D36 -> 0 | G36: =F36/D36*100 -> 0 | H36: * 월평균 27,000,000원*12월
A37: 전입금 | B37: 계 | D37: 40000000 | E37: =E38 -> 40000000 | F37: =E37-D37 -> 0 | G37: =F37/D37*100 -> 0
B38: 전입금 | C38: 소계 | D38: 40000000 | E38: =E39 -> 40000000 | F38: =E38-D38 -> 0 | G38: =F38/D38*100 -> 0
C39: 법인전입금 | D39: 40000000 | E39: 40000000 | F39: =E39-D39 -> 0 | G39: =F39/D39*100 -> 0
A40: 이월금 | B40: 계 | D40: 311147999 | E40: =E41 -> 103790000 | F40: =E40-D40 -> -207357999 | G40: =F40/D40*100 -> -66.642884
B41: 이월금 | C41: 소계 | D41: 311147999 | E41: =SUM(E42:E46) -> 103790000 | F41: =E41-D41 -> -207357999 | G41: =F41/D41*100 -> -66.642884
...

Sheet 라. 세출내역서
X1: =SUM(AA1,AA7) -> 195570000 | Y1: =SUM(Y2:Y6) -> 132750000 | Z1: =SUM(Z2:Z6) -> 21700000 | AA1: =SUM(AA2:AA6) -> 154450000
A2: 라. 세출내역서 | X2: 입소비용/이월금 | Y2: ='다. 세입내역서'!E9 -> 84000000 | Z2: 4500000 | AA2: =SUM(Y2:Z2) -> 88500000
H3: =(H685+H702+H709+H717+H741+H766+H775+H777)-123700000 -> 0 | I3: =AA7-I7 -> 0 | J3: =AA1-J7 -> 0 | K3: =AA11-K7 -> 0
U4: (단위 : 원) | W4: =AA4+AA6-J665-J678-J685-J720-J822 -> 0 | X4: 기타잡수입/이월금 | Y4: =2750000+500000+7000000 -> 10250000 | Z4: 2000000 | AA4: =SUM(Y4:Z4) -> 12250000
A5: 과 목 | D5: ='나. 세입세출(총괄)'!K5:K6 -> 전년도예산 (A) | E5: ='나. 세입세출(총괄)'!L5:L6 -> 2023년예산 (B) | F5: 증감금액 (C=B-A) | G5: 증감율(%) (C/A*100) | H5: 재원 | L5: 산 출 내 역 | W5: =AA5-J759+1600000 -> 0 | X5: 종사자식대/이월금 | Y5: 38400000 | Z5: 15000000 | AA5: =SUM(Y5:Z5) -> 53400000 | AD5: 자산취득비지정후원금포함
A6: 관 | B6: 항 | C6: 목 | H6: 보조금 | I6: 법인전입금 | J6: 자부담 | K6: 후원금 | X6: 예금이자/이월금 | Y6: 100000 | Z6: =170000+30000 -> 200000 | AA6: =SUM(Y6:Z6) -> 300000 | AC6: =AC9/AE9 -> 0.71855618 | AD6: =AD9/AE9 -> 0.28143628 | AE6: =SUM(AC6:AD6) -> 0.99999246
A7: 합 계 | D7: 4484599000 | E7: =SUM(H7:K7) -> 4265740000 | F7: =E7-D7 -> -218859000 | G7: =F7/D7*100 -> -4.8802357 | H7: =SUM(H8,H725,H757,H820,H827,H831) -> 3685700000 | I7: =SUM(I8,I725,I757,I820,I827,I831) -> 41120000 | J7: =SUM(J8,J725,J757,J820,J827,J831) -> 154450000 | K7: =SUM(K8,K725,K757,K820,K827,K831) -> 384470000 | L7: 합계 | U7: =U8+U725+U757+U820+U827+U831 -> 4303737100 | V7: =E7-'다. 세입내역서'!E6 -> 0 | X7: 법인전입/이월금 | Y7: 40000000 | Z7: ='다. 세입내역서'!E43 -> 1120000 | AA7: =SUM(Y7:Z7) -> 41120000 | AB7: =AA7-I7 -> 0 | AC7: 직접비 | AD7: 간접비 | AE7: 계
A8: 사무비 | B8: 계 | D8: 3562381358 | E8: =SUM(E9,E677,E682) -> 3650290750 | F8: =E8-D8 -> 87909392 | G8: =F8/D8*100 -> 2.4677142 | H8: =H9+H677+H682 -> 3356212090 | I8: =I9+I677+I682 -> 33120000 | J8: =J9+J677+J682 -> 48900000 | K8: =K9+K677+K682 -> 212058660 | L8: 사무비계 | U8: =U9+U677+U682 -> 3650290750 | W8: =SUM(AA8:AA10) -> 384470000 | X8: 비지정/이월금 | Y8: ='다. 세입내역서'!E36 -> 324000000 | Z8: 20000000 | AA8: =SUM(Y8:Z8) -> 344000000
B9: 인건비 | C9: 소계 | D9: 3312868198 | E9: =SUM(E10:E665) -> 3383850590 | F9: =E9-D9 -> 70982392 | G9: =F9/D9*100 -> 2.1426265 | H9: =SUM(H10:H665) -> 3275268590 | I9: =SUM(I10:I665) -> 28058450 | J9: =SUM(J10:J665) -> 5346035 | K9: =SUM(K10:K665) -> 75177515 | L9: 인건비계 | U9: =U10+U145+U147+U645+U649+U665 -> 3383850590 | W9: =W8-K7 -> 0 | X9: 지정/이월금 | Y9: ='다. 세입내역서'!E35 -> 29400000 | Z9: 10000000 | AA9: =SUM(Y9:Z9) -> 39400000 | AC9: =SUM(AC10:AC837) -> 276263293 | AD9: =SUM(AD10:AD837) -> 108203807 | AE9: =K7 -> 384470000
C10: 급여 | D10: 1987419000 | E10: =SUM(H10:K10) -> 2033209000 | F10: =E10-D10 -> 45790000 | G10: =F10/D10*100 -> 2.3039933 | H10: ='사. 임직원보수 일람표'!I103+'사. 임직원보수 일람표'!I116+'사. 임직원보수 일람표'!I149+'사. 임직원보수 일람표'!I161 -> 2001409000 | J10: 0 | K10: ='사. 임직원보수 일람표'!I209 -> 31800000 | L10: ◆급여 | U10: =SUM(U11:U144) -> 2033209000 | V10: =U10-'사. 임직원보수 일람표'!I214 -> 0 | X10: 예금이자/이월금 | Y10: 100000 | Z10: 970000 | AA10: =SUM(Y10:Z10) -> 1070000 | AC10: =K10 -> 31800000
L11: 시설장 | M11: 시설장 | N11: 이기수 | O11: ='사. 임직원보수 일람표'!H5 -> 4149000 | P11: X | Q11: 1 | R11: X | S11: ='사. 임직원보수 일람표'!F5 -> 5 | T11: = | U11: =O11*Q11*S11 -> 20745000 | Y11: =SUM(Y8:Y10) -> 353500000 | Z11: =SUM(Z8:Z10) -> 30970000 | AA11: =SUM(AA8:AA10) -> 384470000
L12: 시설장 | M12: 시설장 | N12: 이기수 | O12: ='사. 임직원보수 일람표'!H6 -> 4223000 | P12: X | Q12: 1 | R12: X | S12: ='사. 임직원보수 일람표'!F6 -> 7 | T12: = | U12: =O12*Q12*S12 -> 29561000 | AA12: =K7-AA11 -> 0
L13: 사무국장 | M13: 사무국장 | N13: 금형민 | O13: ='사. 임직원보수 일람표'!H7 -> 4085000 | P13: X | Q13: 1 | R13: X | S13: ='사. 임직원보수 일람표'!F7 -> 4 | T13: = | U13: =O13*Q13*S13 -> 16340000
L14: 사무국장 | M14: 사무국장 | N14: 금형민 | O14: ='사. 임직원보수 일람표'!H8 -> 4138000 | P14: X | Q14: 1 | R14: X | S14: ='사. 임직원보수 일람표'!F8 -> 8 | T14: = | U14: =O14*Q14*S14 -> 33104000
L15: 상담평가원 | M15: 과장 | N15: 김정윤 | O15: ='사. 임직원보수 일람표'!H9 -> 3608000 | P15: X | Q15: 1 | R15: X | S15: ='사. 임직원보수 일람표'!F9 -> 6 | T15: = | U15: =O15*Q15*S15 -> 21648000
L16: 상담평가원 | M16: 과장 | N16: 김정윤 | O16: ='사. 임직원보수 일람표'!H10 -> 3665000 | P16: X | Q16: 1 | R16: X | S16: ='사. 임직원보수 일람표'!F10 -> 6 | T16: = | U16: =O16*Q16*S16 -> 21990000
L17: 영양사 | M17: 팀장 | N17: 김혜영 | O17: ='사. 임직원보수 일람표'!H11 -> 3940000 | P17: X | Q17: 1 | R17: X | S17: ='사. 임직원보수 일람표'!F11 -> 3 | T17: = | U17: =O17*Q17*S17 -> 11820000
L18: 영양사 | M18: 팀장 | N18: 김혜영 | O18: ='사. 임직원보수 일람표'!H12 -> 3975000 | P18: X | Q18: 1 | R18: X | S18: ='사. 임직원보수 일람표'!F12 -> 9 | T18: = | U18: =O18*Q18*S18 -> 35775000
L19: 선임지도원 | M19: 팀장 | N19: 이선이 | O19: ='사. 임직원보수 일람표'!H13 -> 3051000 | P19: X | Q19: 1 | R19: X | S19: ='사. 임직원보수 일람표'!F13 -> 11 | T19: = | U19: =O19*Q19*S19 -> 33561000
L20: 선임지도원 | M20: 팀장 | N20: 이선이 | O20: ='사. 임직원보수 일람표'!H14 -> 3115000 | P20: X | Q20: 1 | R20: X | S20: ='사. 임직원보수 일람표'!F14 -> 1 | T20: = | U20: =O20*Q20*S20 -> 3115000
L21: 간호사 | M21: 팀장 | N21: 김성숙 | O21: ='사. 임직원보수 일람표'!H15 -> 3204000 | P21: X | Q21: 1 | R21: X | S21: ='사. 임직원보수 일람표'!F15 -> 8 | T21: = | U21: =O21*Q21*S21 -> 25632000
L22: 간호사 | M22: 팀장 | N22: 김성숙 | O22: ='사. 임직원보수 일람표'!H16 -> 3280000 | P22: X | Q22: 1 | R22: X | S22: ='사. 임직원보수 일람표'!F16 -> 4 | T22: = | U22: =O22*Q22*S22 -> 13120000
L23: 언어치료사 | N23: 최민성 | O23: ='사. 임직원보수 일람표'!H17 -> 3280000 | P23: X | Q23: 1 | R23: X | S23: ='사. 임직원보수 일람표'!F17 -> 3 | T23: = | U23: =O23*Q23*S23 -> 9840000
L24: 언어치료사 | N24: 최민성 | O24: ='사. 임직원보수 일람표'!H18 -> 3353000 | P24: X | Q24: 1 | R24: X | S24: ='사. 임직원보수 일람표'!F18 -> 9 | T24: = | U24: =O24*Q24*S24 -> 30177000
L25: 작업치료사 | N25: 이동철 | O25: ='사. 임직원보수 일람표'!H19 -> 2712000 | P25: X | Q25: 1 | R25: X | S25: ='사. 임직원보수 일람표'!F19 -> 1 | T25: = | U25: =O25*Q25*S25 -> 2712000
L26: 작업치료사 | N26: 이동철 | O26: ='사. 임직원보수 일람표'!H20 -> 2828000 | P26: X | Q26: 1 | R26: X | S26: ='사. 임직원보수 일람표'!F20 -> 11 | T26: = | U26: =O26*Q26*S26 -> 31108000
L27: 물리치료사 | N27: 김효선 | O27: ='사. 임직원보수 일람표'!H21 -> 3353000 | P27: X | Q27: 1 | R27: X | S27: ='사. 임직원보수 일람표'!F21 -> 7 | T27: = | U27: =O27*Q27*S27 -> 23471000
L28: 물리치료사 | N28: 김효선 | O28: ='사. 임직원보수 일람표'!H22 -> 3422000 | P28: X | Q28: 1 | R28: X | S28: ='사. 임직원보수 일람표'!F22 -> 5 | T28: = | U28: =O28*Q28*S28 -> 17110000
L29: 사회재활교사 | M29: 과장 | N29: 이성수 | O29: ='사. 임직원보수 일람표'!H23 -> 3552000 | P29: X | Q29: 1 | R29: X | S29: ='사. 임직원보수 일람표'!F23 -> 9 | T29: = | U29: =O29*Q29*S29 -> 31968000
L30: 사회재활교사 | M30: 과장 | N30: 이성수 | O30: ='사. 임직원보수 일람표'!H24 -> 3608000 | P30: X | Q30: 1 | R30: X | S30: ='사. 임직원보수 일람표'!F24 -> 3 | T30: = | U30: =O30*Q30*S30 -> 10824000
L31: 선임지도원 | M31: 팀장 | N31: 심영은 | O31: ='사. 임직원보수 일람표'!H25 -> 2984000 | P31: X | Q31: 1 | R31: X | S31: ='사. 임직원보수 일람표'!F25 -> 7 | T31: = | U31: =O31*Q31*S31 -> 20888000
L32: 선임지도원 | M32: 팀장 | N32: 심영은 | O32: ='사. 임직원보수 일람표'!H26 -> 3051000 | P32: X | Q32: 1 | R32: X | S32: ='사. 임직원보수 일람표'!F26 -> 5 | T32: = | U32: =O32*Q32*S32 -> 15255000
L33: 사무원 | N33: 유준 | O33: ='사. 임직원보수 일람표'!H27 -> 2851000 | P33: X | Q33: 1 | R33: X | S33: ='사. 임직원보수 일람표'!F27 -> 3 | T33: = | U33: =O33*Q33*S33 -> 8553000
L34: 사무원 | N34: 유준 | O34: ='사. 임직원보수 일람표'!H28 -> 2912000 | P34: X | Q34: 1 | R34: X | S34: ='사. 임직원보수 일람표'!F28 -> 9 | T34: = | U34: =O34*Q34*S34 -> 26208000
L35: 생활지도원 | M35: 팀장 | N35: 신희철 | O35: ='사. 임직원보수 일람표'!H29 -> 2789000 | P35: X | Q35: 1 | R35: X | S35: ='사. 임직원보수 일람표'!F29 -> 1 | T35: = | U35: =O35*Q35*S35 -> 2789000
L36: 생활지도원 | M36: 팀장 | N36: 신희철 | O36: ='사. 임직원보수 일람표'!H30 -> 2851000 | P36: X | Q36: 1 | R36: X | S36: ='사. 임직원보수 일람표'!F30 -> 11 | T36: = | U36: =O36*Q36*S36 -> 31361000
L37: 생활지도원 | N37: 홍은향 | O37: ='사. 임직원보수 일람표'!H31 -> 2971000 | P37: X | Q37: 1 | R37: X | S37: ='사. 임직원보수 일람표'!F31 -> 5 | T37: = | U37: =O37*Q37*S37 -> 14855000
L38: 생활지도원 | N38: 홍은향 | O38: ='사. 임직원보수 일람표'!H32 -> 3024000 | P38: X | Q38: 1 | R38: X | S38: ='사. 임직원보수 일람표'!F32 -> 7 | T38: = | U38: =O38*Q38*S38 -> 21168000
L39: 생활지도원 | N39: 이도란 | O39: ='사. 임직원보수 일람표'!H33 -> 2667000 | P39: X | Q39: 1 | R39: X | S39: ='사. 임직원보수 일람표'!F33 -> 4 | T39: = | U39: =O39*Q39*S39 -> 10668000
L40: 생활지도원 | N40: 이도란 | O40: ='사. 임직원보수 일람표'!H34 -> 2730000 | P40: X | Q40: 1 | R40: X | S40: ='사. 임직원보수 일람표'!F34 -> 8 | T40: = | U40: =O40*Q40*S40 -> 21840000
...

Sheet 마.세입세출(개요)
A1: 마. 세입·세출 개요
E2: (단위:원)
A3: 구 분 | B3: 세 입 | D3: 세 출
A4: 총 계 | B4: =C5+C14+C20+C27 -> 4265740000 | D4: =E5+E14+E20+E27 -> 4265740000
A5: 보 조 금 | B5: 소계 | C5: =SUM(C6:C13) -> 3685700000 | D5: 소계 | E5: =SUM(E6:E13) -> 3685700000 | F5: =C5-E5 -> 0
B6: ='다. 세입내역서'!B17 -> 보조금수입 | C6: ='다. 세입내역서'!E17 -> 3635150270 | D6: 인건비 | E6: ='라. 세출내역서'!H9 -> 3275268590
B7: 이월금 | C7: ='다. 세입내역서'!E42 -> 50000000 | D7: 업무추진비 | E7: ='라. 세출내역서'!H677 -> 0
B8: 잡수입 | C8: ='라. 세출내역서'!E829 -> 549730 | D8: 사무비운영비 | E8: ='라. 세출내역서'!H682 -> 80943500
D9: 시설비 | E9: ='라. 세출내역서'!H726 -> 14256500
D10: 사업비운영비 | E10: ='라. 세출내역서'!H758 -> 215141680
D11: 사업비 | E11: ='라. 세출내역서'!H776 -> 49540000
D12: 잡지출 | E12: ='라. 세출내역서'!H828 -> 549730
B13: - | C13: 0 | D13: 보조금반환 | E13: ='라. 세출내역서'!H832 -> 50000000
A14: 법인전입금 | B14: 소계 | C14: =SUM(C15:C19) -> 41120000 | D14: 소계 | E14: =SUM(E15:E19) -> 41120000 | F14: =C14-E14 -> 0
B15: 법인전입금 | C15: ='다. 세입내역서'!E38 -> 40000000 | D15: 인건비 | E15: ='라. 세출내역서'!I9 -> 28058450
B16: 이월금 | C16: ='다. 세입내역서'!E43 -> 1120000 | D16: 업무추진비 | E16: ='라. 세출내역서'!I677 -> 200000
B17: - | C17: ='[1]다-2.자부담세입'!E17 -> 0 | D17: =D8 -> 사무비운영비 | E17: ='라. 세출내역서'!I682 -> 4861550
B18: - | C18: ='[1]다-2.자부담세입'!E20 -> 0 | D18: ='라. 세출내역서'!A725 -> 재산조성비 | E18: ='라. 세출내역서'!I726 -> 0
B19: - | D19: =D11 -> 사업비 | E19: ='라. 세출내역서'!I757 -> 8000000
A20: 자 부 담 | B20: 소계 | C20: =SUM(C21:C25) -> 154450000 | D20: 소계 | E20: =SUM(E21:E26) -> 154450000 | F20: =C20-E20 -> 0
B21: 입소자부담금수입 | C21: =자부담세출!U2 -> 84000000 | D21: 인건비 | E21: ='라. 세출내역서'!J9 -> 5346035
B22: 이월금 | C22: ='다. 세입내역서'!E44 -> 21700000 | D22: =D16 -> 업무추진비 | E22: ='라. 세출내역서'!J677 -> 800000
B23: 잡수입 | C23: ='다. 세입내역서'!E49+'다. 세입내역서'!E51+'다. 세입내역서'!D55 -> 48750000 | D23: =D17 -> 사무비운영비 | E23: ='라. 세출내역서'!J682 -> 42753965
D24: 사업비운영비 | E24: ='라. 세출내역서'!J758 -> 77500000
D25: 사업비 | E25: ='라. 세출내역서'!J776 -> 28050000
C26: 0 | D26: 과년도지출 | E26: ='라. 세출내역서'!J821 -> 0
A27: 후 원 금 | B27: 소계 | C27: =SUM(C28:C32) -> 384470000 | D27: 소계 | E27: =SUM(E28:E35) -> 384470000 | F27: =C27-E27 -> 0
B28: 후원금수입 | C28: ='다. 세입내역서'!E34 -> 353400000 | D28: =D21 -> 인건비 | E28: ='라. 세출내역서'!K9 -> 75177515
B29: 전년도후원금이월금 | C29: ='다. 세입내역서'!E45 -> 30970000 | D29: 사무비운영비 | E29: ='라. 세출내역서'!K682 -> 136881145
B30: 잡수입 | C30: ='다. 세입내역서'!D56 -> 100000 | D30: 시설비 | E30: ='라. 세출내역서'!K726 -> 132676878
D31: 사업비운영비 | E31: ='라. 세출내역서'!K758 -> 2500000
D32: 사업비 | E32: ='라. 세출내역서'!K776 -> 32022362
D33: 결연사업비 | E33: ='라. 세출내역서'!K817 -> 3600000
D34: 과년도지출 | E34: ='라. 세출내역서'!K821 -> 1609200
D35: 공동모금회반환금 | E35: ='라. 세출내역서'!K833 -> 2900
E68: 0

Sheet 바. 증감사유
A1: 바. 증감사유
N2: (단위 : 원)
A3: 세 입 | I3: 세 출
A4: 과 목 | D4: ='다. 세입내역서'!D4:D5 -> 전년도예산 (A) | E4: ='다. 세입내역서'!E4:E5 -> 2023년예산 (B) | F4: 증감금액 (C=B-A) | G4: 증감율(%) (C/A*100) | H4: 증감사유 | I4: 과 목 | L4: =D4 -> 전년도예산 (A) | M4: =E4 -> 2023년예산 (B) | N4: 증감금액 (C=B-A) | O4: 증감율(%) (C/A*100) | P4: 증감사유
A5: 관 | B5: 항 | C5: 목 | I5: 관 | J5: 항 | K5: 목
A6: 합 계 | D6: 4484599000 | E6: =E7+E13+E16+E29+E35+E47+E10+E24 -> 4265740000 | F6: =F7+F13+F16+F29+F35+F47+F10+F24 -> -218859000 | G6: =F6/D6*100 -> -4.8802357 | I6: 합 계 | L6: 4484599000 | M6: =SUM(M7,M24,M29,M47,M50,M53) -> 4265740000 | N6: =M6-L6 -> -218859000 | O6: =N6/L6*100 -> -4.8802357
A7: 입소자부담금 | B7: 계 | D7: 79800000 | E7: =E8 -> 84000000 | F7: =F8 -> 4200000 | G7: =F7/D7*100 -> 5.2631579 | I7: 사무비 | J7: 계 | L7: 3562580358 | M7: =SUM(M8,M15,M17) -> 3650290750 | N7: =M7-L7 -> 87710392 | O7: =N7/L7*100 -> 2.4619906
B8: 입소비용수입 | C8: 소계 | D8: 79800000 | E8: =E9 -> 84000000 | F8: =F9 -> 4200000 | G8: =F8/D8*100 -> 5.2631579 | J8: 인건비 | K8: 소계 | L8: 3312868198 | M8: =SUM(M9:M14) -> 3383850590 | N8: =M8-L8 -> 70982392 | O8: =N8/L8*100 -> 2.1426265
C9: 입소비용수입 | D9: 79800000 | E9: ='다. 세입내역서'!E9 -> 84000000 | F9: =E9-D9 -> 4200000 | G9: =F9/D9*100 -> 5.2631579 | H9: *실비인원 1명 증원에 따른 증액 | K9: 급여 | L9: 1987419000 | M9: ='라. 세출내역서'!E10 -> 2033209000 | N9: =M9-L9 -> 45790000 | O9: =N9/L9*100 -> 2.3039933 | P9: 2023년 종사자 호봉산정에 따른 인건비 증액
A10: 사업수입 | B10: 계 | D10: 0 | E10: =E11 -> 0 | F10: =F11 -> 0 | G10: 0 | K10: 일용잡급 | L10: 12000000 | M10: ='라. 세출내역서'!E145 -> 12000000 | N10: =M10-L10 -> 0 | O10: =N10/L10*100 -> 0
B11: 사업수입 | C11: 소계 | D11: 0 | E11: =E12 -> 0 | F11: =F12 -> 0 | G11: 0 | K11: 제수당 | L11: 783337200 | M11: ='라. 세출내역서'!E147 -> 795425660 | N11: =M11-L11 -> 12088460 | O11: =N11/L11*100 -> 1.5432 | P11: 2023년 종사자 호봉산정 반영 제수당 증액
C12: 프로그램사업수입 | D12: 0 | E12: ='[1]다-2.자부담세입'!E13 -> 0 | F12: =E12-D12 -> 0 | G12: 0 | K12: 퇴직금및 퇴직적립금 | L12: 228301750 | M12: ='라. 세출내역서'!E645 -> 233124920 | N12: =M12-L12 -> 4823170 | O12: =N12/L12*100 -> 2.1126294 | P12: 2023년 종사자 인건비에 의한 예산증액
A13: 과년도수입 | B13: 계 | D13: 0 | E13: =E14 -> 0 | F13: =F14 -> 0 | G13: 0 | K13: 사회보험 부담비용 | L13: 276089990 | M13: ='라. 세출내역서'!E649 -> 284041010 | N13: =M13-L13 -> 7951020 | O13: =N13/L13*100 -> 2.8798654 | P13: 종사자 인건비에 의한 예산증액
B14: 과년도수입 | C14: 소계 | D14: 0 | E14: =E15 -> 0 | F14: =F15 -> 0 | G14: 0 | K14: 기타후생경비 | L14: 25720258 | M14: ='라. 세출내역서'!E665 -> 26050000 | N14: =M14-L14 -> 329742 | O14: =N14/L14*100 -> 1.2820322 | P14: 전년도 예산반영 편성
C15: 과년도수입 | D15: 0 | E15: 0 | F15: =E15-D15 -> 0 | G15: 0 | J15: 업무추진비 | K15: 소계 | L15: 1000000 | M15: ='나. 세입세출(총괄)'!L16 -> 1000000 | N15: =M15-L15 -> 0 | O15: =N15/L15*100 -> 0
A16: 보조금수입 | B16: 계 | D16: 3608312530 | E16: =E17 -> 3635150270 | F16: =F17 -> 26837740 | G16: =F16/D16*100 -> 0.74377537 | K16: 회의비 | L16: 1000000 | M16: ='나. 세입세출(총괄)'!L17 -> 1000000 | N16: =M16-L16 -> 0 | O16: =N16/L16*100 -> 0
B17: 보조금수입 | C17: 소계 | D17: 3608312530 | E17: =SUM(E18:E21) -> 3635150270 | F17: =SUM(F18:F21) -> 26837740 | G17: =F17/D17*100 -> 0.74377537 | J17: 운영비 | K17: 소계 | L17: 248712160 | M17: ='나. 세입세출(총괄)'!L18 -> 265440160 | N17: =M17-L17 -> 16728000 | O17: =N17/L17*100 -> 6.7258473
C18: 국고보조금 | D18: 3302048430 | E18: ='다. 세입내역서'!E18 -> 3342904930 | F18: =E18-D18 -> 40856500 | G18: =F18/D18*100 -> 1.2373077 | H18: 2023년 종사자 호봉산정에 따른 인건비 증액 | K18: 여비 | L18: 1500000 | M18: ='나. 세입세출(총괄)'!L19 -> 1500000 | N18: =M18-L18 -> 0 | O18: =N18/L18*100 -> 0
C19: 시도보조금 | D19: 222017050 | E19: ='다. 세입내역서'!E23 -> 202696110 | F19: =E19-D19 -> -19320940 | G19: =F19/D19*100 -> -8.7024578 | H19: *2023년 종사자 호봉산정에 따른 인건비 증액 *2022년 환경개선사업 종료(22,000,000원)에 따른 감액 | K19: 수용비및수수료 | L19: 60443323 | M19: ='나. 세입세출(총괄)'!L20 -> 62970160 | N19: =M19-L19 -> 2526837 | O19: =N19/L19*100 -> 4.1805064 | P19: * 렌탈료, 소모품 구입, 인쇄비등 물가상승에 따른 예산증액
C20: 시군구보조금 | D20: 80247050 | E20: ='다. 세입내역서'!E30 -> 89549230 | F20: =E20-D20 -> 9302180 | G20: =F20/D20*100 -> 11.591928 | H20: 2023년 의료지원 종사자 호봉산정에 따른 인건비 증액 | K20: 공공요금 | L20: 127161967 | M20: ='나. 세입세출(총괄)'!L21 -> 129000000 | N20: =M20-L20 -> 1838033 | O20: =N20/L20*100 -> 1.4454267 | P20: *공공요금 인상반영 예산증액
C21: 기타보조금 | D21: 4000000 | E21: ='다. 세입내역서'!E32 -> 0 | F21: =E21-D21 -> -4000000 | G21: =F21/D21*100 -> -100 | H21: 2022년 재활프로그램 종료에 따른 예산감액 | K21: 제세공과금 | L21: 14006870 | M21: ='나. 세입세출(총괄)'!L22 -> 14170000 | N21: =M21-L21 -> 163130 | O21: =N21/L21*100 -> 1.1646428 | P21: 전년도 지출대비 예산 편성
K22: 차량비 | L22: 39000000 | M22: ='나. 세입세출(총괄)'!L23 -> 50000000 | N22: =M22-L22 -> 11000000 | O22: =N22/L22*100 -> 28.205128 | P22: 업무용차량 주유비인상등에 따른 예산증액
K23: 기타운영비 | L23: 6600000 | M23: ='나. 세입세출(총괄)'!L24 -> 7800000 | N23: =M23-L23 -> 1200000 | O23: =N23/L23*100 -> 18.181818 | P23: * 외부 출장중 소요경비 및 기타운영비 증액
A24: 후원금 | B24: 계 | D24: 395740000 | E24: =E25+E28 -> 353400000 | F24: =F25+F28 -> -42340000 | G24: =F24/D24*100 -> -10.698944 | I24: 재산조성비 | J24: 계 | L24: 201575500 | M24: =M25 -> 146933378 | N24: =M24-L24 -> -54642122 | O24: =N24/L24*100 -> -27.107521
B25: 후원금수입 | C25: 소계 | D25: 395740000 | E25: =SUM(E26:E27) -> 353400000 | F25: =SUM(F26:F27) -> -42340000 | G25: =F25/D25*100 -> -10.698944 | J25: 시설비 | K25: 소계 | L25: 201575500 | M25: =SUM(M26:M28) -> 146933378 | N25: =M25-L25 -> -54642122 | O25: =N25/L25*100 -> -27.107521
C26: 지정후원금 | D26: 71740000 | E26: ='다. 세입내역서'!E35 -> 29400000 | F26: =E26-D26 -> -42340000 | G26: =F26/D26*100 -> -59.018679 | H26: *차량비구입지정후원금 감액 | K26: 시설비 | L26: 70000000 | M26: ='라. 세출내역서'!E727 -> 86000000 | N26: =M26-L26 -> 16000000 | O26: 0
C27: 비지정후원금 | D27: 324000000 | E27: ='다. 세입내역서'!E36 -> 324000000 | F27: =E27-D27 -> 0 | G27: =F27/D27*100 -> 0 | K27: 자산취득비 | L27: 70000000 | M27: ='나. 세입세출(총괄)'!L28 -> 19156157 | N27: =M27-L27 -> -50843843 | O27: =N27/L27*100 -> -72.634061 | P27: * 전년도 지출대비 예산 감액 * 신규차량 구입할부금(2대) 할부종료에 따른 감액
K28: 시설장비유지비 | L28: 61575500 | M28: ='나. 세입세출(총괄)'!L29 -> 41777221 | N28: =M28-L28 -> -19798279 | O28: =N28/L28*100 -> -32.152851
A29: 전입금 | B29: 계 | D29: 40000000 | E29: =E30 -> 40000000 | F29: =F30 -> 0 | G29: =F29/D29*100 -> 0 | I29: 사업비 | J29: 계 | L29: 467265202 | M29: =SUM(M30,M36,M45) -> 416354042 | N29: =M29-L29 -> -50911160 | O29: =N29/L29*100 -> -10.89556
B30: 전입금 | C30: 소계 | D30: 40000000 | E30: =E31 -> 40000000 | F30: =F31 -> 0 | G30: =F30/D30*100 -> 0 | J30: 운영비 | K30: 소계 | L30: 300865740 | M30: =SUM(M31:M35) -> 295141680 | N30: =M30-L30 -> -5724060 | O30: =N30/L30*100 -> -1.9025297
C31: 법인전입금 | D31: 40000000 | E31: ='다. 세입내역서'!E39 -> 40000000 | F31: =E31-D31 -> 0 | G31: =F31/D31*100 -> 0 | K31: 생계비 | L31: 255915740 | M31: ='나. 세입세출(총괄)'!L32 -> 249641680 | N31: =M31-L31 -> -6274060 | O31: =N31/L31*100 -> -2.4516116 | P31: 기초생활수급자 긴급생계비 지원 종료에 따른 감액
K32: 수용기관경비 | L32: 30000000 | M32: ='나. 세입세출(총괄)'!L33 -> 30000000 | N32: =M32-L32 -> 0 | O32: =N32/L32*100 -> 0
K33: 피복비 | L33: 1800000 | M33: ='나. 세입세출(총괄)'!L34 -> 4000000 | N33: =M33-L33 -> 2200000 | O33: =N33/L33*100 -> 122.22222 | P33: 기초생활수급자 긴급생계비,피복비지원 종료에 따른 자부담 피복비 예산 증액
K34: 의료비 | L34: 7150000 | M34: ='나. 세입세출(총괄)'!L35 -> 5500000 | N34: =M34-L34 -> -1650000 | O34: =N34/L34*100 -> -23.076923 | P34: 코로나19로 인해 발생한 의료비 감액
A35: 이월금 | B35: 계 | D35: 311147999 | E35: =E36 -> 103790000 | F35: =F36 -> -207357999 | G35: =F35/D35*100 -> -66.642884 | K35: 연료비 | L35: 6000000 | M35: ='나. 세입세출(총괄)'!L36 -> 6000000 | N35: =M35-L35 -> 0 | O35: 100
B36: 이월금 | C36: 소계 | D36: 311147999 | E36: =SUM(E37:E41) -> 103790000 | F36: =SUM(F37:F41) -> -207357999 | G36: =F36/D36*100 -> -66.642884 | J36: 사업비 | K36: 소계 | L36: 162799462 | M36: =SUM(M37:M44) -> 117612362 | N36: =M36-L36 -> -45187100 | O36: -9.9520407
C37: 이월금(보조금) | D37: 250613106 | E37: ='다. 세입내역서'!E42 -> 50000000 | F37: =E37-D37 -> -200613106 | G37: =F37/D37*100 -> -80.048928 | H37: 2022년 보조금 이월금 | K37: 사회심리 재활사업비 | L37: 66072362 | M37: ='나. 세입세출(총괄)'!L38 -> 66072362 | N37: =M37-L37 -> 0 | O37: =N37/L37*100 -> 0
C38: 이월금 (법인전입금) | D38: 4721463 | E38: ='다. 세입내역서'!E43 -> 1120000 | F38: =E38-D38 -> -3601463 | G38: =F38/D38*100 -> -76.278539 | H38: 2022년 법인전입금 이월금 | K38: ='라. 세출내역서'!C795 -> 환경개선사업비 | L38: 22000000 | M38: ='나. 세입세출(총괄)'!L39 -> 0 | N38: =M38-L38 -> -22000000 | O38: 100 | P38: 2022년 환경개선사업지원 종료에 따른 예산감액
C39: 이월금(자부담) | D39: 14424572 | E39: ='다. 세입내역서'!E44 -> 21700000 | F39: =E39-D39 -> 7275428 | G39: =F39/D39*100 -> 50.437739 | H39: 2022년 자부담 이월금 | K39: 4종운영 지원사업비 | L39: 32840000 | M39: ='나. 세입세출(총괄)'!L40 -> 32840000 | N39: =M39-L39 -> 0 | O39: =N39/L39*100 -> 0
C40: 이월금(후원금) | D40: 41388858 | E40: ='다. 세입내역서'!E45 -> 30970000 | F40: =E40-D40 -> -10418858 | G40: =F40/D40*100 -> -25.173099 | H40: 2022년 후원금 이월금 | K40: 6종운영 지원사업비 | L40: 6600000 | M40: ='나. 세입세출(총괄)'!L41 -> 6600000 | N40: =M40-L40 -> 0 | O40: =N40/L40*100 -> 0
...

Sheet 사. 임직원보수 일람표
A1: 사. 임직원 보수 일람표
A2: 보조금 직원
A3: 순번 | B3: 직책 | C3: 성명 | D3: 승급월 | G3: 호봉 | H3: 기본급 | I3: 급여 | J3: 제수당 | S3: 퇴직금 및 퇴직적립금 | T3: 국민연금 | U3: 건강보험 | V3: 장기요양 | W3: 고용보험 | X3: 산재보험 | Y3: 사회보험 부담금 | Z3: 공제액계 | AA3: 합계 | AB3: 지자체 별도 지급액 | AE3: 비고
J4: 명절휴가비 | K4: 가족수당 | L4: 시급 | M4: 연장수당 | N4: 휴일근로시간 | O4: 휴일근로수당 | P4: 연장추가 지원수당 | Q4: 직책수당 | R4: 제수당 계 | AB4: 경기도 특수근무수당 | AC4: 경기도 처우개선비 | AD4: 지자체 지급액 계
A5: 1 | B5: 시설장 | C5: 이기수 | D5: 6 | E5: =F5+F6 -> 12 | F5: 5 | G5: 16 | H5: 4149000 | I5: =H5*F5 -> 20745000 | J5: =H5*60% -> 2489400 | L5: =ROUND(H5*1/209*1.5,-1) -> 29780 | M5: =(L5*20)*F5 -> 2978000 | P5: =(L5*5)*F5 -> 744500 | R5: =SUM(J5,K5,M5,O5,P5) -> 6211900 | S5: =ROUNDUP((I5+J5+K5+M5+O5+P5+Q5)*1/12,-1) -> 2246410 | U5: =ROUNDUP((I5+J5+K5+M5+O5+P5)*3.545%,-1) -> 955630 | V5: =ROUNDUP(U5*12.81%,-1) -> 122420 | Y5: =SUM(T5:X5) -> 1078050 | Z5: =SUM(S5,Y5) -> 3324460 | AA5: =SUM(Z5,Z6,R5,R6,I5,I6) -> 72292640 | AB5: =250000*12 -> 3000000 | AC5: =50000*12 -> 600000 | AD5: =AC5+AB5 -> 3600000
F6: 7 | G6: =G5+1 -> 17 | H6: 4223000 | I6: =H6*F6 -> 29561000 | J6: =H6*60% -> 2533800 | L6: =ROUND(H6*1/209*1.5,-1) -> 30310 | M6: =(L6*20)*F6 -> 4243400 | P6: =(L6*5)*F6 -> 1060850 | R6: =SUM(J6,K6,M6,O6,P6) -> 7838050 | S6: =ROUNDUP((I6+J6+K6+M6+O6+P6+Q6)*1/12,-1) -> 3116590 | U6: =ROUNDUP((I6+J6+K6+M6+O6+P6)*3.545%,-1) -> 1325800 | V6: =ROUNDUP(U6*12.81%,-1) -> 169840 | Y6: =SUM(T6:X6) -> 1495640 | Z6: =SUM(S6,Y6) -> 4612230
A7: 2 | B7: 사무국장 | C7: 금형민 | D7: 5 | E7: =F7+F8 -> 12 | F7: 4 | G7: 21 | H7: 4085000 | I7: =H7*F7 -> 16340000 | J7: =H7*60% -> 2451000 | K7: =120000*12 -> 1440000 | L7: =ROUND(H7*1/209*1.5,-1) -> 29320 | M7: =(L7*20)*F7 -> 2345600 | P7: =(L7*5)*F7 -> 586400 | R7: =SUM(J7,K7,M7,O7,P7) -> 6823000 | S7: =ROUNDUP((I7+J7+K7+M7+O7+P7+Q7)*1/12,-1) -> 1930250 | T7: =ROUND((I7+J7+K7+M7+O7+P7)*4.5%,-1) -> 1042340 | U7: =ROUNDUP((I7+J7+K7+M7+O7+P7)*3.545%,-1) -> 821130 | V7: =ROUNDUP(U7*12.81%,-1) -> 105190 | W7: =ROUND((I7+J7+K7+M7+O7+P7)*1.05%,-1) -> 243210 | X7: =ROUND((I7+J7+K7+M7+O7+P7)*0.8%,-1) -> 185300 | Y7: =SUM(T7:X7) -> 2397170 | Z7: =SUM(S7,Y7) -> 4327420 | AA7: =SUM(Z7,Z8,R7,R8,I7,I8) -> 76775450 | AB7: =250000*12 -> 3000000 | AC7: =50000*12 -> 600000 | AD7: =AC7+AB7 -> 3600000
F8: 8 | G8: =G7+1 -> 22 | H8: 4138000 | I8: =H8*F8 -> 33104000 | J8: =H8*60% -> 2482800 | L8: =ROUND(H8*1/209*1.5,-1) -> 29700 | M8: =(L8*20)*F8 -> 4752000 | P8: =(L8*5)*F8 -> 1188000 | R8: =SUM(J8,K8,M8,O8,P8) -> 8422800 | S8: =ROUNDUP((I8+J8+K8+M8+O8+P8+Q8)*1/12,-1) -> 3460570 | T8: =ROUND((I8+J8+K8+M8+O8+P8)*4.5%,-1) -> 1868710 | U8: =ROUNDUP((I8+J8+K8+M8+O8+P8)*3.545%,-1) -> 1472130 | V8: =ROUNDUP(U8*12.81%,-1) -> 188580 | W8: =ROUND((I8+J8+K8+M8+O8+P8)*1.05%,-1) -> 436030 | X8: =ROUND((I8+J8+K8+M8+O8+P8)*0.8%,-1) -> 332210 | Y8: =SUM(T8:X8) -> 4297660 | Z8: =SUM(S8,Y8) -> 7758230
A9: 3 | B9: 상담평가원 (과장) | C9: 김정윤 | D9: 7 | E9: =F9+F10 -> 12 | F9: 6 | G9: 19 | H9: 3608000 | I9: =H9*F9 -> 21648000 | J9: =H9*60% -> 2164800 | K9: =40000*12 -> 480000 | L9: =ROUND(H9*1/209*1.5,-1) -> 25890 | M9: =(L9*20)*F9 -> 3106800 | P9: =(L9*5)*F9 -> 776700 | R9: =SUM(J9,K9,M9,O9,P9) -> 6528300 | S9: =ROUNDUP((I9+J9+K9+M9+O9+P9+Q9)*1/12,-1) -> 2348030 | T9: =ROUND((I9+J9+K9+M9+O9+P9)*4.5%,-1) -> 1267930 | U9: =ROUNDUP((I9+J9+K9+M9+O9+P9)*3.545%,-1) -> 998850 | V9: =ROUNDUP(U9*12.81%,-1) -> 127960 | W9: =ROUND((I9+J9+K9+M9+O9+P9)*1.05%,-1) -> 295850 | X9: =ROUND((I9+J9+K9+M9+O9+P9)*0.8%,-1) -> 225410 | Y9: =SUM(T9:X9) -> 2916000 | Z9: =SUM(S9,Y9) -> 5264030 | AA9: =SUM(Z9,Z10,R9,R10,I9,I10) -> 66830470 | AB9: =250000*12 -> 3000000 | AC9: =50000*12 -> 600000 | AD9: =AC9+AB9 -> 3600000
F10: 6 | G10: =G9+1 -> 20 | H10: 3665000 | I10: =H10*F10 -> 21990000 | J10: =H10*60% -> 2199000 | L10: =ROUND(H10*1/209*1.5,-1) -> 26300 | M10: =(L10*20)*F10 -> 3156000 | P10: =(L10*5)*F10 -> 789000 | R10: =SUM(J10,K10,M10,O10,P10) -> 6144000 | S10: =ROUNDUP((I10+J10+K10+M10+O10+P10+Q10)*1/12,-1) -> 2344500 | T10: =ROUND((I10+J10+K10+M10+O10+P10)*4.5%,-1) -> 1266030 | U10: =ROUNDUP((I10+J10+K10+M10+O10+P10)*3.545%,-1) -> 997360 | V10: =ROUNDUP(U10*12.81%,-1) -> 127770 | W10: =ROUND((I10+J10+K10+M10+O10+P10)*1.05%,-1) -> 295410 | X10: =ROUND((I10+J10+K10+M10+O10+P10)*0.8%,-1) -> 225070 | Y10: =SUM(T10:X10) -> 2911640 | Z10: =SUM(S10,Y10) -> 5256140
A11: 4 | B11: 영양사 (팀장) | C11: 김혜영 | D11: 4 | E11: =F11+F12 -> 12 | F11: 3 | G11: 26 | H11: 3940000 | I11: =H11*F11 -> 11820000 | J11: =H11*60% -> 2364000 | K11: =40000*12 -> 480000 | L11: =ROUND(H11*1/209*1.5,-1) -> 28280 | M11: =(L11*20)*F11 -> 1696800 | P11: =(L11*5)*F11 -> 424200 | R11: =SUM(J11,K11,M11,O11,P11) -> 4965000 | S11: =ROUNDUP((I11+J11+K11+M11+O11+P11+Q11)*1/12,-1) -> 1398750 | T11: =ROUND((I11+J11+K11+M11+O11+P11)*4.5%,-1) -> 755330 | U11: =ROUNDUP((I11+J11+K11+M11+O11+P11)*3.545%,-1) -> 595030 | V11: =ROUNDUP(U11*12.81%,-1) -> 76230 | W11: =ROUND((I11+J11+K11+M11+O11+P11)*1.05%,-1) -> 176240 | X11: =ROUND((I11+J11+K11+M11+O11+P11)*0.8%,-1) -> 134280 | Y11: =SUM(T11:X11) -> 1737110 | Z11: =SUM(S11,Y11) -> 3135860 | AA11: =SUM(Z11,Z12,R11,R12,I11,I12) -> 72828620 | AB11: =250000*12 -> 3000000 | AC11: =50000*12 -> 600000 | AD11: =AC11+AB11 -> 3600000
F12: 9 | G12: =G11+1 -> 27 | H12: 3975000 | I12: =H12*F12 -> 35775000 | J12: =H12*60% -> 2385000 | L12: =ROUND(H12*1/209*1.5,-1) -> 28530 | M12: =(L12*20)*F12 -> 5135400 | P12: =(L12*5)*F12 -> 1283850 | R12: =SUM(J12,K12,M12,O12,P12) -> 8804250 | S12: =ROUNDUP((I12+J12+K12+M12+O12+P12+Q12)*1/12,-1) -> 3714940 | T12: =ROUND((I12+J12+K12+M12+O12+P12)*4.5%,-1) -> 2006070 | U12: =ROUNDUP((I12+J12+K12+M12+O12+P12)*3.545%,-1) -> 1580340 | V12: =ROUNDUP(U12*12.81%,-1) -> 202450 | W12: =ROUND((I12+J12+K12+M12+O12+P12)*1.05%,-1) -> 468080 | X12: =ROUND((I12+J12+K12+M12+O12+P12)*0.8%,-1) -> 356630 | Y12: =SUM(T12:X12) -> 4613570 | Z12: =SUM(S12,Y12) -> 8328510
A13: 5 | B13: 선임지도원 (팀장) | C13: 이선이 | D13: 11 | E13: =F13+F14 -> 12 | F13: 11 | G13: 15 | H13: 3051000 | I13: =H13*F13 -> 33561000 | J13: =(H13*60%)*2 -> 3661200 | K13: =40000*12 -> 480000 | L13: =ROUND(H13*1/209*1.5,-1) -> 21900 | M13: =(L13*20)*F13 -> 4818000 | P13: =(L13*5)*F13 -> 1204500 | R13: =SUM(J13,K13,M13,O13,P13) -> 10163700 | S13: =ROUNDUP((I13+J13+K13+M13+O13+P13+Q13)*1/12,-1) -> 3643730 | T13: =ROUND((I13+J13+K13+M13+O13+P13)*4.5%,-1) -> 1967610 | U13: =ROUNDUP((I13+J13+K13+M13+O13+P13)*3.545%,-1) -> 1550050 | V13: =ROUNDUP(U13*12.81%,-1) -> 198570 | W13: =ROUND((I13+J13+K13+M13+O13+P13)*1.05%,-1) -> 459110 | X13: =ROUND((I13+J13+K13+M13+O13+P13)*0.8%,-1) -> 349800 | Y13: =SUM(T13:X13) -> 4525140 | Z13: =SUM(S13,Y13) -> 8168870 | AA13: =SUM(Z13,Z14,R13,R14,I13,I14) -> 56253980 | AB13: =250000*12 -> 3000000 | AC13: =50000*12 -> 600000 | AD13: =AC13+AB13 -> 3600000
F14: 1 | G14: =G13+1 -> 16 | H14: 3115000 | I14: =H14*F14 -> 3115000 | L14: =ROUND(H14*1/209*1.5,-1) -> 22360 | M14: =(L14*20)*F14 -> 447200 | P14: =(L14*5)*F14 -> 111800 | R14: =SUM(J14,K14,M14,O14,P14) -> 559000 | S14: =ROUNDUP((I14+J14+K14+M14+O14+P14+Q14)*1/12,-1) -> 306170 | T14: =ROUND((I14+J14+K14+M14+O14+P14)*4.5%,-1) -> 165330 | U14: =ROUNDUP((I14+J14+K14+M14+O14+P14)*3.545%,-1) -> 130250 | V14: =ROUNDUP(U14*12.81%,-1) -> 16690 | W14: =ROUND((I14+J14+K14+M14+O14+P14)*1.05%,-1) -> 38580 | X14: =ROUND((I14+J14+K14+M14+O14+P14)*0.8%,-1) -> 29390 | Y14: =SUM(T14:X14) -> 380240 | Z14: =SUM(S14,Y14) -> 686410
A15: 6 | B15: 간호사 (팀장) | C15: 김성숙 | D15: 9 | E15: =F15+F16 -> 12 | F15: 8 | G15: 13 | H15: 3204000 | I15: =H15*F15 -> 25632000 | J15: =H15*60%*1 -> 1922400 | K15: =140000*12 -> 1680000 | L15: =ROUND(H15*1/209*1.5,-1) -> 23000 | M15: =(L15*20)*F15 -> 3680000 | P15: =(L15*5)*F15 -> 920000 | R15: =SUM(J15,K15,M15,O15,P15) -> 8202400 | S15: =ROUNDUP((I15+J15+K15+M15+O15+P15+Q15)*1/12,-1) -> 2819540 | T15: =ROUND((I15+J15+K15+M15+O15+P15)*4.5%,-1) -> 1522550 | U15: =ROUNDUP((I15+J15+K15+M15+O15+P15)*3.545%,-1) -> 1199430 | V15: =ROUNDUP(U15*12.81%,-1) -> 153650 | W15: =ROUND((I15+J15+K15+M15+O15+P15)*1.05%,-1) -> 355260 | X15: =ROUND((I15+J15+K15+M15+O15+P15)*0.8%,-1) -> 270680 | Y15: =SUM(T15:X15) -> 3501570 | Z15: =SUM(S15,Y15) -> 6321110 | AA15: =SUM(Z15,Z16,R15,R16,I15,I16) -> 60856110 | AB15: =250000*12 -> 3000000 | AC15: =50000*12 -> 600000 | AD15: =AC15+AB15 -> 3600000
F16: 4 | G16: =G15+1 -> 14 | H16: 3280000 | I16: =H16*F16 -> 13120000 | J16: =H16*60%*1 -> 1968000 | L16: =ROUND(H16*1/209*1.5,-1) -> 23540 | M16: =(L16*20)*F16 -> 1883200 | P16: =(L16*5)*F16 -> 470800 | R16: =SUM(J16,K16,M16,O16,P16) -> 4322000 | S16: =ROUNDUP((I16+J16+K16+M16+O16+P16+Q16)*1/12,-1) -> 1453500 | T16: =ROUND((I16+J16+K16+M16+O16+P16)*4.5%,-1) -> 784890 | U16: =ROUNDUP((I16+J16+K16+M16+O16+P16)*3.545%,-1) -> 618320 | V16: =ROUNDUP(U16*12.81%,-1) -> 79210 | W16: =ROUND((I16+J16+K16+M16+O16+P16)*1.05%,-1) -> 183140 | X16: =ROUND((I16+J16+K16+M16+O16+P16)*0.8%,-1) -> 139540 | Y16: =SUM(T16:X16) -> 1805100 | Z16: =SUM(S16,Y16) -> 3258600
A17: 7 | B17: 언어치료사 | C17: 최민성 | D17: 4 | E17: =F17+F18 -> 12 | F17: =D17-1 -> 3 | G17: 14 | H17: 3280000 | I17: =H17*F17 -> 9840000 | J17: =H17*60% -> 1968000 | K17: =60000*12 -> 720000 | L17: =ROUND(H17*1/209*1.5,-1) -> 23540 | M17: =(L17*20)*F17 -> 1412400 | P17: =(L17*5)*F17 -> 353100 | R17: =SUM(J17,K17,M17,O17,P17) -> 4453500 | S17: =ROUNDUP((I17+J17+K17+M17+O17+P17+Q17)*1/12,-1) -> 1191130 | T17: =ROUND((I17+J17+K17+M17+O17+P17)*4.5%,-1) -> 643210 | U17: =ROUNDUP((I17+J17+K17+M17+O17+P17)*3.545%,-1) -> 506710 | V17: =ROUNDUP(U17*12.81%,-1) -> 64910 | W17: =ROUND((I17+J17+K17+M17+O17+P17)*1.05%,-1) -> 150080 | X17: =ROUND((I17+J17+K17+M17+O17+P17)*0.8%,-1) -> 114350 | Y17: =SUM(T17:X17) -> 1479260 | Z17: =SUM(S17,Y17) -> 2670390 | AA17: =SUM(Z17,Z18,R17,R18,I17,I18) -> 61591230 | AB17: =250000*12 -> 3000000 | AC17: =50000*12 -> 600000 | AD17: =AC17+AB17 -> 3600000
F18: 9 | G18: =G17+1 -> 15 | H18: 3353000 | I18: =H18*F18 -> 30177000 | J18: =H18*60% -> 2011800 | L18: =ROUND(H18*1/209*1.5,-1) -> 24060 | M18: =(L18*20)*F18 -> 4330800 | P18: =(L18*5)*F18 -> 1082700 | R18: =SUM(J18,K18,M18,O18,P18) -> 7425300 | S18: =ROUNDUP((I18+J18+K18+M18+O18+P18+Q18)*1/12,-1) -> 3133530 | T18: =ROUND((I18+J18+K18+M18+O18+P18)*4.5%,-1) -> 1692100 | U18: =ROUNDUP((I18+J18+K18+M18+O18+P18)*3.545%,-1) -> 1333010 | V18: =ROUNDUP(U18*12.81%,-1) -> 170760 | W18: =ROUND((I18+J18+K18+M18+O18+P18)*1.05%,-1) -> 394820 | X18: =ROUND((I18+J18+K18+M18+O18+P18)*0.8%,-1) -> 300820 | Y18: =SUM(T18:X18) -> 3891510 | Z18: =SUM(S18,Y18) -> 7025040
A19: 8 | B19: 작업치료사 | C19: 이동철 | D19: 2 | E19: =F19+F20 -> 12 | F19: 1 | G19: 8 | H19: 2712000 | I19: =H19*F19 -> 2712000 | K19: =40000*12 -> 480000 | L19: =ROUND(H19*1/209*1.5,-1) -> 19460 | M19: =(L19*20)*F19 -> 389200 | P19: =(L19*5)*F19 -> 97300 | R19: =SUM(J19,K19,M19,O19,P19) -> 966500 | S19: =ROUNDUP((I19+J19+K19+M19+O19+P19+Q19)*1/12,-1) -> 306550 | T19: =ROUND((I19+J19+K19+M19+O19+P19)*4.5%,-1) -> 165530 | U19: =ROUNDUP((I19+J19+K19+M19+O19+P19)*3.545%,-1) -> 130410 | V19: =ROUNDUP(U19*12.81%,-1) -> 16710 | W19: =ROUND((I19+J19+K19+M19+O19+P19)*1.05%,-1) -> 38620 | X19: =ROUND((I19+J19+K19+M19+O19+P19)*0.8%,-1) -> 29430 | Y19: =SUM(T19:X19) -> 380700 | Z19: =SUM(S19,Y19) -> 687250 | AA19: =SUM(Z19,Z20,R19,R20,I19,I20) -> 51938550 | AB19: =250000*12 -> 3000000 | AC19: =50000*12 -> 600000 | AD19: =AC19+AB19 -> 3600000
F20: 11 | G20: =G19+1 -> 9 | H20: 2828000 | I20: =H20*F20 -> 31108000 | J20: =(H20*60%)*2 -> 3393600 | L20: =ROUND(H20*1/209*1.5,-1) -> 20300 | M20: =(L20*20)*F20 -> 4466000 | P20: =(L20*5)*F20 -> 1116500 | R20: =SUM(J20,K20,M20,O20,P20) -> 8976100 | S20: =ROUNDUP((I20+J20+K20+M20+O20+P20+Q20)*1/12,-1) -> 3340350 | T20: =ROUND((I20+J20+K20+M20+O20+P20)*4.5%,-1) -> 1803780 | U20: =ROUNDUP((I20+J20+K20+M20+O20+P20)*3.545%,-1) -> 1420990 | V20: =ROUNDUP(U20*12.81%,-1) -> 182030 | W20: =ROUND((I20+J20+K20+M20+O20+P20)*1.05%,-1) -> 420880 | X20: =ROUND((I20+J20+K20+M20+O20+P20)*0.8%,-1) -> 320670 | Y20: =SUM(T20:X20) -> 4148350 | Z20: =SUM(S20,Y20) -> 7488700
A21: 9 | B21: 물리치료사 | C21: 김효선 | D21: 8 | E21: =F21+F22 -> 12 | F21: 7 | G21: 15 | H21: 3353000 | I21: =H21*F21 -> 23471000 | J21: =H21*60% -> 2011800 | K21: =40000*12 -> 480000 | L21: =ROUND(H21*1/209*1.5,-1) -> 24060 | M21: =(L21*20)*F21 -> 3368400 | P21: =(L21*5)*F21 -> 842100 | R21: =SUM(J21,K21,M21,O21,P21) -> 6702300 | S21: =ROUNDUP((I21+J21+K21+M21+O21+P21+Q21)*1/12,-1) -> 2514450 | T21: =ROUND((I21+J21+K21+M21+O21+P21)*4.5%,-1) -> 1357800 | U21: =ROUNDUP((I21+J21+K21+M21+O21+P21)*3.545%,-1) -> 1069650 | V21: =ROUNDUP(U21*12.81%,-1) -> 137030 | W21: =ROUND((I21+J21+K21+M21+O21+P21)*1.05%,-1) -> 316820 | X21: =ROUND((I21+J21+K21+M21+O21+P21)*0.8%,-1) -> 241390 | Y21: =SUM(T21:X21) -> 3122690 | Z21: =SUM(S21,Y21) -> 5637140 | AA21: =SUM(Z21,Z22,R21,R22,I21,I22) -> 62197360 | AB21: =250000*12 -> 3000000 | AC21: =50000*12 -> 600000 | AD21: =AC21+AB21 -> 3600000
F22: 5 | G22: =G21+1 -> 16 | H22: 3422000 | I22: =H22*F22 -> 17110000 | J22: =H22*60% -> 2053200 | L22: =ROUND(H22*1/209*1.5,-1) -> 24560 | M22: =(L22*20)*F22 -> 2456000 | P22: =(L22*5)*F22 -> 614000 | R22: =SUM(J22,K22,M22,O22,P22) -> 5123200 | S22: =ROUNDUP((I22+J22+K22+M22+O22+P22+Q22)*1/12,-1) -> 1852770 | T22: =ROUND((I22+J22+K22+M22+O22+P22)*4.5%,-1) -> 1000490 | U22: =ROUNDUP((I22+J22+K22+M22+O22+P22)*3.545%,-1) -> 788170 | V22: =ROUNDUP(U22*12.81%,-1) -> 100970 | W22: =ROUND((I22+J22+K22+M22+O22+P22)*1.05%,-1) -> 233450 | X22: =ROUND((I22+J22+K22+M22+O22+P22)*0.8%,-1) -> 177870 | Y22: =SUM(T22:X22) -> 2300950 | Z22: =SUM(S22,Y22) -> 4153720
A23: 10 | B23: 사회재활 교사(과장) | C23: 이성수 | D23: 10 | E23: =F23+F24 -> 12 | F23: 9 | G23: 18 | H23: 3552000 | I23: =H23*F23 -> 31968000 | J23: =H23*60% -> 2131200 | K23: =40000*12 -> 480000 | L23: =ROUND(H23*1/209*1.5,-1) -> 25490 | M23: =(L23*20)*F23 -> 4588200 | P23: =(L23*5)*F23 -> 1147050 | R23: =SUM(J23,K23,M23,O23,P23) -> 8346450 | S23: =ROUNDUP((I23+J23+K23+M23+O23+P23+Q23)*1/12,-1) -> 3359540 | T23: =ROUND((I23+J23+K23+M23+O23+P23)*4.5%,-1) -> 1814150 | U23: =ROUNDUP((I23+J23+K23+M23+O23+P23)*3.545%,-1) -> 1429150 | V23: =ROUNDUP(U23*12.81%,-1) -> 183080 | W23: =ROUND((I23+J23+K23+M23+O23+P23)*1.05%,-1) -> 423300 | X23: =ROUND((I23+J23+K23+M23+O23+P23)*0.8%,-1) -> 322520 | Y23: =SUM(T23:X23) -> 4172200 | Z23: =SUM(S23,Y23) -> 7531740 | AA23: =SUM(Z23,Z24,R23,R24,I23,I24) -> 65566140 | AB23: =250000*12 -> 3000000 | AC23: =50000*12 -> 600000 | AD23: =AC23+AB23 -> 3600000
F24: 3 | G24: =G23+1 -> 19 | H24: 3608000 | I24: =H24*F24 -> 10824000 | J24: =H24*60% -> 2164800 | L24: =ROUND(H24*1/209*1.5,-1) -> 25890 | M24: =(L24*20)*F24 -> 1553400 | P24: =(L24*5)*F24 -> 388350 | R24: =SUM(J24,K24,M24,O24,P24) -> 4106550 | S24: =ROUNDUP((I24+J24+K24+M24+O24+P24+Q24)*1/12,-1) -> 1244220 | T24: =ROUND((I24+J24+K24+M24+O24+P24)*4.5%,-1) -> 671870 | U24: =ROUNDUP((I24+J24+K24+M24+O24+P24)*3.545%,-1) -> 529290 | V24: =ROUNDUP(U24*12.81%,-1) -> 67810 | W24: =ROUND((I24+J24+K24+M24+O24+P24)*1.05%,-1) -> 156770 | X24: =ROUND((I24+J24+K24+M24+O24+P24)*0.8%,-1) -> 119440 | Y24: =SUM(T24:X24) -> 1545180 | Z24: =SUM(S24,Y24) -> 2789400
A25: 11 | B25: 선임지도원 (팀장) | C25: 심영은 | D25: 8 | E25: =F25+F26 -> 12 | F25: 7 | G25: 14 | H25: 2984000 | I25: =H25*F25 -> 20888000 | J25: =H25*60% -> 1790400 | K25: =60000*12 -> 720000 | L25: =ROUND(H25*1/209*1.5,-1) -> 21420 | M25: =(L25*20)*F25 -> 2998800 | P25: =(L25*5)*F25 -> 749700 | R25: =SUM(J25,K25,M25,O25,P25) -> 6258900 | S25: =ROUNDUP((I25+J25+K25+M25+O25+P25+Q25)*1/12,-1) -> 2262250 | T25: =ROUND((I25+J25+K25+M25+O25+P25)*4.5%,-1) -> 1221610 | U25: =ROUNDUP((I25+J25+K25+M25+O25+P25)*3.545%,-1) -> 962360 | V25: =ROUNDUP(U25*12.81%,-1) -> 123280 | W25: =ROUND((I25+J25+K25+M25+O25+P25)*1.05%,-1) -> 285040 | X25: =ROUND((I25+J25+K25+M25+O25+P25)*0.8%,-1) -> 217180 | Y25: =SUM(T25:X25) -> 2809470 | Z25: =SUM(S25,Y25) -> 5071720 | AA25: =SUM(Z25,Z26,R25,R26,I25,I26) -> 55745160 | AB25: =250000*12 -> 3000000 | AC25: =50000*12 -> 600000 | AD25: =AC25+AB25 -> 3600000
F26: 5 | G26: =G25+1 -> 15 | H26: 3051000 | I26: =H26*F26 -> 15255000 | J26: =H26*60% -> 1830600 | L26: =ROUND(H26*1/209*1.5,-1) -> 21900 | M26: =(L26*20)*F26 -> 2190000 | P26: =(L26*5)*F26 -> 547500 | R26: =SUM(J26,K26,M26,O26,P26) -> 4568100 | S26: =ROUNDUP((I26+J26+K26+M26+O26+P26+Q26)*1/12,-1) -> 1651930 | T26: =ROUND((I26+J26+K26+M26+O26+P26)*4.5%,-1) -> 892040 | U26: =ROUNDUP((I26+J26+K26+M26+O26+P26)*3.545%,-1) -> 702730 | V26: =ROUNDUP(U26*12.81%,-1) -> 90020 | W26: =ROUND((I26+J26+K26+M26+O26+P26)*1.05%,-1) -> 208140 | X26: =ROUND((I26+J26+K26+M26+O26+P26)*0.8%,-1) -> 158580 | Y26: =SUM(T26:X26) -> 2051510 | Z26: =SUM(S26,Y26) -> 3703440
A27: 12 | B27: 사무원 | C27: 유준 | D27: 4 | E27: =F27+F28 -> 12 | F27: 3 | G27: 16 | H27: 2851000 | I27: =H27*F27 -> 8553000 | J27: =H27*60% -> 1710600 | L27: =ROUND(H27*1/209*1.5,-1) -> 20460 | M27: =(L27*20)*F27 -> 1227600 | P27: =(L27*5)*F27 -> 306900 | R27: =SUM(J27,K27,M27,O27,P27) -> 3245100 | S27: =ROUNDUP((I27+J27+K27+M27+O27+P27+Q27)*1/12,-1) -> 983180 | T27: =ROUND((I27+J27+K27+M27+O27+P27)*4.5%,-1) -> 530910 | U27: =ROUNDUP((I27+J27+K27+M27+O27+P27)*3.545%,-1) -> 418250 | V27: =ROUNDUP(U27*12.81%,-1) -> 53580 | W27: =ROUND((I27+J27+K27+M27+O27+P27)*1.05%,-1) -> 123880 | X27: =ROUND((I27+J27+K27+M27+O27+P27)*0.8%,-1) -> 94380 | Y27: =SUM(T27:X27) -> 1221000 | Z27: =SUM(S27,Y27) -> 2204180 | AA27: =SUM(Z27,Z28,R27,R28,I27,I28) -> 52761260 | AB27: =250000*12 -> 3000000 | AC27: =50000*12 -> 600000 | AD27: =AC27+AB27 -> 3600000
F28: 9 | G28: =G27+1 -> 17 | H28: 2912000 | I28: =H28*F28 -> 26208000 | J28: =H28*60% -> 1747200 | L28: =ROUND(H28*1/209*1.5,-1) -> 20900 | M28: =(L28*20)*F28 -> 3762000 | P28: =(L28*5)*F28 -> 940500 | R28: =SUM(J28,K28,M28,O28,P28) -> 6449700 | S28: =ROUNDUP((I28+J28+K28+M28+O28+P28+Q28)*1/12,-1) -> 2721480 | T28: =ROUND((I28+J28+K28+M28+O28+P28)*4.5%,-1) -> 1469600 | U28: =ROUNDUP((I28+J28+K28+M28+O28+P28)*3.545%,-1) -> 1157720 | V28: =ROUNDUP(U28*12.81%,-1) -> 148310 | W28: =ROUND((I28+J28+K28+M28+O28+P28)*1.05%,-1) -> 342910 | X28: =ROUND((I28+J28+K28+M28+O28+P28)*0.8%,-1) -> 261260 | Y28: =SUM(T28:X28) -> 3379800 | Z28: =SUM(S28,Y28) -> 6101280
A29: 13 | B29: 생활지도원 (팀장) | C29: 신희철 | D29: 2 | E29: =F29+F30 -> 12 | F29: 1 | G29: 15 | H29: 2789000 | I29: =H29*F29 -> 2789000 | L29: =ROUND(H29*1/209*1.5,-1) -> 20020 | M29: =(L29*20)*F29 -> 400400 | P29: =(L29*5)*F29 -> 100100 | R29: =SUM(J29,K29,M29,O29,P29) -> 500500 | S29: =ROUNDUP((I29+J29+K29+M29+O29+P29+Q29)*1/12,-1) -> 274130 | T29: =ROUND((I29+J29+K29+M29+O29+P29)*4.5%,-1) -> 148030 | U29: =ROUNDUP((I29+J29+K29+M29+O29+P29)*3.545%,-1) -> 116620 | V29: =ROUNDUP(U29*12.81%,-1) -> 14940 | W29: =ROUND((I29+J29+K29+M29+O29+P29)*1.05%,-1) -> 34540 | X29: =ROUND((I29+J29+K29+M29+O29+P29)*0.8%,-1) -> 26320 | Y29: =SUM(T29:X29) -> 340450 | Z29: =SUM(S29,Y29) -> 614580 | AA29: =SUM(Z29,Z30,R29,R30,I29,I30) -> 51862130 | AB29: =250000*12 -> 3000000 | AC29: =50000*12 -> 600000 | AD29: =AC29+AB29 -> 3600000
F30: 11 | G30: =G29+1 -> 16 | H30: 2851000 | I30: =H30*F30 -> 31361000 | J30: =(H30*60%)*2 -> 3421200 | L30: =ROUND(H30*1/209*1.5,-1) -> 20460 | M30: =(L30*20)*F30 -> 4501200 | P30: =(L30*5)*F30 -> 1125300 | R30: =SUM(J30,K30,M30,O30,P30) -> 9047700 | S30: =ROUNDUP((I30+J30+K30+M30+O30+P30+Q30)*1/12,-1) -> 3367400 | T30: =ROUND((I30+J30+K30+M30+O30+P30)*4.5%,-1) -> 1818390 | U30: =ROUNDUP((I30+J30+K30+M30+O30+P30)*3.545%,-1) -> 1432490 | V30: =ROUNDUP(U30*12.81%,-1) -> 183510 | W30: =ROUND((I30+J30+K30+M30+O30+P30)*1.05%,-1) -> 424290 | X30: =ROUND((I30+J30+K30+M30+O30+P30)*0.8%,-1) -> 323270 | Y30: =SUM(T30:X30) -> 4181950 | Z30: =SUM(S30,Y30) -> 7549350
A31: 14 | B31: 생활지도원 | C31: 홍은향 | D31: 6 | E31: =F31+F32 -> 12 | F31: 5 | G31: 18 | H31: 2971000 | I31: =H31*F31 -> 14855000 | J31: =H31*60% -> 1782600 | K31: =100000*12 -> 1200000 | L31: =ROUND(H31*1/209*1.5,-1) -> 21320 | M31: =(L31*40)*F31 -> 4264000 | R31: =SUM(J31,K31,M31,O31,P31) -> 7246600 | S31: =ROUNDUP((I31+J31+K31+M31+O31+P31+Q31)*1/12,-1) -> 1841800 | T31: =ROUND((I31+J31+K31+M31+O31+P31)*4.5%,-1) -> 994570 | U31: =ROUNDUP((I31+J31+K31+M31+O31+P31)*3.545%,-1) -> 783510 | V31: =ROUNDUP(U31*12.81%,-1) -> 100370 | W31: =ROUND((I31+J31+K31+M31+O31+P31)*1.05%,-1) -> 232070 | X31: =ROUND((I31+J31+K31+M31+O31+P31)*0.8%,-1) -> 176810 | Y31: =SUM(T31:X31) -> 2287330 | Z31: =SUM(S31,Y31) -> 4129130 | AA31: =SUM(Z31,Z32,R31,R32,I31,I32) -> 63808470 | AB31: =250000*12 -> 3000000 | AC31: =50000*12 -> 600000 | AD31: =AC31+AB31 -> 3600000
F32: 7 | G32: =G31+1 -> 19 | H32: 3024000 | I32: =H32*F32 -> 21168000 | J32: =H32*60% -> 1814400 | L32: =ROUND(H32*1/209*1.5,-1) -> 21700 | M32: =(L32*40)*F32 -> 6076000 | N32: 120 | O32: =N32*L32 -> 2604000 | R32: =SUM(J32,K32,M32,O32,P32) -> 10494400 | S32: =ROUNDUP((I32+J32+K32+M32+O32+P32+Q32)*1/12,-1) -> 2638540 | T32: =ROUND((I32+J32+K32+M32+O32+P32)*4.5%,-1) -> 1424810 | U32: =ROUNDUP((I32+J32+K32+M32+O32+P32)*3.545%,-1) -> 1122440 | V32: =ROUNDUP(U32*12.81%,-1) -> 143790 | W32: =ROUND((I32+J32+K32+M32+O32+P32)*1.05%,-1) -> 332460 | X32: =ROUND((I32+J32+K32+M32+O32+P32)*0.8%,-1) -> 253300 | Y32: =SUM(T32:X32) -> 3276800 | Z32: =SUM(S32,Y32) -> 5915340
A33: 15 | B33: 생활지도원 | C33: 이도란 | D33: 5 | E33: =F33+F34 -> 12 | F33: 4 | G33: 13 | H33: 2667000 | I33: =H33*F33 -> 10668000 | J33: =H33*60% -> 1600200 | K33: =40000*12 -> 480000 | L33: =ROUND(H33*1/209*1.5,-1) -> 19140 | M33: =(L33*40)*F33 -> 3062400 | R33: =SUM(J33,K33,M33,O33,P33) -> 5142600 | S33: =ROUNDUP((I33+J33+K33+M33+O33+P33+Q33)*1/12,-1) -> 1317550 | T33: =ROUND((I33+J33+K33+M33+O33+P33)*4.5%,-1) -> 711480 | U33: =ROUNDUP((I33+J33+K33+M33+O33+P33)*3.545%,-1) -> 560490 | V33: =ROUNDUP(U33*12.81%,-1) -> 71800 | W33: =ROUND((I33+J33+K33+M33+O33+P33)*1.05%,-1) -> 166010 | X33: =ROUND((I33+J33+K33+M33+O33+P33)*0.8%,-1) -> 126480 | Y33: =SUM(T33:X33) -> 1636260 | Z33: =SUM(S33,Y33) -> 2953810 | AA33: =SUM(Z33,Z34,R33,R34,I33,I34) -> 56858620 | AB33: =250000*12 -> 3000000 | AC33: =50000*12 -> 600000 | AD33: =AC33+AB33 -> 3600000
F34: 8 | G34: =G33+1 -> 14 | H34: 2730000 | I34: =H34*F34 -> 21840000 | J34: =H34*60% -> 1638000 | L34: =ROUND(H34*1/209*1.5,-1) -> 19590 | M34: =(L34*40)*F34 -> 6268800 | N34: 120 | O34: =N34*L34 -> 2350800 | R34: =SUM(J34,K34,M34,O34,P34) -> 10257600 | S34: =ROUNDUP((I34+J34+K34+M34+O34+P34+Q34)*1/12,-1) -> 2674800 | T34: =ROUND((I34+J34+K34+M34+O34+P34)*4.5%,-1) -> 1444390 | U34: =ROUNDUP((I34+J34+K34+M34+O34+P34)*3.545%,-1) -> 1137860 | V34: =ROUNDUP(U34*12.81%,-1) -> 145760 | W34: =ROUND((I34+J34+K34+M34+O34+P34)*1.05%,-1) -> 337020 | X34: =ROUND((I34+J34+K34+M34+O34+P34)*0.8%,-1) -> 256780 | Y34: =SUM(T34:X34) -> 3321810 | Z34: =SUM(S34,Y34) -> 5996610
A35: 16 | B35: 생활지도원 | C35: 윤용진 | D35: 12 | E35: =F35+F36 -> 12 | F35: 11 | G35: 16 | H35: 2851000 | I35: =H35*F35 -> 31361000 | J35: =H35*60% -> 1710600 | L35: =ROUND(H35*1/209*1.5,-1) -> 20460 | M35: =(L35*40)*F35 -> 9002400 | R35: =SUM(J35,K35,M35,O35,P35) -> 10713000 | S35: =ROUNDUP((I35+J35+K35+M35+O35+P35+Q35)*1/12,-1) -> 3506170 | T35: =ROUND((I35+J35+K35+M35+O35+P35)*4.5%,-1) -> 1893330 | U35: =ROUNDUP((I35+J35+K35+M35+O35+P35)*3.545%,-1) -> 1491530 | V35: =ROUNDUP(U35*12.81%,-1) -> 191070 | W35: =ROUND((I35+J35+K35+M35+O35+P35)*1.05%,-1) -> 441780 | X35: =ROUND((I35+J35+K35+M35+O35+P35)*0.8%,-1) -> 336590 | Y35: =SUM(T35:X35) -> 4354300 | Z35: =SUM(S35,Y35) -> 7860470 | AA35: =SUM(Z35,Z36,R35,R36,I35,I36) -> 59432880 | AB35: =250000*12 -> 3000000 | AC35: =50000*12 -> 600000 | AD35: =AC35+AB35 -> 3600000
