Workbook
Name F: #REF!
Name F: #REF!
Name F: #REF!
Name F: #REF!
Name F: #REF!
Name F: #REF!
Name F: #REF!

Sheet 표지
A4: 2023년도
A11: 2023년
A12: 세입ㆍ세출 예산서(안)
A23: 천주교수원교구사회복지회
A24: 둘 다 섯 해 누 리
E67: 0

Sheet 가. 예산총칙
A2: 가. 예 산 총 칙
A4: 제1조 | B4: 본 예산(안)은 사회복지법인 천주교 수원교구 사회복지회 소속 장애인거주시설 '둘다섯해누리'의
B5: 2022년도(2022.01.01 ~ 2022.12.31) 예산으로
B6: 사회복지법인 및 사회복지시설 재무회계규칙 제9조 1항에 의한다.
A8: 제2조 | B8: 세입세출 예산 총액은 | D8: ='다. 세입내역서'!E6 -> 4265740000 | E8: 원으로, | G8: 세입세출의 명세는 다음과 같다.
B10: 1. 세입의 주요재원은 다음과 같다. (관 기준)
B11: 1) | C11: 입소자부담금 | D11: ='나. 세입세출(총괄)'!E8 -> 84000000 | E11: 원 | G11: 2) | H11: 사업수입 | I11: 0 | J11: 원
B12: 3) | C12: 보조금수입 | D12: ='나. 세입세출(총괄)'!E17 -> 3635150270 | E12: 원 | G12: 4) | H12: 후원금수입 | I12: ='나. 세입세출(총괄)'!E25 -> 353400000 | J12: 원
B13: 5) | C13: 차입금 | D13: 0 | E13: 원 | G13: 6) | H13: 전입금 | I13: ='나. 세입세출(총괄)'!E31 -> 40000000 | J13: 원
B14: 7) | C14: 이월금 | D14: ='나. 세입세출(총괄)'!E35 -> 103790000 | E14: 원 | G14: 8) | H14: 잡수입 | I14: ='나. 세입세출(총괄)'!E46 -> 49399730 | J14: 원
B16: 2. 세출의 내용은 다음과 같다. (관 또는 항기준)
B17: 1) | C17: 사무비 | D17: ='나. 세입세출(총괄)'!L8 -> 3650290750 | E17: 원 | G17: 2) | H17: 재산조성비 | I17: ='나. 세입세출(총괄)'!L25 -> 146933378 | J17: 원
B18: 3) | C18: 사업비 | D18: ='나. 세입세출(총괄)'!L30 -> 416354042 | E18: 원 | G18: 4) | H18: 잡지출 | I18: ='나. 세입세출(총괄)'!L51 -> 549730 | J18: 원
B19: 5) | C19: 과년도지출 | D19: ='나. 세입세출(총괄)'!L48 -> 1609200 | E19: 원 | G19: 6) | H19: 예비비및기타 | I19: ='나. 세입세출(총괄)'!L54 -> 50002900 | J19: 원
E20: 원
B22: 3. 명시이월 사업은 | G22: 이며, 예산은 | I22: 0 | J22: 원이다.
B24: 4. 신설사업은 | D24: ①기능보강사업 1 : 거주시설 공기청정기렌탈지원 사업으로 예산은 | I24: ='라. 세출내역서'!U811 -> 2100000 | J24: 원이다.
D25: ②바보의나눔공모사업 선정으로예산은 | I25: ='라. 세출내역서'!K815 -> 9000000 | J25: 원이다.
D26: ③ | J26: 원이다.
D27: ④ | J27: 원이다.
D28: ⑤ | I28: ='라. 세출내역서'!E795 -> 0 | J28: 원이다.
D29: ⑥ | J29: 원이다.
A30: 제3조 | B30: 본예산(안)은 법인 이사회의 승인을 얻어 확정한다.
A32: 제4조 | B32: 법인이사회의 예산승인을 받기 전에 일반경비 및 긴급을 요하는 예산집행은 직전예산에 준하여
B33: 지출할 수 있으며, 그 집행된 예산은 당해 연도의 확정예산에 의하여 집행된 것으로 간주한다.
A35: 제5조 | B35: 각 계정과목 내의 항목의 예산집행은 당해 계정과목의 승인예산의 범위 내에서 항목간 예산을
B36: 일부 조정하여 사용할 수 있다.
A38: 제6조 | B38: 「사회복지법인 및 사회복지시설 재무회계규칙」 제16조에 의거하여 예산을 전용할 수 있다.
B39: 단, 관·항간 예산을 전용 할 경우 법인 이사회의 의결을 거쳐야 한다.
A41: 제7조 | B41: 국가 또는 지방자치단체로부터 교부된 보조금 및 지정후원금, 수익자부담 경비 등은
B42: 추가경정예산의 성립 이전이라도 보조 및 후원 목적에 적절한 경우 먼저 사용할 수 있으며,
B43: 이는 반드시 차기 추가경정예산에 반영하여야 한다.
A45: 제8조 | B45: 국가, 지방자치단체 및 사회복지기금 등에서 공모사업 선정으로 받은 보조금은 사회복지법인
B46: 및 사회복지시설 재무회계규칙에 따라 기타보조금에 편성되어야 한다.
B47: (만약, 지정후원금 또는 별도 사업비 편성이 용이하다는 지차체의 증빙자료(공문)가 있을시에만
B48: 별도 편성 가능)
A50: 제9조 | B50: 기타 회계 관련 규정의 개정으로 예산과목이 변경된 경우에는 당해연도 변경된 과목으로 승인
B51: 된 것으로 하며, 그 외의 예산총칙에 명시되지 아니한 사항은 「사회복지법인
B52: 및 사회복지시설 재무회계규칙」에 따라 집행한다.

Sheet 나. 세입세출(총괄)
A2: 나. 세입.세출 총괄표
M3: (단위 : 원)
A4: 세 입 | H4: 세 출
A5: 과 목 | D5: 전년도예산 (A) | E5: 2023년예산 (B) | F5: 증감금액 (C=B-A) | G5: 증감율(%) (C/A*100) | H5: 과 목 | K5: =D5 -> 전년도예산 (A) | L5: =E5 -> 2023년예산 (B) | M5: 증감금액 (C=B-A) | N5: 증감율(%) (C/A*100)
A6: 관 | B6: 항 | C6: 목 | H6: 관 | I6: 항 | J6: 목
A7: 합 계 | D7: 4484599000 | E7: =E8+E14+E17+E25+E35+E46+E11+E31 -> 4265740000 | F7: =F8+F14+F17+F25+F35+F46+F11+F31 -> -218859000 | G7: =F7/D7*100 -> -4.8802357 | H7: 합 계 | K7: 4484599000 | L7: =SUM(L8,L25,L30,L48,L51,L54) -> 4265740000 | M7: =L7-K7 -> -218859000 | N7: =M7/K7*100 -> -4.8802357 | O7: =E7-L7 -> 0
A8: 입소자부담금 | B8: 계 | D8: 79800000 | E8: =E9 -> 84000000 | F8: =F9 -> 4200000 | G8: =F8/D8*100 -> 5.2631579 | H8: 사무비 | I8: 계 | K8: 3562580358 | L8: =SUM(L9,L16,L18) -> 3650290750 | M8: =L8-K8 -> 87710392 | N8: =M8/K8*100 -> 2.4619906
B9: 입소비용수입 | C9: 소계 | D9: 79800000 | E9: =E10 -> 84000000 | F9: =F10 -> 4200000 | G9: =F9/D9*100 -> 5.2631579 | I9: 인건비 | J9: 소계 | K9: 3312868198 | L9: =SUM(L10:L15) -> 3383850590 | M9: =L9-K9 -> 70982392 | N9: =M9/K9*100 -> 2.1426265 | O9: =L9-'라. 세출내역서'!E9 -> 0
C10: 입소비용수입 | D10: 79800000 | E10: ='다. 세입내역서'!E9 -> 84000000 | F10: =E10-D10 -> 4200000 | G10: =F10/D10*100 -> 5.2631579 | J10: 급여 | K10: 1987419000 | L10: ='라. 세출내역서'!E10 -> 2033209000 | M10: =L10-K10 -> 45790000 | N10: =M10/K10*100 -> 2.3039933
A11: 사업수입 | B11: 계 | D11: 0 | E11: =E12 -> 0 | F11: =F12 -> 0 | G11: 0 | J11: 일용잡급 | K11: 12000000 | L11: ='라. 세출내역서'!E145 -> 12000000 | M11: =L11-K11 -> 0 | N11: =M11/K11*100 -> 0
B12: 사업수입 | C12: 소계 | D12: 0 | E12: =E13 -> 0 | F12: =F13 -> 0 | G12: 0 | J12: 제수당 | K12: 783337200 | L12: ='라. 세출내역서'!E147 -> 795425660 | M12: =L12-K12 -> 12088460 | N12: =M12/K12*100 -> 1.5432
C13: 프로그램사업수입 | D13: 0 | E13: ='[1]다-2.자부담세입'!E13 -> 0 | F13: =E13-D13 -> 0 | G13: 0 | J13: 퇴직금및퇴직적립금 | K13: 228301750 | L13: ='라. 세출내역서'!E645 -> 233124920 | M13: =L13-K13 -> 4823170 | N13: =M13/K13*100 -> 2.1126294
A14: 과년도수입 | B14: 계 | D14: 0 | E14: =E15 -> 0 | F14: =F15 -> 0 | G14: 0 | J14: 사회보험부담비용 | K14: 276089990 | L14: ='라. 세출내역서'!E649 -> 284041010 | M14: =L14-K14 -> 7951020 | N14: =M14/K14*100 -> 2.8798654
B15: 과년도수입 | C15: 소계 | D15: 0 | E15: =E16 -> 0 | F15: =F16 -> 0 | G15: 0 | J15: 기타후생경비 | K15: 25720258 | L15: ='라. 세출내역서'!E665 -> 26050000 | M15: =L15-K15 -> 329742 | N15: =M15/K15*100 -> 1.2820322
C16: 과년도수입 | D16: 0 | E16: 0 | F16: =E16-D16 -> 0 | G16: 0 | I16: 업무추진비 | J16: 소계 | K16: 1000000 | L16: =L17 -> 1000000 | M16: =L16-K16 -> 0 | N16: =M16/K16*100 -> 0
A17: 보조금수입 | B17: 계 | D17: 3608312530 | E17: =E18+E24+E29 -> 3635150270 | F17: =F18+F24+F29 -> 26837740 | G17: =F17/D17*100 -> 0.74377537 | J17: 회의비 | K17: 1000000 | L17: ='라. 세출내역서'!E678 -> 1000000 | M17: =L17-K17 -> 0 | N17: =M17/K17*100 -> 0
B18: 보조금수입 | C18: 소계 | D18: 3608312530 | E18: =SUM(E19:E22) -> 3635150270 | F18: =SUM(F19:F22) -> 26837740 | G18: =F18/D18*100 -> 0.74377537 | I18: 운영비 | J18: 소계 | K18: 248712160 | L18: =SUM(L19:L24) -> 265440160 | M18: =L18-K18 -> 16728000 | N18: =M18/K18*100 -> 6.7258473 | O18: =L18-'라. 세출내역서'!E682 -> 0
C19: 국고보조금 | D19: 3302048430 | E19: ='다. 세입내역서'!E18 -> 3342904930 | F19: =E19-D19 -> 40856500 | G19: =F19/D19*100 -> 1.2373077 | J19: 여비 | K19: 1500000 | L19: ='라. 세출내역서'!E683 -> 1500000 | M19: =L19-K19 -> 0 | N19: =M19/K19*100 -> 0
C20: 시도보조금 | D20: 222017050 | E20: ='다. 세입내역서'!E23 -> 202696110 | F20: =E20-D20 -> -19320940 | G20: =F20/D20*100 -> -8.7024578 | J20: 수용비및수수료 | K20: 60443323 | L20: ='라. 세출내역서'!E685 -> 62970160 | M20: =L20-K20 -> 2526837 | N20: =M20/K20*100 -> 4.1805064
C21: 시군구보조금 | D21: 80247050 | E21: ='다. 세입내역서'!E30 -> 89549230 | F21: =E21-D21 -> 9302180 | G21: =F21/D21*100 -> 11.591928 | J21: 공공요금 | K21: 127161967 | L21: ='라. 세출내역서'!E702 -> 129000000 | M21: =L21-K21 -> 1838033 | N21: =M21/K21*100 -> 1.4454267
C22: 기타보조금 | D22: 4000000 | E22: ='다. 세입내역서'!E32 -> 0 | F22: =E22-D22 -> -4000000 | G22: =F22/D22*100 -> -100 | J22: 제세공과금 | K22: 14006870 | L22: ='라. 세출내역서'!E709 -> 14170000 | M22: =L22-K22 -> 163130 | N22: =M22/K22*100 -> 1.1646428
J23: 차량비 | K23: 39000000 | L23: ='라. 세출내역서'!E717 -> 50000000 | M23: =L23-K23 -> 11000000 | N23: =M23/K23*100 -> 28.205128
J24: 기타운영비 | K24: 6600000 | L24: ='라. 세출내역서'!E720 -> 7800000 | M24: =L24-K24 -> 1200000 | N24: =M24/K24*100 -> 18.181818
A25: 후원금 | B25: 계 | D25: 395740000 | E25: =E26+E29 -> 353400000 | F25: =F26 -> -42340000 | G25: =F25/D25*100 -> -10.698944 | H25: 재산조성비 | I25: 계 | K25: 201575500 | L25: =L26 -> 146933378 | M25: =L25-K25 -> -54642122 | N25: =M25/K25*100 -> -27.107521 | O25: =L25-'라. 세출내역서'!E725 -> 0
B26: 후원금수입 | C26: 소계 | D26: 395740000 | E26: =SUM(E27:E28) -> 353400000 | F26: =SUM(F27:F28) -> -42340000 | G26: =F26/D26*100 -> -10.698944 | I26: 시설비 | J26: 소계 | K26: 201575500 | L26: =SUM(L27:L29) -> 146933378 | M26: =L26-K26 -> -54642122 | N26: =M26/K26*100 -> -27.107521
C27: 지정후원금 | D27: 71740000 | E27: ='다. 세입내역서'!E35 -> 29400000 | F27: =E27-D27 -> -42340000 | G27: =F27/D27*100 -> -59.018679 | J27: 시설비 | K27: 70000000 | L27: ='라. 세출내역서'!E727 -> 86000000 | M27: =L27-K27 -> 16000000 | N27: 0
C28: 비지정후원금 | D28: 324000000 | E28: ='다. 세입내역서'!E36 -> 324000000 | F28: =E28-D28 -> 0 | G28: =F28/D28*100 -> 0 | J28: 자산취득비 | K28: 70000000 | L28: ='라. 세출내역서'!E734 -> 19156157 | M28: =L28-K28 -> -50843843 | N28: =M28/K28*100 -> -72.634061
J29: 시설장비유지비 | K29: 61575500 | L29: ='라. 세출내역서'!E741 -> 41777221 | M29: =L29-K29 -> -19798279 | N29: =M29/K29*100 -> -32.152851
H30: 사업비 | I30: 계 | K30: 467265202 | L30: =SUM(L31,L37,L46) -> 416354042 | M30: =L30-K30 -> -50911160 | N30: =M30/K30*100 -> -10.89556 | O30: =L30-'라. 세출내역서'!E757 -> 0
A31: 전입금 | B31: 계 | D31: 40000000 | E31: =E32 -> 40000000 | F31: =F32 -> 0 | G31: =F31/D31*100 -> 0 | I31: 운영비 | J31: 소계 | K31: 300865740 | L31: =SUM(L32:L36) -> 295141680 | M31: =L31-K31 -> -5724060 | N31: =M31/K31*100 -> -1.9025297
B32: 전입금 | C32: 소계 | D32: 40000000 | E32: =E33 -> 40000000 | F32: =F33 -> 0 | G32: =F32/D32*100 -> 0 | J32: 생계비 | K32: 255915740 | L32: ='라. 세출내역서'!E759 -> 249641680 | M32: =L32-K32 -> -6274060 | N32: =M32/K32*100 -> -2.4516116
C33: 법인전입금 | D33: 40000000 | E33: ='다. 세입내역서'!E39 -> 40000000 | F33: =E33-D33 -> 0 | G33: =F33/D33*100 -> 0 | J33: 수용기관경비 | K33: 30000000 | L33: ='라. 세출내역서'!E766 -> 30000000 | M33: =L33-K33 -> 0 | N33: =M33/K33*100 -> 0
J34: 피복비 | K34: 1800000 | L34: ='라. 세출내역서'!E771 -> 4000000 | M34: =L34-K34 -> 2200000 | N34: =M34/K34*100 -> 122.22222
A35: 이월금 | B35: 계 | D35: 311147999 | E35: =E36 -> 103790000 | F35: =F36 -> -207357999 | G35: =F35/D35*100 -> -66.642884 | J35: 의료비 | K35: 7150000 | L35: ='라. 세출내역서'!E773 -> 5500000 | M35: =L35-K35 -> -1650000 | N35: =M35/K35*100 -> -23.076923
B36: 이월금 | C36: 소계 | D36: 311147999 | E36: =SUM(E37:E40) -> 103790000 | F36: =SUM(F37:F41) -> -207357999 | G36: =F36/D36*100 -> -66.642884 | J36: 연료비 | K36: 6000000 | L36: ='라. 세출내역서'!E775 -> 6000000 | M36: =L36-K36 -> 0 | N36: 100
C37: 이월금(보조금) | D37: 250613106 | E37: ='다. 세입내역서'!E42 -> 50000000 | F37: =E37-D37 -> -200613106 | G37: =F37/D37*100 -> -80.048928 | I37: 사업비 | J37: 소계 | K37: 162799462 | L37: =SUM(L38:L45) -> 117612362 | M37: =L37-K37 -> -45187100 | N37: =M37/K37*100 -> -27.756296
C38: 이월금(법인전입금) | D38: 4721463 | E38: ='다. 세입내역서'!E43 -> 1120000 | F38: =E38-D38 -> -3601463 | G38: =F38/D38*100 -> -76.278539 | J38: 사회심리재활사업비 | K38: 66072362 | L38: ='라. 세출내역서'!E777 -> 66072362 | M38: =L38-K38 -> 0 | N38: =M38/K38*100 -> 0
C39: 이월금(자부담) | D39: 14424572 | E39: ='다. 세입내역서'!E44 -> 21700000 | F39: =E39-D39 -> 7275428 | G39: =F39/D39*100 -> 50.437739 | J39: ='라. 세출내역서'!C795 -> 환경개선사업비 | K39: 22000000 | L39: ='라. 세출내역서'!E795 -> 0 | M39: =L39-K39 -> -22000000 | N39: 100
C40: 이월금(후원금) | D40: 41388858 | E40: ='다. 세입내역서'!E45 -> 30970000 | F40: =E40-D40 -> -10418858 | G40: =F40/D40*100 -> -25.173099 | J40: 4종운영지원사업비 | K40: 32840000 | L40: ='라. 세출내역서'!E797 -> 32840000 | M40: =L40-K40 -> 0 | N40: =M40/K40*100 -> 0
C41: 이월사업비 | D41: 0 | E41: 0 | F41: =E41-D41 -> 0 | G41: 0 | J41: 7종운영지원사업비 | K41: 6600000 | L41: ='라. 세출내역서'!E803 -> 6600000 | M41: =L41-K41 -> 0 | N41: =M41/K41*100 -> 0
J42: 재활프로그램사업비 | K42: 5000000 | L42: ='라. 세출내역서'!E806 -> 1000000 | M42: =L42-K42 -> -4000000 | N42: =M42/K42*100 -> -80
J43: 기 능 보 강 사업비 | K43: 2100000 | L43: ='라. 세출내역서'!E810 -> 2100000 | M43: =L43-K43 -> 0 | N43: =M43/K43*100 -> 0
J44: 공동모금회사업비 | K44: 7140000 | L44: ='라. 세출내역서'!E813 -> 0 | M44: =L44-K44 -> -7140000 | N44: 0
J45: ='라. 세출내역서'!C815 -> 바보의나눔사업 | K45: 21047100 | L45: ='라. 세출내역서'!E815 -> 9000000 | M45: =L45-K45 -> -12047100 | N45: 0
A46: 잡수입 | B46: 계 | D46: 49598471 | E46: =E47 -> 49399730 | F46: =F47 -> -198741 | G46: =F46/D46*100 -> -0.40069985 | I46: 결연사업비 | J46: 소계 | K46: 3600000 | L46: =L47 -> 3600000 | M46: =L46-K46 -> 0 | N46: =M46/K46*100 -> 0
B47: 잡수입 | C47: 소계 | D47: 49598471 | E47: =SUM(E48:E50) -> 49399730 | F47: =SUM(F48:F50) -> -198741 | G47: =F47/D47*100 -> -0.40069985 | J47: 결연후원금 | K47: 3600000 | L47: ='라. 세출내역서'!E818 -> 3600000 | M47: =L47-K47 -> 0 | N47: =M47/K47*100 -> 0
C48: 불용품매각대 | D48: 500000 | E48: ='다. 세입내역서'!E49 -> 500000 | F48: =E48-D48 -> 0 | G48: =F48/D48*100 -> 0 | H48: 과년도지출 | I48: 계 | K48: 2088570 | L48: =L49 -> 1609200 | M48: =L48-K48 -> -479370 | N48: =M48/K48*100 -> -22.952068
C49: 기타예금이자수입 | D49: 948471 | E49: ='다. 세입내역서'!E50 -> 749730 | F49: =E49-D49 -> -198741 | G49: =F49/D49*100 -> -20.95383 | I49: 과년도지출 | J49: 소계 | K49: 2088570 | L49: =L50 -> 1609200 | M49: =L49-K49 -> -479370 | N49: =M49/K49*100 -> -22.952068
C50: 기타잡수입 | D50: 48150000 | E50: ='다. 세입내역서'!E51 -> 48150000 | F50: =E50-D50 -> 0 | G50: =F50/D50*100 -> 0 | J50: 과년도지출 | K50: 2088570 | L50: ='라. 세출내역서'!E822 -> 1609200 | M50: =L50-K50 -> -479370 | N50: =M50/K50*100 -> -22.952068
H51: 잡지출 | I51: 계 | K51: 473364 | L51: =L52 -> 549730 | M51: =L51-K51 -> 76366 | N51: =M51/K51*100 -> 16.132617
I52: 잡지출 | J52: 소계 | K52: 473364 | L52: =L53 -> 549730 | M52: =L52-K52 -> 76366 | N52: =M52/K52*100 -> 16.132617
J53: 잡지출 | K53: 473364 | L53: ='라. 세출내역서'!E829 -> 549730 | M53: =L53-K53 -> 76366 | N53: =M53/K53*100 -> 16.132617
H54: 예비비및기타 | I54: 계 | K54: 250616006 | L54: =L55 -> 50002900 | M54: =L54-K54 -> -200613106 | N54: =M54/K54*100 -> -80.048002
I55: 예비비및기타 | J55: 소계 | K55: 250616006 | L55: =L56 -> 50002900 | M55: =L55-K55 -> -200613106 | N55: =M55/K55*100 -> -80.048002
J56: 보조금반환금 | K56: 250616006 | L56: ='라. 세출내역서'!E833 -> 50002900 | M56: =L56-K56 -> -200613106 | N56: =M56/K56*100 -> -80.048002

Sheet 다. 세입내역서
A2: 다. 세입내역서
J3: (단위 : 원)
A4: 과 목 | D4: ='나. 세입세출(총괄)'!$D$5 -> 전년도예산 (A) | E4: ='나. 세입세출(총괄)'!$E$5 -> 2023년예산 (B) | F4: 증감금액 (C=B-A) | G4: 증감율(%) (C/A*100) | H4: 산 출 내 역
A5: 관 | B5: 항 | C5: 목
A6: 합 계 | D6: 4484599000 | E6: =E7+E13+E16+E37+E40+E47+E10+E33 -> 4265740000 | F6: =F7+F13+F16+F37+F40+F47+F10+F33 -> -218859000 | G6: =F6/D6*100 -> -4.8802357 | K6: =E6-'라. 세출내역서'!E7 -> 0 | N6: =E6-'라. 세출내역서'!E7 -> 0
A7: 입소자부담금 | B7: 계 | D7: 79800000 | E7: =E8 -> 84000000 | F7: =F8 -> 4200000 | G7: =F7/D7*100 -> 5.2631579
B8: 입소비용수입 | C8: 소계 | D8: 79800000 | E8: =E9 -> 84000000 | F8: =F9 -> 4200000 | G8: =F8/D8*100 -> 5.2631579
C9: 입소비용수입 | D9: 79800000 | E9: 84000000 | F9: =E9-D9 -> 4200000 | G9: =F9/D9*100 -> 5.2631579 | H9: *실비인원(20명*350,000원*12개월)
A10: 사업수입 | B10: 계 | D10: 0 | E10: 0 | F10: 0 | G10: 0
B11: 사업수입 | C11: 소계 | D11: 0 | E11: 0 | F11: 0 | G11: 0
C12: 프로그램사업수입 | D12: 0 | E12: 0 | F12: 0 | G12: 0
A13: 과년도수입 | B13: 계 | D13: 0 | E13: 0 | F13: =E13-D13 -> 0 | G13: 0
B14: 과년도수입 | C14: 소계 | D14: 0 | E14: 0 | F14: =E14-D14 -> 0 | G14: 0
C15: 과년도수입 | D15: 0 | E15: 0 | F15: 0 | G15: 0
A16: 보조금수입 | B16: 계 | D16: 3608312530 | E16: =E17 -> 3635150270 | F16: =E16-D16 -> 26837740 | G16: =F16/D16*100 -> 0.74377537
B17: 보조금수입 | C17: 소계 | D17: 3608312530 | E17: =SUM(E18,E23,E30,E32,) -> 3635150270 | F17: =E17-D17 -> 26837740 | G17: =F17/D17*100 -> 0.74377537
C18: 국고보조금 | D18: 3302048430 | E18: =SUM(E19:E22) -> 3342904930 | F18: =E18-D18 -> 40856500 | G18: =F18/D18*100 -> 1.2373077 | H18: * 인 건 비 : 3,022,463,250원 * 관 리 운 영 비 : 123,700,000원 * 생 계 비 : 194,641,680원 * 기능보강사업비 : 2,100.000원 | M18: 운영비인건비 | N18: 교대 인건비 | O18: 휴일수당
C19: 인건비 | D19: 2965233690 | E19: =('라. 세출내역서'!H9-'다. 세입내역서'!E24-'다. 세입내역서'!E25-E31) -> 3022463250 | F19: =E19-D19 -> 57229560 | G19: =F19/D19*100 -> 1.9300185 | L19: ='라. 세출내역서'!H9 -> 3275268590 | M19: ='사. 임직원보수 일람표'!I103+'사. 임직원보수 일람표'!J103+'사. 임직원보수 일람표'!K103+'사. 임직원보수 일람표'!M103 -> 2060421800 | N19: ='사. 임직원보수 일람표'!S103+'사. 임직원보수 일람표'!T103+'사. 임직원보수 일람표'!U103+'사. 임직원보수 일람표'!V103+'사. 임직원보수 일람표'!W103+'사. 임직원보수 일람표'!X103 -> 390389480 | O19: ='사. 임직원보수 일람표'!O103 -> 54170400
C20: 관리운영비 | D20: 123899000 | E20: =('라. 세출내역서'!H677+'라. 세출내역서'!H682+'라. 세출내역서'!H726+'라. 세출내역서'!H766+'라. 세출내역서'!H777) -> 123700000 | F20: =E20-D20 -> -199000 | G20: =F20/D20*100 -> -0.16061469 | L20: =E19+E24+E25+E31 -> 3275268590 | M20: ='사. 임직원보수 일람표'!I149+'사. 임직원보수 일람표'!J149+'사. 임직원보수 일람표'!K149+'사. 임직원보수 일람표'!M149 -> 416187000 | N20: ='사. 임직원보수 일람표'!S149+'사. 임직원보수 일람표'!T149+'사. 임직원보수 일람표'!U149+'사. 임직원보수 일람표'!V149+'사. 임직원보수 일람표'!W149+'사. 임직원보수 일람표'!X149 -> 81459770 | O20: ='사. 임직원보수 일람표'!O149 -> 19834800
C21: 생계비 | D21: 210815740 | E21: ='라. 세출내역서'!H759 -> 194641680 | F21: =E21-D21 -> -16174060 | G21: =F21/D21*100 -> -7.6721311 | L21: =L19-L20 -> 0 | M21: =SUM(M19:M20) -> 2476608800 | N21: =SUM(N19:N20) -> 471849250 | O21: =SUM(O19:O20) -> 74005200 | P21: =SUM(L21:O21) -> 3022463250
C22: 기능보강사업비 | D22: 2100000 | E22: ='라. 세출내역서'!E810 -> 2100000 | F22: =E22-D22 -> 0 | G22: =F22/D22*100 -> 0
C23: 시도보조금 | D23: 222017050 | E23: =SUM(E24:E29) -> 202696110 | F23: =E23-D23 -> -19320940 | G23: =F23/D23*100 -> -8.7024578 | H23: * 6종 인 건 비 : 134,400,810원 * 연장추가지원수당 : 28,855,300원 * 차 량 운 영 비 : 3,600,000원 * 간 병 인 비 : 3,000,000원 * 4종 운영지원보조금 : 32,840,000원
C24: 6종인건비 | D24: 132338050 | E24: ='사. 임직원보수 일람표'!AA116-'사. 임직원보수 일람표'!P116 -> 134400810 | F24: =E24-D24 -> 2062760 | G24: =F24/D24*100 -> 1.5587051 | L24: =E24-P24 -> 0 | M24: ='사. 임직원보수 일람표'!I116+'사. 임직원보수 일람표'!J116+'사. 임직원보수 일람표'!K116+'사. 임직원보수 일람표'!M116 -> 109031400 | N24: ='사. 임직원보수 일람표'!S116+'사. 임직원보수 일람표'!T116+'사. 임직원보수 일람표'!U116+'사. 임직원보수 일람표'!V116+'사. 임직원보수 일람표'!W116+'사. 임직원보수 일람표'!X116 -> 21288210 | O24: ='사. 임직원보수 일람표'!O116 -> 4081200 | P24: =SUM(M24:O24) -> 134400810
C25: 연장추가지원수당 | D25: 28239000 | E25: ='사. 임직원보수 일람표'!P214 -> 28855300 | F25: =E25-D25 -> 616300 | G25: =F25/D25*100 -> 2.1824427
C26: 차량운영비 | D26: 3600000 | E26: 3600000 | F26: =E26-D26 -> 0 | G26: =F26/D26*100 -> 0
C27: 환경개선사업 | D27: 22000000 | F27: =E27-D27 -> -22000000 | G27: 0
C28: 간병인비 | D28: 3000000 | E28: 3000000 | F28: =E28-D28 -> 0 | G28: =F28/D28*100 -> 0
C29: 4종 | D29: 32840000 | E29: 32840000 | F29: =E29-D29 -> 0 | G29: =F29/D29*100 -> 0
C30: 시군구보조금 | D30: 80247050 | E30: =SUM(E31) -> 89549230 | F30: =E30-D30 -> 9302180 | H30: *의료인력추가지원인건비 : 85,549,230원
C31: 의료인력인건비 | D31: 80247050 | E31: ='사. 임직원보수 일람표'!AA161 -> 89549230 | F31: =E31-D31 -> 9302180 | L31: =E31-O31 -> 0 | M31: ='사. 임직원보수 일람표'!I161+'사. 임직원보수 일람표'!J161+'사. 임직원보수 일람표'!K161+'사. 임직원보수 일람표'!M161+'사. 임직원보수 일람표'!O161 -> 75452760 | N31: ='사. 임직원보수 일람표'!S161+'사. 임직원보수 일람표'!T161+'사. 임직원보수 일람표'!U161+'사. 임직원보수 일람표'!V161+'사. 임직원보수 일람표'!W161+'사. 임직원보수 일람표'!X161 -> 14096470 | O31: =SUM(M31:N31) -> 89549230
C32: 기타보조금 | D32: 4000000 | F32: =E32-D32 -> -4000000 | G32: =F32/D32*100 -> -100
A33: 후원금 | B33: 계 | D33: 395740000 | E33: =E34 -> 353400000 | F33: =E33-D33 -> -42340000 | G33: =F33/D33*100 -> -10.698944
B34: 후원금수입 | C34: 소계 | D34: 395740000 | E34: =SUM(E35:E36) -> 353400000 | F34: =E34-D34 -> -42340000 | G34: =F34/D34*100 -> -10.698944
C35: 지정후원금 | D35: 71740000 | E35: =16800000+3600000+9000000 -> 29400000 | F35: =E35-D35 -> -42340000 | G35: =F35/D35*100 -> -59.018679 | H35: * 기관차량구입 및 할부금 : 1,400,000원 X 12개월 = 16,800,000원 * 결연후원금 : 300,000원 X 12개월 = 3,600,000원 * 바보의 나눔사업 선정 : 1,000,000원 X 9개월 = 9,000,000원
C36: 비지정후원금 | D36: 324000000 | E36: =27000000*12 -> 324000000 | F36: =E36-D36 -> 0 | G36: =F36/D36*100 -> 0 | H36: * 월평균 27,000,000원*12월
A37: 전입금 | B37: 계 | D37: 40000000 | E37: =E38 -> 40000000 | F37: =E37-D37 -> 0 | G37: =F37/D37*100 -> 0
B38: 전입금 | C38: 소계 | D38: 40000000 | E38: =E39 -> 40000000 | F38: =E38-D38 -> 0 | G38: =F38/D38*100 -> 0
C39: 법인전입금 | D39: 40000000 | E39: 40000000 | F39: =E39-D39 -> 0 | G39: =F39/D39*100 -> 0
A40: 이월금 | B40: 계 | D40: 311147999 | E40: =E41 -> 103790000 | F40: =E40-D40 -> -207357999 | G40: =F40/D40*100 -> -66.642884
B41: 이월금 | C41: 소계 | D41: 311147999 | E41: =SUM(E42:E46) -> 103790000 | F41: =E41-D41 -> -207357999 | G41: =F41/D41*100 -> -66.642884
C42: 이월금(보조금) | D42: 250613106 | E42: =40000000+9850000+150000 -> 50000000 | F42: =E42-D42 -> -200613106 | G42: =F42/D42*100 -> -80.048928 | H42: * 보조금 : 운영비 보조금이월금(40,000,000원), 시도구 운영비 보조금이월금 (9,850,000원),예금이자이월금(150,000원)
C43: 이월금(법인전입금) | D43: 4721463 | E43: 1120000 | F43: =E43-D43 -> -3601463 | G43: =F43/D43*100 -> -76.278539 | H43: * 자부담 : 법인전입금이월금 (1,120,000원)
C44: 이월금(자부담) | D44: 14424572 | E44: =4500000+15000000+2000000+170000+30000 -> 21700000 | F44: =E44-D44 -> 7275428 | G44: =F44/D44*100 -> 50.437739 | H44: * 자부담 : 입소비용수입이월금 ( 4,500,000원), 종사자식대이월금(15,000,000원), 기타 잡수입 이월금 (2,000,000원), 예금이자이월금 (170,000원),종사자식대예금이자이월금(30,000원)
C45: 이월금(후원금) | D45: 41388858 | E45: =20000000+10000000+970000 -> 30970000 | F45: =E45-D45 -> -10418858 | G45: =F45/D45*100 -> -25.173099 | H45: * 후원금 : 비지정후원금이월금 (20,000,000원), 지정후원금이월금(10,000,000원), 예금이자이월금(970,000원)
C46: 이월사업비 | D46: 0 | E46: 0 | F46: =E46-D46 -> 0 | G46: 0
A47: 잡수입 | B47: 계 | D47: 49598471 | E47: =E48 -> 49399730 | F47: =E47-D47 -> -198741 | G47: =F47/D47*100 -> -0.40069985
B48: 잡수입 | C48: 소계 | D48: 49598471 | E48: =SUM(E49:E51) -> 49399730 | F48: =E48-D48 -> -198741 | G48: =F48/D48*100 -> -0.40069985
C49: 불용품매각대 | D49: 500000 | E49: 500000 | F49: =E49-D49 -> 0 | G49: =F49/D49*100 -> 0
C50: 기타예금이자수입 | D50: 948471 | E50: ='라. 세출내역서'!H829+'라. 세출내역서'!Y6+'라. 세출내역서'!Y10 -> 749730 | F50: =E50-D50 -> -198741 | G50: =F50/D50*100 -> -20.95383 | H50: 보조금(584,604원), 자부담(303,965원), 후원금(271,142원)
C51: 기타잡수입 | D51: 48150000 | E51: =38400000+2750000+7000000 -> 48150000 | F51: =E51-D51 -> 0 | G51: =F51/D51*100 -> 0 | H51: * 종사자급식비 : 38,400,000원 * SK 장소임대료 : 2,750,000원 * 기타 7,000,000원
C53: 세입내역서 | D53: 예금이자 | E53: 합계 | F53: 세출내역서
B54: 보조금 | C54: =E17+E42 -> 3685150270 | D54: ='라. 세출내역서'!E829 -> 549730 | E54: =SUM(C54:D54) -> 3685700000 | F54: ='라. 세출내역서'!H7 -> 3685700000 | G54: =E54-F54 -> 0
B55: 자부담 | C55: =SUM(E9,E39,E43,E44,E49,E51) -> 195470000 | D55: ='라. 세출내역서'!Y6 -> 100000 | E55: =SUM(C55:D55) -> 195570000 | F55: ='라. 세출내역서'!I7+'라. 세출내역서'!J7 -> 195570000 | G55: =E55-F55 -> 0
B56: 후원금 | C56: =SUM(E35,E36,E45) -> 384370000 | D56: ='라. 세출내역서'!Y10 -> 100000 | E56: =SUM(C56:D56) -> 384470000 | F56: ='라. 세출내역서'!K7 -> 384470000 | G56: =E56-F56 -> 0
D57: =SUM(D54:D56) -> 749730 | E57: =SUM(E54:E56) -> 4265740000 | F57: =SUM(F54:F56) -> 4265740000 | G57: =E57-F57 -> 0

Sheet 라. 세출내역서
X1: =SUM(AA1,AA7) -> 195570000 | Y1: =SUM(Y2:Y6) -> 132750000 | Z1: =SUM(Z2:Z6) -> 21700000 | AA1: =SUM(AA2:AA6) -> 154450000
A2: 라. 세출내역서 | X2: 입소비용/이월금 | Y2: ='다. 세입내역서'!E9 -> 84000000 | Z2: 4500000 | AA2: =SUM(Y2:Z2) -> 88500000
H3: =(H685+H702+H709+H717+H741+H766+H775+H777)-123700000 -> 0 | I3: =AA7-I7 -> 0 | J3: =AA1-J7 -> 0 | K3: =AA11-K7 -> 0
U4: (단위 : 원) | W4: =AA4+AA6-J665-J678-J685-J720-J822 -> 0 | X4: 기타잡수입/이월금 | Y4: =2750000+500000+7000000 -> 10250000 | Z4: 2000000 | AA4: =SUM(Y4:Z4) -> 12250000
A5: 과 목 | D5: ='나. 세입세출(총괄)'!K5:K6 -> 전년도예산 (A) | E5: ='나. 세입세출(총괄)'!L5:L6 -> 2023년예산 (B) | F5: 증감금액 (C=B-A) | G5: 증감율(%) (C/A*100) | H5: 재원 | L5: 산 출 내 역 | W5: =AA5-J759+1600000 -> 0 | X5: 종사자식대/이월금 | Y5: 38400000 | Z5: 15000000 | AA5: =SUM(Y5:Z5) -> 53400000 | AD5: 자산취득비지정후원금포함
A6: 관 | B6: 항 | C6: 목 | H6: 보조금 | I6: 법인전입금 | J6: 자부담 | K6: 후원금 | X6: 예금이자/이월금 | Y6: 100000 | Z6: =170000+30000 -> 200000 | AA6: =SUM(Y6:Z6) -> 300000 | AC6: =AC9/AE9 -> 0.71855618 | AD6: =AD9/AE9 -> 0.28143628 | AE6: =SUM(AC6:AD6) -> 0.99999246
A7: 합 계 | D7: 4484599000 | E7: =SUM(H7:K7) -> 4265740000 | F7: =E7-D7 -> -218859000 | G7: =F7/D7*100 -> -4.8802357 | H7: =SUM(H8,H725,H757,H820,H827,H831) -> 3685700000 | I7: =SUM(I8,I725,I757,I820,I827,I831) -> 41120000 | J7: =SUM(J8,J725,J757,J820,J827,J831) -> 154450000 | K7: =SUM(K8,K725,K757,K820,K827,K831) -> 384470000 | L7: 합계 | U7: =U8+U725+U757+U820+U827+U831 -> 4303737100 | V7: =E7-'다. 세입내역서'!E6 -> 0 | X7: 법인전입/이월금 | Y7: 40000000 | Z7: ='다. 세입내역서'!E43 -> 1120000 | AA7: =SUM(Y7:Z7) -> 41120000 | AB7: =AA7-I7 -> 0 | AC7: 직접비 | AD7: 간접비 | AE7: 계
A8: 사무비 | B8: 계 | D8: 3562381358 | E8: =SUM(E9,E677,E682) -> 3650290750 | F8: =E8-D8 -> 87909392 | G8: =F8/D8*100 -> 2.4677142 | H8: =H9+H677+H682 -> 3356212090 | I8: =I9+I677+I682 -> 33120000 | J8: =J9+J677+J682 -> 48900000 | K8: =K9+K677+K682 -> 212058660 | L8: 사무비계 | U8: =U9+U677+U682 -> 3650290750 | W8: =SUM(AA8:AA10) -> 384470000 | X8: 비지정/이월금 | Y8: ='다. 세입내역서'!E36 -> 324000000 | Z8: 20000000 | AA8: =SUM(Y8:Z8) -> 344000000
B9: 인건비 | C9: 소계 | D9: 3312868198 | E9: =SUM(E10:E665) -> 3383850590 | F9: =E9-D9 -> 70982392 | G9: =F9/D9*100 -> 2.1426265 | H9: =SUM(H10:H665) -> 3275268590 | I9: =SUM(I10:I665) -> 28058450 | J9: =SUM(J10:J665) -> 5346035 | K9: =SUM(K10:K665) -> 75177515 | L9: 인건비계 | U9: =U10+U145+U147+U645+U649+U665 -> 3383850590 | W9: =W8-K7 -> 0 | X9: 지정/이월금 | Y9: ='다. 세입내역서'!E35 -> 29400000 | Z9: 10000000 | AA9: =SUM(Y9:Z9) -> 39400000 | AC9: =SUM(AC10:AC837) -> 276263293 | AD9: =SUM(AD10:AD837) -> 108203807 | AE9: =K7 -> 384470000
C10: 급여 | D10: 1987419000 | E10: =SUM(H10:K10) -> 2033209000 | F10: =E10-D10 -> 45790000 | G10: =F10/D10*100 -> 2.3039933 | H10: ='사. 임직원보수 일람표'!I103+'사. 임직원보수 일람표'!I116+'사. 임직원보수 일람표'!I149+'사. 임직원보수 일람표'!I161 -> 2001409000 | J10: 0 | K10: ='사. 임직원보수 일람표'!I209 -> 31800000 | L10: ◆급여 | U10: =SUM(U11:U144) -> 2033209000 | V10: =U10-'사. 임직원보수 일람표'!I214 -> 0 | X10: 예금이자/이월금 | Y10: 100000 | Z10: 970000 | AA10: =SUM(Y10:Z10) -> 1070000 | AC10: =K10 -> 31800000
L11: 시설장 | M11: 시설장 | N11: 이기수 | O11: ='사. 임직원보수 일람표'!H5 -> 4149000 | P11: X | Q11: 1 | R11: X | S11: ='사. 임직원보수 일람표'!F5 -> 5 | T11: = | U11: =O11*Q11*S11 -> 20745000 | Y11: =SUM(Y8:Y10) -> 353500000 | Z11: =SUM(Z8:Z10) -> 30970000 | AA11: =SUM(AA8:AA10) -> 384470000
L12: 시설장 | M12: 시설장 | N12: 이기수 | O12: ='사. 임직원보수 일람표'!H6 -> 4223000 | P12: X | Q12: 1 | R12: X | S12: ='사. 임직원보수 일람표'!F6 -> 7 | T12: = | U12: =O12*Q12*S12 -> 29561000 | AA12: =K7-AA11 -> 0
L13: 사무국장 | M13: 사무국장 | N13: 금형민 | O13: ='사. 임직원보수 일람표'!H7 -> 4085000 | P13: X | Q13: 1 | R13: X | S13: ='사. 임직원보수 일람표'!F7 -> 4 | T13: = | U13: =O13*Q13*S13 -> 16340000
L14: 사무국장 | M14: 사무국장 | N14: 금형민 | O14: ='사. 임직원보수 일람표'!H8 -> 4138000 | P14: X | Q14: 1 | R14: X | S14: ='사. 임직원보수 일람표'!F8 -> 8 | T14: = | U14: =O14*Q14*S14 -> 33104000
L15: 상담평가원 | M15: 과장 | N15: 김정윤 | O15: ='사. 임직원보수 일람표'!H9 -> 3608000 | P15: X | Q15: 1 | R15: X | S15: ='사. 임직원보수 일람표'!F9 -> 6 | T15: = | U15: =O15*Q15*S15 -> 21648000
L16: 상담평가원 | M16: 과장 | N16: 김정윤 | O16: ='사. 임직원보수 일람표'!H10 -> 3665000 | P16: X | Q16: 1 | R16: X | S16: ='사. 임직원보수 일람표'!F10 -> 6 | T16: = | U16: =O16*Q16*S16 -> 21990000
L17: 영양사 | M17: 팀장 | N17: 김혜영 | O17: ='사. 임직원보수 일람표'!H11 -> 3940000 | P17: X | Q17: 1 | R17: X | S17: ='사. 임직원보수 일람표'!F11 -> 3 | T17: = | U17: =O17*Q17*S17 -> 11820000
L18: 영양사 | M18: 팀장 | N18: 김혜영 | O18: ='사. 임직원보수 일람표'!H12 -> 3975000 | P18: X | Q18: 1 | R18: X | S18: ='사. 임직원보수 일람표'!F12 -> 9 | T18: = | U18: =O18*Q18*S18 -> 35775000
L19: 선임지도원 | M19: 팀장 | N19: 이선이 | O19: ='사. 임직원보수 일람표'!H13 -> 3051000 | P19: X | Q19: 1 | R19: X | S19: ='사. 임직원보수 일람표'!F13 -> 11 | T19: = | U19: =O19*Q19*S19 -> 33561000
L20: 선임지도원 | M20: 팀장 | N20: 이선이 | O20: ='사. 임직원보수 일람표'!H14 -> 3115000 | P20: X | Q20: 1 | R20: X | S20: ='사. 임직원보수 일람표'!F14 -> 1 | T20: = | U20: =O20*Q20*S20 -> 3115000
L21: 간호사 | M21: 팀장 | N21: 김성숙 | O21: ='사. 임직원보수 일람표'!H15 -> 3204000 | P21: X | Q21: 1 | R21: X | S21: ='사. 임직원보수 일람표'!F15 -> 8 | T21: = | U21: =O21*Q21*S21 -> 25632000
L22: 간호사 | M22: 팀장 | N22: 김성숙 | O22: ='사. 임직원보수 일람표'!H16 -> 3280000 | P22: X | Q22: 1 | R22: X | S22: ='사. 임직원보수 일람표'!F16 -> 4 | T22: = | U22: =O22*Q22*S22 -> 13120000
L23: 언어치료사 | N23: 최민성 | O23: ='사. 임직원보수 일람표'!H17 -> 3280000 | P23: X | Q23: 1 | R23: X | S23: ='사. 임직원보수 일람표'!F17 -> 3 | T23: = | U23: =O23*Q23*S23 -> 9840000
L24: 언어치료사 | N24: 최민성 | O24: ='사. 임직원보수 일람표'!H18 -> 3353000 | P24: X | Q24: 1 | R24: X | S24: ='사. 임직원보수 일람표'!F18 -> 9 | T24: = | U24: =O24*Q24*S24 -> 30177000
L25: 작업치료사 | N25: 이동철 | O25: ='사. 임직원보수 일람표'!H19 -> 2712000 | P25: X | Q25: 1 | R25: X | S25: ='사. 임직원보수 일람표'!F19 -> 1 | T25: = | U25: =O25*Q25*S25 -> 2712000
L26: 작업치료사 | N26: 이동철 | O26: ='사. 임직원보수 일람표'!H20 -> 2828000 | P26: X | Q26: 1 | R26: X | S26: ='사. 임직원보수 일람표'!F20 -> 11 | T26: = | U26: =O26*Q26*S26 -> 31108000
L27: 물리치료사 | N27: 김효선 | O27: ='사. 임직원보수 일람표'!H21 -> 3353000 | P27: X | Q27: 1 | R27: X | S27: ='사. 임직원보수 일람표'!F21 -> 7 | T27: = | U27: =O27*Q27*S27 -> 23471000
L28: 물리치료사 | N28: 김효선 | O28: ='사. 임직원보수 일람표'!H22 -> 3422000 | P28: X | Q28: 1 | R28: X | S28: ='사. 임직원보수 일람표'!F22 -> 5 | T28: = | U28: =O28*Q28*S28 -> 17110000
L29: 사회재활교사 | M29: 과장 | N29: 이성수 | O29: ='사. 임직원보수 일람표'!H23 -> 3552000 | P29: X | Q29: 1 | R29: X | S29: ='사. 임직원보수 일람표'!F23 -> 9 | T29: = | U29: =O29*Q29*S29 -> 31968000
L30: 사회재활교사 | M30: 과장 | N30: 이성수 | O30: ='사. 임직원보수 일람표'!H24 -> 3608000 | P30: X | Q30: 1 | R30: X | S30: ='사. 임직원보수 일람표'!F24 -> 3 | T30: = | U30: =O30*Q30*S30 -> 10824000
L31: 선임지도원 | M31: 팀장 | N31: 심영은 | O31: ='사. 임직원보수 일람표'!H25 -> 2984000 | P31: X | Q31: 1 | R31: X | S31: ='사. 임직원보수 일람표'!F25 -> 7 | T31: = | U31: =O31*Q31*S31 -> 20888000
L32: 선임지도원 | M32: 팀장 | N32: 심영은 | O32: ='사. 임직원보수 일람표'!H26 -> 3051000 | P32: X | Q32: 1 | R32: X | S32: ='사. 임직원보수 일람표'!F26 -> 5 | T32: = | U32: =O32*Q32*S32 -> 15255000
L33: 사무원 | N33: 유준 | O33: ='사. 임직원보수 일람표'!H27 -> 2851000 | P33: X | Q33: 1 | R33: X | S33: ='사. 임직원보수 일람표'!F27 -> 3 | T33: = | U33: =O33*Q33*S33 -> 8553000
L34: 사무원 | N34: 유준 | O34: ='사. 임직원보수 일람표'!H28 -> 2912000 | P34: X | Q34: 1 | R34: X | S34: ='사. 임직원보수 일람표'!F28 -> 9 | T34: = | U34: =O34*Q34*S34 -> 26208000
L35: 생활지도원 | M35: 팀장 | N35: 신희철 | O35: ='사. 임직원보수 일람표'!H29 -> 2789000 | P35: X | Q35: 1 | R35: X | S35: ='사. 임직원보수 일람표'!F29 -> 1 | T35: = | U35: =O35*Q35*S35 -> 2789000
L36: 생활지도원 | M36: 팀장 | N36: 신희철 | O36: ='사. 임직원보수 일람표'!H30 -> 2851000 | P36: X | Q36: 1 | R36: X | S36: ='사. 임직원보수 일람표'!F30 -> 11 | T36: = | U36: =O36*Q36*S36 -> 31361000
L37: 생활지도원 | N37: 홍은향 | O37: ='사. 임직원보수 일람표'!H31 -> 2971000 | P37: X | Q37: 1 | R37: X | S37: ='사. 임직원보수 일람표'!F31 -> 5 | T37: = | U37: =O37*Q37*S37 -> 14855000
L38: 생활지도원 | N38: 홍은향 | O38: ='사. 임직원보수 일람표'!H32 -> 3024000 | P38: X | Q38: 1 | R38: X | S38: ='사. 임직원보수 일람표'!F32 -> 7 | T38: = | U38: =O38*Q38*S38 -> 21168000
L39: 생활지도원 | N39: 이도란 | O39: ='사. 임직원보수 일람표'!H33 -> 2667000 | P39: X | Q39: 1 | R39: X | S39: ='사. 임직원보수 일람표'!F33 -> 4 | T39: = | U39: =O39*Q39*S39 -> 10668000
L40: 생활지도원 | N40: 이도란 | O40: ='사. 임직원보수 일람표'!H34 -> 2730000 | P40: X | Q40: 1 | R40: X | S40: ='사. 임직원보수 일람표'!F34 -> 8 | T40: = | U40: =O40*Q40*S40 -> 21840000
L41: 생활지도원 | N41: 윤용진 | O41: ='사. 임직원보수 일람표'!H35 -> 2851000 | P41: X | Q41: 1 | R41: X | S41: ='사. 임직원보수 일람표'!F35 -> 11 | T41: = | U41: =O41*Q41*S41 -> 31361000
L42: 생활지도원 | N42: 윤용진 | O42: ='사. 임직원보수 일람표'!H36 -> 2912000 | P42: X | Q42: 1 | R42: X | S42: ='사. 임직원보수 일람표'!F36 -> 1 | T42: = | U42: =O42*Q42*S42 -> 2912000
L43: 생활지도원 | M43: 팀장 | N43: 김종민 | O43: ='사. 임직원보수 일람표'!H37 -> 2912000 | P43: X | Q43: 1 | R43: X | S43: ='사. 임직원보수 일람표'!F37 -> 10 | T43: = | U43: =O43*Q43*S43 -> 29120000
L44: 생활지도원 | M44: 팀장 | N44: 김종민 | O44: ='사. 임직원보수 일람표'!H38 -> 2971000 | P44: X | Q44: 1 | R44: X | S44: ='사. 임직원보수 일람표'!F38 -> 2 | T44: = | U44: =O44*Q44*S44 -> 5942000
L45: 생활지도원 | M45: 팀장 | N45: 권구철 | O45: ='사. 임직원보수 일람표'!H39 -> 2730000 | P45: X | Q45: 1 | R45: X | S45: ='사. 임직원보수 일람표'!F39 -> 4 | T45: = | U45: =O45*Q45*S45 -> 10920000
L46: 생활지도원 | M46: 팀장 | N46: 권구철 | O46: ='사. 임직원보수 일람표'!H40 -> 2789000 | P46: X | Q46: 1 | R46: X | S46: ='사. 임직원보수 일람표'!F40 -> 8 | T46: = | U46: =O46*Q46*S46 -> 22312000
L47: 생활지도원 | M47: 팀장 | N47: 김유경 | O47: ='사. 임직원보수 일람표'!H41 -> 2616000 | P47: X | Q47: 1 | R47: X | S47: ='사. 임직원보수 일람표'!F41 -> 3 | T47: = | U47: =O47*Q47*S47 -> 7848000
L48: 생활지도원 | M48: 팀장 | N48: 김유경 | O48: ='사. 임직원보수 일람표'!H42 -> 2667000 | P48: X | Q48: 1 | R48: X | S48: ='사. 임직원보수 일람표'!F42 -> 9 | T48: = | U48: =O48*Q48*S48 -> 24003000
L49: 생활지도원 | N49: 민병선 | O49: ='사. 임직원보수 일람표'!H43 -> 2667000 | P49: X | Q49: 1 | R49: X | S49: ='사. 임직원보수 일람표'!F43 -> 2 | T49: = | U49: =O49*Q49*S49 -> 5334000
L50: 생활지도원 | N50: 민병선 | O50: ='사. 임직원보수 일람표'!H44 -> 2730000 | P50: X | Q50: 1 | R50: X | S50: ='사. 임직원보수 일람표'!F44 -> 10 | T50: = | U50: =O50*Q50*S50 -> 27300000
L51: 생활지도원 | N51: 조원일 | O51: ='사. 임직원보수 일람표'!H45 -> 2730000 | P51: X | Q51: 1 | R51: X | S51: ='사. 임직원보수 일람표'!F45 -> 5 | T51: = | U51: =O51*Q51*S51 -> 13650000
L52: 생활지도원 | N52: 조원일 | O52: ='사. 임직원보수 일람표'!H46 -> 2789000 | P52: X | Q52: 1 | R52: X | S52: ='사. 임직원보수 일람표'!F46 -> 7 | T52: = | U52: =O52*Q52*S52 -> 19523000
L53: 생활지도원 | N53: 심종환 | O53: ='사. 임직원보수 일람표'!H47 -> 2616000 | P53: X | Q53: 1 | R53: X | S53: ='사. 임직원보수 일람표'!F47 -> 6 | T53: = | U53: =O53*Q53*S53 -> 15696000
L54: 생활지도원 | N54: 심종환 | O54: ='사. 임직원보수 일람표'!H48 -> 2667000 | P54: X | Q54: 1 | R54: X | S54: ='사. 임직원보수 일람표'!F48 -> 6 | T54: = | U54: =O54*Q54*S54 -> 16002000
L55: 생활지도원 | N55: 박영규 | O55: ='사. 임직원보수 일람표'!H49 -> 2478000 | P55: X | Q55: 1 | R55: X | S55: ='사. 임직원보수 일람표'!F49 -> 6 | T55: = | U55: =O55*Q55*S55 -> 14868000
L56: 생활지도원 | N56: 박영규 | O56: ='사. 임직원보수 일람표'!H50 -> 2555000 | P56: X | Q56: 1 | R56: X | S56: ='사. 임직원보수 일람표'!F50 -> 6 | T56: = | U56: =O56*Q56*S56 -> 15330000
L57: 생활지도원 | N57: 이상헌 | O57: ='사. 임직원보수 일람표'!H51 -> 2310000 | P57: X | Q57: 1 | R57: X | S57: ='사. 임직원보수 일람표'!F51 -> 4 | T57: = | U57: =O57*Q57*S57 -> 9240000
L58: 생활지도원 | N58: 이상헌 | O58: ='사. 임직원보수 일람표'!H52 -> 2396000 | P58: X | Q58: 1 | R58: X | S58: ='사. 임직원보수 일람표'!F52 -> 8 | T58: = | U58: =O58*Q58*S58 -> 19168000
L59: 생활지도원 | N59: 윤민 | O59: ='사. 임직원보수 일람표'!H53 -> 2234000 | P59: X | Q59: 1 | R59: X | S59: ='사. 임직원보수 일람표'!F53 -> 9 | T59: = | U59: =O59*Q59*S59 -> 20106000
L60: 생활지도원 | N60: 윤민 | O60: ='사. 임직원보수 일람표'!H54 -> 2310000 | P60: X | Q60: 1 | R60: X | S60: ='사. 임직원보수 일람표'!F54 -> 3 | T60: = | U60: =O60*Q60*S60 -> 6930000
... L98: 생활지도원 | N98: 공석 | O98: ='사. 임직원보수 일람표'!H92 -> 2099000 | P98: X | Q98: 1 | R98: X | S98: ='사. 임직원보수 일람표'!F92 -> 2 | T98: = | U98: =O98*Q98*S98 -> 4198000
L99: 위생원 | N99: 이순옥 | O99: ='사. 임직원보수 일람표'!H93 -> 2526000 | P99: X | Q99: 1 | R99: X | S99: ='사. 임직원보수 일람표'!F93 -> 8 | T99: = | U99: ='사. 임직원보수 일람표'!I93 -> 20208000
L100: 위생원 | N100: 이순옥 | O100: ='사. 임직원보수 일람표'!H94 -> 2570000 | P100: X | Q100: 1 | R100: X | S100: ='사. 임직원보수 일람표'!F94 -> 4 | T100: = | U100: ='사. 임직원보수 일람표'!I94 -> 10280000
L101: 조리원 | N101: 안명숙 | O101: ='사. 임직원보수 일람표'!H95 -> 1970000 | P101: X | Q101: 1 | R101: X | S101: ='사. 임직원보수 일람표'!F95 -> 4 | T101: = | U101: ='사. 임직원보수 일람표'!I95 -> 7880000
L102: 조리원 | N102: 안명숙 | O102: ='사. 임직원보수 일람표'!H96 -> 2015000 | P102: X | Q102: 1 | R102: X | S102: ='사. 임직원보수 일람표'!F96 -> 8 | T102: = | U102: ='사. 임직원보수 일람표'!I96 -> 16120000
L103: 조리원 | N103: 정순정 | O103: ='사. 임직원보수 일람표'!H97 -> 2249000 | P103: X | Q103: 1 | R103: X | S103: ='사. 임직원보수 일람표'!F97 -> 2 | T103: = | U103: ='사. 임직원보수 일람표'!I97 -> 4498000
L104: 조리원 | N104: 정순정 | O104: ='사. 임직원보수 일람표'!H98 -> 2312000 | P104: X | Q104: 1 | R104: X | S104: ='사. 임직원보수 일람표'!F98 -> 10 | T104: = | U104: ='사. 임직원보수 일람표'!I98 -> 23120000
L105: 조리원 | N105: 최미란 | O105: ='사. 임직원보수 일람표'!H99 -> 1939000 | P105: X | Q105: 1 | R105: X | S105: ='사. 임직원보수 일람표'!F99 -> 6 | T105: = | U105: ='사. 임직원보수 일람표'!I99 -> 11634000
L106: 조리원 | N106: 최미란 | O106: ='사. 임직원보수 일람표'!H100 -> 1970000 | P106: X | Q106: 1 | R106: X | S106: ='사. 임직원보수 일람표'!F100 -> 6 | T106: = | U106: ='사. 임직원보수 일람표'!I100 -> 11820000
L107: 촉탁의 | N107: 박제석 | O107: ='사. 임직원보수 일람표'!H101 -> 2595000 | P107: X | Q107: 1 | R107: X | S107: ='사. 임직원보수 일람표'!F101 -> 12 | T107: = | U107: ='사. 임직원보수 일람표'!I101 -> 31140000 | V107: =SUM(U11:U107) -> 1559676000 | W107: =V107-'사. 임직원보수 일람표'!I103 -> 0
L108: 생활지도원 | M108: (7종) | N108: 유동식 | O108: ='사. 임직원보수 일람표'!H110 -> 2478000 | P108: X | Q108: 1 | R108: X | S108: ='사. 임직원보수 일람표'!F110 -> 1 | T108: = | U108: =O108*Q108*S108 -> 2478000
L109: 생활지도원 | M109: (7종) | N109: 유동식 | O109: ='사. 임직원보수 일람표'!H111 -> 2555000 | P109: X | Q109: 1 | R109: X | S109: ='사. 임직원보수 일람표'!F111 -> 11 | T109: = | U109: =O109*Q109*S109 -> 28105000
L110: 조리원 | M110: (7종) | N110: 윤인자 | O110: ='사. 임직원보수 일람표'!H112 -> 2151000 | P110: X | Q110: 1 | R110: X | S110: ='사. 임직원보수 일람표'!F112 -> 2 | T110: = | U110: =O110*Q110*S110 -> 4302000
L111: 조리원 | M111: (7종) | N111: 윤인자 | O111: ='사. 임직원보수 일람표'!H113 -> 2184000 | P111: X | Q111: 1 | R111: X | S111: ='사. 임직원보수 일람표'!F113 -> 10 | T111: = | U111: =O111*Q111*S111 -> 21840000
L112: 운전원 | M112: (7종) | N112: 박세의 | O112: ='사. 임직원보수 일람표'!H114 -> 1924000 | P112: X | Q112: 1 | R112: X | S112: ='사. 임직원보수 일람표'!F114 -> 2 | T112: = | U112: =O112*Q112*S112 -> 3848000
L113: 운전원 | M113: (7종) | N113: 박세의 | O113: ='사. 임직원보수 일람표'!H115 -> 1941000 | P113: X | Q113: 1 | R113: X | S113: ='사. 임직원보수 일람표'!F115 -> 10 | T113: = | U113: =O113*Q113*S113 -> 19410000 | V113: =SUM(U108:U113) -> 79983000 | W113: =V113-'사. 임직원보수 일람표'!I116 -> 0
L114: 생활지도원 | M114: (교대) | N114: 이민지 | O114: ='사. 임직원보수 일람표'!H123 -> 2036000 | P114: X | Q114: 1 | R114: X | S114: ='사. 임직원보수 일람표'!F123 -> 12 | T114: = | U114: =O114*Q114*S114 -> 24432000
L115: 생활지도원 | M115: (교대) | N115: 이민지 | O115: ='사. 임직원보수 일람표'!H124 -> 0 | P115: X | Q115: 1 | R115: X | S115: ='사. 임직원보수 일람표'!F124 -> 0 | T115: = | U115: =O115*Q115*S115 -> 0
L116: 생활지도원 | M116: (교대) | N116: 권지수 | O116: ='사. 임직원보수 일람표'!H125 -> 2099000 | P116: X | Q116: 1 | R116: X | S116: ='사. 임직원보수 일람표'!F125 -> 9 | T116: = | U116: =O116*Q116*S116 -> 18891000
L117: 생활지도원 | M117: (교대) | N117: 권지수 | O117: ='사. 임직원보수 일람표'!H126 -> 2164000 | P117: X | Q117: 1 | R117: X | S117: ='사. 임직원보수 일람표'!F126 -> 3 | T117: = | U117: =O117*Q117*S117 -> 6492000
L118: 생활지도원 | M118: (교대) | N118: 김효주 | O118: ='사. 임직원보수 일람표'!H127 -> 2036000 | P118: X | Q118: 1 | R118: X | S118: ='사. 임직원보수 일람표'!F127 -> 12 | T118: = | U118: =O118*Q118*S118 -> 24432000
L119: 생활지도원 | M119: (교대) | N119: 김효주 | O119: ='사. 임직원보수 일람표'!H128 -> 0 | P119: X | Q119: 1 | R119: X | S119: ='사. 임직원보수 일람표'!F128 -> 0 | T119: = | U119: =O119*Q119*S119 -> 0
L120: 생활지도원 | M120: (교대) | N120: 이현경 | O120: ='사. 임직원보수 일람표'!H129 -> 2036000 | P120: X | Q120: 1 | R120: X | S120: ='사. 임직원보수 일람표'!F129 -> 12 | T120: = | U120: =O120*Q120*S120 -> 24432000
L121: 생활지도원 | M121: (교대) | N121: 이현경 | O121: ='사. 임직원보수 일람표'!H130 -> 0 | P121: X | Q121: 1 | R121: X | S121: ='사. 임직원보수 일람표'!F130 -> 0 | T121: = | U121: =O121*Q121*S121 -> 0
L122: 생활지도원 | M122: (교대) | N122: 오권호 | O122: ='사. 임직원보수 일람표'!H131 -> 2099000 | P122: X | Q122: 1 | R122: X | S122: ='사. 임직원보수 일람표'!F131 -> 5 | T122: = | U122: =O122*Q122*S122 -> 10495000
L123: 생활지도원 | M123: (교대) | N123: 오권호 | O123: ='사. 임직원보수 일람표'!H132 -> 2164000 | P123: X | Q123: 1 | R123: X | S123: ='사. 임직원보수 일람표'!F132 -> 7 | T123: = | U123: =O123*Q123*S123 -> 15148000
L124: 생활지도원 | M124: (교대) | N124: 이성진 | O124: ='사. 임직원보수 일람표'!H133 -> 2099000 | P124: X | Q124: 1 | R124: X | S124: ='사. 임직원보수 일람표'!F133 -> 6 | T124: = | U124: =O124*Q124*S124 -> 12594000
L125: 생활지도원 | M125: (교대) | N125: 이성진 | O125: ='사. 임직원보수 일람표'!H134 -> 2164000 | P125: X | Q125: 1 | R125: X | S125: ='사. 임직원보수 일람표'!F134 -> 6 | T125: = | U125: =O125*Q125*S125 -> 12984000
... L128: 생활지도원 | M128: (교대) | N128: 김철진 | O128: ='사. 임직원보수 일람표'!H137 -> 2099000 | P128: X | Q128: 1 | R128: X | S128: ='사. 임직원보수 일람표'!F137 -> 10 | T128: = | U128: =O128*Q128*S128 -> 20990000
L129: 생활지도원 | M129: (교대) | N129: 김철진 | O129: ='사. 임직원보수 일람표'!H138 -> 2164000 | P129: X | Q129: 1 | R129: X | S129: ='사. 임직원보수 일람표'!F138 -> 2 | U129: =O129*Q129*S129 -> 4328000
L130: 생활지도원 | M130: (교대) | N130: 이풍원 | O130: ='사. 임직원보수 일람표'!H139 -> 2099000 | P130: X | Q130: 1 | R130: X | S130: ='사. 임직원보수 일람표'!F139 -> 12 | T130: = | U130: =O130*Q130*S130 -> 25188000
L131: 생활지도원 | M131: (교대) | N131: 이풍원 | O131: ='사. 임직원보수 일람표'!H140 -> 0 | P131: X | Q131: 1 | R131: X | S131: ='사. 임직원보수 일람표'!F140 -> 0 | T131: = | U131: =O131*Q131*S131 -> 0
L132: 생활지도원 | M132: (교대) | N132: 이윤환 | O132: ='사. 임직원보수 일람표'!H141 -> 2099000 | P132: X | Q132: 1 | R132: X | S132: ='사. 임직원보수 일람표'!F141 -> 12 | T132: = | U132: =O132*Q132*S132 -> 25188000
L133: 생활지도원 | M133: (교대) | N133: 이윤환 | O133: ='사. 임직원보수 일람표'!H142 -> 0 | P133: X | Q133: 1 | R133: X | S133: ='사. 임직원보수 일람표'!F142 -> 0 | T133: = | U133: =O133*Q133*S133 -> 0
L134: 생활지도원 | M134: (교대) | N134: 유장현 | O134: ='사. 임직원보수 일람표'!H143 -> 2036000 | P134: X | Q134: 1 | R134: X | S134: ='사. 임직원보수 일람표'!F143 -> 5 | T134: = | U134: =O134*Q134*S134 -> 10180000
L135: 생활지도원 | M135: (교대) | N135: 유장현 | O135: ='사. 임직원보수 일람표'!H144 -> 2099000 | P135: X | Q135: 1 | R135: X | S135: ='사. 임직원보수 일람표'!F144 -> 7 | T135: = | U135: =O135*Q135*S135 -> 14693000
L136: 생활지도원 | M136: (교대) | N136: 이상현 | O136: ='사. 임직원보수 일람표'!H145 -> 1978000 | P136: X | Q136: 1 | R136: X | S136: ='사. 임직원보수 일람표'!F145 -> 2 | T136: = | U136: =O136*Q136*S136 -> 3956000
L137: 생활지도원 | M137: (교대) | N137: 이상현 | O137: ='사. 임직원보수 일람표'!H146 -> 2036000 | P137: X | Q137: 1 | R137: X | S137: ='사. 임직원보수 일람표'!F146 -> 10 | T137: = | U137: =O137*Q137*S137 -> 20360000 | V137: =SUM(U114:U137) -> 298867000 | W137: =V137-'사. 임직원보수 일람표'!I149 -> 0
L138: 물리치료사 | M138: (의료지원) | N138: 한만규 | O138: ='사. 임직원보수 일람표'!H155 -> 2481000 | P138: X | Q138: 1 | R138: X | S138: ='사. 임직원보수 일람표'!F155 -> 2 | T138: = | U138: =O138*Q138*S138 -> 4962000
L139: 물리치료사 | M139: (의료지원) | N139: 한만규 | O139: ='사. 임직원보수 일람표'!H156 -> 2607000 | P139: X | Q139: 1 | R139: X | S139: ='사. 임직원보수 일람표'!F156 -> 10 | T139: = | U139: =O139*Q139*S139 -> 26070000
...

Sheet 마.세입세출(개요)
A1: 마. 세입·세출 개요
E2: (단위:원)
A3: 구 분 | B3: 세 입 | D3: 세 출
A4: 총 계 | B4: =C5+C14+C20+C27 -> 4265740000 | D4: =E5+E14+E20+E27 -> 4265740000
A5: 보 조 금 | B5: 소계 | C5: =SUM(C6:C13) -> 3685700000 | D5: 소계 | E5: =SUM(E6:E13) -> 3685700000 | F5: =C5-E5 -> 0
B6: ='다. 세입내역서'!B17 -> 보조금수입 | C6: ='다. 세입내역서'!E17 -> 3635150270 | D6: 인건비 | E6: ='라. 세출내역서'!H9 -> 3275268590
B7: 이월금 | C7: ='다. 세입내역서'!E42 -> 50000000 | D7: 업무추진비 | E7: ='라. 세출내역서'!H677 -> 0
B8: 잡수입 | C8: ='라. 세출내역서'!E829 -> 549730 | D8: 사무비운영비 | E8: ='라. 세출내역서'!H682 -> 80943500
D9: 시설비 | E9: ='라. 세출내역서'!H726 -> 14256500
D10: 사업비운영비 | E10: ='라. 세출내역서'!H758 -> 215141680
D11: 사업비 | E11: ='라. 세출내역서'!H776 -> 49540000
D12: 잡지출 | E12: ='라. 세출내역서'!H828 -> 549730
B13: - | C13: 0 | D13: 보조금반환 | E13: ='라. 세출내역서'!H832 -> 50000000
A14: 법인전입금 | B14: 소계 | C14: =SUM(C15:C19) -> 41120000 | D14: 소계 | E14: =SUM(E15:E19) -> 41120000 | F14: =C14-E14 -> 0
B15: 법인전입금 | C15: ='다. 세입내역서'!E38 -> 40000000 | D15: 인건비 | E15: ='라. 세출내역서'!I9 -> 28058450
B16: 이월금 | C16: ='다. 세입내역서'!E43 -> 1120000 | D16: 업무추진비 | E16: ='라. 세출내역서'!I677 -> 200000
B17: - | C17: ='[1]다-2.자부담세입'!E17 -> 0 | D17: =D8 -> 사무비운영비 | E17: ='라. 세출내역서'!I682 -> 4861550
B18: - | C18: ='[1]다-2.자부담세입'!E20 -> 0 | D18: ='라. 세출내역서'!A725 -> 재산조성비 | E18: ='라. 세출내역서'!I726 -> 0
B19: - | D19: =D11 -> 사업비 | E19: ='라. 세출내역서'!I757 -> 8000000
A20: 자 부 담 | B20: 소계 | C20: =SUM(C21:C25) -> 154450000 | D20: 소계 | E20: =SUM(E21:E26) -> 154450000 | F20: =C20-E20 -> 0
B21: 입소자부담금수입 | C21: =자부담세출!U2 -> 84000000 | D21: 인건비 | E21: ='라. 세출내역서'!J9 -> 5346035
B22: 이월금 | C22: ='다. 세입내역서'!E44 -> 21700000 | D22: =D16 -> 업무추진비 | E22: ='라. 세출내역서'!J677 -> 800000
B23: 잡수입 | C23: ='다. 세입내역서'!E49+'다. 세입내역서'!E51+'다. 세입내역서'!D55 -> 48750000 | D23: =D17 -> 사무비운영비 | E23: ='라. 세출내역서'!J682 -> 42753965
D24: 사업비운영비 | E24: ='라. 세출내역서'!J758 -> 77500000
D25: 사업비 | E25: ='라. 세출내역서'!J776 -> 28050000
C26: 0 | D26: 과년도지출 | E26: ='라. 세출내역서'!J821 -> 0
A27: 후 원 금 | B27: 소계 | C27: =SUM(C28:C32) -> 384470000 | D27: 소계 | E27: =SUM(E28:E35) -> 384470000 | F27: =C27-E27 -> 0
B28: 후원금수입 | C28: ='다. 세입내역서'!E34 -> 353400000 | D28: =D21 -> 인건비 | E28: ='라. 세출내역서'!K9 -> 75177515
B29: 전년도후원금이월금 | C29: ='다. 세입내역서'!E45 -> 30970000 | D29: 사무비운영비 | E29: ='라. 세출내역서'!K682 -> 136881145
B30: 잡수입 | C30: ='다. 세입내역서'!D56 -> 100000 | D30: 시설비 | E30: ='라. 세출내역서'!K726 -> 132676878
D31: 사업비운영비 | E31: ='라. 세출내역서'!K758 -> 2500000
D32: 사업비 | E32: ='라. 세출내역서'!K776 -> 32022362
D33: 결연사업비 | E33: ='라. 세출내역서'!K817 -> 3600000
D34: 과년도지출 | E34: ='라. 세출내역서'!K821 -> 1609200
D35: 공동모금회반환금 | E35: ='라. 세출내역서'!K833 -> 2900
E68: 0

Sheet 바. 증감사유
A1: 바. 증감사유
N2: (단위 : 원)
A3: 세 입 | I3: 세 출
A4: 과 목 | D4: ='다. 세입내역서'!D4:D5 -> 전년도예산 (A) | E4: ='다. 세입내역서'!E4:E5 -> 2023년예산 (B) | F4: 증감금액 (C=B-A) | G4: 증감율(%) (C/A*100) | H4: 증감사유 | I4: 과 목 | L4: =D4 -> 전년도예산 (A) | M4: =E4 -> 2023년예산 (B) | N4: 증감금액 (C=B-A) | O4: 증감율(%) (C/A*100) | P4: 증감사유
A5: 관 | B5: 항 | C5: 목 | I5: 관 | J5: 항 | K5: 목
A6: 합 계 | D6: 4484599000 | E6: =E7+E13+E16+E29+E35+E47+E10+E24 -> 4265740000 | F6: =F7+F13+F16+F29+F35+F47+F10+F24 -> -218859000 | G6: =F6/D6*100 -> -4.8802357 | I6: 합 계 | L6: 4484599000 | M6: =SUM(M7,M24,M29,M47,M50,M53) -> 4265740000 | N6: =M6-L6 -> -218859000 | O6: =N6/L6*100 -> -4.8802357
A7: 입소자부담금 | B7: 계 | D7: 79800000 | E7: =E8 -> 84000000 | F7: =F8 -> 4200000 | G7: =F7/D7*100 -> 5.2631579 | I7: 사무비 | J7: 계 | L7: 3562580358 | M7: =SUM(M8,M15,M17) -> 3650290750 | N7: =M7-L7 -> 87710392 | O7: =N7/L7*100 -> 2.4619906
B8: 입소비용수입 | C8: 소계 | D8: 79800000 | E8: =E9 -> 84000000 | F8: =F9 -> 4200000 | G8: =F8/D8*100 -> 5.2631579 | J8: 인건비 | K8: 소계 | L8: 3312868198 | M8: =SUM(M9:M14) -> 3383850590 | N8: =M8-L8 -> 70982392 | O8: =N8/L8*100 -> 2.1426265
C9: 입소비용수입 | D9: 79800000 | E9: ='다. 세입내역서'!E9 -> 84000000 | F9: =E9-D9 -> 4200000 | G9: =F9/D9*100 -> 5.2631579 | H9: *실비인원 1명 증원에 따른 증액 | K9: 급여 | L9: 1987419000 | M9: ='라. 세출내역서'!E10 -> 2033209000 | N9: =M9-L9 -> 45790000 | O9: =N9/L9*100 -> 2.3039933 | P9: 2023년 종사자 호봉산정에 따른 인건비 증액
A10: 사업수입 | B10: 계 | D10: 0 | E10: =E11 -> 0 | F10: =F11 -> 0 | G10: 0 | K10: 일용잡급 | L10: 12000000 | M10: ='라. 세출내역서'!E145 -> 12000000 | N10: =M10-L10 -> 0 | O10: =N10/L10*100 -> 0
B11: 사업수입 | C11: 소계 | D11: 0 | E11: =E12 -> 0 | F11: =F12 -> 0 | G11: 0 | K11: 제수당 | L11: 783337200 | M11: ='라. 세출내역서'!E147 -> 795425660 | N11: =M11-L11 -> 12088460 | O11: =N11/L11*100 -> 1.5432 | P11: 2023년 종사자 호봉산정 반영 제수당 증액
C12: 프로그램사업수입 | D12: 0 | E12: ='[1]다-2.자부담세입'!E13 -> 0 | F12: =E12-D12 -> 0 | G12: 0 | K12: 퇴직금및 퇴직적립금 | L12: 228301750 | M12: ='라. 세출내역서'!E645 -> 233124920 | N12: =M12-L12 -> 4823170 | O12: =N12/L12*100 -> 2.1126294 | P12: 2023년 종사자 인건비에 의한 예산증액
A13: 과년도수입 | B13: 계 | D13: 0 | E13: =E14 -> 0 | F13: =F14 -> 0 | G13: 0 | K13: 사회보험 부담비용 | L13: 276089990 | M13: ='라. 세출내역서'!E649 -> 284041010 | N13: =M13-L13 -> 7951020 | O13: =N13/L13*100 -> 2.8798654 | P13: 종사자 인건비에 의한 예산증액
B14: 과년도수입 | C14: 소계 | D14: 0 | E14: =E15 -> 0 | F14: =F15 -> 0 | G14: 0 | K14: 기타후생경비 | L14: 25720258 | M14: ='라. 세출내역서'!E665 -> 26050000 | N14: =M14-L14 -> 329742 | O14: =N14/L14*100 -> 1.2820322 | P14: 전년도 예산반영 편성
C15: 과년도수입 | D15: 0 | E15: 0 | F15: =E15-D15 -> 0 | G15: 0 | J15: 업무추진비 | K15: 소계 | L15: 1000000 | M15: ='나. 세입세출(총괄)'!L16 -> 1000000 | N15: =M15-L15 -> 0 | O15: =N15/L15*100 -> 0
A16: 보조금수입 | B16: 계 | D16: 3608312530 | E16: =E17 -> 3635150270 | F16: =F17 -> 26837740 | G16: =F16/D16*100 -> 0.74377537 | K16: 회의비 | L16: 1000000 | M16: ='나. 세입세출(총괄)'!L17 -> 1000000 | N16: =M16-L16 -> 0 | O16: =N16/L16*100 -> 0
B17: 보조금수입 | C17: 소계 | D17: 3608312530 | E17: =SUM(E18:E21) -> 3635150270 | F17: =SUM(F18:F21) -> 26837740 | G17: =F17/D17*100 -> 0.74377537 | J17: 운영비 | K17: 소계 | L17: 248712160 | M17: ='나. 세입세출(총괄)'!L18 -> 265440160 | N17: =M17-L17 -> 16728000 | O17: =N17/L17*100 -> 6.7258473
C18: 국고보조금 | D18: 3302048430 | E18: ='다. 세입내역서'!E18 -> 3342904930 | F18: =E18-D18 -> 40856500 | G18: =F18/D18*100 -> 1.2373077 | H18: 2023년 종사자 호봉산정에 따른 인건비 증액 | K18: 여비 | L18: 1500000 | M18: ='나. 세입세출(총괄)'!L19 -> 1500000 | N18: =M18-L18 -> 0 | O18: =N18/L18*100 -> 0
C19: 시도보조금 | D19: 222017050 | E19: ='다. 세입내역서'!E23 -> 202696110 | F19: =E19-D19 -> -19320940 | G19: =F19/D19*100 -> -8.7024578 | H19: *2023년 종사자 호봉산정에 따른 인건비 증액 *2022년 환경개선사업 종료(22,000,000원)에 따른 감액 | K19: 수용비및수수료 | L19: 60443323 | M19: ='나. 세입세출(총괄)'!L20 -> 62970160 | N19: =M19-L19 -> 2526837 | O19: =N19/L19*100 -> 4.1805064 | P19: * 렌탈료, 소모품 구입, 인쇄비등 물가상승에 따른 예산증액
C20: 시군구보조금 | D20: 80247050 | E20: ='다. 세입내역서'!E30 -> 89549230 | F20: =E20-D20 -> 9302180 | G20: =F20/D20*100 -> 11.591928 | H20: 2023년 의료지원 종사자 호봉산정에 따른 인건비 증액 | K20: 공공요금 | L20: 127161967 | M20: ='나. 세입세출(총괄)'!L21 -> 129000000 | N20: =M20-L20 -> 1838033 | O20: =N20/L20*100 -> 1.4454267 | P20: *공공요금 인상반영 예산증액
C21: 기타보조금 | D21: 4000000 | E21: ='다. 세입내역서'!E32 -> 0 | F21: =E21-D21 -> -4000000 | G21: =F21/D21*100 -> -100 | H21: 2022년 재활프로그램 종료에 따른 예산감액 | K21: 제세공과금 | L21: 14006870 | M21: ='나. 세입세출(총괄)'!L22 -> 14170000 | N21: =M21-L21 -> 163130 | O21: =N21/L21*100 -> 1.1646428 | P21: 전년도 지출대비 예산 편성
K22: 차량비 | L22: 39000000 | M22: ='나. 세입세출(총괄)'!L23 -> 50000000 | N22: =M22-L22 -> 11000000 | O22: =N22/L22*100 -> 28.205128 | P22: 업무용차량 주유비인상등에 따른 예산증액
K23: 기타운영비 | L23: 6600000 | M23: ='나. 세입세출(총괄)'!L24 -> 7800000 | N23: =M23-L23 -> 1200000 | O23: =N23/L23*100 -> 18.181818 | P23: * 외부 출장중 소요경비 및 기타운영비 증액
A24: 후원금 | B24: 계 | D24: 395740000 | E24: =E25+E28 -> 353400000 | F24: =F25+F28 -> -42340000 | G24: =F24/D24*100 -> -10.698944 | I24: 재산조성비 | J24: 계 | L24: 201575500 | M24: =M25 -> 146933378 | N24: =M24-L24 -> -54642122 | O24: =N24/L24*100 -> -27.107521
B25: 후원금수입 | C25: 소계 | D25: 395740000 | E25: =SUM(E26:E27) -> 353400000 | F25: =SUM(F26:F27) -> -42340000 | G25: =F25/D25*100 -> -10.698944 | J25: 시설비 | K25: 소계 | L25: 201575500 | M25: =SUM(M26:M28) -> 146933378 | N25: =M25-L25 -> -54642122 | O25: =N25/L25*100 -> -27.107521
C26: 지정후원금 | D26: 71740000 | E26: ='다. 세입내역서'!E35 -> 29400000 | F26: =E26-D26 -> -42340000 | G26: =F26/D26*100 -> -59.018679 | H26: *차량비구입지정후원금 감액 | K26: 시설비 | L26: 70000000 | M26: ='라. 세출내역서'!E727 -> 86000000 | N26: =M26-L26 -> 16000000 | O26: 0
C27: 비지정후원금 | D27: 324000000 | E27: ='다. 세입내역서'!E36 -> 324000000 | F27: =E27-D27 -> 0 | G27: =F27/D27*100 -> 0 | K27: 자산취득비 | L27: 70000000 | M27: ='나. 세입세출(총괄)'!L28 -> 19156157 | N27: =M27-L27 -> -50843843 | O27: =N27/L27*100 -> -72.634061 | P27: * 전년도 지출대비 예산 감액 * 신규차량 구입할부금(2대) 할부종료에 따른 감액
K28: 시설장비유지비 | L28: 61575500 | M28: ='나. 세입세출(총괄)'!L29 -> 41777221 | N28: =M28-L28 -> -19798279 | O28: =N28/L28*100 -> -32.152851
A29: 전입금 | B29: 계 | D29: 40000000 | E29: =E30 -> 40000000 | F29: =F30 -> 0 | G29: =F29/D29*100 -> 0 | I29: 사업비 | J29: 계 | L29: 467265202 | M29: =SUM(M30,M36,M45) -> 416354042 | N29: =M29-L29 -> -50911160 | O29: =N29/L29*100 -> -10.89556
B30: 전입금 | C30: 소계 | D30: 40000000 | E30: =E31 -> 40000000 | F30: =F31 -> 0 | G30: =F30/D30*100 -> 0 | J30: 운영비 | K30: 소계 | L30: 300865740 | M30: =SUM(M31:M35) -> 295141680 | N30: =M30-L30 -> -5724060 | O30: =N30/L30*100 -> -1.9025297
C31: 법인전입금 | D31: 40000000 | E31: ='다. 세입내역서'!E39 -> 40000000 | F31: =E31-D31 -> 0 | G31: =F31/D31*100 -> 0 | K31: 생계비 | L31: 255915740 | M31: ='나. 세입세출(총괄)'!L32 -> 249641680 | N31: =M31-L31 -> -6274060 | O31: =N31/L31*100 -> -2.4516116 | P31: 기초생활수급자 긴급생계비 지원 종료에 따른 감액
K32: 수용기관경비 | L32: 30000000 | M32: ='나. 세입세출(총괄)'!L33 -> 30000000 | N32: =M32-L32 -> 0 | O32: =N32/L32*100 -> 0
K33: 피복비 | L33: 1800000 | M33: ='나. 세입세출(총괄)'!L34 -> 4000000 | N33: =M33-L33 -> 2200000 | O33: =N33/L33*100 -> 122.22222 | P33: 기초생활수급자 긴급생계비,피복비지원 종료에 따른 자부담 피복비 예산 증액
K34: 의료비 | L34: 7150000 | M34: ='나. 세입세출(총괄)'!L35 -> 5500000 | N34: =M34-L34 -> -1650000 | O34: =N34/L34*100 -> -23.076923 | P34: 코로나19로 인해 발생한 의료비 감액
A35: 이월금 | B35: 계 | D35: 311147999 | E35: =E36 -> 103790000 | F35: =F36 -> -207357999 | G35: =F35/D35*100 -> -66.642884 | K35: 연료비 | L35: 6000000 | M35: ='나. 세입세출(총괄)'!L36 -> 6000000 | N35: =M35-L35 -> 0 | O35: 100
B36: 이월금 | C36: 소계 | D36: 311147999 | E36: =SUM(E37:E41) -> 103790000 | F36: =SUM(F37:F41) -> -207357999 | G36: =F36/D36*100 -> -66.642884 | J36: 사업비 | K36: 소계 | L36: 162799462 | M36: =SUM(M37:M44) -> 117612362 | N36: =M36-L36 -> -45187100 | O36: -9.9520407
C37: 이월금(보조금) | D37: 250613106 | E37: ='다. 세입내역서'!E42 -> 50000000 | F37: =E37-D37 -> -200613106 | G37: =F37/D37*100 -> -80.048928 | H37: 2022년 보조금 이월금 | K37: 사회심리 재활사업비 | L37: 66072362 | M37: ='나. 세입세출(총괄)'!L38 -> 66072362 | N37: =M37-L37 -> 0 | O37: =N37/L37*100 -> 0
C38: 이월금 (법인전입금) | D38: 4721463 | E38: ='다. 세입내역서'!E43 -> 1120000 | F38: =E38-D38 -> -3601463 | G38: =F38/D38*100 -> -76.278539 | H38: 2022년 법인전입금 이월금 | K38: ='라. 세출내역서'!C795 -> 환경개선사업비 | L38: 22000000 | M38: ='나. 세입세출(총괄)'!L39 -> 0 | N38: =M38-L38 -> -22000000 | O38: 100 | P38: 2022년 환경개선사업지원 종료에 따른 예산감액
C39: 이월금(자부담) | D39: 14424572 | E39: ='다. 세입내역서'!E44 -> 21700000 | F39: =E39-D39 -> 7275428 | G39: =F39/D39*100 -> 50.437739 | H39: 2022년 자부담 이월금 | K39: 4종운영 지원사업비 | L39: 32840000 | M39: ='나. 세입세출(총괄)'!L40 -> 32840000 | N39: =M39-L39 -> 0 | O39: =N39/L39*100 -> 0
C40: 이월금(후원금) | D40: 41388858 | E40: ='다. 세입내역서'!E45 -> 30970000 | F40: =E40-D40 -> -10418858 | G40: =F40/D40*100 -> -25.173099 | H40: 2022년 후원금 이월금 | K40: 6종운영 지원사업비 | L40: 6600000 | M40: ='나. 세입세출(총괄)'!L41 -> 6600000 | N40: =M40-L40 -> 0 | O40: =N40/L40*100 -> 0
C41: 이월사업비 | D41: 0 | E41: 0 | F41: =E41-D41 -> 0 | G41: 0 | K41: 재활프로그램 사업비 | L41: 5000000 | M41: ='나. 세입세출(총괄)'!L42 -> 1000000 | N41: =M41-L41 -> -4000000 | O41: =N41/L41*100 -> -80 | P41: 2022년 재활프로그랭사업종료
K42: 기 능 보 강 사업비 | L42: 2100000 | M42: ='라. 세출내역서'!E810 -> 2100000 | N42: =M42-L42 -> 0 | O42: =N42/L42*100 -> 0 | P42: *2023년 기능보강 공기청정기 렌탈료지원사업
K43: 공동모금회 사업비 | L43: 7140000 | M43: ='라. 세출내역서'!E813 -> 0 | N43: =M43-L43 -> -7140000 | O43: 0 | P43: 공동모금회사업 : (제과나라제빵공주) 종료
K44: ='라. 세출내역서'!C815 -> 바보의나눔사업 | L44: 21047100 | M44: ='라. 세출내역서'!E815 -> 9000000 | N44: =M44-L44 -> -12047100 | O44: 1 | P44: *2022년 바보의 나눔 사업종료 *2023년 바보의나눔재단 공모사업 선정 예산편성
J45: 결연사업비 | K45: 소계 | L45: 3600000 | M45: =M46 -> 3600000 | N45: =M45-L45 -> 0 | O45: =N45/L45*100 -> 0
K46: 결연후원금 | L46: 3600000 | M46: ='나. 세입세출(총괄)'!L47 -> 3600000 | N46: =M46-L46 -> 0 | O46: =N46/L46*100 -> 0
A47: 잡수입 | B47: 계 | D47: 49598471 | E47: =E48 -> 49399730 | F47: =F48 -> -198741 | G47: =F47/D47*100 -> -0.40069985 | I47: 과년도지출 | J47: 계 | L47: 2088570 | M47: =M48 -> 1609200 | N47: =M47-L47 -> -479370 | O47: =N47/L47*100 -> -22.952068
B48: 잡수입 | C48: 소계 | D48: 49598471 | E48: =SUM(E49:E51) -> 49399730 | F48: =SUM(F49:F51) -> -198741 | G48: =F48/D48*100 -> -0.40069985 | J48: 과년도지출 | K48: 소계 | L48: 2088570 | M48: =M49 -> 1609200 | N48: =M48-L48 -> -479370 | O48: =N48/L48*100 -> -22.952068
C49: 불용품매각대 | D49: 500000 | E49: ='다. 세입내역서'!E49 -> 500000 | F49: =E49-D49 -> 0 | G49: =F49/D49*100 -> 0 | K49: 과년도지출 | L49: 2088570 | M49: ='나. 세입세출(총괄)'!L50 -> 1609200 | N49: =M49-L49 -> -479370 | O49: =N49/L49*100 -> -22.952068 | P49: *업무용 차량주유비, 취사연료비등 예상액 편성
C50: 기타예금이자수입 | D50: 948471 | E50: ='다. 세입내역서'!E50 -> 749730 | F50: =E50-D50 -> -198741 | G50: =F50/D50*100 -> -20.95383 | H50: 예금이자 수입액 반영 감액 | I50: 잡지출 | J50: 계 | L50: 473364 | M50: =M51 -> 549730 | N50: =M50-L50 -> 76366 | O50: =N50/L50*100 -> 16.132617
C51: 기타잡수입 | D51: 48150000 | E51: ='다. 세입내역서'!E51 -> 48150000 | F51: =E51-D51 -> 0 | G51: =F51/D51*100 -> 0 | J51: 잡지출 | K51: 소계 | L51: 473364 | M51: =M52 -> 549730 | N51: =M51-L51 -> 76366 | O51: =N51/L51*100 -> 16.132617
K52: 잡지출 | L52: 473364 | M52: ='나. 세입세출(총괄)'!L53 -> 549730 | N52: =M52-L52 -> 76366 | O52: =N52/L52*100 -> 16.132617
I53: 예비비및기타 | J53: 계 | L53: 250616006 | M53: =M54 -> 50002900 | N53: =M53-L53 -> -200613106 | O53: =N53/L53*100 -> -80.048002
J54: 예비비및기타 | K54: 소계 | L54: 250616006 | M54: =M55 -> 50002900 | N54: =M54-L54 -> -200613106 | O54: =N54/L54*100 -> -80.048002
K55: 보조금반환금 | L55: 250616006 | M55: ='나. 세입세출(총괄)'!L56 -> 50002900 | N55: =M55-L55 -> -200613106 | O55: =N55/L55*100 -> -80.048002 | P55: * 2022년 보조금 반환금

Sheet 사. 임직원보수 일람표
A1: 사. 임직원 보수 일람표
A2: 보조금 직원
A3: 순번 | B3: 직책 | C3: 성명 | D3: 승급월 | G3: 호봉 | H3: 기본급 | I3: 급여 | J3: 제수당 | S3: 퇴직금 및 퇴직적립금 | T3: 국민연금 | U3: 건강보험 | V3: 장기요양 | W3: 고용보험 | X3: 산재보험 | Y3: 사회보험 부담금 | Z3: 공제액계 | AA3: 합계 | AB3: 지자체 별도 지급액 | AE3: 비고
J4: 명절휴가비 | K4: 가족수당 | L4: 시급 | M4: 연장수당 | N4: 휴일근로시간 | O4: 휴일근로수당 | P4: 연장추가 지원수당 | Q4: 직책수당 | R4: 제수당 계 | AB4: 경기도 특수근무수당 | AC4: 경기도 처우개선비 | AD4: 지자체 지급액 계
A5: 1 | B5: 시설장 | C5: 이기수 | D5: 6 | E5: =F5+F6 -> 12 | F5: 5 | G5: 16 | H5: 4149000 | I5: =H5*F5 -> 20745000 | J5: =H5*60% -> 2489400 | L5: =ROUND(H5*1/209*1.5,-1) -> 29780 | M5: =(L5*20)*F5 -> 2978000 | P5: =(L5*5)*F5 -> 744500 | R5: =SUM(J5,K5,M5,O5,P5) -> 6211900 | S5: =ROUNDUP((I5+J5+K5+M5+O5+P5+Q5)*1/12,-1) -> 2246410 | U5: =ROUNDUP((I5+J5+K5+M5+O5+P5)*3.545%,-1) -> 955630 | V5: =ROUNDUP(U5*12.81%,-1) -> 122420 | Y5: =SUM(T5:X5) -> 1078050 | Z5: =SUM(S5,Y5) -> 3324460 | AA5: =SUM(Z5,Z6,R5,R6,I5,I6) -> 72292640 | AB5: =250000*12 -> 3000000 | AC5: =50000*12 -> 600000 | AD5: =AC5+AB5 -> 3600000
F6: 7 | G6: =G5+1 -> 17 | H6: 4223000 | I6: =H6*F6 -> 29561000 | J6: =H6*60% -> 2533800 | L6: =ROUND(H6*1/209*1.5,-1) -> 30310 | M6: =(L6*20)*F6 -> 4243400 | P6: =(L6*5)*F6 -> 1060850 | R6: =SUM(J6,K6,M6,O6,P6) -> 7838050 | S6: =ROUNDUP((I6+J6+K6+M6+O6+P6+Q6)*1/12,-1) -> 3116590 | U6: =ROUNDUP((I6+J6+K6+M6+O6+P6)*3.545%,-1) -> 1325800 | V6: =ROUNDUP(U6*12.81%,-1) -> 169840 | Y6: =SUM(T6:X6) -> 1495640 | Z6: =SUM(S6,Y6) -> 4612230
A7: 2 | B7: 사무국장 | C7: 금형민 | D7: 5 | E7: =F7+F8 -> 12 | F7: 4 | G7: 21 | H7: 4085000 | I7: =H7*F7 -> 16340000 | J7: =H7*60% -> 2451000 | K7: =120000*12 -> 1440000 | L7: =ROUND(H7*1/209*1.5,-1) -> 29320 | M7: =(L7*20)*F7 -> 2345600 | P7: =(L7*5)*F7 -> 586400 | R7: =SUM(J7,K7,M7,O7,P7) -> 6823000 | S7: =ROUNDUP((I7+J7+K7+M7+O7+P7+Q7)*1/12,-1) -> 1930250 | T7: =ROUND((I7+J7+K7+M7+O7+P7)*4.5%,-1) -> 1042340 | U7: =ROUNDUP((I7+J7+K7+M7+O7+P7)*3.545%,-1) -> 821130 | V7: =ROUNDUP(U7*12.81%,-1) -> 105190 | W7: =ROUND((I7+J7+K7+M7+O7+P7)*1.05%,-1) -> 243210 | X7: =ROUND((I7+J7+K7+M7+O7+P7)*0.8%,-1) -> 185300 | Y7: =SUM(T7:X7) -> 2397170 | Z7: =SUM(S7,Y7) -> 4327420 | AA7: =SUM(Z7,Z8,R7,R8,I7,I8) -> 76775450 | AB7: =250000*12 -> 3000000 | AC7: =50000*12 -> 600000 | AD7: =AC7+AB7 -> 3600000
F8: 8 | G8: =G7+1 -> 22 | H8: 4138000 | I8: =H8*F8 -> 33104000 | J8: =H8*60% -> 2482800 | L8: =ROUND(H8*1/209*1.5,-1) -> 29700 | M8: =(L8*20)*F8 -> 4752000 | P8: =(L8*5)*F8 -> 1188000 | R8: =SUM(J8,K8,M8,O8,P8) -> 8422800 | S8: =ROUNDUP((I8+J8+K8+M8+O8+P8+Q8)*1/12,-1) -> 3460570 | T8: =ROUND((I8+J8+K8+M8+O8+P8)*4.5%,-1) -> 1868710 | U8: =ROUNDUP((I8+J8+K8+M8+O8+P8)*3.545%,-1) -> 1472130 | V8: =ROUNDUP(U8*12.81%,-1) -> 188580 | W8: =ROUND((I8+J8+K8+M8+O8+P8)*1.05%,-1) -> 436030 | X8: =ROUND((I8+J8+K8+M8+O8+P8)*0.8%,-1) -> 332210 | Y8: =SUM(T8:X8) -> 4297660 | Z8: =SUM(S8,Y8) -> 7758230
A9: 3 | B9: 상담평가원 (과장) | C9: 김정윤 | D9: 7 | E9: =F9+F10 -> 12 | F9: 6 | G9: 19 | H9: 3608000 | I9: =H9*F9 -> 21648000 | J9: =H9*60% -> 2164800 | K9: =40000*12 -> 480000 | L9: =ROUND(H9*1/209*1.5,-1) -> 25890 | M9: =(L9*20)*F9 -> 3106800 | P9: =(L9*5)*F9 -> 776700 | R9: =SUM(J9,K9,M9,O9,P9) -> 6528300 | S9: =ROUNDUP((I9+J9+K9+M9+O9+P9+Q9)*1/12,-1) -> 2348030 | T9: =ROUND((I9+J9+K9+M9+O9+P9)*4.5%,-1) -> 1267930 | U9: =ROUNDUP((I9+J9+K9+M9+O9+P9)*3.545%,-1) -> 998850 | V9: =ROUNDUP(U9*12.81%,-1) -> 127960 | W9: =ROUND((I9+J9+K9+M9+O9+P9)*1.05%,-1) -> 295850 | X9: =ROUND((I9+J9+K9+M9+O9+P9)*0.8%,-1) -> 225410 | Y9: =SUM(T9:X9) -> 2916000 | Z9: =SUM(S9,Y9) -> 5264030 | AA9: =SUM(Z9,Z10,R9,R10,I9,I10) -> 66830470 | AB9: =250000*12 -> 3000000 | AC9: =50000*12 -> 600000 | AD9: =AC9+AB9 -> 3600000
F10: 6 | G10: =G9+1 -> 20 | H10: 3665000 | I10: =H10*F10 -> 21990000 | J10: =H10*60% -> 2199000 | L10: =ROUND(H10*1/209*1.5,-1) -> 26300 | M10: =(L10*20)*F10 -> 3156000 | P10: =(L10*5)*F10 -> 789000 | R10: =SUM(J10,K10,M10,O10,P10) -> 6144000 | S10: =ROUNDUP((I10+J10+K10+M10+O10+P10+Q10)*1/12,-1) -> 2344500 | T10: =ROUND((I10+J10+K10+M10+O10+P10)*4.5%,-1) -> 1266030 | U10: =ROUNDUP((I10+J10+K10+M10+O10+P10)*3.545%,-1) -> 997360 | V10: =ROUNDUP(U10*12.81%,-1) -> 127770 | W10: =ROUND((I10+J10+K10+M10+O10+P10)*1.05%,-1) -> 295410 | X10: =ROUND((I10+J10+K10+M10+O10+P10)*0.8%,-1) -> 225070 | Y10: =SUM(T10:X10) -> 2911640 | Z10: =SUM(S10,Y10) -> 5256140
A11: 4 | B11: 영양사 (팀장) | C11: 김혜영 | D11: 4 | E11: =F11+F12 -> 12 | F11: 3 | G11: 26 | H11: 3940000 | I11: =H11*F11 -> 11820000 | J11: =H11*60% -> 2364000 | K11: =40000*12 -> 480000 | L11: =ROUND(H11*1/209*1.5,-1) -> 28280 | M11: =(L11*20)*F11 -> 1696800 | P11: =(L11*5)*F11 -> 424200 | R11: =SUM(J11,K11,M11,O11,P11) -> 4965000 | S11: =ROUNDUP((I11+J11+K11+M11+O11+P11+Q11)*1/12,-1) -> 1398750 | T11: =ROUND((I11+J11+K11+M11+O11+P11)*4.5%,-1) -> 755330 | U11: =ROUNDUP((I11+J11+K11+M11+O11+P11)*3.545%,-1) -> 595030 | V11: =ROUNDUP(U11*12.81%,-1) -> 76230 | W11: =ROUND((I11+J11+K11+M11+O11+P11)*1.05%,-1) -> 176240 | X11: =ROUND((I11+J11+K11+M11+O11+P11)*0.8%,-1) -> 134280 | Y11: =SUM(T11:X11) -> 1737110 | Z11: =SUM(S11,Y11) -> 3135860 | AA11: =SUM(Z11,Z12,R11,R12,I11,I12) -> 72828620 | AB11: =250000*12 -> 3000000 | AC11: =50000*12 -> 600000 | AD11: =AC11+AB11 -> 3600000
F12: 9 | G12: =G11+1 -> 27 | H12: 3975000 | I12: =H12*F12 -> 35775000 | J12: =H12*60% -> 2385000 | L12: =ROUND(H12*1/209*1.5,-1) -> 28530 | M12: =(L12*20)*F12 -> 5135400 | P12: =(L12*5)*F12 -> 1283850 | R12: =SUM(J12,K12,M12,O12,P12) -> 8804250 | S12: =ROUNDUP((I12+J12+K12+M12+O12+P12+Q12)*1/12,-1) -> 3714940 | T12: =ROUND((I12+J12+K12+M12+O12+P12)*4.5%,-1) -> 2006070 | U12: =ROUNDUP((I12+J12+K12+M12+O12+P12)*3.545%,-1) -> 1580340 | V12: =ROUNDUP(U12*12.81%,-1) -> 202450 | W12: =ROUND((I12+J12+K12+M12+O12+P12)*1.05%,-1) -> 468080 | X12: =ROUND((I12+J12+K12+M12+O12+P12)*0.8%,-1) -> 356630 | Y12: =SUM(T12:X12) -> 4613570 | Z12: =SUM(S12,Y12) -> 8328510
A13: 5 | B13: 선임지도원 (팀장) | C13: 이선이 | D13: 11 | E13: =F13+F14 -> 12 | F13: 11 | G13: 15 | H13: 3051000 | I13: =H13*F13 -> 33561000 | J13: =(H13*60%)*2 -> 3661200 | K13: =40000*12 -> 480000 | L13: =ROUND(H13*1/209*1.5,-1) -> 21900 | M13: =(L13*20)*F13 -> 4818000 | P13: =(L13*5)*F13 -> 1204500 | R13: =SUM(J13,K13,M13,O13,P13) -> 10163700 | S13: =ROUNDUP((I13+J13+K13+M13+O13+P13+Q13)*1/12,-1) -> 3643730 | T13: =ROUND((I13+J13+K13+M13+O13+P13)*4.5%,-1) -> 1967610 | U13: =ROUNDUP((I13+J13+K13+M13+O13+P13)*3.545%,-1) -> 1550050 | V13: =ROUNDUP(U13*12.81%,-1) -> 198570 | W13: =ROUND((I13+J13+K13+M13+O13+P13)*1.05%,-1) -> 459110 | X13: =ROUND((I13+J13+K13+M13+O13+P13)*0.8%,-1) -> 349800 | Y13: =SUM(T13:X13) -> 4525140 | Z13: =SUM(S13,Y13) -> 8168870 | AA13: =SUM(Z13,Z14,R13,R14,I13,I14) -> 56253980 | AB13: =250000*12 -> 3000000 | AC13: =50000*12 -> 600000 | AD13: =AC13+AB13 -> 3600000
F14: 1 | G14: =G13+1 -> 16 | H14: 3115000 | I14: =H14*F14 -> 3115000 | L14: =ROUND(H14*1/209*1.5,-1) -> 22360 | M14: =(L14*20)*F14 -> 447200 | P14: =(L14*5)*F14 -> 111800 | R14: =SUM(J14,K14,M14,O14,P14) -> 559000 | S14: =ROUNDUP((I14+J14+K14+M14+O14+P14+Q14)*1/12,-1) -> 306170 | T14: =ROUND((I14+J14+K14+M14+O14+P14)*4.5%,-1) -> 165330 | U14: =ROUNDUP((I14+J14+K14+M14+O14+P14)*3.545%,-1) -> 130250 | V14: =ROUNDUP(U14*12.81%,-1) -> 16690 | W14: =ROUND((I14+J14+K14+M14+O14+P14)*1.05%,-1) -> 38580 | X14: =ROUND((I14+J14+K14+M14+O14+P14)*0.8%,-1) -> 29390 | Y14: =SUM(T14:X14) -> 380240 | Z14: =SUM(S14,Y14) -> 686410
A15: 6 | B15: 간호사 (팀장) | C15: 김성숙 | D15: 9 | E15: =F15+F16 -> 12 | F15: 8 | G15: 13 | H15: 3204000 | I15: =H15*F15 -> 25632000 | J15: =H15*60%*1 -> 1922400 | K15: =140000*12 -> 1680000 | L15: =ROUND(H15*1/209*1.5,-1) -> 23000 | M15: =(L15*20)*F15 -> 3680000 | P15: =(L15*5)*F15 -> 920000 | R15: =SUM(J15,K15,M15,O15,P15) -> 8202400 | S15: =ROUNDUP((I15+J15+K15+M15+O15+P15+Q15)*1/12,-1) -> 2819540 | T15: =ROUND((I15+J15+K15+M15+O15+P15)*4.5%,-1) -> 1522550 | U15: =ROUNDUP((I15+J15+K15+M15+O15+P15)*3.545%,-1) -> 1199430 | V15: =ROUNDUP(U15*12.81%,-1) -> 153650 | W15: =ROUND((I15+J15+K15+M15+O15+P15)*1.05%,-1) -> 355260 | X15: =ROUND((I15+J15+K15+M15+O15+P15)*0.8%,-1) -> 270680 | Y15: =SUM(T15:X15) -> 3501570 | Z15: =SUM(S15,Y15) -> 6321110 | AA15: =SUM(Z15,Z16,R15,R16,I15,I16) -> 60856110 | AB15: =250000*12 -> 3000000 | AC15: =50000*12 -> 600000 | AD15: =AC15+AB15 -> 3600000
F16: 4 | G16: =G15+1 -> 14 | H16: 3280000 | I16: =H16*F16 -> 13120000 | J16: =H16*60%*1 -> 1968000 | L16: =ROUND(H16*1/209*1.5,-1) -> 23540 | M16: =(L16*20)*F16 -> 1883200 | P16: =(L16*5)*F16 -> 470800 | R16: =SUM(J16,K16,M16,O16,P16) -> 4322000 | S16: =ROUNDUP((I16+J16+K16+M16+O16+P16+Q16)*1/12,-1) -> 1453500 | T16: =ROUND((I16+J16+K16+M16+O16+P16)*4.5%,-1) -> 784890 | U16: =ROUNDUP((I16+J16+K16+M16+O16+P16)*3.545%,-1) -> 618320 | V16: =ROUNDUP(U16*12.81%,-1) -> 79210 | W16: =ROUND((I16+J16+K16+M16+O16+P16)*1.05%,-1) -> 183140 | X16: =ROUND((I16+J16+K16+M16+O16+P16)*0.8%,-1) -> 139540 | Y16: =SUM(T16:X16) -> 1805100 | Z16: =SUM(S16,Y16) -> 3258600
A17: 7 | B17: 언어치료사 | C17: 최민성 | D17: 4 | E17: =F17+F18 -> 12 | F17: =D17-1 -> 3 | G17: 14 | H17: 3280000 | I17: =H17*F17 -> 9840000 | J17: =H17*60% -> 1968000 | K17: =60000*12 -> 720000 | L17: =ROUND(H17*1/209*1.5,-1) -> 23540 | M17: =(L17*20)*F17 -> 1412400 | P17: =(L17*5)*F17 -> 353100 | R17: =SUM(J17,K17,M17,O17,P17) -> 4453500 | S17: =ROUNDUP((I17+J17+K17+M17+O17+P17+Q17)*1/12,-1) -> 1191130 | T17: =ROUND((I17+J17+K17+M17+O17+P17)*4.5%,-1) -> 643210 | U17: =ROUNDUP((I17+J17+K17+M17+O17+P17)*3.545%,-1) -> 506710 | V17: =ROUNDUP(U17*12.81%,-1) -> 64910 | W17: =ROUND((I17+J17+K17+M17+O17+P17)*1.05%,-1) -> 150080 | X17: =ROUND((I17+J17+K17+M17+O17+P17)*0.8%,-1) -> 114350 | Y17: =SUM(T17:X17) -> 1479260 | Z17: =SUM(S17,Y17) -> 2670390 | AA17: =SUM(Z17,Z18,R17,R18,I17,I18) -> 61591230 | AB17: =250000*12 -> 3000000 | AC17: =50000*12 -> 600000 | AD17: =AC17+AB17 -> 3600000
F18: 9 | G18: =G17+1 -> 15 | H18: 3353000 | I18: =H18*F18 -> 30177000 | J18: =H18*60% -> 2011800 | L18: =ROUND(H18*1/209*1.5,-1) -> 24060 | M18: =(L18*20)*F18 -> 4330800 | P18: =(L18*5)*F18 -> 1082700 | R18: =SUM(J18,K18,M18,O18,P18) -> 7425300 | S18: =ROUNDUP((I18+J18+K18+M18+O18+P18+Q18)*1/12,-1) -> 3133530 | T18: =ROUND((I18+J18+K18+M18+O18+P18)*4.5%,-1) -> 1692100 | U18: =ROUNDUP((I18+J18+K18+M18+O18+P18)*3.545%,-1) -> 1333010 | V18: =ROUNDUP(U18*12.81%,-1) -> 170760 | W18: =ROUND((I18+J18+K18+M18+O18+P18)*1.05%,-1) -> 394820 | X18: =ROUND((I18+J18+K18+M18+O18+P18)*0.8%,-1) -> 300820 | Y18: =SUM(T18:X18) -> 3891510 | Z18: =SUM(S18,Y18) -> 7025040
A19: 8 | B19: 작업치료사 | C19: 이동철 | D19: 2 | E19: =F19+F20 -> 12 | F19: 1 | G19: 8 | H19: 2712000 | I19: =H19*F19 -> 2712000 | K19: =40000*12 -> 480000 | L19: =ROUND(H19*1/209*1.5,-1) -> 19460 | M19: =(L19*20)*F19 -> 389200 | P19: =(L19*5)*F19 -> 97300 | R19: =SUM(J19,K19,M19,O19,P19) -> 966500 | S19: =ROUNDUP((I19+J19+K19+M19+O19+P19+Q19)*1/12,-1) -> 306550 | T19: =ROUND((I19+J19+K19+M19+O19+P19)*4.5%,-1) -> 165530 | U19: =ROUNDUP((I19+J19+K19+M19+O19+P19)*3.545%,-1) -> 130410 | V19: =ROUNDUP(U19*12.81%,-1) -> 16710 | W19: =ROUND((I19+J19+K19+M19+O19+P19)*1.05%,-1) -> 38620 | X19: =ROUND((I19+J19+K19+M19+O19+P19)*0.8%,-1) -> 29430 | Y19: =SUM(T19:X19) -> 380700 | Z19: =SUM(S19,Y19) -> 687250 | AA19: =SUM(Z19,Z20,R19,R20,I19,I20) -> 51938550 | AB19: =250000*12 -> 3000000 | AC19: =50000*12 -> 600000 | AD19: =AC19+AB19 -> 3600000
F20: 11 | G20: =G19+1 -> 9 | H20: 2828000 | I20: =H20*F20 -> 31108000 | J20: =(H20*60%)*2 -> 3393600 | L20: =ROUND(H20*1/209*1.5,-1) -> 20300 | M20: =(L20*20)*F20 -> 4466000 | P20: =(L20*5)*F20 -> 1116500 | R20: =SUM(J20,K20,M20,O20,P20) -> 8976100 | S20: =ROUNDUP((I20+J20+K20+M20+O20+P20+Q20)*1/12,-1) -> 3340350 | T20: =ROUND((I20+J20+K20+M20+O20+P20)*4.5%,-1) -> 1803780 | U20: =ROUNDUP((I20+J20+K20+M20+O20+P20)*3.545%,-1) -> 1420990 | V20: =ROUNDUP(U20*12.81%,-1) -> 182030 | W20: =ROUND((I20+J20+K20+M20+O20+P20)*1.05%,-1) -> 420880 | X20: =ROUND((I20+J20+K20+M20+O20+P20)*0.8%,-1) -> 320670 | Y20: =SUM(T20:X20) -> 4148350 | Z20: =SUM(S20,Y20) -> 7488700
A21: 9 | B21: 물리치료사 | C21: 김효선 | D21: 8 | E21: =F21+F22 -> 12 | F21: 7 | G21: 15 | H21: 3353000 | I21: =H21*F21 -> 23471000 | J21: =H21*60% -> 2011800 | K21: =40000*12 -> 480000 | L21: =ROUND(H21*1/209*1.5,-1) -> 24060 | M21: =(L21*20)*F21 -> 3368400 | P21: =(L21*5)*F21 -> 842100 | R21: =SUM(J21,K21,M21,O21,P21) -> 6702300 | S21: =ROUNDUP((I21+J21+K21+M21+O21+P21+Q21)*1/12,-1) -> 2514450 | T21: =ROUND((I21+J21+K21+M21+O21+P21)*4.5%,-1) -> 1357800 | U21: =ROUNDUP((I21+J21+K21+M21+O21+P21)*3.545%,-1) -> 1069650 | V21: =ROUNDUP(U21*12.81%,-1) -> 137030 | W21: =ROUND((I21+J21+K21+M21+O21+P21)*1.05%,-1) -> 316820 | X21: =ROUND((I21+J21+K21+M21+O21+P21)*0.8%,-1) -> 241390 | Y21: =SUM(T21:X21) -> 3122690 | Z21: =SUM(S21,Y21) -> 5637140 | AA21: =SUM(Z21,Z22,R21,R22,I21,I22) -> 62197360 | AB21: =250000*12 -> 3000000 | AC21: =50000*12 -> 600000 | AD21: =AC21+AB21 -> 3600000
F22: 5 | G22: =G21+1 -> 16 | H22: 3422000 | I22: =H22*F22 -> 17110000 | J22: =H22*60% -> 2053200 | L22: =ROUND(H22*1/209*1.5,-1) -> 24560 | M22: =(L22*20)*F22 -> 2456000 | P22: =(L22*5)*F22 -> 614000 | R22: =SUM(J22,K22,M22,O22,P22) -> 5123200 | S22: =ROUNDUP((I22+J22+K22+M22+O22+P22+Q22)*1/12,-1) -> 1852770 | T22: =ROUND((I22+J22+K22+M22+O22+P22)*4.5%,-1) -> 1000490 | U22: =ROUNDUP((I22+J22+K22+M22+O22+P22)*3.545%,-1) -> 788170 | V22: =ROUNDUP(U22*12.81%,-1) -> 100970 | W22: =ROUND((I22+J22+K22+M22+O22+P22)*1.05%,-1) -> 233450 | X22: =ROUND((I22+J22+K22+M22+O22+P22)*0.8%,-1) -> 177870 | Y22: =SUM(T22:X22) -> 2300950 | Z22: =SUM(S22,Y22) -> 4153720
A23: 10 | B23: 사회재활 교사(과장) | C23: 이성수 | D23: 10 | E23: =F23+F24 -> 12 | F23: 9 | G23: 18 | H23: 3552000 | I23: =H23*F23 -> 31968000 | J23: =H23*60% -> 2131200 | K23: =40000*12 -> 480000 | L23: =ROUND(H23*1/209*1.5,-1) -> 25490 | M23: =(L23*20)*F23 -> 4588200 | P23: =(L23*5)*F23 -> 1147050 | R23: =SUM(J23,K23,M23,O23,P23) -> 8346450 | S23: =ROUNDUP((I23+J23+K23+M23+O23+P23+Q23)*1/12,-1) -> 3359540 | T23: =ROUND((I23+J23+K23+M23+O23+P23)*4.5%,-1) -> 1814150 | U23: =ROUNDUP((I23+J23+K23+M23+O23+P23)*3.545%,-1) -> 1429150 | V23: =ROUNDUP(U23*12.81%,-1) -> 183080 | W23: =ROUND((I23+J23+K23+M23+O23+P23)*1.05%,-1) -> 423300 | X23: =ROUND((I23+J23+K23+M23+O23+P23)*0.8%,-1) -> 322520 | Y23: =SUM(T23:X23) -> 4172200 | Z23: =SUM(S23,Y23) -> 7531740 | AA23: =SUM(Z23,Z24,R23,R24,I23,I24) -> 65566140 | AB23: =250000*12 -> 3000000 | AC23: =50000*12 -> 600000 | AD23: =AC23+AB23 -> 3600000
F24: 3 | G24: =G23+1 -> 19 | H24: 3608000 | I24: =H24*F24 -> 10824000 | J24: =H24*60% -> 2164800 | L24: =ROUND(H24*1/209*1.5,-1) -> 25890 | M24: =(L24*20)*F24 -> 1553400 | P24: =(L24*5)*F24 -> 388350 | R24: =SUM(J24,K24,M24,O24,P24) -> 4106550 | S24: =ROUNDUP((I24+J24+K24+M24+O24+P24+Q24)*1/12,-1) -> 1244220 | T24: =ROUND((I24+J24+K24+M24+O24+P24)*4.5%,-1) -> 671870 | U24: =ROUNDUP((I24+J24+K24+M24+O24+P24)*3.545%,-1) -> 529290 | V24: =ROUNDUP(U24*12.81%,-1) -> 67810 | W24: =ROUND((I24+J24+K24+M24+O24+P24)*1.05%,-1) -> 156770 | X24: =ROUND((I24+J24+K24+M24+O24+P24)*0.8%,-1) -> 119440 | Y24: =SUM(T24:X24) -> 1545180 | Z24: =SUM(S24,Y24) -> 2789400
A25: 11 | B25: 선임지도원 (팀장) | C25: 심영은 | D25: 8 | E25: =F25+F26 -> 12 | F25: 7 | G25: 14 | H25: 2984000 | I25: =H25*F25 -> 20888000 | J25: =H25*60% -> 1790400 | K25: =60000*12 -> 720000 | L25: =ROUND(H25*1/209*1.5,-1) -> 21420 | M25: =(L25*20)*F25 -> 2998800 | P25: =(L25*5)*F25 -> 749700 | R25: =SUM(J25,K25,M25,O25,P25) -> 6258900 | S25: =ROUNDUP((I25+J25+K25+M25+O25+P25+Q25)*1/12,-1) -> 2262250 | T25: =ROUND((I25+J25+K25+M25+O25+P25)*4.5%,-1) -> 1221610 | U25: =ROUNDUP((I25+J25+K25+M25+O25+P25)*3.545%,-1) -> 962360 | V25: =ROUNDUP(U25*12.81%,-1) -> 123280 | W25: =ROUND((I25+J25+K25+M25+O25+P25)*1.05%,-1) -> 285040 | X25: =ROUND((I25+J25+K25+M25+O25+P25)*0.8%,-1) -> 217180 | Y25: =SUM(T25:X25) -> 2809470 | Z25: =SUM(S25,Y25) -> 5071720 | AA25: =SUM(Z25,Z26,R25,R26,I25,I26) -> 55745160 | AB25: =250000*12 -> 3000000 | AC25: =50000*12 -> 600000 | AD25: =AC25+AB25 -> 3600000
F26: 5 | G26: =G25+1 -> 15 | H26: 3051000 | I26: =H26*F26 -> 15255000 | J26: =H26*60% -> 1830600 | L26: =ROUND(H26*1/209*1.5,-1) -> 21900 | M26: =(L26*20)*F26 -> 2190000 | P26: =(L26*5)*F26 -> 547500 | R26: =SUM(J26,K26,M26,O26,P26) -> 4568100 | S26: =ROUNDUP((I26+J26+K26+M26+O26+P26+Q26)*1/12,-1) -> 1651930 | T26: =ROUND((I26+J26+K26+M26+O26+P26)*4.5%,-1) -> 892040 | U26: =ROUNDUP((I26+J26+K26+M26+O26+P26)*3.545%,-1) -> 702730 | V26: =ROUNDUP(U26*12.81%,-1) -> 90020 | W26: =ROUND((I26+J26+K26+M26+O26+P26)*1.05%,-1) -> 208140 | X26: =ROUND((I26+J26+K26+M26+O26+P26)*0.8%,-1) -> 158580 | Y26: =SUM(T26:X26) -> 2051510 | Z26: =SUM(S26,Y26) -> 3703440
A27: 12 | B27: 사무원 | C27: 유준 | D27: 4 | E27: =F27+F28 -> 12 | F27: 3 | G27: 16 | H27: 2851000 | I27: =H27*F27 -> 8553000 | J27: =H27*60% -> 1710600 | L27: =ROUND(H27*1/209*1.5,-1) -> 20460 | M27: =(L27*20)*F27 -> 1227600 | P27: =(L27*5)*F27 -> 306900 | R27: =SUM(J27,K27,M27,O27,P27) -> 3245100 | S27: =ROUNDUP((I27+J27+K27+M27+O27+P27+Q27)*1/12,-1) -> 983180 | T27: =ROUND((I27+J27+K27+M27+O27+P27)*4.5%,-1) -> 530910 | U27: =ROUNDUP((I27+J27+K27+M27+O27+P27)*3.545%,-1) -> 418250 | V27: =ROUNDUP(U27*12.81%,-1) -> 53580 | W27: =ROUND((I27+J27+K27+M27+O27+P27)*1.05%,-1) -> 123880 | X27: =ROUND((I27+J27+K27+M27+O27+P27)*0.8%,-1) -> 94380 | Y27: =SUM(T27:X27) -> 1221000 | Z27: =SUM(S27,Y27) -> 2204180 | AA27: =SUM(Z27,Z28,R27,R28,I27,I28) -> 52761260 | AB27: =250000*12 -> 3000000 | AC27: =50000*12 -> 600000 | AD27: =AC27+AB27 -> 3600000
F28: 9 | G28: =G27+1 -> 17 | H28: 2912000 | I28: =H28*F28 -> 26208000 | J28: =H28*60% -> 1747200 | L28: =ROUND(H28*1/209*1.5,-1) -> 20900 | M28: =(L28*20)*F28 -> 3762000 | P28: =(L28*5)*F28 -> 940500 | R28: =SUM(J28,K28,M28,O28,P28) -> 6449700 | S28: =ROUNDUP((I28+J28+K28+M28+O28+P28+Q28)*1/12,-1) -> 2721480 | T28: =ROUND((I28+J28+K28+M28+O28+P28)*4.5%,-1) -> 1469600 | U28: =ROUNDUP((I28+J28+K28+M28+O28+P28)*3.545%,-1) -> 1157720 | V28: =ROUNDUP(U28*12.81%,-1) -> 148310 | W28: =ROUND((I28+J28+K28+M28+O28+P28)*1.05%,-1) -> 342910 | X28: =ROUND((I28+J28+K28+M28+O28+P28)*0.8%,-1) -> 261260 | Y28: =SUM(T28:X28) -> 3379800 | Z28: =SUM(S28,Y28) -> 6101280
A29: 13 | B29: 생활지도원 (팀장) | C29: 신희철 | D29: 2 | E29: =F29+F30 -> 12 | F29: 1 | G29: 15 | H29: 2789000 | I29: =H29*F29 -> 2789000 | L29: =ROUND(H29*1/209*1.5,-1) -> 20020 | M29: =(L29*20)*F29 -> 400400 | P29: =(L29*5)*F29 -> 100100 | R29: =SUM(J29,K29,M29,O29,P29) -> 500500 | S29: =ROUNDUP((I29+J29+K29+M29+O29+P29+Q29)*1/12,-1) -> 274130 | T29: =ROUND((I29+J29+K29+M29+O29+P29)*4.5%,-1) -> 148030 | U29: =ROUNDUP((I29+J29+K29+M29+O29+P29)*3.545%,-1) -> 116620 | V29: =ROUNDUP(U29*12.81%,-1) -> 14940 | W29: =ROUND((I29+J29+K29+M29+O29+P29)*1.05%,-1) -> 34540 | X29: =ROUND((I29+J29+K29+M29+O29+P29)*0.8%,-1) -> 26320 | Y29: =SUM(T29:X29) -> 340450 | Z29: =SUM(S29,Y29) -> 614580 | AA29: =SUM(Z29,Z30,R29,R30,I29,I30) -> 51862130 | AB29: =250000*12 -> 3000000 | AC29: =50000*12 -> 600000 | AD29: =AC29+AB29 -> 3600000
F30: 11 | G30: =G29+1 -> 16 | H30: 2851000 | I30: =H30*F30 -> 31361000 | J30: =(H30*60%)*2 -> 3421200 | L30: =ROUND(H30*1/209*1.5,-1) -> 20460 | M30: =(L30*20)*F30 -> 4501200 | P30: =(L30*5)*F30 -> 1125300 | R30: =SUM(J30,K30,M30,O30,P30) -> 9047700 | S30: =ROUNDUP((I30+J30+K30+M30+O30+P30+Q30)*1/12,-1) -> 3367400 | T30: =ROUND((I30+J30+K30+M30+O30+P30)*4.5%,-1) -> 1818390 | U30: =ROUNDUP((I30+J30+K30+M30+O30+P30)*3.545%,-1) -> 1432490 | V30: =ROUNDUP(U30*12.81%,-1) -> 183510 | W30: =ROUND((I30+J30+K30+M30+O30+P30)*1.05%,-1) -> 424290 | X30: =ROUND((I30+J30+K30+M30+O30+P30)*0.8%,-1) -> 323270 | Y30: =SUM(T30:X30) -> 4181950 | Z30: =SUM(S30,Y30) -> 7549350
A31: 14 | B31: 생활지도원 | C31: 홍은향 | D31: 6 | E31: =F31+F32 -> 12 | F31: 5 | G31: 18 | H31: 2971000 | I31: =H31*F31 -> 14855000 | J31: =H31*60% -> 1782600 | K31: =100000*12 -> 1200000 | L31: =ROUND(H31*1/209*1.5,-1) -> 21320 | M31: =(L31*40)*F31 -> 4264000 | R31: =SUM(J31,K31,M31,O31,P31) -> 7246600 | S31: =ROUNDUP((I31+J31+K31+M31+O31+P31+Q31)*1/12,-1) -> 1841800 | T31: =ROUND((I31+J31+K31+M31+O31+P31)*4.5%,-1) -> 994570 | U31: =ROUNDUP((I31+J31+K31+M31+O31+P31)*3.545%,-1) -> 783510 | V31: =ROUNDUP(U31*12.81%,-1) -> 100370 | W31: =ROUND((I31+J31+K31+M31+O31+P31)*1.05%,-1) -> 232070 | X31: =ROUND((I31+J31+K31+M31+O31+P31)*0.8%,-1) -> 176810 | Y31: =SUM(T31:X31) -> 2287330 | Z31: =SUM(S31,Y31) -> 4129130 | AA31: =SUM(Z31,Z32,R31,R32,I31,I32) -> 63808470 | AB31: =250000*12 -> 3000000 | AC31: =50000*12 -> 600000 | AD31: =AC31+AB31 -> 3600000
F32: 7 | G32: =G31+1 -> 19 | H32: 3024000 | I32: =H32*F32 -> 21168000 | J32: =H32*60% -> 1814400 | L32: =ROUND(H32*1/209*1.5,-1) -> 21700 | M32: =(L32*40)*F32 -> 6076000 | N32: 120 | O32: =N32*L32 -> 2604000 | R32: =SUM(J32,K32,M32,O32,P32) -> 10494400 | S32: =ROUNDUP((I32+J32+K32+M32+O32+P32+Q32)*1/12,-1) -> 2638540 | T32: =ROUND((I32+J32+K32+M32+O32+P32)*4.5%,-1) -> 1424810 | U32: =ROUNDUP((I32+J32+K32+M32+O32+P32)*3.545%,-1) -> 1122440 | V32: =ROUNDUP(U32*12.81%,-1) -> 143790 | W32: =ROUND((I32+J32+K32+M32+O32+P32)*1.05%,-1) -> 332460 | X32: =ROUND((I32+J32+K32+M32+O32+P32)*0.8%,-1) -> 253300 | Y32: =SUM(T32:X32) -> 3276800 | Z32: =SUM(S32,Y32) -> 5915340
A33: 15 | B33: 생활지도원 | C33: 이도란 | D33: 5 | E33: =F33+F34 -> 12 | F33: 4 | G33: 13 | H33: 2667000 | I33: =H33*F33 -> 10668000 | J33: =H33*60% -> 1600200 | K33: =40000*12 -> 480000 | L33: =ROUND(H33*1/209*1.5,-1) -> 19140 | M33: =(L33*40)*F33 -> 3062400 | R33: =SUM(J33,K33,M33,O33,P33) -> 5142600 | S33: =ROUNDUP((I33+J33+K33+M33+O33+P33+Q33)*1/12,-1) -> 1317550 | T33: =ROUND((I33+J33+K33+M33+O33+P33)*4.5%,-1) -> 711480 | U33: =ROUNDUP((I33+J33+K33+M33+O33+P33)*3.545%,-1) -> 560490 | V33: =ROUNDUP(U33*12.81%,-1) -> 71800 | W33: =ROUND((I33+J33+K33+M33+O33+P33)*1.05%,-1) -> 166010 | X33: =ROUND((I33+J33+K33+M33+O33+P33)*0.8%,-1) -> 126480 | Y33: =SUM(T33:X33) -> 1636260 | Z33: =SUM(S33,Y33) -> 2953810 | AA33: =SUM(Z33,Z34,R33,R34,I33,I34) -> 56858620 | AB33: =250000*12 -> 3000000 | AC33: =50000*12 -> 600000 | AD33: =AC33+AB33 -> 3600000
F34: 8 | G34: =G33+1 -> 14 | H34: 2730000 | I34: =H34*F34 -> 21840000 | J34: =H34*60% -> 1638000 | L34: =ROUND(H34*1/209*1.5,-1) -> 19590 | M34: =(L34*40)*F34 -> 6268800 | N34: 120 | O34: =N34*L34 -> 2350800 | R34: =SUM(J34,K34,M34,O34,P34) -> 10257600 | S34: =ROUNDUP((I34+J34+K34+M34+O34+P34+Q34)*1/12,-1) -> 2674800 | T34: =ROUND((I34+J34+K34+M34+O34+P34)*4.5%,-1) -> 1444390 | U34: =ROUNDUP((I34+J34+K34+M34+O34+P34)*3.545%,-1) -> 1137860 | V34: =ROUNDUP(U34*12.81%,-1) -> 145760 | W34: =ROUND((I34+J34+K34+M34+O34+P34)*1.05%,-1) -> 337020 | X34: =ROUND((I34+J34+K34+M34+O34+P34)*0.8%,-1) -> 256780 | Y34: =SUM(T34:X34) -> 3321810 | Z34: =SUM(S34,Y34) -> 5996610
A35: 16 | B35: 생활지도원 | C35: 윤용진 | D35: 12 | E35: =F35+F36 -> 12 | F35: 11 | G35: 16 | H35: 2851000 | I35: =H35*F35 -> 31361000 | J35: =H35*60% -> 1710600 | L35: =ROUND(H35*1/209*1.5,-1) -> 20460 | M35: =(L35*40)*F35 -> 9002400 | R35: =SUM(J35,K35,M35,O35,P35) -> 10713000 | S35: =ROUNDUP((I35+J35+K35+M35+O35+P35+Q35)*1/12,-1) -> 3506170 | T35: =ROUND((I35+J35+K35+M35+O35+P35)*4.5%,-1) -> 1893330 | U35: =ROUNDUP((I35+J35+K35+M35+O35+P35)*3.545%,-1) -> 1491530 | V35: =ROUNDUP(U35*12.81%,-1) -> 191070 | W35: =ROUND((I35+J35+K35+M35+O35+P35)*1.05%,-1) -> 441780 | X35: =ROUND((I35+J35+K35+M35+O35+P35)*0.8%,-1) -> 336590 | Y35: =SUM(T35:X35) -> 4354300 | Z35: =SUM(S35,Y35) -> 7860470 | AA35: =SUM(Z35,Z36,R35,R36,I35,I36) -> 59432880 | AB35: =250000*12 -> 3000000 | AC35: =50000*12 -> 600000 | AD35: =AC35+AB35 -> 3600000
F36: 1 | G36: =G35+1 -> 17 | H36: 2912000 | I36: =H36*F36 -> 2912000 | J36: =H36*60% -> 1747200 | L36: =ROUND(H36*1/209*1.5,-1) -> 20900 | M36: =(L36*40)*F36 -> 836000 | N36: 120 | O36: =N36*L36 -> 2508000 | R36: =SUM(J36,K36,M36,O36,P36) -> 5091200 | S36: =ROUNDUP((I36+J36+K36+M36+O36+P36+Q36)*1/12,-1) -> 666940 | T36: =ROUND((I36+J36+K36+M36+O36+P36)*4.5%,-1) -> 360140 | U36: =ROUNDUP((I36+J36+K36+M36+O36+P36)*3.545%,-1) -> 283720 | V36: =ROUNDUP(U36*12.81%,-1) -> 36350 | W36: =ROUND((I36+J36+K36+M36+O36+P36)*1.05%,-1) -> 84030 | X36: =ROUND((I36+J36+K36+M36+O36+P36)*0.8%,-1) -> 64030 | Y36: =SUM(T36:X36) -> 828270 | Z36: =SUM(S36,Y36) -> 1495210
A37: 17 | B37: 생활지도원 (팀장) | C37: 김종민 | D37: 11 | E37: =F37+F38 -> 12 | F37: 10 | G37: 17 | H37: 2912000 | I37: =H37*F37 -> 29120000 | J37: =(H37*60%)*2 -> 3494400 | K37: =40000*12 -> 480000 | L37: =ROUND(H37*1/209*1.5,-1) -> 20900 | M37: =(L37*20)*F37 -> 4180000 | P37: =(L37*5)*F37 -> 1045000 | R37: =SUM(J37,K37,M37,O37,P37) -> 9199400 | S37: =ROUNDUP((I37+J37+K37+M37+O37+P37+Q37)*1/12,-1) -> 3193290 | T37: =ROUND((I37+J37+K37+M37+O37+P37)*4.5%,-1) -> 1724370 | U37: =ROUNDUP((I37+J37+K37+M37+O37+P37)*3.545%,-1) -> 1358430 | V37: =ROUNDUP(U37*12.81%,-1) -> 174020 | W37: =ROUND((I37+J37+K37+M37+O37+P37)*1.05%,-1) -> 402350 | X37: =ROUND((I37+J37+K37+M37+O37+P37)*0.8%,-1) -> 306560 | Y37: =SUM(T37:X37) -> 3965730 | Z37: =SUM(S37,Y37) -> 7159020 | AA37: =SUM(Z37,Z38,R37,R38,I37,I38) -> 53795690 | AB37: =250000*12 -> 3000000 | AC37: =50000*12 -> 600000 | AD37: =AC37+AB37 -> 3600000
F38: 2 | G38: =G37+1 -> 18 | H38: 2971000 | I38: =H38*F38 -> 5942000 | L38: =ROUND(H38*1/209*1.5,-1) -> 21320 | M38: =(L38*20)*F38 -> 852800 | O38: =N38*L38 -> 0 | P38: =(L38*5)*F38 -> 213200 | R38: =SUM(J38,K38,M38,O38,P38) -> 1066000 | S38: =ROUNDUP((I38+J38+K38+M38+O38+P38+Q38)*1/12,-1) -> 584000 | T38: =ROUND((I38+J38+K38+M38+O38+P38)*4.5%,-1) -> 315360 | U38: =ROUNDUP((I38+J38+K38+M38+O38+P38)*3.545%,-1) -> 248440 | V38: =ROUNDUP(U38*12.81%,-1) -> 31830 | W38: =ROUND((I38+J38+K38+M38+O38+P38)*1.05%,-1) -> 73580 | X38: =ROUND((I38+J38+K38+M38+O38+P38)*0.8%,-1) -> 56060 | Y38: =SUM(T38:X38) -> 725270 | Z38: =SUM(S38,Y38) -> 1309270
A39: 18 | B39: 생활지도원 (팀장) | C39: 권구철 | D39: 5 | E39: =F39+F40 -> 12 | F39: 4 | G39: 14 | H39: 2730000 | I39: =H39*F39 -> 10920000 | J39: =H39*60% -> 1638000 | K39: =120000*12 -> 1440000 | L39: =ROUND(H39*1/209*1.5,-1) -> 19590 | M39: =(L39*20)*F39 -> 1567200 | P39: =(L39*5)*F39 -> 391800 | R39: =SUM(J39,K39,M39,O39,P39) -> 5037000 | S39: =ROUNDUP((I39+J39+K39+M39+O39+P39+Q39)*1/12,-1) -> 1329750 | T39: =ROUND((I39+J39+K39+M39+O39+P39)*4.5%,-1) -> 718070 | U39: =ROUNDUP((I39+J39+K39+M39+O39+P39)*3.545%,-1) -> 565680 | V39: =ROUNDUP(U39*12.81%,-1) -> 72470 | W39: =ROUND((I39+J39+K39+M39+O39+P39)*1.05%,-1) -> 167550 | X39: =ROUND((I39+J39+K39+M39+O39+P39)*0.8%,-1) -> 127660 | Y39: =SUM(T39:X39) -> 1651430 | Z39: =SUM(S39,Y39) -> 2981180 | AA39: =SUM(Z39,Z40,R39,R40,I39,I40) -> 52156700 | AB39: =250000*12 -> 3000000 | AC39: =50000*12 -> 600000 | AD39: =AC39+AB39 -> 3600000
F40: 8 | G40: =G39+1 -> 15 | H40: 2789000 | I40: =H40*F40 -> 22312000 | J40: =H40*60% -> 1673400 | L40: =ROUND(H40*1/209*1.5,-1) -> 20020 | M40: =(L40*20)*F40 -> 3203200 | O40: =N40*L40 -> 0 | P40: =(L40*5)*F40 -> 800800 | R40: =SUM(J40,K40,M40,O40,P40) -> 5677400 | S40: =ROUNDUP((I40+J40+K40+M40+O40+P40+Q40)*1/12,-1) -> 2332450 | T40: =ROUND((I40+J40+K40+M40+O40+P40)*4.5%,-1) -> 1259520 | U40: =ROUNDUP((I40+J40+K40+M40+O40+P40)*3.545%,-1) -> 992230 | V40: =ROUNDUP(U40*12.81%,-1) -> 127110 | W40: =ROUND((I40+J40+K40+M40+O40+P40)*1.05%,-1) -> 293890 | X40: =ROUND((I40+J40+K40+M40+O40+P40)*0.8%,-1) -> 223920 | Y40: =SUM(T40:X40) -> 2896670 | Z40: =SUM(S40,Y40) -> 5229120
A41: 19 | B41: 생활지도원 (팀장) | C41: 김유경 | D41: 4 | E41: =F41+F42 -> 12 | F41: 3 | G41: 12 | H41: 2616000 | I41: =H41*F41 -> 7848000 | J41: =H41*60% -> 1569600 | K41: =40000*12 -> 480000 | L41: =ROUND(H41*1/209*1.5,-1) -> 18780 | M41: =(L41*20)*F41 -> 1126800 | P41: =(L41*5)*F41 -> 281700 | R41: =SUM(J41,K41,M41,O41,P41) -> 3458100 | S41: =ROUNDUP((I41+J41+K41+M41+O41+P41+Q41)*1/12,-1) -> 942180 | T41: =ROUND((I41+J41+K41+M41+O41+P41)*4.5%,-1) -> 508770 | U41: =ROUNDUP((I41+J41+K41+M41+O41+P41)*3.545%,-1) -> 400810 | V41: =ROUNDUP(U41*12.81%,-1) -> 51350 | W41: =ROUND((I41+J41+K41+M41+O41+P41)*1.05%,-1) -> 118710 | X41: =ROUND((I41+J41+K41+M41+O41+P41)*0.8%,-1) -> 90450 | Y41: =SUM(T41:X41) -> 1170090 | Z41: =SUM(S41,Y41) -> 2112270 | AA41: =SUM(Z41,Z42,R41,R42,I41,I42) -> 48915950 | AB41: =250000*12 -> 3000000 | AC41: =50000*12 -> 600000 | AD41: =AC41+AB41 -> 3600000
F42: 9 | G42: =G41+1 -> 13 | H42: 2667000 | I42: =H42*F42 -> 24003000 | J42: =H42*60% -> 1600200 | L42: =ROUND(H42*1/209*1.5,-1) -> 19140 | M42: =(L42*20)*F42 -> 3445200 | O42: =N42*L42 -> 0 | P42: =(L42*5)*F42 -> 861300 | R42: =SUM(J42,K42,M42,O42,P42) -> 5906700 | S42: =ROUNDUP((I42+J42+K42+M42+O42+P42+Q42)*1/12,-1) -> 2492480 | T42: =ROUND((I42+J42+K42+M42+O42+P42)*4.5%,-1) -> 1345940 | U42: =ROUNDUP((I42+J42+K42+M42+O42+P42)*3.545%,-1) -> 1060300 | V42: =ROUNDUP(U42*12.81%,-1) -> 135830 | W42: =ROUND((I42+J42+K42+M42+O42+P42)*1.05%,-1) -> 314050 | X42: =ROUND((I42+J42+K42+M42+O42+P42)*0.8%,-1) -> 239280 | Y42: =SUM(T42:X42) -> 3095400 | Z42: =SUM(S42,Y42) -> 5587880
A43: 20 | B43: 생활지도원 | C43: 민병선 | D43: 3 | E43: =F43+F44 -> 12 | F43: 2 | G43: 13 | H43: 2667000 | I43: =H43*F43 -> 5334000 | J43: =H43*60% -> 1600200 | K43: =60000*12 -> 720000 | L43: =ROUND(H43*1/209*1.5,-1) -> 19140 | M43: =(L43*20)*F43 -> 765600 | P43: =(L43*5)*F43 -> 191400 | R43: =SUM(J43,K43,M43,O43,P43) -> 3277200 | S43: =ROUNDUP((I43+J43+K43+M43+O43+P43+Q43)*1/12,-1) -> 717600 | T43: =ROUND((I43+J43+K43+M43+O43+P43)*4.5%,-1) -> 387500 | U43: =ROUNDUP((I43+J43+K43+M43+O43+P43)*3.545%,-1) -> 305270 | V43: =ROUNDUP(U43*12.81%,-1) -> 39110 | W43: =ROUND((I43+J43+K43+M43+O43+P43)*1.05%,-1) -> 90420 | X43: =ROUND((I43+J43+K43+M43+O43+P43)*0.8%,-1) -> 68890 | Y43: =SUM(T43:X43) -> 891190 | Z43: =SUM(S43,Y43) -> 1608790 | AA43: =SUM(Z43,Z44,R43,R44,I43,I44) -> 50376800 | AB43: =250000*12 -> 3000000 | AC43: =50000*12 -> 600000 | AD43: =AC43+AB43 -> 3600000
F44: 10 | G44: =G43+1 -> 14 | H44: 2730000 | I44: =H44*F44 -> 27300000 | J44: =H44*60% -> 1638000 | L44: =ROUND(H44*1/209*1.5,-1) -> 19590 | M44: =(L44*20)*F44 -> 3918000 | O44: =N44*L44 -> 0 | P44: =(L44*5)*F44 -> 979500 | R44: =SUM(J44,K44,M44,O44,P44) -> 6535500 | S44: =ROUNDUP((I44+J44+K44+M44+O44+P44+Q44)*1/12,-1) -> 2819630 | T44: =ROUND((I44+J44+K44+M44+O44+P44)*4.5%,-1) -> 1522600 | U44: =ROUNDUP((I44+J44+K44+M44+O44+P44)*3.545%,-1) -> 1199470 | V44: =ROUNDUP(U44*12.81%,-1) -> 153660 | W44: =ROUND((I44+J44+K44+M44+O44+P44)*1.05%,-1) -> 355270 | X44: =ROUND((I44+J44+K44+M44+O44+P44)*0.8%,-1) -> 270680 | Y44: =SUM(T44:X44) -> 3501680 | Z44: =SUM(S44,Y44) -> 6321310
A45: 21 | B45: 생활지도원 | C45: 조원일 | D45: 6 | E45: =F45+F46 -> 12 | F45: 5 | G45: 14 | H45: 2730000 | I45: =H45*F45 -> 13650000 | J45: =H45*60% -> 1638000 | K45: =60000*12 -> 720000 | L45: =ROUND(H45*1/209*1.5,-1) -> 19590 | M45: =(L45*20)*F45 -> 1959000 | P45: =(L45*5)*F45 -> 489750 | R45: =SUM(J45,K45,M45,O45,P45) -> 4806750 | S45: =ROUNDUP((I45+J45+K45+M45+O45+P45+Q45)*1/12,-1) -> 1538070 | T45: =ROUND((I45+J45+K45+M45+O45+P45)*4.5%,-1) -> 830550 | U45: =ROUNDUP((I45+J45+K45+M45+O45+P45)*3.545%,-1) -> 654300 | V45: =ROUNDUP(U45*12.81%,-1) -> 83820 | W45: =ROUND((I45+J45+K45+M45+O45+P45)*1.05%,-1) -> 193800 | X45: =ROUND((I45+J45+K45+M45+O45+P45)*0.8%,-1) -> 147650 | Y45: =SUM(T45:X45) -> 1910120 | Z45: =SUM(S45,Y45) -> 3448190 | AA45: =SUM(Z45,Z46,R45,R46,I45,I46) -> 51219410 | AB45: =250000*12 -> 3000000 | AC45: =50000*12 -> 600000 | AD45: =AC45+AB45 -> 3600000
F46: 7 | G46: =G45+1 -> 15 | H46: 2789000 | I46: =H46*F46 -> 19523000 | J46: =H46*60% -> 1673400 | L46: =ROUND(H46*1/209*1.5,-1) -> 20020 | M46: =(L46*20)*F46 -> 2802800 | O46: =N46*L46 -> 0 | P46: =(L46*5)*F46 -> 700700 | R46: =SUM(J46,K46,M46,O46,P46) -> 5176900 | S46: =ROUNDUP((I46+J46+K46+M46+O46+P46+Q46)*1/12,-1) -> 2058330 | T46: =ROUND((I46+J46+K46+M46+O46+P46)*4.5%,-1) -> 1111500 | U46: =ROUNDUP((I46+J46+K46+M46+O46+P46)*3.545%,-1) -> 875620 | V46: =ROUNDUP(U46*12.81%,-1) -> 112170 | W46: =ROUND((I46+J46+K46+M46+O46+P46)*1.05%,-1) -> 259350 | X46: =ROUND((I46+J46+K46+M46+O46+P46)*0.8%,-1) -> 197600 | Y46: =SUM(T46:X46) -> 2556240 | Z46: =SUM(S46,Y46) -> 4614570
A47: 22 | B47: 생활지도원 | C47: 심종환 | D47: 7 | E47: =F47+F48 -> 12 | F47: 6 | G47: 12 | H47: 2616000 | I47: =H47*F47 -> 15696000 | J47: =H47*60% -> 1569600 | K47: =(40000+20000+60000)*12 -> 1440000 | L47: =ROUND(H47*1/209*1.5,-1) -> 18780 | M47: =(L47*20)*F47 -> 2253600 | P47: =(L47*5)*F47 -> 563400 | R47: =SUM(J47,K47,M47,O47,P47) -> 5826600 | S47: =ROUNDUP((I47+J47+K47+M47+O47+P47+Q47)*1/12,-1) -> 1793550 | T47: =ROUND((I47+J47+K47+M47+O47+P47)*4.5%,-1) -> 968520 | U47: =ROUNDUP((I47+J47+K47+M47+O47+P47)*3.545%,-1) -> 762980 | V47: =ROUNDUP(U47*12.81%,-1) -> 97740 | W47: =ROUND((I47+J47+K47+M47+O47+P47)*1.05%,-1) -> 225990 | X47: =ROUND((I47+J47+K47+M47+O47+P47)*0.8%,-1) -> 172180 | Y47: =SUM(T47:X47) -> 2227410 | Z47: =SUM(S47,Y47) -> 4020960 | AA47: =SUM(Z47,Z48,R47,R48,I47,I48) -> 49841670 | AB47: =250000*12 -> 3000000 | AC47: =50000*12 -> 600000 | AD47: =AC47+AB47 -> 3600000
F48: 6 | G48: =G47+1 -> 13 | H48: 2667000 | I48: =H48*F48 -> 16002000 | J48: =H48*60% -> 1600200 | L48: =ROUND(H48*1/209*1.5,-1) -> 19140 | M48: =(L48*20)*F48 -> 2296800 | O48: =N48*L48 -> 0 | P48: =(L48*5)*F48 -> 574200 | R48: =SUM(J48,K48,M48,O48,P48) -> 4471200 | S48: =ROUNDUP((I48+J48+K48+M48+O48+P48+Q48)*1/12,-1) -> 1706100 | T48: =ROUND((I48+J48+K48+M48+O48+P48)*4.5%,-1) -> 921290 | U48: =ROUNDUP((I48+J48+K48+M48+O48+P48)*3.545%,-1) -> 725780 | V48: =ROUNDUP(U48*12.81%,-1) -> 92980 | W48: =ROUND((I48+J48+K48+M48+O48+P48)*1.05%,-1) -> 214970 | X48: =ROUND((I48+J48+K48+M48+O48+P48)*0.8%,-1) -> 163790 | Y48: =SUM(T48:X48) -> 2118810 | Z48: =SUM(S48,Y48) -> 3824910
A49: 23 | B49: 생활지도원 | C49: 박영규 | D49: 7 | E49: =F49+F50 -> 12 | F49: 6 | G49: 10 | H49: 2478000 | I49: =H49*F49 -> 14868000 | J49: =H49*60% -> 1486800 | L49: =ROUND(H49*1/209*1.5,-1) -> 17780 | M49: =(L49*40)*F49 -> 4267200 | R49: =SUM(J49,K49,M49,O49,P49) -> 5754000 | S49: =ROUNDUP((I49+J49+K49+M49+O49+P49+Q49)*1/12,-1) -> 1718500 | T49: =ROUND((I49+J49+K49+M49+O49+P49)*4.5%,-1) -> 927990 | U49: =ROUNDUP((I49+J49+K49+M49+O49+P49)*3.545%,-1) -> 731050 | V49: =ROUNDUP(U49*12.81%,-1) -> 93650 | W49: =ROUND((I49+J49+K49+M49+O49+P49)*1.05%,-1) -> 216530 | X49: =ROUND((I49+J49+K49+M49+O49+P49)*0.8%,-1) -> 164980 | Y49: =SUM(T49:X49) -> 2134200 | Z49: =SUM(S49,Y49) -> 3852700 | AA49: =SUM(Z49,Z50,R49,R50,I49,I50) -> 52324010 | AB49: =250000*12 -> 3000000 | AC49: =50000*12 -> 600000 | AD49: =AC49+AB49 -> 3600000
F50: 6 | G50: =G49+1 -> 11 | H50: 2555000 | I50: =H50*F50 -> 15330000 | J50: =H50*60% -> 1533000 | L50: =ROUND(H50*1/209*1.5,-1) -> 18340 | M50: =(L50*40)*F50 -> 4401600 | N50: 120 | O50: =N50*L50 -> 2200800 | R50: =SUM(J50,K50,M50,O50,P50) -> 8135400 | S50: =ROUNDUP((I50+J50+K50+M50+O50+P50+Q50)*1/12,-1) -> 1955450 | T50: =ROUND((I50+J50+K50+M50+O50+P50)*4.5%,-1) -> 1055940 | U50: =ROUNDUP((I50+J50+K50+M50+O50+P50)*3.545%,-1) -> 831850 | V50: =ROUNDUP(U50*12.81%,-1) -> 106560 | W50: =ROUND((I50+J50+K50+M50+O50+P50)*1.05%,-1) -> 246390 | X50: =ROUND((I50+J50+K50+M50+O50+P50)*0.8%,-1) -> 187720 | Y50: =SUM(T50:X50) -> 2428460 | Z50: =SUM(S50,Y50) -> 4383910
A51: 24 | B51: 생활지도원 | C51: 이상헌 | D51: 5 | E51: =F51+F52 -> 12 | F51: 4 | G51: 8 | H51: 2310000 | I51: =H51*F51 -> 9240000 | J51: =H51*60% -> 1386000 | L51: =ROUND(H51*1/209*1.5,-1) -> 16580 | M51: =(L51*40)*F51 -> 2652800 | R51: =SUM(J51,K51,M51,O51,P51) -> 4038800 | S51: =ROUNDUP((I51+J51+K51+M51+O51+P51+Q51)*1/12,-1) -> 1106570 | T51: =ROUND((I51+J51+K51+M51+O51+P51)*4.5%,-1) -> 597550 | U51: =ROUNDUP((I51+J51+K51+M51+O51+P51)*3.545%,-1) -> 470740 | V51: =ROUNDUP(U51*12.81%,-1) -> 60310 | W51: =ROUND((I51+J51+K51+M51+O51+P51)*1.05%,-1) -> 139430 | X51: =ROUND((I51+J51+K51+M51+O51+P51)*0.8%,-1) -> 106230 | Y51: =SUM(T51:X51) -> 1374260 | Z51: =SUM(S51,Y51) -> 2480830 | AA51: =SUM(Z51,Z52,R51,R52,I51,I52) -> 49196760 | AB51: =250000*12 -> 3000000 | AC51: =50000*12 -> 600000 | AD51: =SUM(AB51:AC52) -> 3600000
F52: 8 | G52: =G51+1 -> 9 | H52: 2396000 | I52: =H52*F52 -> 19168000 | J52: =H52*60% -> 1437600 | L52: =ROUND(H52*1/209*1.5,-1) -> 17200 | M52: =(L52*40)*F52 -> 5504000 | N52: 120 | O52: =N52*L52 -> 2064000 | R52: =SUM(J52,K52,M52,O52,P52) -> 9005600 | S52: =ROUNDUP((I52+J52+K52+M52+O52+P52+Q52)*1/12,-1) -> 2347800 | T52: =ROUND((I52+J52+K52+M52+O52+P52)*4.5%,-1) -> 1267810 | U52: =ROUNDUP((I52+J52+K52+M52+O52+P52)*3.545%,-1) -> 998760 | V52: =ROUNDUP(U52*12.81%,-1) -> 127950 | W52: =ROUND((I52+J52+K52+M52+O52+P52)*1.05%,-1) -> 295820 | X52: =ROUND((I52+J52+K52+M52+O52+P52)*0.8%,-1) -> 225390 | Y52: =SUM(T52:X52) -> 2915730 | Z52: =SUM(S52,Y52) -> 5263530
A53: 25 | B53: 생활지도원 | C53: 윤민 | D53: 10 | E53: =F53+F54 -> 12 | F53: 9 | G53: 7 | H53: 2234000 | I53: =H53*F53 -> 20106000 | J53: =H53*60% -> 1340400 | L53: =ROUND(H53*1/209*1.5,-1) -> 16030 | M53: =(L53*40)*F53 -> 5770800 | R53: =SUM(J53,K53,M53,O53,P53) -> 7111200 | S53: =ROUNDUP((I53+J53+K53+M53+O53+P53+Q53)*1/12,-1) -> 2268100 | T53: =ROUND((I53+J53+K53+M53+O53+P53)*4.5%,-1) -> 1224770 | U53: =ROUNDUP((I53+J53+K53+M53+O53+P53)*3.545%,-1) -> 964850 | V53: =ROUNDUP(U53*12.81%,-1) -> 123600 | W53: =ROUND((I53+J53+K53+M53+O53+P53)*1.05%,-1) -> 285780 | X53: =ROUND((I53+J53+K53+M53+O53+P53)*0.8%,-1) -> 217740 | Y53: =SUM(T53:X53) -> 2816740 | Z53: =SUM(S53,Y53) -> 5084840 | AA53: =SUM(Z53,Z54,R53,R54,I53,I54) -> 46894290 | AB53: =250000*12 -> 3000000 | AC53: =50000*12 -> 600000 | AD53: =SUM(AB53:AC54) -> 3600000
F54: 3 | G54: =G53+1 -> 8 | H54: 2310000 | I54: =H54*F54 -> 6930000 | J54: =H54*60% -> 1386000 | L54: =ROUND(H54*1/209*1.5,-1) -> 16580 | M54: =(L54*40)*F54 -> 1989600 | N54: 120 | O54: =N54*L54 -> 1989600 | R54: =SUM(J54,K54,M54,O54,P54) -> 5365200 | S54: =ROUNDUP((I54+J54+K54+M54+O54+P54+Q54)*1/12,-1) -> 1024600 | T54: =ROUND((I54+J54+K54+M54+O54+P54)*4.5%,-1) -> 553280 | U54: =ROUNDUP((I54+J54+K54+M54+O54+P54)*3.545%,-1) -> 435870 | V54: =ROUNDUP(U54*12.81%,-1) -> 55840 | W54: =ROUND((I54+J54+K54+M54+O54+P54)*1.05%,-1) -> 129100 | X54: =ROUND((I54+J54+K54+M54+O54+P54)*0.8%,-1) -> 98360 | Y54: =SUM(T54:X54) -> 1272450 | Z54: =SUM(S54,Y54) -> 2297050
A55: 26 | B55: 생활지도원 | C55: 서용욱 | D55: 5 | E55: =F55+F56 -> 12 | F55: 4 | G55: 8 | H55: 2310000 | I55: =H55*F55 -> 9240000 | J55: =H55*60% -> 1386000 | K55: =40000*12 -> 480000 | L55: =ROUND(H55*1/209*1.5,-1) -> 16580 | M55: =(L55*40)*F55 -> 2652800 | R55: =SUM(J55,K55,M55,O55,P55) -> 4518800 | S55: =ROUNDUP((I55+J55+K55+M55+O55+P55+Q55)*1/12,-1) -> 1146570 | T55: =ROUND((I55+J55+K55+M55+O55+P55)*4.5%,-1) -> 619150 | U55: =ROUNDUP((I55+J55+K55+M55+O55+P55)*3.545%,-1) -> 487750 | V55: =ROUNDUP(U55*12.81%,-1) -> 62490 | W55: =ROUND((I55+J55+K55+M55+O55+P55)*1.05%,-1) -> 144470 | X55: =ROUND((I55+J55+K55+M55+O55+P55)*0.8%,-1) -> 110070 | Y55: =SUM(T55:X55) -> 1423930 | Z55: =SUM(S55,Y55) -> 2570500 | AA55: =SUM(Z55,Z56,R55,R56,I55,I56) -> 49766430 | AB55: =250000*12 -> 3000000 | AC55: =50000*12 -> 600000 | AD55: =SUM(AB55:AC56) -> 3600000
F56: 8 | G56: =G55+1 -> 9 | H56: 2396000 | I56: =H56*F56 -> 19168000 | J56: =H56*60% -> 1437600 | L56: =ROUND(H56*1/209*1.5,-1) -> 17200 | M56: =(L56*40)*F56 -> 5504000 | N56: 120 | O56: =N56*L56 -> 2064000 | R56: =SUM(J56,K56,M56,O56,P56) -> 9005600 | S56: =ROUNDUP((I56+J56+K56+M56+O56+P56+Q56)*1/12,-1) -> 2347800 | T56: =ROUND((I56+J56+K56+M56+O56+P56)*4.5%,-1) -> 1267810 | U56: =ROUNDUP((I56+J56+K56+M56+O56+P56)*3.545%,-1) -> 998760 | V56: =ROUNDUP(U56*12.81%,-1) -> 127950 | W56: =ROUND((I56+J56+K56+M56+O56+P56)*1.05%,-1) -> 295820 | X56: =ROUND((I56+J56+K56+M56+O56+P56)*0.8%,-1) -> 225390 | Y56: =SUM(T56:X56) -> 2915730 | Z56: =SUM(S56,Y56) -> 5263530
A57: 27 | B57: 생활지도원 | C57: 임지혜 | D57: 1 | E57: =F57+F58 -> 12 | F57: 12 | G57: 10 | H57: 2478000 | I57: =H57*F57 -> 29736000 | J57: =H57*60%*2 -> 2973600 | K57: =40000*12 -> 480000 | L57: =ROUND(H57*1/209*1.5,-1) -> 17780 | M57: =(L57*40)*F57 -> 8534400 | N57: 120 | O57: =N57*L57 -> 2133600 | R57: =SUM(J57,K57,M57,O57,P57) -> 14121600 | S57: =ROUNDUP((I57+J57+K57+M57+O57+P57+Q57)*1/12,-1) -> 3654800 | T57: =ROUND((I57+J57+K57+M57+O57+P57)*4.5%,-1) -> 1973590 | U57: =ROUNDUP((I57+J57+K57+M57+O57+P57)*3.545%,-1) -> 1554760 | V57: =ROUNDUP(U57*12.81%,-1) -> 199170 | W57: =ROUND((I57+J57+K57+M57+O57+P57)*1.05%,-1) -> 460500 | X57: =ROUND((I57+J57+K57+M57+O57+P57)*0.8%,-1) -> 350860 | Y57: =SUM(T57:X57) -> 4538880 | Z57: =SUM(S57,Y57) -> 8193680 | AA57: =SUM(Z57,Z58,R57,R58,I57,I58) -> 52051280 | AB57: =250000*12 -> 3000000 | AC57: =50000*12 -> 600000 | AD57: =SUM(AB57:AC58) -> 3600000
I58: =H58*F58 -> 0 | J58: =H58*60% -> 0 | L58: =ROUND(H58*1/209*1.5,-1) -> 0 | M58: =(L58*40)*F58 -> 0 | O58: =N58*L58 -> 0 | R58: =SUM(J58,K58,M58,O58,P58) -> 0 | S58: =ROUNDUP((I58+J58+K58+M58+O58+P58+Q58)*1/12,-1) -> 0 | T58: =ROUND((I58+J58+K58+M58+O58+P58)*4.5%,-1) -> 0 | U58: =ROUNDUP((I58+J58+K58+M58+O58+P58)*3.545%,-1) -> 0 | V58: =ROUNDUP(U58*12.81%,-1) -> 0 | W58: =ROUND((I58+J58+K58+M58+O58+P58)*1.05%,-1) -> 0 | X58: =ROUND((I58+J58+K58+M58+O58+P58)*0.8%,-1) -> 0 | Y58: =SUM(T58:X58) -> 0 | Z58: =SUM(S58,Y58) -> 0
A59: 28 | B59: 생활지도원 | C59: 한승희 | D59: 6 | E59: =F59+F60 -> 12 | F59: 5 | G59: 5 | H59: 2099000 | I59: =H59*F59 -> 10495000 | J59: =H59*60% -> 1259400 | L59: =ROUND(H59*1/209*1.5,-1) -> 15060 | M59: =(L59*40)*F59 -> 3012000 | N59: 120 | O59: =N59*L59 -> 1807200 | R59: =SUM(J59,K59,M59,O59,P59) -> 6078600 | S59: =ROUNDUP((I59+J59+K59+M59+O59+P59+Q59)*1/12,-1) -> 1381140 | T59: =ROUND((I59+J59+K59+M59+O59+P59)*4.5%,-1) -> 745810 | U59: =ROUNDUP((I59+J59+K59+M59+O59+P59)*3.545%,-1) -> 587540 | V59: =ROUNDUP(U59*12.81%,-1) -> 75270 | W59: =ROUND((I59+J59+K59+M59+O59+P59)*1.05%,-1) -> 174020 | X59: =ROUND((I59+J59+K59+M59+O59+P59)*0.8%,-1) -> 132590 | Y59: =SUM(T59:X59) -> 1715230 | Z59: =SUM(S59,Y59) -> 3096370 | AA59: =SUM(Z59,Z60,R59,R60,I59,I60) -> 44349770 | AB59: =220000*5 -> 1100000 | AC59: =50000*12 -> 600000 | AD59: =SUM(AB59:AC60) -> 3450000
F60: 7 | G60: =G59+1 -> 6 | H60: 2164000 | I60: =H60*F60 -> 15148000 | J60: =H60*60% -> 1298400 | L60: =ROUND(H60*1/209*1.5,-1) -> 15530 | M60: =(L60*40)*F60 -> 4348400 | O60: =N60*L60 -> 0 | R60: =SUM(J60,K60,M60,O60,P60) -> 5646800 | S60: =ROUNDUP((I60+J60+K60+M60+O60+P60+Q60)*1/12,-1) -> 1732900 | T60: =ROUND((I60+J60+K60+M60+O60+P60)*4.5%,-1) -> 935770 | U60: =ROUNDUP((I60+J60+K60+M60+O60+P60)*3.545%,-1) -> 737180 | V60: =ROUNDUP(U60*12.81%,-1) -> 94440 | W60: =ROUND((I60+J60+K60+M60+O60+P60)*1.05%,-1) -> 218350 | X60: =ROUND((I60+J60+K60+M60+O60+P60)*0.8%,-1) -> 166360 | Y60: =SUM(T60:X60) -> 2152100 | Z60: =SUM(S60,Y60) -> 3885000 | AB60: =250000*7 -> 1750000
A61: 29 | B61: 생활지도원 | C61: 박민들 | D61: 11 | E61: =F61+F62 -> 12 | F61: 10 | G61: 5 | H61: 2099000 | I61: =H61*F61 -> 20990000 | J61: =H61*60% -> 1259400 | K61: =20000*12 -> 240000 | L61: =ROUND(H61*1/209*1.5,-1) -> 15060 | M61: =(L61*40)*F61 -> 6024000 | O61: =N61*L61 -> 0 | R61: =SUM(J61,K61,M61,O61,P61) -> 7523400 | S61: =ROUNDUP((I61+J61+K61+M61+O61+P61+Q61)*1/12,-1) -> 2376120 | T61: =ROUND((I61+J61+K61+M61+O61+P61)*4.5%,-1) -> 1283100 | U61: =ROUNDUP((I61+J61+K61+M61+O61+P61)*3.545%,-1) -> 1010810 | V61: =ROUNDUP(U61*12.81%,-1) -> 129490 | W61: =ROUND((I61+J61+K61+M61+O61+P61)*1.05%,-1) -> 299390 | X61: =ROUND((I61+J61+K61+M61+O61+P61)*0.8%,-1) -> 228110 | Y61: =SUM(T61:X61) -> 2950900 | Z61: =SUM(S61,Y61) -> 5327020 | AA61: =SUM(Z61,Z62,R61,R62,I61,I62) -> 44204260 | AB61: =220000*5 -> 1100000 | AC61: =50000*12 -> 600000 | AD61: =SUM(AB61:AC62) -> 3450000
F62: 2 | G62: =G61+1 -> 6 | H62: 2164000 | I62: =H62*F62 -> 4328000 | J62: =H62*60% -> 1298400 | L62: =ROUND(H62*1/209*1.5,-1) -> 15530 | M62: =(L62*40)*F62 -> 1242400 | N62: 120 | O62: =N62*L62 -> 1863600 | R62: =SUM(J62,K62,M62,O62,P62) -> 4404400 | S62: =ROUNDUP((I62+J62+K62+M62+O62+P62+Q62)*1/12,-1) -> 727700 | T62: =ROUND((I62+J62+K62+M62+O62+P62)*4.5%,-1) -> 392960 | U62: =ROUNDUP((I62+J62+K62+M62+O62+P62)*3.545%,-1) -> 309570 | V62: =ROUNDUP(U62*12.81%,-1) -> 39660 | W62: =ROUND((I62+J62+K62+M62+O62+P62)*1.05%,-1) -> 91690 | X62: =ROUND((I62+J62+K62+M62+O62+P62)*0.8%,-1) -> 69860 | Y62: =SUM(T62:X62) -> 903740 | Z62: =SUM(S62,Y62) -> 1631440 | AB62: =250000*7 -> 1750000
A63: 30 | B63: 생활지도원 | C63: 박지웅 | D63: 3 | E63: =F63+F64 -> 12 | F63: 2 | G63: 4 | H63: 2036000 | I63: =H63*F63 -> 4072000 | J63: =H63*60% -> 1221600 | K63: =40000*12 -> 480000 | L63: =ROUND(H63*1/209*1.5,-1) -> 14610 | M63: =(L63*40)*F63 -> 1168800 | R63: =SUM(J63,K63,M63,O63,P63) -> 2870400 | S63: =ROUNDUP((I63+J63+K63+M63+O63+P63+Q63)*1/12,-1) -> 578540 | T63: =ROUND((I63+J63+K63+M63+O63+P63)*4.5%,-1) -> 312410 | U63: =ROUNDUP((I63+J63+K63+M63+O63+P63)*3.545%,-1) -> 246110 | V63: =ROUNDUP(U63*12.81%,-1) -> 31530 | W63: =ROUND((I63+J63+K63+M63+O63+P63)*1.05%,-1) -> 72900 | X63: =ROUND((I63+J63+K63+M63+O63+P63)*0.8%,-1) -> 55540 | Y63: =SUM(T63:X63) -> 718490 | Z63: =SUM(S63,Y63) -> 1297030 | AA63: =SUM(Z63,Z64,R63,R64,I63,I64) -> 43939840 | AB63: =200000*12 -> 2400000 | AC63: =50000*12 -> 600000 | AD63: =SUM(AB63:AC64) -> 3000000
F64: 10 | G64: =G63+1 -> 5 | H64: 2099000 | I64: =H64*F64 -> 20990000 | J64: =H64*60% -> 1259400 | L64: =ROUND(H64*1/209*1.5,-1) -> 15060 | M64: =(L64*40)*F64 -> 6024000 | N64: 120 | O64: =N64*L64 -> 1807200 | R64: =SUM(J64,K64,M64,O64,P64) -> 9090600 | S64: =ROUNDUP((I64+J64+K64+M64+O64+P64+Q64)*1/12,-1) -> 2506720 | T64: =ROUND((I64+J64+K64+M64+O64+P64)*4.5%,-1) -> 1353630 | U64: =ROUNDUP((I64+J64+K64+M64+O64+P64)*3.545%,-1) -> 1066360 | V64: =ROUNDUP(U64*12.81%,-1) -> 136610 | W64: =ROUND((I64+J64+K64+M64+O64+P64)*1.05%,-1) -> 315850 | X64: =ROUND((I64+J64+K64+M64+O64+P64)*0.8%,-1) -> 240640 | Y64: =SUM(T64:X64) -> 3113090 | Z64: =SUM(S64,Y64) -> 5619810
A65: 31 | B65: 생활지도원 | C65: 이충현 | D65: 2 | E65: =F65+F66 -> 12 | F65: 1 | G65: 5 | H65: 2099000 | I65: =H65*F65 -> 2099000 | J65: =H65*60% -> 1259400 | L65: =ROUND(H65*1/209*1.5,-1) -> 15060 | M65: =(L65*40)*F65 -> 602400 | R65: =SUM(J65,K65,M65,O65,P65) -> 1861800 | S65: =ROUNDUP((I65+J65+K65+M65+O65+P65+Q65)*1/12,-1) -> 330070 | T65: =ROUND((I65+J65+K65+M65+O65+P65)*4.5%,-1) -> 178240 | U65: =ROUNDUP((I65+J65+K65+M65+O65+P65)*3.545%,-1) -> 140420 | V65: =ROUNDUP(U65*12.81%,-1) -> 17990 | W65: =ROUND((I65+J65+K65+M65+O65+P65)*1.05%,-1) -> 41590 | X65: =ROUND((I65+J65+K65+M65+O65+P65)*0.8%,-1) -> 31690 | Y65: =SUM(T65:X65) -> 409930 | Z65: =SUM(S65,Y65) -> 740000 | AA65: =SUM(Z65,Z66,R65,R66,I65,I66) -> 44814520 | AB65: =200000*12 -> 2400000 | AC65: =50000*12 -> 600000 | AD65: =SUM(AB65:AC66) -> 3000000
F66: 11 | G66: =G65+1 -> 6 | H66: 2164000 | I66: =H66*F66 -> 23804000 | J66: =H66*60% -> 1298400 | L66: =ROUND(H66*1/209*1.5,-1) -> 15530 | M66: =(L66*40)*F66 -> 6833200 | N66: 120 | O66: =N66*L66 -> 1863600 | R66: =SUM(J66,K66,M66,O66,P66) -> 9995200 | S66: =ROUNDUP((I66+J66+K66+M66+O66+P66+Q66)*1/12,-1) -> 2816600 | T66: =ROUND((I66+J66+K66+M66+O66+P66)*4.5%,-1) -> 1520960 | U66: =ROUNDUP((I66+J66+K66+M66+O66+P66)*3.545%,-1) -> 1198190 | V66: =ROUNDUP(U66*12.81%,-1) -> 153490 | W66: =ROUND((I66+J66+K66+M66+O66+P66)*1.05%,-1) -> 354890 | X66: =ROUND((I66+J66+K66+M66+O66+P66)*0.8%,-1) -> 270390 | Y66: =SUM(T66:X66) -> 3497920 | Z66: =SUM(S66,Y66) -> 6314520
A67: 32 | B67: 생활지도원 | C67: 구현우 | D67: 1 | E67: =F67+F68 -> 12 | F67: 12 | G67: 6 | H67: 2164000 | I67: =H67*F67 -> 25968000 | J67: =H67*60%*2 -> 2596800 | K67: =60000*12 -> 720000 | L67: =ROUND(H67*1/209*1.5,-1) -> 15530 | M67: =(L67*40)*F67 -> 7454400 | N67: 120 | O67: =N67*L67 -> 1863600 | R67: =SUM(J67,K67,M67,O67,P67) -> 12634800 | S67: =ROUNDUP((I67+J67+K67+M67+O67+P67+Q67)*1/12,-1) -> 3216900 | T67: =ROUND((I67+J67+K67+M67+O67+P67)*4.5%,-1) -> 1737130 | U67: =ROUNDUP((I67+J67+K67+M67+O67+P67)*3.545%,-1) -> 1368470 | V67: =ROUNDUP(U67*12.81%,-1) -> 175310 | W67: =ROUND((I67+J67+K67+M67+O67+P67)*1.05%,-1) -> 405330 | X67: =ROUND((I67+J67+K67+M67+O67+P67)*0.8%,-1) -> 308820 | Y67: =SUM(T67:X67) -> 3995060 | Z67: =SUM(S67,Y67) -> 7211960 | AA67: =SUM(Z67,Z68,R67,R68,I67,I68) -> 45814760 | AB67: =200000*12 -> 2400000 | AC67: =50000*12 -> 600000 | AD67: =SUM(AB67:AC68) -> 3000000
I68: =H68*F68 -> 0 | J68: =H68*60% -> 0 | L68: =ROUND(H68*1/209*1.5,-1) -> 0 | M68: =(L68*40)*F68 -> 0 | O68: =N68*L68 -> 0 | R68: =SUM(J68,K68,M68,O68,P68) -> 0 | S68: =ROUNDUP((I68+J68+K68+M68+O68+P68+Q68)*1/12,-1) -> 0 | T68: =ROUND((I68+J68+K68+M68+O68+P68)*4.5%,-1) -> 0 | U68: =ROUNDUP((I68+J68+K68+M68+O68+P68)*3.545%,-1) -> 0 | V68: =ROUNDUP(U68*12.81%,-1) -> 0 | W68: =ROUND((I68+J68+K68+M68+O68+P68)*1.05%,-1) -> 0 | X68: =ROUND((I68+J68+K68+M68+O68+P68)*0.8%,-1) -> 0 | Y68: =SUM(T68:X68) -> 0 | Z68: =SUM(S68,Y68) -> 0
A69: 33 | B69: 생활지도원 | C69: 박은혜 | D69: 2 | E69: =F69+F70 -> 12 | F69: 1 | G69: 6 | H69: 2164000 | I69: =H69*F69 -> 2164000 | J69: =H69*60% -> 1298400 | L69: =ROUND(H69*1/209*1.5,-1) -> 15530 | M69: =(L69*40)*F69 -> 621200 | N69: 120 | O69: =N69*L69 -> 1863600 | R69: =SUM(J69,K69,M69,O69,P69) -> 3783200 | S69: =ROUNDUP((I69+J69+K69+M69+O69+P69+Q69)*1/12,-1) -> 495600 | T69: =ROUND((I69+J69+K69+M69+O69+P69)*4.5%,-1) -> 267620 | U69: =ROUNDUP((I69+J69+K69+M69+O69+P69)*3.545%,-1) -> 210830 | V69: =ROUNDUP(U69*12.81%,-1) -> 27010 | W69: =ROUND((I69+J69+K69+M69+O69+P69)*1.05%,-1) -> 62450 | X69: =ROUND((I69+J69+K69+M69+O69+P69)*0.8%,-1) -> 47580 | Y69: =SUM(T69:X69) -> 615490 | Z69: =SUM(S69,Y69) -> 1111090 | AA69: =SUM(Z69,Z70,R69,R70,I69,I70) -> 46185060 | AB69: =250000*12 -> 3000000 | AC69: =50000*12 -> 600000 | AD69: =SUM(AB69:AC70) -> 3600000
F70: 11 | G70: =G69+1 -> 7 | H70: 2234000 | I70: =H70*F70 -> 24574000 | J70: =H70*60% -> 1340400 | L70: =ROUND(H70*1/209*1.5,-1) -> 16030 | M70: =(L70*40)*F70 -> 7053200 | O70: =N70*L70 -> 0 | R70: =SUM(J70,K70,M70,O70,P70) -> 8393600 | S70: =ROUNDUP((I70+J70+K70+M70+O70+P70+Q70)*1/12,-1) -> 2747300 | T70: =ROUND((I70+J70+K70+M70+O70+P70)*4.5%,-1) -> 1483540 | U70: =ROUNDUP((I70+J70+K70+M70+O70+P70)*3.545%,-1) -> 1168710 | V70: =ROUNDUP(U70*12.81%,-1) -> 149720 | W70: =ROUND((I70+J70+K70+M70+O70+P70)*1.05%,-1) -> 346160 | X70: =ROUND((I70+J70+K70+M70+O70+P70)*0.8%,-1) -> 263740 | Y70: =SUM(T70:X70) -> 3411870 | Z70: =SUM(S70,Y70) -> 6159170
A71: 34 | B71: 생활지도원 | C71: 김민제 | D71: 6 | E71: =F71+F72 -> 12 | F71: 5 | G71: 9 | H71: 2396000 | I71: =H71*F71 -> 11980000 | J71: =H71*60% -> 1437600 | L71: =ROUND(H71*1/209*1.5,-1) -> 17200 | M71: =(L71*40)*F71 -> 3440000 | R71: =SUM(J71,K71,M71,O71,P71) -> 4877600 | S71: =ROUNDUP((I71+J71+K71+M71+O71+P71+Q71)*1/12,-1) -> 1404800 | T71: =ROUND((I71+J71+K71+M71+O71+P71)*4.5%,-1) -> 758590 | U71: =ROUNDUP((I71+J71+K71+M71+O71+P71)*3.545%,-1) -> 597610 | V71: =ROUNDUP(U71*12.81%,-1) -> 76560 | W71: =ROUND((I71+J71+K71+M71+O71+P71)*1.05%,-1) -> 177000 | X71: =ROUND((I71+J71+K71+M71+O71+P71)*0.8%,-1) -> 134860 | Y71: =SUM(T71:X71) -> 1744620 | Z71: =SUM(S71,Y71) -> 3149420 | AA71: =SUM(Z71,Z72,R71,R72,I71,I72) -> 50798960 | AB71: =250000*12 -> 3000000 | AC71: =50000*12 -> 600000 | AD71: =SUM(AB71:AC72) -> 3600000
F72: 7 | G72: =G71+1 -> 10 | H72: 2478000 | I72: =H72*F72 -> 17346000 | J72: =H72*60% -> 1486800 | L72: =ROUND(H72*1/209*1.5,-1) -> 17780 | M72: =(L72*40)*F72 -> 4978400 | N72: 120 | O72: =N72*L72 -> 2133600 | R72: =SUM(J72,K72,M72,O72,P72) -> 8598800 | S72: =ROUNDUP((I72+J72+K72+M72+O72+P72+Q72)*1/12,-1) -> 2162070 | T72: =ROUND((I72+J72+K72+M72+O72+P72)*4.5%,-1) -> 1167520 | U72: =ROUNDUP((I72+J72+K72+M72+O72+P72)*3.545%,-1) -> 919750 | V72: =ROUNDUP(U72*12.81%,-1) -> 117820 | W72: =ROUND((I72+J72+K72+M72+O72+P72)*1.05%,-1) -> 272420 | X72: =ROUND((I72+J72+K72+M72+O72+P72)*0.8%,-1) -> 207560 | Y72: =SUM(T72:X72) -> 2685070 | Z72: =SUM(S72,Y72) -> 4847140
A73: 35 | B73: 생활지도원 | C73: 하종호 | D73: 8 | E73: =F73+F74 -> 12 | F73: 7 | G73: 7 | H73: 2234000 | I73: =H73*F73 -> 15638000 | J73: =H73*60% -> 1340400 | L73: =ROUND(H73*1/209*1.5,-1) -> 16030 | M73: =(L73*40)*F73 -> 4488400 | O73: =N73*L73 -> 0 | R73: =SUM(J73,K73,M73,O73,P73) -> 5828800 | S73: =ROUNDUP((I73+J73+K73+M73+O73+P73+Q73)*1/12,-1) -> 1788900 | T73: =ROUND((I73+J73+K73+M73+O73+P73)*4.5%,-1) -> 966010 | U73: =ROUNDUP((I73+J73+K73+M73+O73+P73)*3.545%,-1) -> 761000 | V73: =ROUNDUP(U73*12.81%,-1) -> 97490 | W73: =ROUND((I73+J73+K73+M73+O73+P73)*1.05%,-1) -> 225400 | X73: =ROUND((I73+J73+K73+M73+O73+P73)*0.8%,-1) -> 171730 | Y73: =SUM(T73:X73) -> 2221630 | Z73: =SUM(S73,Y73) -> 4010530 | AA73: =SUM(Z73,Z74,R73,R74,I73,I74) -> 47126920 | AB73: =250000*12 -> 3000000 | AC73: =50000*12 -> 600000 | AD73: =SUM(AB73:AC74) -> 3600000
F74: 5 | G74: =G73+1 -> 8 | H74: 2310000 | I74: =H74*F74 -> 11550000 | J74: =H74*60% -> 1386000 | L74: =ROUND(H74*1/209*1.5,-1) -> 16580 | M74: =(L74*40)*F74 -> 3316000 | N74: 120 | O74: =N74*L74 -> 1989600 | R74: =SUM(J74,K74,M74,O74,P74) -> 6691600 | S74: =ROUNDUP((I74+J74+K74+M74+O74+P74+Q74)*1/12,-1) -> 1520140 | T74: =ROUND((I74+J74+K74+M74+O74+P74)*4.5%,-1) -> 820870 | U74: =ROUNDUP((I74+J74+K74+M74+O74+P74)*3.545%,-1) -> 646670 | V74: =ROUNDUP(U74*12.81%,-1) -> 82840 | W74: =ROUND((I74+J74+K74+M74+O74+P74)*1.05%,-1) -> 191540 | X74: =ROUND((I74+J74+K74+M74+O74+P74)*0.8%,-1) -> 145930 | Y74: =SUM(T74:X74) -> 1887850 | Z74: =SUM(S74,Y74) -> 3407990
A75: 36 | B75: 생활지도원 | C75: 남택림 | D75: 5 | E75: =F75+F76 -> 12 | F75: 4 | G75: 7 | H75: 2234000 | I75: =H75*F75 -> 8936000 | J75: =H75*60% -> 1340400 | K75: =20000*12 -> 240000 | L75: =ROUND(H75*1/209*1.5,-1) -> 16030 | M75: =(L75*40)*F75 -> 2564800 | R75: =SUM(J75,K75,M75,O75,P75) -> 4145200 | S75: =ROUNDUP((I75+J75+K75+M75+O75+P75+Q75)*1/12,-1) -> 1090100 | T75: =ROUND((I75+J75+K75+M75+O75+P75)*4.5%,-1) -> 588650 | U75: =ROUNDUP((I75+J75+K75+M75+O75+P75)*3.545%,-1) -> 463730 | V75: =ROUNDUP(U75*12.81%,-1) -> 59410 | W75: =ROUND((I75+J75+K75+M75+O75+P75)*1.05%,-1) -> 137350 | X75: =ROUND((I75+J75+K75+M75+O75+P75)*0.8%,-1) -> 104650 | Y75: =SUM(T75:X75) -> 1353790 | Z75: =SUM(S75,Y75) -> 2443890 | AA75: =SUM(Z75,Z76,R75,R76,I75,I76) -> 47760680 | AB75: =250000*12 -> 3000000 | AC75: =50000*12 -> 600000 | AD75: =SUM(AB75:AC76) -> 3600000
F76: 8 | G76: =G75+1 -> 8 | H76: 2310000 | I76: =H76*F76 -> 18480000 | J76: =H76*60% -> 1386000 | L76: =ROUND(H76*1/209*1.5,-1) -> 16580 | M76: =(L76*40)*F76 -> 5305600 | N76: 120 | O76: =N76*L76 -> 1989600 | R76: =SUM(J76,K76,M76,O76,P76) -> 8681200 | S76: =ROUNDUP((I76+J76+K76+M76+O76+P76+Q76)*1/12,-1) -> 2263440 | T76: =ROUND((I76+J76+K76+M76+O76+P76)*4.5%,-1) -> 1222250 | U76: =ROUNDUP((I76+J76+K76+M76+O76+P76)*3.545%,-1) -> 962870 | V76: =ROUNDUP(U76*12.81%,-1) -> 123350 | W76: =ROUND((I76+J76+K76+M76+O76+P76)*1.05%,-1) -> 285190 | X76: =ROUND((I76+J76+K76+M76+O76+P76)*0.8%,-1) -> 217290 | Y76: =SUM(T76:X76) -> 2810950 | Z76: =SUM(S76,Y76) -> 5074390
A77: 37 | B77: 생활지도원 | C77: 정택진 | D77: 8 | E77: =F77+F78 -> 12 | F77: 7 | G77: 8 | H77: 2310000 | I77: =H77*F77 -> 16170000 | J77: =H77*60% -> 1386000 | K77: =40000*12 -> 480000 | L77: =ROUND(H77*1/209*1.5,-1) -> 16580 | M77: =(L77*40)*F77 -> 4642400 | R77: =SUM(J77,K77,M77,O77,P77) -> 6508400 | S77: =ROUNDUP((I77+J77+K77+M77+O77+P77+Q77)*1/12,-1) -> 1889870 | T77: =ROUND((I77+J77+K77+M77+O77+P77)*4.5%,-1) -> 1020530 | U77: =ROUNDUP((I77+J77+K77+M77+O77+P77)*3.545%,-1) -> 803950 | V77: =ROUNDUP(U77*12.81%,-1) -> 102990 | W77: =ROUND((I77+J77+K77+M77+O77+P77)*1.05%,-1) -> 238120 | X77: =ROUND((I77+J77+K77+M77+O77+P77)*0.8%,-1) -> 181430 | Y77: =SUM(T77:X77) -> 2347020 | Z77: =SUM(S77,Y77) -> 4236890 | AA77: =SUM(Z77,Z78,R77,R78,I77,I78) -> 49371920 | AB77: =250000*12 -> 3000000 | AC77: =50000*12 -> 600000 | AD77: =SUM(AB77:AC78) -> 3600000
F78: 5 | G78: =G77+1 -> 9 | H78: 2396000 | I78: =H78*F78 -> 11980000 | J78: =H78*60% -> 1437600 | L78: =ROUND(H78*1/209*1.5,-1) -> 17200 | M78: =(L78*40)*F78 -> 3440000 | N78: 120 | O78: =N78*L78 -> 2064000 | R78: =SUM(J78,K78,M78,O78,P78) -> 6941600 | S78: =ROUNDUP((I78+J78+K78+M78+O78+P78+Q78)*1/12,-1) -> 1576800 | T78: =ROUND((I78+J78+K78+M78+O78+P78)*4.5%,-1) -> 851470 | U78: =ROUNDUP((I78+J78+K78+M78+O78+P78)*3.545%,-1) -> 670780 | V78: =ROUNDUP(U78*12.81%,-1) -> 85930 | W78: =ROUND((I78+J78+K78+M78+O78+P78)*1.05%,-1) -> 198680 | X78: =ROUND((I78+J78+K78+M78+O78+P78)*0.8%,-1) -> 151370 | Y78: =SUM(T78:X78) -> 1958230 | Z78: =SUM(S78,Y78) -> 3535030
A79: 38 | B79: 생활지도원 | C79: 최경식 | D79: 11 | E79: =F79+F80 -> 12 | F79: 10 | G79: 4 | H79: 2036000 | I79: =H79*F79 -> 20360000 | J79: =H79*60%*2 -> 2443200 | L79: =ROUND(H79*1/209*1.5,-1) -> 14610 | M79: =(L79*40)*F79 -> 5844000 | R79: =SUM(J79,K79,M79,O79,P79) -> 8287200 | S79: =ROUNDUP((I79+J79+K79+M79+O79+P79+Q79)*1/12,-1) -> 2387270 | T79: =ROUND((I79+J79+K79+M79+O79+P79)*4.5%,-1) -> 1289120 | U79: =ROUNDUP((I79+J79+K79+M79+O79+P79)*3.545%,-1) -> 1015550 | V79: =ROUNDUP(U79*12.81%,-1) -> 130100 | W79: =ROUND((I79+J79+K79+M79+O79+P79)*1.05%,-1) -> 300800 | X79: =ROUND((I79+J79+K79+M79+O79+P79)*0.8%,-1) -> 229180 | Y79: =SUM(T79:X79) -> 2964750 | Z79: =SUM(S79,Y79) -> 5352020 | AA79: =SUM(Z79,Z80,R79,R80,I79,I80) -> 42556250 | AB79: =200000*12 -> 2400000 | AC79: =50000*12 -> 600000 | AD79: =SUM(AB79:AC80) -> 3000000
F80: 2 | G80: =G79+1 -> 5 | H80: 2099000 | I80: =H80*F80 -> 4198000 | L80: =ROUND(H80*1/209*1.5,-1) -> 15060 | M80: =(L80*40)*F80 -> 1204800 | N80: 120 | O80: =N80*L80 -> 1807200 | R80: =SUM(J80,K80,M80,O80,P80) -> 3012000 | S80: =ROUNDUP((I80+J80+K80+M80+O80+P80+Q80)*1/12,-1) -> 600840 | T80: =ROUND((I80+J80+K80+M80+O80+P80)*4.5%,-1) -> 324450 | U80: =ROUNDUP((I80+J80+K80+M80+O80+P80)*3.545%,-1) -> 255600 | V80: =ROUNDUP(U80*12.81%,-1) -> 32750 | W80: =ROUND((I80+J80+K80+M80+O80+P80)*1.05%,-1) -> 75710 | X80: =ROUND((I80+J80+K80+M80+O80+P80)*0.8%,-1) -> 57680 | Y80: =SUM(T80:X80) -> 746190 | Z80: =SUM(S80,Y80) -> 1347030
A81: 39 | B81: 생활지도원 | C81: 김동진 | D81: 8 | E81: =F81+F82 -> 12 | F81: 7 | G81: 14 | H81: 2730000 | I81: =H81*F81 -> 19110000 | J81: =H81*60% -> 1638000 | K81: =60000*12 -> 720000 | L81: =ROUND(H81*1/209*1.5,-1) -> 19590 | M81: =(L81*40)*F81 -> 5485200 | R81: =SUM(J81,K81,M81,O81,P81) -> 7843200 | S81: =ROUNDUP((I81+J81+K81+M81+O81+P81+Q81)*1/12,-1) -> 2246100 | T81: =ROUND((I81+J81+K81+M81+O81+P81)*4.5%,-1) -> 1212890 | U81: =ROUNDUP((I81+J81+K81+M81+O81+P81)*3.545%,-1) -> 955500 | V81: =ROUNDUP(U81*12.81%,-1) -> 122400 | W81: =ROUND((I81+J81+K81+M81+O81+P81)*1.05%,-1) -> 283010 | X81: =ROUND((I81+J81+K81+M81+O81+P81)*0.8%,-1) -> 215630 | Y81: =SUM(T81:X81) -> 2789430 | Z81: =SUM(S81,Y81) -> 5035530 | AA81: =SUM(Z81,Z82,R81,R82,I81,I82) -> 58128310 | AB81: =250000*12 -> 3000000 | AC81: =50000*12 -> 600000 | AD81: =SUM(AB81:AC82) -> 3600000
F82: 5 | G82: =G81+1 -> 15 | H82: 2789000 | I82: =H82*F82 -> 13945000 | J82: =H82*60% -> 1673400 | L82: =ROUND(H82*1/209*1.5,-1) -> 20020 | M82: =(L82*40)*F82 -> 4004000 | N82: 120 | O82: =N82*L82 -> 2402400 | R82: =SUM(J82,K82,M82,O82,P82) -> 8079800 | S82: =ROUNDUP((I82+J82+K82+M82+O82+P82+Q82)*1/12,-1) -> 1835400 | T82: =ROUND((I82+J82+K82+M82+O82+P82)*4.5%,-1) -> 991120 | U82: =ROUNDUP((I82+J82+K82+M82+O82+P82)*3.545%,-1) -> 780780 | V82: =ROUNDUP(U82*12.81%,-1) -> 100020 | W82: =ROUND((I82+J82+K82+M82+O82+P82)*1.05%,-1) -> 231260 | X82: =ROUND((I82+J82+K82+M82+O82+P82)*0.8%,-1) -> 176200 | Y82: =SUM(T82:X82) -> 2279380 | Z82: =SUM(S82,Y82) -> 4114780
A83: 40 | B83: 생활지도원 | C83: 장선우 | D83: 8 | E83: =F83+F84 -> 12 | F83: 7 | G83: 3 | H83: 1978000 | I83: =H83*F83 -> 13846000 | J83: =H83*60% -> 1186800 | K83: =40000*12 -> 480000 | L83: =ROUND(H83*1/209*1.5,-1) -> 14200 | M83: =(L83*20)*F83 -> 1988000 | P83: =(L83*5)*F83 -> 497000 | R83: =SUM(J83,K83,M83,O83,P83) -> 4151800 | S83: =ROUNDUP((I83+J83+K83+M83+O83+P83+Q83)*1/12,-1) -> 1499820 | T83: =ROUND((I83+J83+K83+M83+O83+P83)*4.5%,-1) -> 809900 | U83: =ROUNDUP((I83+J83+K83+M83+O83+P83)*3.545%,-1) -> 638030 | V83: =ROUNDUP(U83*12.81%,-1) -> 81740 | W83: =ROUND((I83+J83+K83+M83+O83+P83)*1.05%,-1) -> 188980 | X83: =ROUND((I83+J83+K83+M83+O83+P83)*0.8%,-1) -> 143980 | Y83: =SUM(T83:X83) -> 1862630 | Z83: =SUM(S83,Y83) -> 3362450 | AA83: =SUM(Z83,Z84,R83,R84,I83,I84) -> 37059390 | AB83: =200000*12 -> 2400000 | AC83: =50000*12 -> 600000 | AD83: =SUM(AB83:AC84) -> 3000000
F84: 5 | G84: =G83+1 -> 4 | H84: 2036000 | I84: =H84*F84 -> 10180000 | J84: =H84*60% -> 1221600 | L84: =ROUND(H84*1/209*1.5,-1) -> 14610 | M84: =(L84*20)*F84 -> 1461000 | O84: =N84*L84 -> 0 | P84: =(L84*5)*F84 -> 365250 | R84: =SUM(J84,K84,M84,O84,P84) -> 3047850 | S84: =ROUNDUP((I84+J84+K84+M84+O84+P84+Q84)*1/12,-1) -> 1102330 | T84: =ROUND((I84+J84+K84+M84+O84+P84)*4.5%,-1) -> 595250 | U84: =ROUNDUP((I84+J84+K84+M84+O84+P84)*3.545%,-1) -> 468930 | V84: =ROUNDUP(U84*12.81%,-1) -> 60070 | W84: =ROUND((I84+J84+K84+M84+O84+P84)*1.05%,-1) -> 138890 | X84: =ROUND((I84+J84+K84+M84+O84+P84)*0.8%,-1) -> 105820 | Y84: =SUM(T84:X84) -> 1368960 | Z84: =SUM(S84,Y84) -> 2471290
A85: 41 | B85: 생활지도원 | C85: 박동규 | D85: 8 | E85: =F85+F86 -> 12 | F85: 4 | G85: 3 | H85: 1978000 | I85: =H85*F85 -> 7912000 | J85: =H85*60% -> 1186800 | K85: =20000*12 -> 240000 | L85: =ROUND(H85*1/209*1.5,-1) -> 14200 | M85: =(L85*40)*F85 -> 2272000 | R85: =SUM(J85,K85,M85,O85,P85) -> 3698800 | S85: =ROUNDUP((I85+J85+K85+M85+O85+P85+Q85)*1/12,-1) -> 967570 | T85: =ROUND((I85+J85+K85+M85+O85+P85)*4.5%,-1) -> 522490 | U85: =ROUNDUP((I85+J85+K85+M85+O85+P85)*3.545%,-1) -> 411610 | V85: =ROUNDUP(U85*12.81%,-1) -> 52730 | W85: =ROUND((I85+J85+K85+M85+O85+P85)*1.05%,-1) -> 121910 | X85: =ROUND((I85+J85+K85+M85+O85+P85)*0.8%,-1) -> 92890 | Y85: =SUM(T85:X85) -> 1201630 | Z85: =SUM(S85,Y85) -> 2169200 | AA85: =SUM(Z85,Z86,R85,R86,I85,I86) -> 42190220 | AB85: =200000*12 -> 2400000 | AC85: =50000*12 -> 600000 | AD85: =SUM(AB85:AC86) -> 3000000
F86: 8 | G86: =G85+1 -> 4 | H86: 2036000 | I86: =H86*F86 -> 16288000 | J86: =H86*60% -> 1221600 | L86: =ROUND(H86*1/209*1.5,-1) -> 14610 | M86: =(L86*40)*F86 -> 4675200 | N86: 120 | O86: =N86*L86 -> 1753200 | R86: =SUM(J86,K86,M86,O86,P86) -> 7650000 | S86: =ROUNDUP((I86+J86+K86+M86+O86+P86+Q86)*1/12,-1) -> 1994840 | T86: =ROUND((I86+J86+K86+M86+O86+P86)*4.5%,-1) -> 1077210 | U86: =ROUNDUP((I86+J86+K86+M86+O86+P86)*3.545%,-1) -> 848610 | V86: =ROUNDUP(U86*12.81%,-1) -> 108710 | W86: =ROUND((I86+J86+K86+M86+O86+P86)*1.05%,-1) -> 251350 | X86: =ROUND((I86+J86+K86+M86+O86+P86)*0.8%,-1) -> 191500 | Y86: =SUM(T86:X86) -> 2477380 | Z86: =SUM(S86,Y86) -> 4472220
A87: 42 | B87: 생활지도원 | C87: 공석 | D87: 8 | E87: =F87+F88 -> 12 | F87: 4 | G87: 3 | H87: 1978000 | I87: =H87*F87 -> 7912000 | J87: =H87*60% -> 1186800 | K87: =40000*12 -> 480000 | L87: =ROUND(H87*1/209*1.5,-1) -> 14200 | M87: =(L87*40)*F87 -> 2272000 | R87: =SUM(J87,K87,M87,O87,P87) -> 3938800 | S87: =ROUNDUP((I87+J87+K87+M87+O87+P87+Q87)*1/12,-1) -> 987570 | T87: =ROUND((I87+J87+K87+M87+O87+P87)*4.5%,-1) -> 533290 | U87: =ROUNDUP((I87+J87+K87+M87+O87+P87)*3.545%,-1) -> 420120 | V87: =ROUNDUP(U87*12.81%,-1) -> 53820 | W87: =ROUND((I87+J87+K87+M87+O87+P87)*1.05%,-1) -> 124430 | X87: =ROUND((I87+J87+K87+M87+O87+P87)*0.8%,-1) -> 94810 | Y87: =SUM(T87:X87) -> 1226470 | Z87: =SUM(S87,Y87) -> 2214040 | AA87: =SUM(Z87,Z88,R87,R88,I87,I88) -> 42475060 | AB87: =200000*12 -> 2400000 | AC87: =50000*12 -> 600000 | AD87: =SUM(AB87:AC88) -> 3000000
F88: 8 | G88: =G87+1 -> 4 | H88: 2036000 | I88: =H88*F88 -> 16288000 | J88: =H88*60% -> 1221600 | L88: =ROUND(H88*1/209*1.5,-1) -> 14610 | M88: =(L88*40)*F88 -> 4675200 | N88: 120 | O88: =N88*L88 -> 1753200 | R88: =SUM(J88,K88,M88,O88,P88) -> 7650000 | S88: =ROUNDUP((I88+J88+K88+M88+O88+P88+Q88)*1/12,-1) -> 1994840 | T88: =ROUND((I88+J88+K88+M88+O88+P88)*4.5%,-1) -> 1077210 | U88: =ROUNDUP((I88+J88+K88+M88+O88+P88)*3.545%,-1) -> 848610 | V88: =ROUNDUP(U88*12.81%,-1) -> 108710 | W88: =ROUND((I88+J88+K88+M88+O88+P88)*1.05%,-1) -> 251350 | X88: =ROUND((I88+J88+K88+M88+O88+P88)*0.8%,-1) -> 191500 | Y88: =SUM(T88:X88) -> 2477380 | Z88: =SUM(S88,Y88) -> 4472220
A89: 43 | B89: 생활지도원 | C89: 공석 | D89: 1 | E89: =F89+F90 -> 12 | F89: 12 | G89: 9 | H89: 2396000 | I89: =H89*F89 -> 28752000 | J89: =(H89*60%)*2 -> 2875200 | K89: =40000*12 -> 480000 | L89: =ROUND(H89*1/209*1.5,-1) -> 17200 | M89: =(L89*40)*F89 -> 8256000 | N89: 120 | O89: =N89*L89 -> 2064000 | R89: =SUM(J89,K89,M89,O89,P89) -> 13675200 | S89: =ROUNDUP((I89+J89+K89+M89+O89+P89+Q89)*1/12,-1) -> 3535600 | T89: =ROUND((I89+J89+K89+M89+O89+P89)*4.5%,-1) -> 1909220 | U89: =ROUNDUP((I89+J89+K89+M89+O89+P89)*3.545%,-1) -> 1504050 | V89: =ROUNDUP(U89*12.81%,-1) -> 192670 | W89: =ROUND((I89+J89+K89+M89+O89+P89)*1.05%,-1) -> 445490 | X89: =ROUND((I89+J89+K89+M89+O89+P89)*0.8%,-1) -> 339420 | Y89: =SUM(T89:X89) -> 4390850 | Z89: =SUM(S89,Y89) -> 7926450 | AA89: =SUM(Z89,Z90,R89,R90,I89,I90) -> 50353650 | AB89: =250000*12 -> 3000000 | AC89: =50000*12 -> 600000 | AD89: =SUM(AB89:AC90) -> 3600000
I90: =H90*F90 -> 0 | J90: =H90*60% -> 0 | L90: =ROUND(H90*1/209*1.5,-1) -> 0 | M90: =(L90*40)*F90 -> 0 | O90: =N90*L90 -> 0 | R90: =SUM(J90,K90,M90,O90,P90) -> 0 | S90: =ROUNDUP((I90+J90+K90+M90+O90+P90+Q90)*1/12,-1) -> 0 | T90: =ROUND((I90+J90+K90+M90+O90+P90)*4.5%,-1) -> 0 | U90: =ROUNDUP((I90+J90+K90+M90+O90+P90)*3.545%,-1) -> 0 | V90: =ROUNDUP(U90*12.81%,-1) -> 0 | W90: =ROUND((I90+J90+K90+M90+O90+P90)*1.05%,-1) -> 0 | X90: =ROUND((I90+J90+K90+M90+O90+P90)*0.8%,-1) -> 0 | Y90: =SUM(T90:X90) -> 0 | Z90: =SUM(S90,Y90) -> 0
A91: 44 | B91: 생활지도원 | C91: 공석 | D91: 11 | E91: =F91+F92 -> 12 | F91: 10 | G91: 4 | H91: 2036000 | I91: =H91*F91 -> 20360000 | J91: =H91*60% -> 1221600 | K91: =40000*12 -> 480000 | L91: =ROUND(H91*1/209*1.5,-1) -> 14610 | M91: =(L91*40)*F91 -> 5844000 | R91: =SUM(J91,K91,M91,O91,P91) -> 7545600 | S91: =ROUNDUP((I91+J91+K91+M91+O91+P91+Q91)*1/12,-1) -> 2325470 | T91: =ROUND((I91+J91+K91+M91+O91+P91)*4.5%,-1) -> 1255750 | U91: =ROUNDUP((I91+J91+K91+M91+O91+P91)*3.545%,-1) -> 989260 | V91: =ROUNDUP(U91*12.81%,-1) -> 126730 | W91: =ROUND((I91+J91+K91+M91+O91+P91)*1.05%,-1) -> 293010 | X91: =ROUND((I91+J91+K91+M91+O91+P91)*0.8%,-1) -> 223240 | Y91: =SUM(T91:X91) -> 2887990 | Z91: =SUM(S91,Y91) -> 5213460 | AA91: =SUM(Z91,Z92,R91,R92,I91,I92) -> 43170780 | AB91: =200000*12 -> 2400000 | AC91: =50000*12 -> 600000 | AD91: =SUM(AB91:AC92) -> 3000000
F92: 2 | G92: =G91+1 -> 5 | H92: 2099000 | I92: =H92*F92 -> 4198000 | J92: =H92*60% -> 1259400 | L92: =ROUND(H92*1/209*1.5,-1) -> 15060 | M92: =(L92*40)*F92 -> 1204800 | N92: 120 | O92: =N92*L92 -> 1807200 | R92: =SUM(J92,K92,M92,O92,P92) -> 4271400 | S92: =ROUNDUP((I92+J92+K92+M92+O92+P92+Q92)*1/12,-1) -> 705790 | T92: =ROUND((I92+J92+K92+M92+O92+P92)*4.5%,-1) -> 381120 | U92: =ROUNDUP((I92+J92+K92+M92+O92+P92)*3.545%,-1) -> 300250 | V92: =ROUNDUP(U92*12.81%,-1) -> 38470 | W92: =ROUND((I92+J92+K92+M92+O92+P92)*1.05%,-1) -> 88930 | X92: =ROUND((I92+J92+K92+M92+O92+P92)*0.8%,-1) -> 67760 | Y92: =SUM(T92:X92) -> 876530 | Z92: =SUM(S92,Y92) -> 1582320
A93: 45 | B93: 위생원 | C93: 이순옥 | D93: 9 | E93: =F93+F94 -> 12 | F93: 8 | G93: 15 | H93: 2526000 | I93: =H93*F93 -> 20208000 | J93: =H93*60% -> 1515600 | K93: =40000*12 -> 480000 | L93: =ROUND(H93*1/209*1.5,-1) -> 18130 | M93: =(L93*20)*F93 -> 2900800 | P93: =(L93*5)*F93 -> 725200 | R93: =SUM(J93,K93,M93,O93,P93) -> 5621600 | S93: =ROUNDUP((I93+J93+K93+M93+O93+P93+Q93)*1/12,-1) -> 2152470 | T93: =ROUND((I93+J93+K93+M93+O93+P93)*4.5%,-1) -> 1162330 | U93: =ROUNDUP((I93+J93+K93+M93+O93+P93)*3.545%,-1) -> 915660 | V93: =ROUNDUP(U93*12.81%,-1) -> 117300 | W93: =ROUND((I93+J93+K93+M93+O93+P93)*1.05%,-1) -> 271210 | X93: =ROUND((I93+J93+K93+M93+O93+P93)*0.8%,-1) -> 206640 | Y93: =SUM(T93:X93) -> 2673140 | Z93: =SUM(S93,Y93) -> 4825610 | AA93: =SUM(Z93,Z94,R93,R94,I93,I94) -> 46874360 | AB93: =250000*12 -> 3000000 | AC93: =50000*12 -> 600000 | AD93: =SUM(AB93:AC94) -> 3600000
F94: 4 | G94: =G93+1 -> 16 | H94: 2570000 | I94: =H94*F94 -> 10280000 | J94: =H94*60% -> 1542000 | L94: =ROUND(H94*1/209*1.5,-1) -> 18440 | M94: =(L94*20)*F94 -> 1475200 | O94: =N94*L94 -> 0 | P94: =(L94*5)*F94 -> 368800 | R94: =SUM(J94,K94,M94,O94,P94) -> 3386000 | S94: =ROUNDUP((I94+J94+K94+M94+O94+P94+Q94)*1/12,-1) -> 1138840 | T94: =ROUND((I94+J94+K94+M94+O94+P94)*4.5%,-1) -> 614970 | U94: =ROUNDUP((I94+J94+K94+M94+O94+P94)*3.545%,-1) -> 484460 | V94: =ROUNDUP(U94*12.81%,-1) -> 62060 | W94: =ROUND((I94+J94+K94+M94+O94+P94)*1.05%,-1) -> 143490 | X94: =ROUND((I94+J94+K94+M94+O94+P94)*0.8%,-1) -> 109330 | Y94: =SUM(T94:X94) -> 1414310 | Z94: =SUM(S94,Y94) -> 2553150
A95: 46 | B95: 조리원 | C95: 안명숙 | D95: 5 | E95: =F95+F96 -> 12 | F95: 4 | G95: 4 | H95: 1970000 | I95: =H95*F95 -> 7880000 | J95: =(H95*60%)*1 -> 1182000 | L95: =ROUND(H95*1/209*1.5,-1) -> 14140 | M95: =(L95*40)*F95 -> 2262400 | O95: =N95*L95 -> 0 | R95: =SUM(J95,K95,M95,O95,P95) -> 3444400 | S95: =ROUNDUP((I95+J95+K95+M95+O95+P95+Q95)*1/12,-1) -> 943700 | T95: =ROUND((I95+J95+K95+M95+O95+P95)*4.5%,-1) -> 509600 | U95: =ROUNDUP((I95+J95+K95+M95+O95+P95)*3.545%,-1) -> 401450 | V95: =ROUNDUP(U95*12.81%,-1) -> 51430 | W95: =ROUND((I95+J95+K95+M95+O95+P95)*1.05%,-1) -> 118910 | X95: =ROUND((I95+J95+K95+M95+O95+P95)*0.8%,-1) -> 90600 | Y95: =SUM(T95:X95) -> 1171990 | Z95: =SUM(S95,Y95) -> 2115690 | AA95: =SUM(Z95,Z96,R95,R96,I95,I96) -> 41557640 | AB95: =200000*12 -> 2400000 | AC95: =50000*12 -> 600000 | AD95: =SUM(AB95:AC96) -> 3000000
F96: 8 | G96: =G95+1 -> 5 | H96: 2015000 | I96: =H96*F96 -> 16120000 | J96: =H96*60% -> 1209000 | L96: =ROUND(H96*1/209*1.5,-1) -> 14460 | M96: =(L96*40)*F96 -> 4627200 | N96: 120 | O96: =N96*L96 -> 1735200 | R96: =SUM(J96,K96,M96,O96,P96) -> 7571400 | S96: =ROUNDUP((I96+J96+K96+M96+O96+P96+Q96)*1/12,-1) -> 1974290 | T96: =ROUND((I96+J96+K96+M96+O96+P96)*4.5%,-1) -> 1066110 | U96: =ROUNDUP((I96+J96+K96+M96+O96+P96)*3.545%,-1) -> 839870 | V96: =ROUNDUP(U96*12.81%,-1) -> 107590 | W96: =ROUND((I96+J96+K96+M96+O96+P96)*1.05%,-1) -> 248760 | X96: =ROUND((I96+J96+K96+M96+O96+P96)*0.8%,-1) -> 189530 | Y96: =SUM(T96:X96) -> 2451860 | Z96: =SUM(S96,Y96) -> 4426150
A97: 47 | B97: 조리원 | C97: 정순정 | D97: 3 | E97: =F97+F98 -> 12 | F97: 2 | G97: 10 | H97: 2249000 | I97: =H97*F97 -> 4498000 | J97: =H97*60% -> 1349400 | L97: =ROUND(H97*1/209*1.5,-1) -> 16140 | M97: =(L97*40)*F97 -> 1291200 | R97: =SUM(J97,K97,M97,O97,P97) -> 2640600 | S97: =ROUNDUP((I97+J97+K97+M97+O97+P97+Q97)*1/12,-1) -> 594890 | T97: =ROUND((I97+J97+K97+M97+O97+P97)*4.5%,-1) -> 321240 | U97: =ROUNDUP((I97+J97+K97+M97+O97+P97)*3.545%,-1) -> 253070 | V97: =ROUNDUP(U97*12.81%,-1) -> 32420 | W97: =ROUND((I97+J97+K97+M97+O97+P97)*1.05%,-1) -> 74960 | X97: =ROUND((I97+J97+K97+M97+O97+P97)*0.8%,-1) -> 57110 | Y97: =SUM(T97:X97) -> 738800 | Z97: =SUM(S97,Y97) -> 1333690 | AA97: =SUM(Z97,Z98,R97,R98,I97,I98) -> 47796550 | AB97: =250000*12 -> 3000000 | AC97: =50000*12 -> 600000 | AD97: =SUM(AB97:AC98) -> 3600000
F98: 10 | G98: =G97+1 -> 11 | H98: 2312000 | I98: =H98*F98 -> 23120000 | J98: =H98*60% -> 1387200 | L98: =ROUND(H98*1/209*1.5,-1) -> 16590 | M98: =(L98*40)*F98 -> 6636000 | N98: 120 | O98: =N98*L98 -> 1990800 | R98: =SUM(J98,K98,M98,O98,P98) -> 10014000 | S98: =ROUNDUP((I98+J98+K98+M98+O98+P98+Q98)*1/12,-1) -> 2761170 | T98: =ROUND((I98+J98+K98+M98+O98+P98)*4.5%,-1) -> 1491030 | U98: =ROUNDUP((I98+J98+K98+M98+O98+P98)*3.545%,-1) -> 1174610 | V98: =ROUNDUP(U98*12.81%,-1) -> 150470 | W98: =ROUND((I98+J98+K98+M98+O98+P98)*1.05%,-1) -> 347910 | X98: =ROUND((I98+J98+K98+M98+O98+P98)*0.8%,-1) -> 265070 | Y98: =SUM(T98:X98) -> 3429090 | Z98: =SUM(S98,Y98) -> 6190260
A99: 48 | B99: 조리원 | C99: 최미란 | D99: 7 | E99: =F99+F100 -> 12 | F99: 6 | G99: 3 | H99: 1939000 | I99: =H99*F99 -> 11634000 | J99: =H99*60% -> 1163400 | K99: =40000*12 -> 480000 | L99: =ROUND(H99*1/209*1.5,-1) -> 13920 | M99: =(L99*40)*F99 -> 3340800 | R99: =SUM(J99,K99,M99,O99,P99) -> 4984200 | S99: =ROUNDUP((I99+J99+K99+M99+O99+P99+Q99)*1/12,-1) -> 1384850 | T99: =ROUND((I99+J99+K99+M99+O99+P99)*4.5%,-1) -> 747820 | U99: =ROUNDUP((I99+J99+K99+M99+O99+P99)*3.545%,-1) -> 589120 | V99: =ROUNDUP(U99*12.81%,-1) -> 75470 | W99: =ROUND((I99+J99+K99+M99+O99+P99)*1.05%,-1) -> 174490 | X99: =ROUND((I99+J99+K99+M99+O99+P99)*0.8%,-1) -> 132950 | Y99: =SUM(T99:X99) -> 1719850 | Z99: =SUM(S99,Y99) -> 3104700 | AA99: =SUM(Z99,Z100,R99,R100,I99,I100) -> 41195420 | AB99: =200000*12 -> 2400000 | AC99: =50000*12 -> 600000 | AD99: =SUM(AB99:AC100) -> 3000000
F100: 6 | G100: =G99+1 -> 4 | H100: 1970000 | I100: =H100*F100 -> 11820000 | J100: =H100*60% -> 1182000 | L100: =ROUND(H100*1/209*1.5,-1) -> 14140 | M100: =(L100*40)*F100 -> 3393600 | N100: 120 | O100: =N100*L100 -> 1696800 | R100: =SUM(J100,K100,M100,O100,P100) -> 6272400 | S100: =ROUNDUP((I100+J100+K100+M100+O100+P100+Q100)*1/12,-1) -> 1507700 | T100: =ROUND((I100+J100+K100+M100+O100+P100)*4.5%,-1) -> 814160 | U100: =ROUNDUP((I100+J100+K100+M100+O100+P100)*3.545%,-1) -> 641380 | V100: =ROUNDUP(U100*12.81%,-1) -> 82170 | W100: =ROUND((I100+J100+K100+M100+O100+P100)*1.05%,-1) -> 189970 | X100: =ROUND((I100+J100+K100+M100+O100+P100)*0.8%,-1) -> 144740 | Y100: =SUM(T100:X100) -> 1872420 | Z100: =SUM(S100,Y100) -> 3380120
...

Sheet 아-1 교대인력지원인건비
A1: 사. 임직원 보수 일람표
A2: 교대인력 지원 사업 인건비 직원
A3: 순번 | B3: 직책 | C3: 성명 | D3: 승급월 | G3: 호봉 | H3: 기본급 | I3: 급여 | J3: 제수당 | Q3: 퇴직금 및 퇴직적립금 | R3: 국민연금 | S3: 건강보험 | T3: 장기요양 | U3: 고용보험 | V3: 산재보험 | W3: 사회보험 부담금 | X3: 공제액계 | Y3: 합계 | Z3: 지자체 별도 지급액 | AC3: 비고
J4: 명절휴가비 | K4: 가족수당 | L4: 시급 | M4: 연장수당 | N4: 연장추가 지원수당 | O4: 직책수당 | P4: 제수당 계 | Z4: 경기도 특수근무수당 | AA4: 경기도 처우개선비 | AB4: 지자체 지급액 계
A5: 1 | B5: 생활지도원 | C5: 김도아 | D5: 8 | E5: =F5+F6 -> 12 | F5: 7 | G5: 2 | H5: 1873000 | I5: =H5*F5 -> 13111000 | J5: =H5*60% -> 1123800 | L5: =ROUND(H5*1/209*1.5,-1) -> 13440 | M5: =(L5*40)*F5 -> 3763200 | P5: =SUM(J5,K5,M5,N5,O5) -> 4887000 | Q5: =ROUNDUP((P5+I5)*1/12,-1) -> 1499840 | R5: =ROUND((I5+P5)*4.5%,-1) -> 809910 | S5: =ROUNDUP((I5+P5)*3.335%,-1) -> 600240 | T5: =ROUNDUP(S5*10.25%,-1) -> 61530 | U5: =ROUND((I5+P5)*1.05%,-1) -> 188980 | V5: =ROUND((I5+P5)*0.8%,-1) -> 143980 | W5: =SUM(R5:V5) -> 1804640 | X5: =SUM(Q5,W5) -> 3304480 | Y5: =SUM(X5,X6,P5,P6,I5,I6) -> 37364440 | Z5: =200000*12 -> 2400000 | AA5: =50000*12 -> 600000 | AB5: =AA5+Z5 -> 3000000
F6: 5 | G6: =G5+1 -> 3 | H6: 1929000 | I6: =H6*F6 -> 9645000 | J6: =H6*60% -> 1157400 | L6: =ROUND(H6*1/209*1.5,-1) -> 13840 | M6: =(L6*40)*F6 -> 2768000 | P6: =SUM(J6,K6,M6,N6,O6) -> 3925400 | Q6: =ROUNDUP((P6+I6)*1/12,-1) -> 1130870 | R6: =ROUND((I6+P6)*4.5%,-1) -> 610670 | S6: =ROUNDUP((I6+P6)*3.335%,-1) -> 452580 | T6: =ROUNDUP(S6*10.25%,-1) -> 46390 | U6: =ROUND((I6+P6)*1.05%,-1) -> 142490 | V6: =ROUND((I6+P6)*0.8%,-1) -> 108560 | W6: =SUM(R6:V6) -> 1360690 | X6: =SUM(Q6,W6) -> 2491560
A7: 2 | B7: 생활지도원 | C7: 이민지 | D7: 1 | E7: =F7+F8 -> 12 | F7: 12 | G7: 2 | H7: 1873000 | I7: =H7*F7 -> 22476000 | J7: =(H7*60%)*2 -> 2247600 | L7: =ROUND(H7*1/209*1.5,-1) -> 13440 | M7: =(L7*40)*F7 -> 6451200 | P7: =SUM(J7,K7,M7,N7,O7) -> 8698800 | Q7: =ROUNDUP((P7+I7)*1/12,-1) -> 2597900 | R7: =ROUND((I7+P7)*4.5%,-1) -> 1402870 | S7: =ROUNDUP((I7+P7)*3.335%,-1) -> 1039680 | T7: =ROUNDUP(S7*10.25%,-1) -> 106570 | U7: =ROUND((I7+P7)*1.05%,-1) -> 327340 | V7: =ROUND((I7+P7)*0.8%,-1) -> 249400 | W7: =SUM(R7:V7) -> 3125860 | X7: =SUM(Q7,W7) -> 5723760 | Y7: =SUM(X7,X8,P7,P8,I7,I8) -> 36898560 | Z7: =200000*12 -> 2400000 | AA7: =50000*12 -> 600000 | AB7: =AA7+Z7 -> 3000000
I8: =H8*F8 -> 0 | J8: =H8*60% -> 0 | L8: =ROUND(H8*1/209*1.5,-1) -> 0 | M8: =(L8*40)*F8 -> 0 | P8: =SUM(J8,K8,M8,N8,O8) -> 0 | Q8: =ROUNDUP((P8+I8)*1/12,-1) -> 0 | R8: =ROUND((I8+P8)*4.5%,-1) -> 0 | S8: =ROUNDUP((I8+P8)*3.335%,-1) -> 0 | T8: =ROUNDUP(S8*10.25%,-1) -> 0 | U8: =ROUND((I8+P8)*1.05%,-1) -> 0 | V8: =ROUND((I8+P8)*0.8%,-1) -> 0 | W8: =SUM(R8:V8) -> 0 | X8: =SUM(Q8,W8) -> 0
A9: 3 | B9: 생활지도원 | C9: 구현우 | D9: 1 | E9: =F9+F10 -> 12 | F9: 12 | G9: 4 | H9: 1987000 | I9: =H9*F9 -> 23844000 | J9: =(H9*60%)*2 -> 2384400 | L9: =ROUND(H9*1/209*1.5,-1) -> 14260 | M9: =(L9*40)*F9 -> 6844800 | P9: =SUM(J9,K9,M9,N9,O9) -> 9229200 | Q9: =ROUNDUP((P9+I9)*1/12,-1) -> 2756100 | R9: =ROUND((I9+P9)*4.5%,-1) -> 1488290 | S9: =ROUNDUP((I9+P9)*3.335%,-1) -> 1103000 | T9: =ROUNDUP(S9*10.25%,-1) -> 113060 | U9: =ROUND((I9+P9)*1.05%,-1) -> 347270 | V9: =ROUND((I9+P9)*0.8%,-1) -> 264590 | W9: =SUM(R9:V9) -> 3316210 | X9: =SUM(Q9,W9) -> 6072310 | Y9: =SUM(X9,X10,P9,P10,I9,I10) -> 39145510 | Z9: =200000*12 -> 2400000 | AA9: =50000*12 -> 600000 | AB9: =AA9+Z9 -> 3000000
I10: =H10*F10 -> 0 | J10: =H10*60% -> 0 | L10: =ROUND(H10*1/209*1.5,-1) -> 0 | M10: =(L10*40)*F10 -> 0 | P10: =SUM(J10,K10,M10,N10,O10) -> 0 | Q10: =ROUNDUP((P10+I10)*1/12,-1) -> 0 | R10: =ROUND((I10+P10)*4.5%,-1) -> 0 | S10: =ROUNDUP((I10+P10)*3.335%,-1) -> 0 | T10: =ROUNDUP(S10*10.25%,-1) -> 0 | U10: =ROUND((I10+P10)*1.05%,-1) -> 0 | V10: =ROUND((I10+P10)*0.8%,-1) -> 0 | W10: =SUM(R10:V10) -> 0 | X10: =SUM(Q10,W10) -> 0
A11: 4 | B11: 생활지도원 | C11: 권지수 | D11: 10 | E11: =F11+F12 -> 12 | F11: 9 | G11: 3 | H11: 1929000 | I11: =H11*F11 -> 17361000 | J11: =H11*60% -> 1157400 | L11: =ROUND(H11*1/209*1.5,-1) -> 13840 | M11: =(L11*40)*F11 -> 4982400 | P11: =SUM(J11,K11,M11,N11,O11) -> 6139800 | Q11: =ROUNDUP((P11+I11)*1/12,-1) -> 1958400 | R11: =ROUND((I11+P11)*4.5%,-1) -> 1057540 | S11: =ROUNDUP((I11+P11)*3.335%,-1) -> 783760 | T11: =ROUNDUP(S11*10.25%,-1) -> 80340 | U11: =ROUND((I11+P11)*1.05%,-1) -> 246760 | V11: =ROUND((I11+P11)*0.8%,-1) -> 188010 | W11: =SUM(R11:V11) -> 2356410 | X11: =SUM(Q11,W11) -> 4314810 | Y11: =SUM(X11,X12,P11,P12,I11,I12) -> 38307550 | Z11: =200000*12 -> 2400000 | AA11: =50000*12 -> 600000 | AB11: =AA11+Z11 -> 3000000
F12: 3 | G12: =G11+1 -> 4 | H12: 1987000 | I12: =H12*F12 -> 5961000 | J12: =H12*60% -> 1192200 | L12: =ROUND(H12*1/209*1.5,-1) -> 14260 | M12: =(L12*40)*F12 -> 1711200 | P12: =SUM(J12,K12,M12,N12,O12) -> 2903400 | Q12: =ROUNDUP((P12+I12)*1/12,-1) -> 738700 | R12: =ROUND((I12+P12)*4.5%,-1) -> 398900 | S12: =ROUNDUP((I12+P12)*3.335%,-1) -> 295630 | T12: =ROUNDUP(S12*10.25%,-1) -> 30310 | U12: =ROUND((I12+P12)*1.05%,-1) -> 93080 | V12: =ROUND((I12+P12)*0.8%,-1) -> 70920 | W12: =SUM(R12:V12) -> 888840 | X12: =SUM(Q12,W12) -> 1627540
A13: 5 | B13: 생활지도원 | C13: 김효주 | D13: 1 | E13: =F13+F14 -> 12 | F13: 12 | G13: 2 | H13: 1873000 | I13: =H13*F13 -> 22476000 | J13: =(H13*60%)*2 -> 2247600 | K13: =20000*12 -> 240000 | L13: =ROUND(H13*1/209*1.5,-1) -> 13440 | M13: =(L13*40)*F13 -> 6451200 | P13: =SUM(J13,K13,M13,N13,O13) -> 8938800 | Q13: =ROUNDUP((P13+I13)*1/12,-1) -> 2617900 | R13: =ROUND((I13+P13)*4.5%,-1) -> 1413670 | S13: =ROUNDUP((I13+P13)*3.335%,-1) -> 1047690 | T13: =ROUNDUP(S13*10.25%,-1) -> 107390 | U13: =ROUND((I13+P13)*1.05%,-1) -> 329860 | V13: =ROUND((I13+P13)*0.8%,-1) -> 251320 | W13: =SUM(R13:V13) -> 3149930 | X13: =SUM(Q13,W13) -> 5767830 | Y13: =SUM(X13,X14,P13,P14,I13,I14) -> 37182630 | Z13: =200000*12 -> 2400000 | AA13: =50000*12 -> 600000 | AB13: =AA13+Z13 -> 3000000
I14: =H14*F14 -> 0 | L14: =ROUND(H14*1/209*1.5,-1) -> 0 | M14: =(L14*40)*F14 -> 0 | P14: =SUM(J14,K14,M14,N14,O14) -> 0 | Q14: =ROUNDUP((P14+I14)*1/12,-1) -> 0 | R14: =ROUND((I14+P14)*4.5%,-1) -> 0 | S14: =ROUNDUP((I14+P14)*3.335%,-1) -> 0 | T14: =ROUNDUP(S14*10.25%,-1) -> 0 | U14: =ROUND((I14+P14)*1.05%,-1) -> 0 | V14: =ROUND((I14+P14)*0.8%,-1) -> 0 | W14: =SUM(R14:V14) -> 0 | X14: =SUM(Q14,W14) -> 0
A15: 6 | B15: 생활지도원 | C15: 이현경 | D15: 1 | E15: =F15+F16 -> 12 | F15: 12 | G15: 2 | H15: 1873000 | I15: =H15*F15 -> 22476000 | J15: =(H15*60%)*2 -> 2247600 | L15: =ROUND(H15*1/209*1.5,-1) -> 13440 | M15: =(L15*40)*F15 -> 6451200 | P15: =SUM(J15,K15,M15,N15,O15) -> 8698800 | Q15: =ROUNDUP((P15+I15)*1/12,-1) -> 2597900 | R15: =ROUND((I15+P15)*4.5%,-1) -> 1402870 | S15: =ROUNDUP((I15+P15)*3.335%,-1) -> 1039680 | T15: =ROUNDUP(S15*10.25%,-1) -> 106570 | U15: =ROUND((I15+P15)*1.05%,-1) -> 327340 | V15: =ROUND((I15+P15)*0.8%,-1) -> 249400 | W15: =SUM(R15:V15) -> 3125860 | X15: =SUM(Q15,W15) -> 5723760 | Y15: =SUM(X15,X16,P15,P16,I15,I16) -> 36898560 | Z15: =200000*12 -> 2400000 | AA15: =50000*12 -> 600000 | AB15: =AA15+Z15 -> 3000000
I16: =H16*F16 -> 0 | J16: =H16*60% -> 0 | L16: =ROUND(H16*1/209*1.5,-1) -> 0 | M16: =(L16*40)*F16 -> 0 | P16: =SUM(J16,K16,M16,N16,O16) -> 0 | Q16: =ROUNDUP((P16+I16)*1/12,-1) -> 0 | R16: =ROUND((I16+P16)*4.5%,-1) -> 0 | S16: =ROUNDUP((I16+P16)*3.335%,-1) -> 0 | T16: =ROUNDUP(S16*10.25%,-1) -> 0 | U16: =ROUND((I16+P16)*1.05%,-1) -> 0 | V16: =ROUND((I16+P16)*0.8%,-1) -> 0 | W16: =SUM(R16:V16) -> 0 | X16: =SUM(Q16,W16) -> 0
A17: 7 | B17: 생활지도원 | C17: 오권호 | D17: 6 | E17: =F17+F18 -> 12 | F17: 5 | G17: 4 | H17: 1987000 | I17: =H17*F17 -> 9935000 | J17: =H17*60% -> 1192200 | K17: =20000*12 -> 240000 | L17: =ROUND(H17*1/209*1.5,-1) -> 14260 | M17: =(L17*40)*F17 -> 2852000 | P17: =SUM(J17,K17,M17,N17,O17) -> 4284200 | Q17: =ROUNDUP((P17+I17)*1/12,-1) -> 1184940 | R17: =ROUND((I17+P17)*4.5%,-1) -> 639860 | S17: =ROUNDUP((I17+P17)*3.335%,-1) -> 474220 | T17: =ROUNDUP(S17*10.25%,-1) -> 48610 | U17: =ROUND((I17+P17)*1.05%,-1) -> 149300 | V17: =ROUND((I17+P17)*0.8%,-1) -> 113750 | W17: =SUM(R17:V17) -> 1425740 | X17: =SUM(Q17,W17) -> 2610680 | Y17: =SUM(X17,X18,P17,P18,I17,I18) -> 40111810 | Z17: =200000*12 -> 2400000 | AA17: =50000*12 -> 600000 | AB17: =AA17+Z17 -> 3000000
F18: 7 | G18: =G17+1 -> 5 | H18: 2047000 | I18: =H18*F18 -> 14329000 | J18: =H18*60% -> 1228200 | L18: =ROUND(H18*1/209*1.5,-1) -> 14690 | M18: =(L18*40)*F18 -> 4113200 | P18: =SUM(J18,K18,M18,N18,O18) -> 5341400 | Q18: =ROUNDUP((P18+I18)*1/12,-1) -> 1639200 | R18: =ROUND((I18+P18)*4.5%,-1) -> 885170 | S18: =ROUNDUP((I18+P18)*3.335%,-1) -> 656010 | T18: =ROUNDUP(S18*10.25%,-1) -> 67250 | U18: =ROUND((I18+P18)*1.05%,-1) -> 206540 | V18: =ROUND((I18+P18)*0.8%,-1) -> 157360 | W18: =SUM(R18:V18) -> 1972330 | X18: =SUM(Q18,W18) -> 3611530
A19: 8 | B19: 생활지도원 | C19: 이성진 | D19: 7 | E19: =F19+F20 -> 12 | F19: 6 | G19: 4 | H19: 1987000 | I19: =H19*F19 -> 11922000 | J19: =H19*60% -> 1192200 | K19: =40000*12 -> 480000 | L19: =ROUND(H19*1/209*1.5,-1) -> 14260 | M19: =(L19*40)*F19 -> 3422400 | P19: =SUM(J19,K19,M19,N19,O20) -> 5094600 | Q19: =ROUNDUP((P19+I19)*1/12,-1) -> 1418050 | R19: =ROUND((I19+P19)*4.5%,-1) -> 765750 | S19: =ROUNDUP((I19+P19)*3.335%,-1) -> 567510 | T19: =ROUNDUP(S19*10.25%,-1) -> 58170 | U19: =ROUND((I19+P19)*1.05%,-1) -> 178670 | V19: =ROUND((I19+P19)*0.8%,-1) -> 136130 | W19: =SUM(R19:V19) -> 1706230 | X19: =SUM(Q19,W19) -> 3124280 | Y19: =SUM(X19,X20,P19,P20,I19,I20) -> 40304500 | Z19: =200000*12 -> 2400000 | AA19: =50000*12 -> 600000 | AB19: =AA19+Z19 -> 3000000
F20: 6 | G20: =G19+1 -> 5 | H20: 2047000 | I20: =H20*F20 -> 12282000 | J20: =H20*60% -> 1228200 | L20: =ROUND(H20*1/209*1.5,-1) -> 14690 | M20: =(L20*40)*F20 -> 3525600 | P20: =SUM(J20,K20,M20,N20,O21) -> 4753800 | Q20: =ROUNDUP((P20+I20)*1/12,-1) -> 1419650 | R20: =ROUND((I20+P20)*4.5%,-1) -> 766610 | S20: =ROUNDUP((I20+P20)*3.335%,-1) -> 568150 | T20: =ROUNDUP(S20*10.25%,-1) -> 58240 | U20: =ROUND((I20+P20)*1.05%,-1) -> 178880 | V20: =ROUND((I20+P20)*0.8%,-1) -> 136290 | W20: =SUM(R20:V20) -> 1708170 | X20: =SUM(Q20,W20) -> 3127820
A21: 9 | B21: 생활지도원 | C21: 명은아 | D21: 7 | E21: =F21+F22 -> 12 | F21: 6 | G21: 1 | H21: 1821000 | I21: =H21*F21 -> 10926000 | J21: =H21*60% -> 1092600 | L21: =ROUND(H21*1/209*1.5,-1) -> 13070 | M21: =(L21*40)*F21 -> 3136800 | P21: =SUM(J21,K21,M21,N21,O21) -> 4229400 | Q21: =ROUNDUP((P21+I21)*1/12,-1) -> 1262950 | R21: =ROUND((I21+P21)*4.5%,-1) -> 681990 | S21: =ROUNDUP((I21+P21)*3.335%,-1) -> 505440 | T21: =ROUNDUP(S21*10.25%,-1) -> 51810 | U21: =ROUND((I21+P21)*1.05%,-1) -> 159130 | V21: =ROUND((I21+P21)*0.8%,-1) -> 121240 | W21: =SUM(R21:V21) -> 1519610 | X21: =SUM(Q21,W21) -> 2782560 | Y21: =SUM(X21,X22,P21,P22,I21,I22) -> 36387240 | Z21: =200000*12 -> 2400000 | AA21: =50000*12 -> 600000 | AB21: =AA21+Z21 -> 3000000
F22: 6 | G22: =G21+1 -> 2 | H22: 1873000 | I22: =H22*F22 -> 11238000 | J22: =H22*60% -> 1123800 | L22: =ROUND(H22*1/209*1.5,-1) -> 13440 | M22: =(L22*40)*F22 -> 3225600 | P22: =SUM(J22,K22,M22,N22,O22) -> 4349400 | Q22: =ROUNDUP((P22+I22)*1/12,-1) -> 1298950 | R22: =ROUND((I22+P22)*4.5%,-1) -> 701430 | S22: =ROUNDUP((I22+P22)*3.335%,-1) -> 519840 | T22: =ROUNDUP(S22*10.25%,-1) -> 53290 | U22: =ROUND((I22+P22)*1.05%,-1) -> 163670 | V22: =ROUND((I22+P22)*0.8%,-1) -> 124700 | W22: =SUM(R22:V22) -> 1562930 | X22: =SUM(Q22,W22) -> 2861880
A23: 10 | B23: 생활지도원 | C23: 김철진 | D23: 11 | E23: =F23+F24 -> 12 | F23: 10 | G23: 3 | H23: 1929000 | I23: =H23*F23 -> 19290000 | J23: =(H23*60%)*2 -> 2314800 | K23: =40000*12 -> 480000 | L23: =ROUND(H23*1/209*1.5,-1) -> 13840 | M23: =(L23*40)*F23 -> 5536000 | P23: =SUM(J23,K23,M23,N23,O23) -> 8330800 | Q23: =ROUNDUP((P23+I23)*1/12,-1) -> 2301740 | R23: =ROUND((I23+P23)*4.5%,-1) -> 1242940 | S23: =ROUNDUP((I23+P23)*3.335%,-1) -> 921160 | T23: =ROUNDUP(S23*10.25%,-1) -> 94420 | U23: =ROUND((I23+P23)*1.05%,-1) -> 290020 | V23: =ROUND((I23+P23)*0.8%,-1) -> 220970 | W23: =SUM(R23:V23) -> 2769510 | X23: =SUM(Q23,W23) -> 5071250 | Y23: =SUM(X23,X24,P23,P24,I23,I24) -> 38745960 | Z23: =200000*12 -> 2400000 | AA23: =50000*12 -> 600000 | AB23: =AA23+Z23 -> 3000000
F24: 2 | G24: =G23+1 -> 4 | H24: 1987000 | I24: =H24*F24 -> 3974000 | L24: =ROUND(H24*1/209*1.5,-1) -> 14260 | M24: =(L24*40)*F24 -> 1140800 | P24: =SUM(J24,K24,M24,N24,O24) -> 1140800 | Q24: =ROUNDUP((P24+I24)*1/12,-1) -> 426240 | R24: =ROUND((I24+P24)*4.5%,-1) -> 230170 | S24: =ROUNDUP((I24+P24)*3.335%,-1) -> 170580 | T24: =ROUNDUP(S24*10.25%,-1) -> 17490 | U24: =ROUND((I24+P24)*1.05%,-1) -> 53710 | V24: =ROUND((I24+P24)*0.8%,-1) -> 40920 | W24: =SUM(R24:V24) -> 512870 | X24: =SUM(Q24,W24) -> 939110
A25: 11 | B25: 생활지도원 | C25: 이풍원 | D25: 1 | E25: =F25+F26 -> 12 | F25: 12 | G25: 3 | H25: 1929000 | I25: =H25*F25 -> 23148000 | J25: =(H25*60%)*2 -> 2314800 | K25: =40000*12 -> 480000 | L25: =ROUND(H25*1/209*1.5,-1) -> 13840 | M25: =(L25*40)*F25 -> 6643200 | P25: =SUM(J25,K25,M25,N25,O25) -> 9438000 | Q25: =ROUNDUP((P25+I25)*1/12,-1) -> 2715500 | R25: =ROUND((I25+P25)*4.5%,-1) -> 1466370 | S25: =ROUNDUP((I25+P25)*3.335%,-1) -> 1086750 | T25: =ROUNDUP(S25*10.25%,-1) -> 111400 | U25: =ROUND((I25+P25)*1.05%,-1) -> 342150 | V25: =ROUND((I25+P25)*0.8%,-1) -> 260690 | W25: =SUM(R25:V25) -> 3267360 | X25: =SUM(Q25,W25) -> 5982860 | Y25: =SUM(X25,X26,P25,P26,I25,I26) -> 38568860 | Z25: =200000*12 -> 2400000 | AA25: =50000*12 -> 600000 | AB25: =AA25+Z25 -> 3000000
I26: =H26*F26 -> 0 | J26: =H26*60% -> 0 | L26: =ROUND(H26*1/209*1.5,-1) -> 0 | M26: =(L26*40)*F26 -> 0 | P26: =SUM(J26,K26,M26,N26,O26) -> 0 | Q26: =ROUNDUP((P26+I26)*1/12,-1) -> 0 | R26: =ROUND((I26+P26)*4.5%,-1) -> 0 | S26: =ROUNDUP((I26+P26)*3.335%,-1) -> 0 | T26: =ROUNDUP(S26*10.25%,-1) -> 0 | U26: =ROUND((I26+P26)*1.05%,-1) -> 0 | V26: =ROUND((I26+P26)*0.8%,-1) -> 0 | W26: =SUM(R26:V26) -> 0 | X26: =SUM(Q26,W26) -> 0
A27: 12 | B27: 생활지도원 | C27: 입사예정 | D27: 1 | E27: =F27+F28 -> 12 | F27: 12 | G27: 3 | H27: 1929000 | I27: =H27*F27 -> 23148000 | J27: =(H27*60%)*2 -> 2314800 | K27: =40000*12 -> 480000 | L27: =ROUND(H27*1/209*1.5,-1) -> 13840 | M27: =(L27*40)*F27 -> 6643200 | P27: =SUM(J27,K27,M27,N27,O27) -> 9438000 | Q27: =ROUNDUP((P27+I27)*1/12,-1) -> 2715500 | R27: =ROUND((I27+P27)*4.5%,-1) -> 1466370 | S27: =ROUNDUP((I27+P27)*3.335%,-1) -> 1086750 | T27: =ROUNDUP(S27*10.25%,-1) -> 111400 | U27: =ROUND((I27+P27)*1.05%,-1) -> 342150 | V27: =ROUND((I27+P27)*0.8%,-1) -> 260690 | W27: =SUM(R27:V27) -> 3267360 | X27: =SUM(Q27,W27) -> 5982860 | Y27: =SUM(X27,X28,P27,P28,I27,I28) -> 38568860 | Z27: =200000*12 -> 2400000 | AA27: =50000*12 -> 600000 | AB27: =AA27+Z27 -> 3000000 | AC27: 21.01 입사
I28: =H28*F28 -> 0 | J28: =H28*60% -> 0 | L28: =ROUND(H28*1/209*1.5,-1) -> 0 | M28: =(L28*40)*F28 -> 0 | P28: =SUM(J28,K28,M28,N28,O28) -> 0 | Q28: =ROUNDUP((P28+I28)*1/12,-1) -> 0 | R28: =ROUND((I28+P28)*4.5%,-1) -> 0 | S28: =ROUNDUP((I28+P28)*3.335%,-1) -> 0 | T28: =ROUNDUP(S28*10.25%,-1) -> 0 | U28: =ROUND((I28+P28)*1.05%,-1) -> 0 | V28: =ROUND((I28+P28)*0.8%,-1) -> 0 | W28: =SUM(R28:V28) -> 0 | X28: =SUM(Q28,W28) -> 0
A29: 합계액 | I29: =SUM(I3:I28) -> 277542000 | J29: =SUM(J3:J28) -> 27759600 | K29: =SUM(K3:K28) -> 2400000 | L29: =SUM(L3:L28) -> 250150 | M29: =SUM(M3:M28) -> 79662000 | N29: =SUM(N3:N28) -> 0 | O29: =SUM(O3:O28) -> 0 | P29: =SUM(P3:P28) -> 109821600 | ... X29: =SUM(X3:X28) -> 71120880 | Y29: =SUM(Y5:Y28) -> 458484480 | Z29: =SUM(Z3:Z28) -> 28800000 | AA29: =SUM(AA3:AA28) -> 7200000 | AB29: =SUM(AB3:AB28) -> 36000000 | AC29: =SUM(AC3:AC26) -> 0
A30: ※ 보건복지가족부 2020년 종사자 보수지급기준표 적용.

Sheet 아-2 7종인건비
A1: 사. 임직원 보수 일람표
A2: 도비7종 인건비 직원
A3: 순번 | B3: 직책 | C3: 성명 | D3: 승급월 | G3: 호봉 | H3: 기본급 | I3: 급여 | J3: 제수당 | Q3: 퇴직금 및 퇴직적립금 | R3: 국민연금 | S3: 건강보험 | T3: 장기요양 | U3: 고용보험 | V3: 산재보험 | W3: 사회보험 부담금 | X3: 공제액계 | Y3: 합계 | Z3: 지자체 별도 지급액 | AC3: 비고
J4: 명절휴가비 | K4: 가족수당 | L4: 시급 | M4: 연장수당 | N4: 연장추가 지원수당 | O4: 직책수당 | P4: 제수당 계 | Z4: 경기도 특수근무수당 | AA4: 경기도 처우개선비 | AB4: 지자체 지급액 계
A5: 1 | B5: 생활지도원 | C5: 유동식 | D5: 2 | F5: 1 | G5: 8 | H5: 2241000 | I5: =H5*F5 -> 2241000 | L5: =ROUND(H5*1/209*1.5,-1) -> 16080 | M5: =(L5*40)*F5 -> 643200 | P5: =SUM(J5,K5,M5,N5,O5) -> 643200 | Q5: =ROUNDUP((P5+I5)*1/12,-1) -> 240350 | R5: =ROUND((I5+P5)*4.5%,-1) -> 129790 | S5: =ROUNDUP((I5+P5)*3.335%,-1) -> 96190 | T5: =ROUNDUP(S5*10.25%,-1) -> 9860 | U5: =ROUND((I5+P5)*1.05%,-1) -> 30280 | V5: =ROUND((I5+P5)*0.8%,-1) -> 23070 | W5: =SUM(R5:V5) -> 289190 | X5: =SUM(Q5,W5) -> 529540 | Y5: =SUM(X5,X6,P5,P6,I5,I6) -> 45297160 | Z5: =250000*12 -> 3000000 | AA5: =50000*12 -> 600000 | AB5: =AA5+Z5 -> 3600000
F6: 11 | G6: =G5+1 -> 9 | H6: 2304000 | I6: =H6*F6 -> 25344000 | J6: =(H6*60%)*2 -> 2764800 | L6: =ROUND(H6*1/209*1.5,-1) -> 16540 | M6: =(L6*40)*F6 -> 7277600 | P6: =SUM(J6,K6,M6,N6,O6) -> 10042400 | Q6: =ROUNDUP((P6+I6)*1/12,-1) -> 2948870 | R6: =ROUND((I6+P6)*4.5%,-1) -> 1592390 | S6: =ROUNDUP((I6+P6)*3.335%,-1) -> 1180140 | T6: =ROUNDUP(S6*10.25%,-1) -> 120970 | U6: =ROUND((I6+P6)*1.05%,-1) -> 371560 | V6: =ROUND((I6+P6)*0.8%,-1) -> 283090 | W6: =SUM(R6:V6) -> 3548150 | X6: =SUM(Q6,W6) -> 6497020
A7: 2 | B7: 조리원 | C7: 윤인자 | D7: 3 | F7: 2 | G7: 6 | H7: 2008000 | I7: =H7*F7 -> 4016000 | J7: =H7*60% -> 1204800 | K7: =40000*12 -> 480000 | L7: =ROUND(H7*1/209*1.5,-1) -> 14410 | M7: =(L7*40)*F7 -> 1152800 | P7: =SUM(J7,K7,M7,N7,O7) -> 2837600 | Q7: =ROUNDUP((P7+I7)*1/12,-1) -> 571140 | R7: =ROUND((I7+P7)*4.5%,-1) -> 308410 | S7: =ROUNDUP((I7+P7)*3.335%,-1) -> 228570 | T7: =ROUNDUP(S7*10.25%,-1) -> 23430 | U7: =ROUND((I7+P7)*1.05%,-1) -> 71960 | V7: =ROUND((I7+P7)*0.8%,-1) -> 54830 | W7: =SUM(R7:V7) -> 687200 | X7: =SUM(Q7,W7) -> 1258340 | Y7: =SUM(X7,X8,P7,P8,I7,I8) -> 40783390 | Z7: =200000*2 -> 400000 | AA7: =50000*12 -> 600000 | AB7: =AA7+Z7 -> 1000000
F8: 10 | G8: =G7+1 -> 7 | H8: 2049000 | I8: =H8*F8 -> 20490000 | J8: =H8*60% -> 1229400 | L8: =ROUND(H8*1/209*1.5,-1) -> 14710 | M8: =(L8*40)*F8 -> 5884000 | P8: =SUM(J8,K8,M8,N8,O8) -> 7113400 | Q8: =ROUNDUP((P8+I8)*1/12,-1) -> 2300290 | R8: =ROUND((I8+P8)*4.5%,-1) -> 1242150 | S8: =ROUNDUP((I8+P8)*3.335%,-1) -> 920580 | T8: =ROUNDUP(S8*10.25%,-1) -> 94360 | U8: =ROUND((I8+P8)*1.05%,-1) -> 289840 | V8: =ROUND((I8+P8)*0.8%,-1) -> 220830 | W8: =SUM(R8:V8) -> 2767760 | X8: =SUM(Q8,W8) -> 5068050 | Z8: =250000*10 -> 2500000
A9: 3 | B9: 운전원 | C9: 전상돈 | D9: 9 | F9: 8 | G9: 13 | H9: 2558000 | I9: =H9*F9 -> 20464000 | J9: =H9*60% -> 1534800 | K9: =60000*12 -> 720000 | L9: =ROUND(H9*1/209*1.5,-1) -> 18360 | M9: =(L9*20)*F9 -> 2937600 | N9: =(L9*5)*F9 -> 734400 | P9: =SUM(J9,K9,M9,N9,O9) -> 5926800 | Q9: =ROUNDUP((P9+I9)*1/12,-1) -> 2199240 | R9: =ROUND((I9+P9)*4.5%,-1) -> 1187590 | S9: =ROUNDUP((I9+P9)*3.335%,-1) -> 880140 | T9: =ROUNDUP(S9*10.25%,-1) -> 90220 | U9: =ROUND((I9+P9)*1.05%,-1) -> 277100 | V9: =ROUND((I9+P9)*0.8%,-1) -> 211130 | W9: =SUM(R9:V9) -> 2646180 | X9: =SUM(Q9,W9) -> 4845420 | Y9: =SUM(X9,X10,P9,P10,I9,I10) -> 47751500 | Z9: =250000*12 -> 3000000 | AA9: =50000*12 -> 600000 | AB9: =AA9+Z9 -> 3600000
F10: 4 | G10: =G9+1 -> 14 | H10: 2624000 | I10: =H10*F10 -> 10496000 | J10: =H10*60% -> 1574400 | L10: =ROUND(H10*1/209*1.5,-1) -> 18830 | M10: =(L10*20)*F10 -> 1506400 | N10: =(L10*5)*F10 -> 376600 | P10: =SUM(J10,K10,M10,N10,O10) -> 3457400 | Q10: =ROUNDUP((P10+I10)*1/12,-1) -> 1162790 | R10: =ROUND((I10+P10)*4.5%,-1) -> 627900 | S10: =ROUNDUP((I10+P10)*3.335%,-1) -> 465350 | T10: =ROUNDUP(S10*10.25%,-1) -> 47700 | U10: =ROUND((I10+P10)*1.05%,-1) -> 146510 | V10: =ROUND((I10+P10)*0.8%,-1) -> 111630 | W10: =SUM(R10:V10) -> 1399090 | X10: =SUM(Q10,W10) -> 2561880
A11: 합계액 | I11: =SUM(I5:I10) -> 83051000 | J11: =SUM(J5:J10) -> 8308200 | K11: =SUM(K5:K10) -> 1200000 | L11: =SUM(L5:L10) -> 98930 | M11: =SUM(M5:M10) -> 19401600 | N11: =SUM(N5:N10) -> 1111000 | O11: =SUM(#REF!) -> #REF! | P11: =SUM(P5:P10) -> 30020800 | Q11: =SUM(Q5:Q10) -> 9422680 | R11: =SUM(R5:R10) -> 5088230 | S11: =SUM(S5:S10) -> 3770970 | T11: =SUM(T5:T10) -> 386540 | U11: =SUM(U5:U10) -> 1187250 | V11: =SUM(V5:V10) -> 904580 | W11: =SUM(W5:W10) -> 11337570 | ... AB11: =SUM(AB5:AB10) -> 8200000
A12: ※ 보건복지가족부 2020년 종사자 보수지급기준표 적용.

Sheet 아. 일용잡급일람표
A1: 아. 일용잡급 일람표
A3: 순번 | B3: 직책 | C3: 성명 | D3: 호봉 | E3: 급여 | F3: 제수당 | L3: 퇴직금 및 퇴직적립금 | M3: 사회보험부담금 | N3: 총합계 | O3: 비고
F4: 00수당 | G4: 00수당 | H4: 00수당 | I4: 00수당 | J4: 00수당 | K4: 제수당 계
A5: 1 | C5: 한정숙 | D5: 1 | E5: 12000000 | N5: =SUM(E5:M5) -> 12000000
A6: 2
A7: 3
A8: 4
A9: 5
A10: 6
A11: 합 계 | N11: =SUM(N5:N10) -> 12000000

Sheet 수급자보장급여
A2: ※ '국민기초 생활보장 급여'월별 산출내역표
AE3: (단위:원)
A4: 월 | B4: 구 분 | G4: 금 액 | AE4: 비 고
A5: 총 계 | G5: =ROUND(G16+G25+G34+G43+G52+G61+G70+G79+G88+G97+G107+G116,-1) -> 194641680
A6: 총계 | B6: 소계 | G6: =G7+G9+G11+G13 -> 195371700 | AE6: ※생활보장급여 입소 현인원
B7: 위로금 | C7: 소계 | G7: =G8 -> 6000000
C8: 특별위로금 | G8: =G18+G27+G36+G45+G54+G63+G72+G81+G90+G99+G109+G118 -> 6000000 | H8: 50000 | I8: 원 | R8: =G8 -> 6000000 | AE8: 2회
B9: 주부식비 | C9: 소계 | G9: =G10 -> 186971700
C10: 주부식비 | G10: =ROUND(G20+G29+G38+G47+G56+G65+G74+G83+G92+G101+G111+G120,-1)+730020 -> 186971700 | H10: 258669 | I10: 원 | R10: =G10 -> 186971700 | AE10: 12회
B11: 월동대책비 | C11: 소계 | G11: =G12 -> 2400000
C12: 월동대책비 | G12: =G21+G30+G39+G48+G57+G66+G75+G84+G93+G103+G112+G121 -> 2400000 | H12: 40000 | I12: 원 | R12: =G12 -> 2400000 | AE12: 1회
B13: 소계 | C13: 소계 | G13: =G14+G15 -> 0
B14: 피복비 | C14: 피복비 | G14: =G77 -> 0 | H14: =G14/12/51 -> 0 | R14: =G14 -> 0 | AE14: 12회
A16: 1월 | B16: 소계 | G16: =G17+G19+G22 -> 18520140 | AE16: ※생활보장급여 입소 현인원
B17: 위로금 | C17: 소계 | G17: =G18 -> 3000000
C18: 특별위로금 | G18: =R18 -> 3000000 | H18: =H8 -> 50000 | I18: 원 | J18: × | K18: 60 | L18: 명 | M18: × | N18: 1 | O18: 일 | P18: = | R18: =H18*K18*N18 -> 3000000
B19: 주부식비 | C19: 소계 | G19: =SUM(G20:G21) -> 15520140
C20: 주부식비 | G20: =R20 -> 15520140 | H20: 258669 | I20: 원 | J20: × | K20: 60 | L20: 명 | M20: × | N20: 1 | O20: 월 | P20: = | R20: =ROUND(H20*K20*N20,-1) -> 15520140
C21: 월동대책비
B22: 피복비 | C22: 소계 | G22: =SUM(G23:G24) -> 0
C23: 피복비 | G23: =R23 -> 0 | I23: 원 | J23: × | K23: 51 | L23: 명 | M23: × | N23: 1 | O23: 개월 | P23: = | R23: =ROUND(H23*K23*N23,-1) -> 0
C24: 동내의 | G24: =R24 -> 0 | I24: 원 | J24: × | L24: 명 | M24: × | O24: 회 | P24: = | R24: =H24*K24*N24 -> 0
A25: 2월 | B25: 소계 | G25: =G26+G28+G31 -> 15520140 | AE25: ※생활보장급여 입소 현인원
B26: 위로금 | C26: 소계 | G26: =G27 -> 0
C27: 특별위로금 | G27: =R27 -> 0 | I27: 원 | J27: × | L27: 명 | M27: × | N27: 1 | O27: 일 | P27: = | R27: =H27*K27*N27 -> 0 | AE27: 설지급
B28: 주부식비 | C28: 소계 | G28: =SUM(G29:G30) -> 15520140
C29: 주부식비 | G29: =R29 -> 15520140 | H29: =H20 -> 258669 | I29: 원 | J29: × | K29: 60 | L29: 명 | M29: × | N29: 1 | O29: 월 | P29: = | R29: =ROUND(H29*K29*N29,-1) -> 15520140
C30: 월동대책비
B31: 피복비 | C31: 소계 | G31: =SUM(G32:G33) -> 0
C32: 피복비 | G32: =R32 -> 0 | H32: =H23 -> 0 | I32: 원 | J32: × | K32: 51 | L32: 명 | M32: × | N32: 1 | O32: 개월 | P32: = | R32: =ROUND(H32*K32*N32,-1) -> 0
C33: 동내의 | G33: =R33 -> 0 | I33: 원 | J33: × | L33: 명 | M33: × | O33: 회 | P33: = | R33: =H33*K33*N33 -> 0
A34: 3월 | B34: 소계 | G34: =G35+G37+G40 -> 15520140 | AE34: ※생활보장급여 입소 현인원
B35: 위로금 | C35: 소계 | G35: =G36 -> 0
C36: 특별위로금 | G36: =R36 -> 0 | I36: 원 | J36: × | L36: 명 | M36: × | O36: 일 | P36: = | R36: =H36*K36*N36 -> 0
B37: 주부식비 | C37: 소계 | G37: =SUM(G38:G39) -> 15520140
C38: 주부식비 | G38: =R38 -> 15520140 | H38: =H29 -> 258669 | I38: 원 | J38: × | K38: 60 | L38: 명 | M38: × | N38: 1 | O38: 월 | P38: = | R38: =ROUND(H38*K38*N38,-1) -> 15520140
C39: 월동대책비
B40: 피복비 | C40: 소계 | G40: =SUM(G41:G42) -> 0
C41: 피복비 | G41: =R41 -> 0 | H41: =H32 -> 0 | I41: 원 | J41: × | K41: 51 | L41: 명 | M41: × | N41: 1 | O41: 개월 | P41: = | R41: =ROUND(H41*K41*N41,-1) -> 0
C42: 동내의 | G42: =R42 -> 0 | I42: 원 | J42: × | L42: 명 | M42: × | O42: 회 | P42: = | R42: =H42*K42*N42 -> 0
A43: 4월 | B43: 소계 | G43: =G44+G46+G49 -> 15520140 | AE43: ※생활보장급여 입소 현인원
B44: 위로금 | C44: 소계 | G44: =G45 -> 0
C45: 특별위로금 | G45: =R45 -> 0 | I45: 원 | J45: × | L45: 명 | M45: × | O45: 일 | P45: = | R45: =H45*K45*N45 -> 0
B46: 주부식비 | C46: 소계 | G46: =SUM(G47:G48) -> 15520140
C47: 주부식비 피복비 | G47: =R47 -> 15520140 | H47: =H38 -> 258669 | I47: 원 | J47: × | K47: 60 | L47: 명 | M47: × | N47: 1 | O47: 월 | P47: = | R47: =ROUND(H47*K47*N47,-1) -> 15520140
C48: 월동대책비
B49: 피복비 | C49: 소계 | G49: =SUM(G50:G51) -> 0
C50: 피복비 | G50: =R50 -> 0 | H50: =H41 -> 0 | I50: 원 | J50: × | K50: 51 | L50: 명 | M50: × | N50: 1 | O50: 개월 | P50: = | R50: =ROUND(H50*K50*N50,-1) -> 0
C51: 동내의 | G51: =R51 -> 0 | I51: 원 | J51: × | L51: 명 | M51: × | O51: 회 | P51: = | R51: =H51*K51*N51 -> 0
A52: 5월 | B52: 소계 | G52: =G53+G55+G58 -> 15520140 | AE52: ※생활보장급여 입소 현인원
B53: 위로금 | C53: 소계 | G53: =G54 -> 0
C54: 특별위로금 | G54: =R54 -> 0 | I54: 원 | J54: × | L54: 명 | M54: × | O54: 일 | P54: = | R54: =H54*K54*N54 -> 0
B55: 주부식비 | C55: 소계 | G55: =SUM(G56:G57) -> 15520140
C56: 주부식비 | G56: =R56 -> 15520140 | H56: =H47 -> 258669 | I56: 원 | J56: × | K56: 60 | L56: 명 | M56: × | N56: 1 | O56: 월 | P56: = | R56: =ROUND(H56*K56*N56,-1) -> 15520140
C57: 월동대책비
B58: 피복비 | C58: 소계 | G58: =SUM(G59:G60) -> 0
C59: 피복비 | G59: =R59 -> 0 | H59: =H50 -> 0 | I59: 원 | J59: × | K59: 51 | L59: 명 | M59: × | N59: 1 | O59: 개월 | P59: = | R59: =ROUND(H59*K59*N59,-1) -> 0
C60: 동내의 | G60: =R60 -> 0 | I60: 원 | J60: × | L60: 명 | M60: × | O60: 회 | P60: = | R60: =H60*K60*N60 -> 0
A61: 6월 | B61: 소계 | G61: =G62+G64+G67 -> 15520140 | AE61: ※생활보장급여 입소 현인원
B62: 위로금 | C62: 소계 | G62: =G63 -> 0
C63: 특별위로금 | G63: =R63 -> 0 | I63: 원 | J63: × | L63: 명 | M63: × | N63: 1 | O63: 회 | P63: = | R63: =H63*K63*N63 -> 0
B64: 주부식비 | C64: 소계 | G64: =SUM(G65:G66) -> 15520140
C65: 주부식비 | G65: =R65 -> 15520140 | H65: =H56 -> 258669 | I65: 원 | J65: × | K65: 60 | L65: 명 | M65: × | N65: 1 | O65: 월 | P65: = | R65: =ROUND(H65*K65*N65,-1) -> 15520140
C66: 월동대책비
B67: 피복비 | C67: 소계 | E67: 0 | G67: =SUM(G68:G69) -> 0
C68: 피복비 | G68: =R68 -> 0 | H68: =H59 -> 0 | I68: 원 | J68: × | K68: 51 | L68: 명 | M68: × | N68: 1 | O68: 개월 | P68: = | R68: =ROUND(H68*K68*N68,-1) -> 0
C69: 동내의 | G69: =R69 -> 0 | I69: 원 | J69: × | L69: 명 | M69: × | O69: 회 | P69: = | R69: =H69*K69*N69 -> 0
A70: 7월 | B70: 소계 | G70: =G71+G73+G76 -> 15520140 | AE70: ※생활보장급여 입소 현인원
B71: 위로금 | C71: 소계 | G71: =G72 -> 0
C72: 특별위로금 | G72: =R72 -> 0 | I72: 원 | J72: × | L72: 명 | M72: × | O72: 일 | P72: = | R72: =H72*K72*N72 -> 0
B73: 주부식비 | C73: 소계 | G73: =SUM(G74:G75) -> 15520140
C74: 주부식비 | G74: =R74 -> 15520140 | H74: =H65 -> 258669 | I74: 원 | J74: × | K74: 60 | L74: 명 | M74: × | N74: 1 | O74: 월 | P74: = | R74: =ROUND(H74*K74*N74,-1) -> 15520140
C75: 월동대책비 | I75: 원 | J75: × | L75: 명 | M75: × | N75: 1 | O75: 회 | P75: =
B76: 피복비 | C76: 소계 | G76: =SUM(G77:G78) -> 0
C77: 피복비 | G77: 0 | I77: 원 | J77: × | K77: 60 | L77: 명 | M77: × | N77: 1 | O77: 개월 | P77: = | R77: =ROUND(H77*K77*N77,-1) -> 0
C78: 동내의 | G78: =R78 -> 0 | I78: 원 | J78: × | L78: 명 | M78: × | N78: 1 | O78: 회 | P78: = | R78: =H78*K78*N78 -> 0
A79: 8월 | B79: 소계 | G79: =G80+G82+G85 -> 15520140 | AE79: ※생활보장급여 입소 현인원
B80: 위로금 | C80: 소계 | G80: =G81 -> 0
C81: 특별위로금 | G81: =R81 -> 0 | I81: 원 | J81: × | L81: 명 | M81: × | O81: 일 | P81: = | R81: =H81*K81*N81 -> 0
B82: 주부식비 | C82: 소계 | G82: =SUM(G83:G84) -> 15520140
C83: 주부식비 | G83: =R83 -> 15520140 | H83: 258669 | I83: 원 | J83: × | K83: 60 | L83: 명 | M83: × | N83: 1 | O83: 월 | P83: = | R83: =ROUND(H83*K83*N83,-1) -> 15520140
C84: 월동대책비 | I84: 원 | J84: × | L84: 명 | M84: × | O84: 회 | P84: =
B85: 피복비 | C85: 소계 | G85: =SUM(G86:G87) -> 0
C86: 피복비 | G86: =R86 -> 0 | H86: 0 | I86: 원 | J86: × | K86: 51 | L86: 명 | M86: × | N86: 1 | O86: 개월 | P86: = | R86: =ROUND(H86*K86*N86,-1) -> 0
C87: 동내의 | G87: =R87 -> 0 | I87: 원 | J87: × | L87: 명 | M87: × | O87: 회 | P87: = | R87: =H87*K87*N87 -> 0
A88: 9월 | B88: 소계 | G88: =G89+G91+G94 -> 18520140 | AE88: ※생활보장급여 입소 현인원
B89: 위로금 | C89: 소계 | G89: =G90 -> 3000000
C90: 특별위로금 | G90: =R90 -> 3000000 | H90: =H8 -> 50000 | I90: 원 | J90: × | K90: 60 | L90: 명 | M90: × | N90: 1 | O90: 일 | P90: = | R90: =H90*K90*N90 -> 3000000 | AE90: 추석지급
B91: 주부식비 | C91: 소계 | G91: =SUM(G92:G93) -> 15520140
C92: 주부식비 | G92: =R92 -> 15520140 | H92: =H83 -> 258669 | I92: 원 | J92: × | K92: 60 | L92: 명 | M92: × | N92: 1 | O92: 월 | P92: = | R92: =ROUND(H92*K92*N92,-1) -> 15520140
C93: 월동대책비 | G93: =R93 -> 0 | I93: 원 | J93: × | L93: 명 | M93: × | N93: 1 | O93: 회 | P93: = | R93: =ROUND(H93*K93*N93,-1) -> 0
B94: 피복비 | C94: 소계 | G94: =SUM(G95:G96) -> 0
C95: 피복비 | G95: =R95 -> 0 | H95: =H86 -> 0 | I95: 원 | J95: × | K95: 51 | L95: 명 | M95: × | N95: 1 | O95: 개월 | P95: = | R95: =ROUND(H95*K95*N95,-1) -> 0
C96: 동내의 | G96: =R96 -> 0 | I96: 원 | J96: × | L96: 명 | M96: × | N96: 1 | O96: 회 | P96: = | R96: =H96*K96*N96 -> 0
A97: 10월 | B97: 소계 | G97: =G98+G100+G102+G104 -> 17920140 | AE97: ※생활보장급여 입소 현인원
B98: 위로금 | C98: 소계 | G98: =G99 -> 0
C99: 특별위로금 | G99: =R99 -> 0 | I99: 원 | J99: × | L99: 명 | M99: × | O99: 일 | P99: = | R99: =H99*K99*N99 -> 0
B100: 소계 | C100: 소계 | G100: =G101 -> 15520140
B101: 주부식비 | C101: 주부식비 | G101: =R101 -> 15520140 | H101: =H92 -> 258669 | I101: 원 | J101: × | K101: 60 | L101: 명 | M101: × | N101: 1 | O101: 월 | P101: = | R101: =ROUND(H101*K101*N101,-1) -> 15520140
B102: 소계 | C102: 소계 | G102: =G103 -> 2400000
...

Sheet 4종
A1: ※ '장애인복지시설 입소자지원(4종)'산출내역표
P2: (단위:원)
A3: 관 | B3: 항 | C3: 목 | D3: 산 출 내 역 | O3: 금 액 | P3: 비 고
A4: 소 계 | O4: =O5+O19+O33+O40 -> 32840000
A5: 입소자부식비 | B5: 입소자부식비 | C5: 입소자부식비 | D5: 계 | O5: =SUM(O7:O18) -> 14600000
D6: 12월 | E6: 500 | F6: 원 | G6: × | H6: 80 | I6: 명 | J6: × | K6: 365 | L6: 일 | M6: = | N6: =E6*H6*K6 -> 14600000 | O6: =N6 -> 14600000
D7: 1 월 | E7: 500 | F7: 원 | G7: × | H7: 80 | I7: 명 | J7: × | K7: 31 | L7: 일 | M7: = | N7: =E7*H7*K7 -> 1240000 | O7: =N7 -> 1240000
D8: 2 월 | E8: 500 | F8: 원 | G8: × | H8: 80 | I8: 명 | J8: × | K8: 28 | L8: 일 | M8: = | N8: =E8*H8*K8 -> 1120000 | O8: =N8 -> 1120000
D9: 3 월 | E9: 500 | F9: 원 | G9: × | H9: 80 | I9: 명 | J9: × | K9: 31 | L9: 일 | M9: = | N9: =E9*H9*K9 -> 1240000 | O9: =N9 -> 1240000
D10: 4 월 | E10: 500 | F10: 원 | G10: × | H10: 80 | I10: 명 | J10: × | K10: 30 | L10: 일 | M10: = | N10: =E10*H10*K10 -> 1200000 | O10: =N10 -> 1200000
D11: 5 월 | E11: 500 | F11: 원 | G11: × | H11: 80 | I11: 명 | J11: × | K11: 31 | L11: 일 | M11: = | N11: =E11*H11*K11 -> 1240000 | O11: =N11 -> 1240000
D12: 6 월 | E12: 500 | F12: 원 | G12: × | H12: 80 | I12: 명 | J12: × | K12: 30 | L12: 일 | M12: = | N12: =E12*H12*K12 -> 1200000 | O12: =N12 -> 1200000
D13: 7 월 | E13: 500 | F13: 원 | G13: × | H13: 80 | I13: 명 | J13: × | K13: 31 | L13: 일 | M13: = | N13: =E13*H13*K13 -> 1240000 | O13: =N13 -> 1240000
D14: 8 월 | E14: 500 | F14: 원 | G14: × | H14: 80 | I14: 명 | J14: × | K14: 31 | L14: 일 | M14: = | N14: =E14*H14*K14 -> 1240000 | O14: =N14 -> 1240000
D15: 9 월 | E15: 500 | F15: 원 | G15: × | H15: 80 | I15: 명 | J15: × | K15: 30 | L15: 일 | M15: = | N15: =E15*H15*K15 -> 1200000 | O15: =N15 -> 1200000
D16: 10 월 | E16: 500 | F16: 원 | G16: × | H16: 80 | I16: 명 | J16: × | K16: 31 | L16: 일 | M16: = | N16: =E16*H16*K16 -> 1240000 | O16: =N16 -> 1240000
D17: 11 월 | E17: 500 | F17: 원 | G17: × | H17: 80 | I17: 명 | J17: × | K17: 30 | L17: 일 | M17: = | N17: =E17*H17*K17 -> 1200000 | O17: =N17 -> 1200000
D18: 12 월 | E18: 500 | F18: 원 | G18: × | H18: 80 | I18: 명 | J18: × | K18: 31 | L18: 일 | M18: = | N18: =E18*H18*K18 -> 1240000 | O18: =N18 -> 1240000
A19: 입소자간식비 | B19: 입소자간식비 | C19: 입소자간식비 | D19: 계 | O19: =SUM(O21:O32) -> 4800000
D20: 12월 | E20: 5000 | F20: 원 | G20: × | H20: 80 | I20: 명 | J20: × | K20: 12 | L20: 개월 | M20: = | N20: =E20*H20*K20 -> 4800000 | O20: =N20 -> 4800000
D21: 1 월 | E21: 5000 | F21: 원 | G21: × | H21: 80 | I21: 명 | J21: × | K21: 1 | L21: 개월 | M21: = | N21: =E21*H21*K21 -> 400000 | O21: =N21 -> 400000
D22: 2 월 | E22: 5000 | F22: 원 | G22: × | H22: 80 | I22: 명 | J22: × | K22: 1 | L22: 개월 | M22: = | N22: =E22*H22*K22 -> 400000 | O22: =N22 -> 400000
D23: 3 월 | E23: 5000 | F23: 원 | G23: × | H23: 80 | I23: 명 | J23: × | K23: 1 | L23: 개월 | M23: = | N23: =E23*H23*K23 -> 400000 | O23: =N23 -> 400000
D24: 4 월 | E24: 5000 | F24: 원 | G24: × | H24: 80 | I24: 명 | J24: × | K24: 1 | L24: 개월 | M24: = | N24: =E24*H24*K24 -> 400000 | O24: =N24 -> 400000
D25: 5 월 | E25: 5000 | F25: 원 | G25: × | H25: 80 | I25: 명 | J25: × | K25: 1 | L25: 개월 | M25: = | N25: =E25*H25*K25 -> 400000 | O25: =N25 -> 400000
D26: 6 월 | E26: 5000 | F26: 원 | G26: × | H26: 80 | I26: 명 | J26: × | K26: 1 | L26: 개월 | M26: = | N26: =E26*H26*K26 -> 400000 | O26: =N26 -> 400000
D27: 7 월 | E27: 5000 | F27: 원 | G27: × | H27: 80 | I27: 명 | J27: × | K27: 1 | L27: 개월 | M27: = | N27: =E27*H27*K27 -> 400000 | O27: =N27 -> 400000
D28: 8 월 | E28: 5000 | F28: 원 | G28: × | H28: 80 | I28: 명 | J28: × | K28: 1 | L28: 개월 | M28: = | N28: =E28*H28*K28 -> 400000 | O28: =N28 -> 400000
D29: 9 월 | E29: 5000 | F29: 원 | G29: × | H29: 80 | I29: 명 | J29: × | K29: 1 | L29: 개월 | M29: = | N29: =E29*H29*K29 -> 400000 | O29: =N29 -> 400000
D30: 10 월 | E30: 5000 | F30: 원 | G30: × | H30: 80 | I30: 명 | J30: × | K30: 1 | L30: 개월 | M30: = | N30: =E30*H30*K30 -> 400000 | O30: =N30 -> 400000
D31: 11 월 | E31: 5000 | F31: 원 | G31: × | H31: 80 | I31: 명 | J31: × | K31: 1 | L31: 개월 | M31: = | N31: =E31*H31*K31 -> 400000 | O31: =N31 -> 400000
D32: 12 월 | E32: 5000 | F32: 원 | G32: × | H32: 80 | I32: 명 | J32: × | K32: 1 | L32: 개월 | M32: = | N32: =E32*H32*K32 -> 400000 | O32: =N32 -> 400000
A33: 입소자피복비 및 특별급식비 | B33: 입소자피복비 및 특별급식비 | C33: 입소자피복비 및 특별급식비 | D33: 계 | O33: =SUM(O36:O39) -> 10240000
D34: 피복비 | E34: 20000 | F34: 원 | G34: × | H34: 80 | I34: 명 | J34: × | K34: 4 | L34: 회 | M34: = | N34: =E34*H34*K34 -> 6400000 | O34: =N34 -> 6400000
D35: 특별 급식비 | E35: 12000 | F35: 원 | G35: × | H35: 80 | I35: 명 | J35: × | K35: 4 | L35: 회 | M35: = | N35: =E35*H35*K35 -> 3840000 | O35: =N35 -> 3840000
D36: 설날 | E36: 32000 | F36: 원 | G36: × | H36: 80 | I36: 명 | J36: × | K36: 1 | L36: 회 | M36: = | N36: =E36*H36*K36 -> 2560000 | O36: =N36 -> 2560000
D37: 장애인 의날 | E37: 32000 | F37: 원 | G37: × | H37: 80 | I37: 명 | J37: × | K37: 1 | L37: 회 | M37: = | N37: =E37*H37*K37 -> 2560000 | O37: =N37 -> 2560000
D38: 추석 | E38: 32000 | F38: 원 | G38: × | H38: 80 | I38: 명 | J38: × | K38: 1 | L38: 회 | M38: = | N38: =E38*H38*K38 -> 2560000 | O38: =N38 -> 2560000
D39: 연말 | E39: 32000 | F39: 원 | G39: × | H39: 80 | I39: 명 | J39: × | K39: 1 | L39: 회 | M39: = | N39: =E39*H39*K39 -> 2560000 | O39: =N39 -> 2560000
A40: 입소자 건강진단비 | B40: 입소자 건강진단비 | C40: 입소자 건강진단비 | D40: 계 | O40: =O41 -> 3200000
D41: 년1회 | E41: 40000 | F41: 원 | G41: × | H41: 80 | I41: 명 | J41: × | K41: 1 | L41: 회 | M41: = | N41: =E41*H41*K41 -> 3200000 | O41: =N41 -> 3200000
E67: 0

Sheet 1.국도비세출
A1: 라. 세 출
A2: 1) 보조금 세출내역
Q3: (단위:원)
A4: 과 목 | E4: ='[1]다-3.후원금세입'!D4:D5 -> 당초예산 ( A ) | F4: ='[1]다-3.후원금세입'!E4:E5 -> 1차추경 ( B ) | G4: 증감(B-A) | I4: 산 출 내 역
A5: 관 | B5: 항 | C5: 목 | D5: 세목 | G5: 금액 | H5: 비율(%) | T5: 80명기준 | U5: 실수령액기준
A6: 총 계 | E6: 2415800000 | F6: =F7+F36+F41+F56+F59 -> 3162463760 | G6: =F6-E6 -> 746663760 | H6: =G6/E6*100 -> 30.907516 | I6: * 시설당기본지원 : 2,286,000원*30명 = 68,580,000원 * 생활장애인가중지원 : 635,000원*50명 = 31,750,000원 | T6: =(68580000)+(31750000) -> 100330000 | U6: =68580000+31115000 -> 99695000 | V6: =T6-U6 -> 635000
A7: 사무비 | B7: 계 | E7: 2212619880 | F7: =F8+F22+F26 -> 2965625760 | G7: =F7-E7 -> 753005880 | H7: =G7/E7*100 -> 34.03232 | I7: 운영비합계액 | Q7: =68580000+31750000 -> 100330000 | R7: 원 | T7: =SUM(F22,F27,F28,F29,F30,F31,F32,F33,F34,F37,F48,F49,F51) -> 100330000
B8: 인건비 | C8: 소계 | E8: 2153919880 | F8: =F9+F10+F16+F21+F15 -> 2909295760 | G8: =F8-E8 -> 755375880 | H8: =G8/E8*100 -> 35.069823 | T8: =T6-T7 -> 0
C9: 급여 | E9: 1391304000 | F9: ='사. 임직원보수 일람표'!I103+'아-1 교대인력지원인건비'!I29 -> 1837218000 | G9: =F9-E9 -> 445914000 | H9: =G9/E9*100 -> 32.050077 | I9: 종사자인건비 총계표 참조
C10: 제수당 | D10: 소계 | E10: 433361280 | F10: =SUM(F11:F13) -> 610567400 | G10: =F10-E10 -> 177206120 | H10: =G10/E10*100 -> 40.891083
D11: 명절휴가비 | E11: 134188200 | F11: ='사. 임직원보수 일람표'!J103+'아-1 교대인력지원인건비'!J29 -> 180427800 | G11: =F11-E11 -> 46239600 | H11: =G11/E11*100 -> 34.458768
D12: 연장근로수당 | E12: 277853080 | F12: ='사. 임직원보수 일람표'!M103+'아-1 교대인력지원인건비'!M29 -> 406379600 | G12: =F12-E12 -> 128526520 | H12: =G12/E12*100 -> 46.257007
D13: 가족수당 | E13: 21320000 | F13: ='사. 임직원보수 일람표'!K103+'아-1 교대인력지원인건비'!K29 -> 23760000 | G13: =F13-E13 -> 2440000 | H13: =G13/E13*100 -> 11.444653 | I13: 종사자인건비 총계표 참조
H14: =G14/E14*100 -> #DIV/0! | T14: =[1]다.국도시세입!F6-[1]라.국도비세출!F6 -> 0
C15: 퇴직적립금 | E15: 153616310 | F15: ='사. 임직원보수 일람표'!S103+'아-1 교대인력지원인건비'!Q29 -> 208236700 | G15: =F15-E15 -> 54620390 | H15: =G15/E15*100 -> 35.556374
C16: 사회보험부담금 | D16: 소계 | E16: 175638290 | F16: ='사. 임직원보수 일람표'!Y103+'아-1 교대인력지원인건비'!W29 -> 253273660 | G16: =F16-E16 -> 77635370 | H16: =G16/E16*100 -> 44.201848 | Z16: ='[1]인건비총계표(보조금)'!U5-'[1]인건비총계표(보조금)'!U630 -> 1843998180
D17: 건강보험 부담금 | E17: 63773810 | G17: =F17-E17 -> -63773810 | H17: =G17/E17*100 -> -100 | I17: 건강보험보험료 : 2,124,498,180원*3.335% = 70,852,020원 장기요양보험료 : 70,852,020*10.25% = 7,262,340원 | T17: ='[1]인건비총계표(보조금)'!U5+'[1]인건비총계표(보조금)'!U733-'[1]인건비총계표(보조금)'!U630 -> 2124498180 | U17: =ROUNDUP((T17*6.67%)/2,-1) -> 70852020 | V17: =ROUNDUP(U17*10.25%,-1) -> 7262340 | W17: =SUM(U17:V17) -> 78114360 | X17: =W17-F17 -> 78114360 | Z17: =SUM(Y16:Y17) -> 0
D18: 국민연금 부담금 | E18: 81880880 | G18: =F18-E18 -> -81880880 | H18: =G18/E18*100 -> -100 | I18: 국민연금보험료 : 1,819,575,080원*4.5% = 81,880,880원 | T18: ='[1]인건비총계표(보조금)'!U5-'[1]인건비총계표(보조금)'!U630 -> 1843998180 | U18: =ROUNDUP(T18*4.5%,-1) -> 82979920 | V18: =F18-U18 -> -82979920 | W18: =SUM(U18:V18) -> 0 | X18: =W18-F18 -> 0
D19: 고용보험 부담금 | E19: 15873670 | G19: =F19-E19 -> -15873670 | H19: =G19/E19*100 -> -100 | I19: 고용보험료 : 1,763,741,030원*0.9% = 15,873,670원 | T19: ='[1]인건비총계표(보조금)'!U5-'[1]인건비총계표(보조금)'!U6-'[1]인건비총계표(보조금)'!U630 -> 1786567680 | U19: =ROUNDUP(T19*0.9%,-1) -> 16079110 | V19: =F19-U19 -> -16079110 | W19: =SUM(U19:V19) -> 0 | X19: =W19-F19 -> 0
D20: 산재보험 부담금 | E20: 14109930 | G20: =F20-E20 -> -14109930 | H20: =G20/E20*100 -> -100 | I20: 산재보험료 : 1,763,741,030원*0.8%= | O20: 14,109,930원 | T20: ='[1]인건비총계표(보조금)'!U5-'[1]인건비총계표(보조금)'!U6-'[1]인건비총계표(보조금)'!U630 -> 1786567680 | U20: =ROUNDUP(T20*0.8%,-1) -> 14292550 | V20: =F20-U20 -> -14292550 | W20: =SUM(U20:V20) -> 0 | X20: =W20-F20 -> 0
C21: 기타후생경비 | E21: 0 | F21: 0 | G21: =F21-E21 -> 0 | H21: =G21/E21*100 -> #DIV/0! | W21: =SUM(U21:V21) -> 0
B22: 업무 추진비 | C22: 소계 | E22: 490000 | F22: =SUM(F23:F25) -> 490000 | G22: =F22-E22 -> 0 | H22: =G22/E22*100 -> 0
C23: 기관운영비 | E23: 0 | F23: 0 | G23: =F23-E23 -> 0 | H23: =G23/E23*100 -> #DIV/0!
C24: 직책보조비 | E24: 0 | F24: 0 | G24: =F24-E24 -> 0 | H24: =G24/E24*100 -> #DIV/0!
C25: 회의비 | E25: 490000 | F25: 490000 | G25: =F25-E25 -> 0 | H25: =G25/E25*100 -> 0 | I25: 인권지킴이단 회의비
B26: 운영비 | C26: 소계 | E26: 58210000 | F26: =F27+F28+F29+F30+F34+F35 -> 55840000 | G26: =F26-E26 -> -2370000 | H26: =G26/E26*100 -> -4.0714654
C27: 여비 | E27: 0 | F27: 0 | G27: =F27-E27 -> 0 | H27: =G27/E27*100 -> #DIV/0!
C28: 수용비및 수수료 | E28: 9084170 | F28: 8840000 | G28: =F28-E28 -> -244170 | H28: =G28/E28*100 -> -2.6878625 | I28: 사무용품비, 인쇄비, 수수료 등
C29: 공공요금 | E29: 38000000 | F29: 40000000 | G29: =F29-E29 -> 2000000 | H29: =G29/E29*100 -> 5.2631579 | I29: 수도료,전기료,우편료,전화료,운송료 등
C30: 제세공과금 | E30: 6625830 | F30: 3000000 | G30: =F30-E30 -> -3625830 | H30: =G30/E30*100 -> -54.722654 | I30: 화재, 음식물, 영업배상책임, 자동차보험료 등
D31: 화재보험료 | G31: =F31-E31 -> 0 | H31: =G31/E31*100 -> #DIV/0! | I31: 소멸성 보험에 가입 | U31: =SUM(U29:U30) -> 0
D32: 상해보험료 | E32: 0 | F32: 0 | G32: =F32-E32 -> 0 | H32: =G32/E32*100 -> #DIV/0!
G33: =F33-E33 -> 0 | H33: =G33/E33*100 -> #DIV/0!
C34: 차량비 | E34: 4500000 | F34: 4000000 | G34: =F34-E34 -> -500000 | H34: =G34/E34*100 -> -11.111111 | I34: 실제 운행중인 업무용 차량 연료 및 소모품 교체등
C35: 기타운영비 | E35: 0 | F35: 0 | G35: =F35-E35 -> 0 | H35: =G35/E35*100 -> #DIV/0! | I35: 화재, 음식물, 영업배상책임, 자동차보험료 등
A36: 재산조성비 | B36: 계 | E36: 12000000 | F36: =F37 -> 15000000 | G36: =F36-E36 -> 3000000 | H36: =G36/E36*100 -> 25
B37: 시설비 | C37: 소계 | E37: 12000000 | F37: =SUM(F38:F40) -> 15000000 | G37: =F37-E37 -> 3000000 | H37: =G37/E37*100 -> 25
C38: 시설비 | E38: 0 | F38: 0 | G38: =F38-E38 -> 0 | H38: =G38/E38*100 -> #DIV/0!
C39: 자산취득비 | E39: 0 | G39: =F39-E39 -> 0 | H39: =G39/E39*100 -> #DIV/0! | I39: 전자결재시스템구축을 위한NAS구입
C40: 시설장비 유지비 | D40: 건물유지비 | E40: 12000000 | F40: 15000000 | G40: =F40-E40 -> 3000000 | H40: =G40/E40*100 -> 25 | I40: 건물 유지 관리비
A41: 사업비 | B41: 계 | E41: 165432640 | F41: =F42+F50 -> 171838000 | G41: =F41-E41 -> 6405360 | H41: =G41/E41*100 -> 3.871884
B42: 운영비 | C42: 소계 | E42: 155332640 | F42: =SUM(F43,F47) -> 161739200 | G42: =F42-E42 -> 6406560 | H42: =G42/E42*100 -> 4.1244133
C43: 생계비 | D43: 소계 | E43: 134362640 | F43: =SUM(F44:F46) -> 140739200 | G43: =F43-E43 -> 6376560 | H43: =G43/E43*100 -> 4.7457835
D44: 특별위로금 | E44: 3412200 | F44: =[1]생활보장급여!G8 -> 3543500 | G44: =F44-E44 -> 131300 | H44: =G44/E44*100 -> 3.8479573 | I44: 37,300원 X 47명 X 1회 / 36,300원 X 48명 X 1회 (설,추석)지급
D45: 주부식비 | E45: 129440280 | F45: =[1]생활보장급여!G10 -> 135608100 | G45: =F45-E45 -> 6167820 | H45: =G45/E45*100 -> 4.7649928 | I45: 236,251원 X 47명 X 3회 / 229,504원 X 48명 X 9회
D46: 월동대책비 | E46: 1510160 | F46: =[1]생활보장급여!G11 -> 1587600 | G46: =F46-E46 -> 77440 | H46: =G46/E46*100 -> 5.1279335 | I46: 33,075원 X 48명 X 1회
C47: 수용기관경비 | D47: 소계 | E47: 20970000 | F47: =SUM(F48:F49) -> 21000000 | G47: =F47-E47 -> 30000 | H47: =G47/E47*100 -> 0.14306152
D48: 위생재료비 | E48: 7000000 | F48: 7000000 | G48: =F48-E48 -> 0 | H48: =G48/E48*100 -> 0 | I48: 장애인의 위생관리를 위한 용품 구입비 등
D49: 일상용품비 | E49: 13970000 | F49: 14000000 | G49: =F49-E49 -> 30000 | H49: =G49/E49*100 -> 0.21474588 | I49: 일상 생활용품 경비
B50: 사업비 | C50: 소계 | E50: 10100000 | F50: =SUM(F51:F52) -> 10098800 | G50: =F50-E50 -> -1200 | H50: =G50/E50*100 -> -0.011881188
C51: 사회심리 재활사업비 | D51: 여행경비등 | E51: 8000000 | F51: 8000000 | G51: =F51-E51 -> 0 | H51: =G51/E51*100 -> 0 | I51: 코로나19로 인한 외부활동 축소
C52: 기 능 보 강 사업비 | D52: 소계 | E52: 2100000 | F52: =SUM(F53:F55) -> 2098800 | G52: =F52-E52 -> -1200 | H52: =G52/E52*100 -> -0.057142857
D53: 기 능 보 강 사업비 | E53: 2100000 | F53: 2098800 | G53: =F53-E53 -> -1200 | H53: 0 | I53: 공기청정기 지원사업선정에 따른 차액발생
H54: 0
D55: 기 능 보 강 사업비 | G55: =F55-E55 -> 0 | H55: 0
A56: 잡지출 | B56: 계 | E56: 542480 | F56: =F57 -> 0 | G56: =F56-E56 -> -542480 | H56: =G56/E56*100 -> -100
B57: 잡지출 | C57: 소계 | E57: 542480 | F57: =F58 -> 0 | G57: =F57-E57 -> -542480 | H57: =G57/E57*100 -> -100
C58: 잡지출 | E58: 542480 | G58: =F58-E58 -> -542480 | H58: =G58/E58*100 -> -100
A59: 예비비및기타 | B59: 계 | E59: 25205000 | F59: =F60 -> 10000000 | G59: =F59-E59 -> -15205000 | H59: =G59/E59*100 -> -60.325332
B60: 보조금반환 | C60: 소계 | E60: 25205000 | F60: =F61 -> 10000000 | G60: =F60-E60 -> -15205000 | H60: =G60/E60*100 -> -60.325332
C61: 보조금반환 | E61: 25205000 | F61: 10000000 | G61: =F61-E61 -> -15205000 | H61: =G61/E61*100 -> -60.325332

Sheet 시군구세출
A1: 라-1. 세 출
A2: 2) 보조금 세출내역
A3: 7종 | Q3: (단위:원)
A4: 과 목 | E4: ='[1]다-3.후원금세입'!D4:D5 -> 당초예산 ( A ) | F4: ='[1]다-3.후원금세입'!E4:E5 -> 1차추경 ( B ) | G4: 증감(B-A) | I4: 산 출 내 역
A5: 관 | B5: 항 | C5: 목 | D5: 세목 | G5: 금액 | H5: 비율(%)
A6: 총 계 | E6: 207420000 | F6: =SUM(F7,F20,F34,F37) -> 204700000 | G6: =F6-E6 -> -2720000 | H6: =G6/E6*100 -> -1.311349
A7: 사무비 | B7: 인건비 | C7: 계 | E7: 155111300 | F7: =F8+F9+F14+F15 -> 155850630 | G7: =F7-E7 -> 739330 | H7: =G7/E7*100 -> 0.47664484 | T7: =F7-F13 -> 129367580 | U7: 7종인건비
C8: 급여 | E8: 78161000 | F8: ='[1]인건비총계표(보조금)'!F676 -> 81016000 | G8: =F8-E8 -> 2855000 | H8: =G8/E8*100 -> 3.6527168 | I8: 종사자인건비 총계표 참조
C9: 제수당 | D9: 소계 | E9: 57149600 | F9: =SUM(F10:F13) -> 54712250 | G9: =F9-E9 -> -2437350 | H9: =G9/E9*100 -> -4.2648592 | I9: 종사자인건비 총계표 참조
D10: 명절휴가비 | E10: 7817400 | F10: ='[1]인건비총계표(보조금)'!M676 -> 8104800 | G10: =F10-E10 -> 287400 | H10: =G10/E10*100 -> 3.6764142
D11: 연장근로수당 | E11: 21756400 | F11: ='[1]인건비총계표(보조금)'!R676 -> 18924400 | G11: =F11-E11 -> -2832000 | H11: =G11/E11*100 -> -13.016859
D12: 가족수당 | E12: 1200000 | F12: ='[1]인건비총계표(보조금)'!O676 -> 1200000 | G12: =F12-E12 -> 0 | H12: =G12/E12*100 -> 0
D13: 연장추가 지원수당 | E13: 26375800 | F13: ='[1]인건비총계표(보조금)'!S5+'[1]인건비총계표(보조금)'!S676 -> 26483050 | G13: =F13-E13 -> 107250 | H13: =G13/E13*100 -> 0.40662274
C14: 퇴직적립금 | E14: 9178460 | F14: ='[1]인건비총계표(보조금)'!W676 -> 9209190 | G14: =F14-E14 -> 30730 | H14: =G14/E14*100 -> 0.33480562
C15: 사회보험부담금 | D15: 소계 | E15: 10622240 | F15: =SUM(F16:F19) -> 10913190 | G15: =F15-E15 -> 290950 | H15: =G15/E15*100 -> 2.7390645
D16: 건강보험 부담금 | E16: 3814500 | F16: ='[1]인건비총계표(보조금)'!Y676+'[1]인건비총계표(보조금)'!Z676 -> 4056970 | G16: =F16-E16 -> 242470 | H16: =G16/E16*100 -> 6.3565343
D17: 국민연금 부담금 | E17: 4935400 | F17: ='[1]인건비총계표(보조금)'!X676 -> 4977540 | G17: =F17-E17 -> 42140 | H17: =G17/E17*100 -> 0.8538315
D18: 고용보험 부담금 | E18: 991240 | F18: ='[1]인건비총계표(보조금)'!AA676 -> 994600 | G18: =F18-E18 -> 3360 | H18: =G18/E18*100 -> 0.33896937
D19: 산재보험 부담금 | E19: 881100 | F19: ='[1]인건비총계표(보조금)'!AB676 -> 884080 | G19: =F19-E19 -> 2980 | H19: =G19/E19*100 -> 0.3382136
A20: 사업비 | B20: 계 | E20: 46160000 | F20: =SUM(F21,F25,F31,F33) -> 45440000 | G20: =F20-E20 -> -720000
C21: 7종운영지원사업비 | D21: 소계 | E21: 6600000 | F21: =SUM(F22:F24) -> 6600000 | G21: =F21-E21 -> 0
D22: 차량운영비 | E22: 3600000 | F22: 3600000 | G22: =F22-E22 -> 0 | H22: =G22/E22*100 -> 0 | I22: 300,000원 X 12개월 = 3,600,000원
D23: 환경개선사업 | E23: 0 | F23: 0 | G23: =F23-E23 -> 0 | H23: =G23/E23*100 -> #DIV/0! | I23: 7,000,000원 X 1개소 = 7,000,000원
D24: 간병인비 | E24: 3000000 | F24: 3000000 | G24: =F24-E24 -> 0 | H24: =G24/E24*100 -> 0 | I24: 200,000원*15회=3,000,000원
C25: 4종운영지원사업비 | D25: 소계 | E25: 32840000 | F25: =SUM(F26:F30) -> 32840000 | G25: =F25-E25 -> 0
D26: 입소자 부식비 | E26: 14600000 | F26: ='[1]4종'!O5 -> 14600000 | G26: =F26-E26 -> 0 | I26: 500원 X 80명 X 365일
D27: 입소자 간식비 | E27: 4800000 | F27: ='[1]4종'!O19 -> 4800000 | G27: =F27-E27 -> 0 | I27: 5,000원 X 80명 X 12개월
D28: 입소자 피복비 | E28: 6400000 | F28: ='[1]4종'!O34 -> 6400000 | G28: =F28-E28 -> 0 | I28: 20,000원 X 80명 X 4회
D29: 입소자 특별급식비 | E29: 3840000 | F29: ='[1]4종'!O35 -> 3840000 | G29: =F29-E29 -> 0 | I29: 12,000원 X 80명 X 4회
D30: 입소자 건강진단비 | E30: 3200000 | F30: ='[1]4종'!O41 -> 3200000 | G30: =F30-E30 -> 0 | I30: 40,000원 X 80명 X 1회
C31: 재활프로그램사업비 | D31: 소계 | E31: 6720000 | F31: 6000000 | G31: =F31-E31 -> -720000
D32: 재활프로그램사업비 | E32: 6720000 | F32: 6720000 | G32: =F32-E32 -> 0
C33: 기능보강 사업비 | D33: 기능보강 사업비 | E33: 0 | G33: =F33-E33 -> 0 | H33: =G33/E33*100 -> #DIV/0! | I33: 코로나19예방을 위한 방역물품 지원
A34: 잡지출 | B34: 계 | E34: 66700 | F34: =F35 -> 66180 | G34: =F34-E34 -> -520 | H34: =G34/E34*100 -> -0.77961019
B35: 잡지출 | C35: 소계 | E35: 66700 | F35: =F36 -> 66180 | G35: =F35-E35 -> -520 | H35: =G35/E35*100 -> -0.77961019
C36: 잡지출 | E36: 66700 | F36: 66180 | G36: =F36-E36 -> -520 | H36: =G36/E36*100 -> -0.77961019
A37: 예비비및기타 | B37: 계 | E37: 6082000 | F37: =F38 -> 3343190 | G37: =F37-E37 -> -2738810 | H37: =G37/E37*100 -> -45.031404
B38: 보조금반환 | C38: 소계 | E38: 6082000 | F38: =F39 -> 3343190 | G38: =F38-E38 -> -2738810 | H38: =G38/E38*100 -> -45.031404
C39: 보조금반환 | E39: 6082000 | F39: ='[1]다-1.도시(군)세입'!F25 -> 3343190 | G39: =F39-E39 -> -2738810 | H39: =G39/E39*100 -> -45.031404 | I39: 2019년 결산에 의한 보조금 반환액

Sheet 자부담세출
A1: 라. 세 출 | I1: =F6-W1 -> 24338840 | T1: 합계액 | U1: =SUM(U2:U6) -> 177310000 | V1: =SUM(V2:V6) -> 24200000 | W1: =SUM(U1:V1) -> 201510000
A2: 3) 자부담 세출내역 | T2: 유료입소/이월금 | U2: ='다. 세입내역서'!E9 -> 84000000 | V2: 9000000 | W2: =SUM(U2:V2) -> 93000000 | X2: =W2-S8 -> -41200000
I3: (단위:원) | T3: 법인전입/이월금 | U3: ='[1]다-2.자부담세입'!E25 -> 40000000 | V3: 5000000 | W3: =SUM(U3:V3) -> 45000000 | X3: =W3-T8 -> 19566600
A4: 과 목 | E4: =[1]라.국도비세출!E4:E5 -> 당초예산 ( A ) | F4: =[1]라.국도비세출!F4:F5 -> 1차추경 ( B ) | G4: 증감(B-A) | I4: 산 출 내 역 | T4: 잡수입/불용품/이월금 | U4: =6050000+9000000+500000 -> 15550000 | V4: 7000000 | W4: =SUM(U4:V4) -> 22550000 | X4: =W4-U8 -> 1794560
A5: 관 | B5: 항 | C5: 목 | D5: 세목 | G5: 금액 | H5: 비율(%) | S5: ='[1]다-2.자부담세입'!E6-'[1]라-2.자부담세출'!W1 -> 0 | T5: 종사자식대/이월금 | U5: 37200000 | V5: 3000000 | W5: =SUM(U5:V5) -> 40200000 | X5: =W5-V8 -> 0
A6: 총 계 | E6: 226800000 | F6: =F7+F45+F50+F90+F87+F84 -> 225848840 | G6: =G7+G45+G50+G90+G87+G84 -> -951160 | H6: =G6/E6*100 -> -0.41938272 | S6: ='[1]다-2.자부담세입'!E6-'[1]라-2.자부담세출'!F6 -> 0 | T6: 예금이자/이월금 | U6: 560000 | V6: 200000 | W6: =SUM(U6:V6) -> 760000 | X6: =W6-W8 -> 0
A7: 사무비 | B7: 계 | E7: 88800000 | F7: =F8+F33+F38 -> 69848840 | G7: =F7-E7 -> -18951160 | H7: =G7/E7*100 -> -21.341396 | S7: 유료입소/이월금 | T7: 법인전입/이월금 | U7: 잡수입/이월금 | V7: 종사자/이월금 | W7: 예금이자/이월금
B8: 인건비 | C8: 소계 | E8: 33511060 | F8: =F9+F10+F11+F12+F26+F27+F32 -> 11933400 | G8: =F8-E8 -> -21577660 | H8: =G8/E8*100 -> -64.389667 | S8: =SUM(S9:S92) -> 134200000 | T8: =SUM(T9:T92) -> 25433400 | U8: =SUM(U9:U92) -> 20755440 | V8: =SUM(V9:V92) -> 40200000 | W8: =SUM(W9:W92) -> 760000 | X8: =SUM(S8:W8)-W1 -> 19838840
C9: 급여 | E9: 0 | F9: 0 | G9: =F9-E9 -> 0 | H9: =G9/E9*100 -> #DIV/0!
C10: 상여금 | E10: 0 | F10: 0 | G10: =F10-E10 -> 0 | H10: =G10/E10*100 -> #DIV/0!
C11: 일용잡급 | E11: 0 | F11: 0 | G11: =F11-E11 -> 0 | H11: =G11/E11*100 -> #DIV/0!
C12: 제수당 | D12: 소계 | E12: 19000000 | F12: =SUM(F13:F25) -> 0 | G12: =F12-E12 -> -19000000 | H12: =G12/E12*100 -> -100 | T12: =F12 -> 0 | X12: =F12-S12-T12-U12-V12-W12 -> 0
D13: 가계보조수당 | E13: 0 | F13: 0 | G13: =F13-E13 -> 0 | H13: =G13/E13*100 -> #DIV/0!
D14: 교통급식비 | E14: 0 | F14: 0 | G14: =F14-E14 -> 0 | H14: =G14/E14*100 -> #DIV/0!
D15: 명절휴가비 | E15: 0 | F15: 0 | G15: =F15-E15 -> 0 | H15: =G15/E15*100 -> #DIV/0!
D16: 생활복지사수당 | E16: 0 | F16: 0 | G16: =F16-E16 -> 0 | H16: =G16/E16*100 -> #DIV/0!
D17: 생활지도원수당 | E17: 0 | F17: 0 | G17: =F17-E17 -> 0 | H17: =G17/E17*100 -> #DIV/0!
D18: 조리.위생수당 | E18: 0 | F18: 0 | G18: =F18-E18 -> 0 | H18: =G18/E18*100 -> #DIV/0!
G19: =F19-E19 -> 0 | H19: =G19/E19*100 -> #DIV/0!
D20: 가족수당 | E20: 0 | F20: 0 | G20: =F20-E20 -> 0 | H20: =G20/E20*100 -> #DIV/0!
D21: 직책수당 | E21: 19000000 | F21: ='사. 임직원보수 일람표'!Q103 -> 0 | G21: =F21-E21 -> -19000000 | H21: =G21/E21*100 -> -100 | I21: 기관장(300,000원),사무국장(200,000원), 과장(150,000원,2명),팀장(100,000원, 8명)
E22: 0 | F22: 0 | G22: =F22-E22 -> 0 | H22: =G22/E22*100 -> #DIV/0!
E23: 0 | F23: 0 | G23: =F23-E23 -> 0 | H23: =G23/E23*100 -> #DIV/0!
E24: 0 | F24: 0 | G24: =F24-E24 -> 0 | H24: =G24/E24*100 -> #DIV/0!
E25: 0 | F25: 0 | G25: =F25-E25 -> 0 | H25: =G25/E25*100 -> #DIV/0!
C26: 퇴직금및 적립금 | E26: 1583330 | F26: =Y27 -> 0 | G26: =F26-E26 -> -1583330 | H26: =G26/E26*100 -> -100 | T26: =F26 -> 0 | X26: =F26-S26-T26-U26-V26-W26 -> 0
C27: 사회보험 부담비용 | D27: 소계 | E27: 927730 | F27: =SUM(F28:F31) -> -66600 | G27: =F27-E27 -> -994330 | H27: =G27/E27*100 -> -107.17881 | T27: =F27 -> -66600 | X27: =F27-S27-T27-U27-V27-W27 -> 0 | Y27: =ROUNDUP(F21*1/12,-1) -> 0
D28: 건강보험부담금 | E28: 665930 | F28: =AB28 -> 0 | G28: =F28-E28 -> -665930 | H28: =G28/E28*100 -> -100 | I28: 건강보험보험료 : 19,000,000원*3.335% = 633,650원 장기요양보험료 : 633,650원*10.25% = 64,940원 | X28: 건강 | Y28: =F21 -> 0 | Z28: =ROUNDUP((Y28*6.67%)/2,-1) -> 0 | AA28: =ROUNDUP(Z28*10.25%,-1) -> 0 | AB28: =SUM(Z28:AA28) -> 0
D29: 국민연금부담금 | E29: 0 | F29: 0 | G29: =F29-E29 -> 0 | H29: =G29/E29*100 -> #DIV/0! | Y29: ='[1]인건비총계표(보조금)'!Z16-'[1]인건비총계표(보조금)'!Z641 -> 23030 | Z29: =ROUNDUP(Y29*4.5%,-1) -> 1040 | AA29: =K29-Z29 -> -1040 | AB29: =SUM(Z29:AA29) -> 0
D30: 고용보험부담금 | E30: 138600 | F30: =AB30 -> -37800 | G30: =F30-E30 -> -176400 | H30: =G30/E30*100 -> -127.27273 | I30: 고용보험료 : 15,400,000원*0.9% = 138,600원 | X30: 고용 | Y30: =F21-3600000 -> -3600000 | Z30: =ROUNDUP(Y30*1.05%,-1) -> -37800 | AB30: =SUM(Z30:AA30) -> -37800
D31: 산재보험부담금 | E31: 123200 | F31: =AB31 -> -28800 | G31: =F31-E31 -> -152000 | H31: =G31/E31*100 -> -123.37662 | I31: 산재보험료 : 15,400,000원*0.8% = 123,200원 | X31: 산재 | Y31: =F21-3600000 -> -3600000 | Z31: =ROUNDUP(Y31*0.8%,-1) -> -28800 | AB31: =SUM(Z31:AA31) -> -28800
C32: 기타후생경비 | E32: 12000000 | F32: 12000000 | G32: =F32-E32 -> 0 | H32: =G32/E32*100 -> 0 | I32: 종사자체육대회,기타상해보험,해외연수등복리후생비 등 | T32: ='라. 세출내역서'!I665 -> 5500000 | U32: 2000000 | X32: =F32-S32-T32-U32-V32-W32 -> 4500000
B33: 업무 추진비 | C33: 소계 | E33: 2000000 | F33: =SUM(F34:F37) -> 2000000 | G33: =F33-E33 -> 0 | H33: =G33/E33*100 -> 0
C34: 기관운영비 | E34: 0 | F34: 0 | G34: =F34-E34 -> 0 | H34: =G34/E34*100 -> #DIV/0!
C35: 직책보조비 | E35: 0 | F35: 0 | G35: =F35-E35 -> 0 | H35: =G35/E35*100 -> #DIV/0!
C36: 홍보비 | E36: 0 | F36: 0 | G36: =F36-E36 -> 0 | H36: =G36/E36*100 -> #DIV/0!
C37: 회의비 | E37: 2000000 | F37: 2000000 | G37: =F37-E37 -> 0 | H37: =G37/E37*100 -> 0 | I37: 인권지킴이, 운영위원회등 경비 | U37: 2000000 | X37: =F37-S37-T37-U37-V37-W37 -> 0
B38: 운영비 | C38: 소계 | E38: 53288940 | F38: =SUM(F39:F44) -> 55915440 | G38: =F38-E38 -> 2626500 | H38: =G38/E38*100 -> 4.9287901
C39: 여비 | E39: 0 | G39: =F39-E39 -> 0 | H39: 0
C40: 수용비및 수수료 | E40: 5688940 | F40: =5915440+500000 -> 6415440 | G40: =F40-E40 -> 726500 | H40: =G40/E40*100 -> 12.770393 | I40: 사무용품비, 인쇄비, 수수료 등 | T40: ='라. 세출내역서'!I685 -> 2500000 | U40: =F40-T40 -> 3915440 | X40: =F40-S40-T40-U40-V40-W40 -> 0
C41: 공공요금 | E41: 41100000 | F41: 43000000 | G41: =F41-E41 -> 1900000 | H41: =G41/E41*100 -> 4.622871 | I41: 수도료,전기료,우편료,전화료,운송료 등 | S41: =F41-T41 -> 41000000 | T41: 2000000 | X41: =F41-S41-T41-U41-V41-W41 -> 0
C42: 제세공과금 | E42: 2000000 | F42: 2000000 | G42: =F42-E42 -> 0 | H42: =G42/E42*100 -> 0 | I42: 제세공과금 | S42: =F42 -> 2000000 | X42: =F42-S42-T42-U42-V42-W42 -> 0
C43: 차량비 | E43: 500000 | F43: 500000 | G43: =F43-E43 -> 0 | H43: =G43/E43*100 -> 0 | I43: 차량 주유비 및 정비료 | T43: =F43 -> 500000 | X43: =F43-S43-T43-U43-V43-W43 -> 0
C44: 기타운영비 | E44: 4000000 | F44: 4000000 | G44: =F44-E44 -> 0 | H44: =G44/E44*100 -> 0 | I44: 직원근무복, 기타행사비(부활,성탄) | T44: =F44-2000000 -> 2000000 | U44: 2000000 | X44: =F44-S44-T44-U44-V44-W44 -> 0
A45: 재산조성비 | B45: 계 | E45: 5000000 | F45: =F46 -> 8000000 | G45: =F45-E45 -> 3000000 | H45: =G45/E45*100 -> 60
B46: 시설비 | C46: 소계 | E46: 5000000 | F46: =SUM(F47:F49) -> 8000000 | G46: =F46-E46 -> 3000000 | H46: =G46/E46*100 -> 60
C47: 시설비 | E47: 0 | F47: 0 | G47: =F47-E47 -> 0 | H47: =G47/E47*100 -> #DIV/0! | I47: 시설공사비
C48: 자산취득비 | E48: 5000000 | F48: 5000000 | G48: =F48-E48 -> 0 | H48: =G48/E48*100 -> 0 | I48: 음식물처리기,10년이상 사용된 노후설비기구 교체비용 | T48: =F48 -> 5000000 | X48: =F48-S48-T48-U48-V48-W48 -> 0
C49: 시설장비 유지비 | E49: 0 | F49: 3000000 | G49: =F49-E49 -> 3000000 | H49: =G49/E49*100 -> #DIV/0! | I49: 생활동 방수공사등 노후설비보강 | U49: =G49 -> 3000000 | X49: =F49-S49-T49-U49-V49-W49 -> 0
A50: 사업비 | B50: 계 | E50: 133000000 | F50: =F51+F62+F73 -> 148000000 | G50: =F50-E50 -> 15000000 | H50: =G50/E50*100 -> 11.278195
B51: 운영비 | C51: 소계 | E51: 87000000 | F51: =SUM(F52,F53,F54,F57) -> 102000000 | G51: =F51-E51 -> 15000000 | H51: =G51/E51*100 -> 17.241379
C52: 생계비 | E52: 70000000 | F52: 85000000 | G52: =F52-E52 -> 15000000 | H52: =G52/E52*100 -> 21.428571 | I52: 거주인 생계비 : 7,083,330원*12월=85,000,000원 | S52: =F52-V52-U52 -> 39960000 | U52: 4840000 | V52: =W5 -> 40200000 | X52: =F52-S52-T52-U52-V52-W52 -> 0
C53: 피복비 | E53: 4000000 | F53: 4000000 | G53: =F53-E53 -> 0 | H53: =G53/E53*100 -> 0 | I53: 거주인 피복구입비 : 2,000,000원*2회=4,000,000원 | S53: =F53 -> 4000000
C54: 수용기관경비 | D54: 소계 | E54: 11000000 | F54: =SUM(F55:F56) -> 11000000 | G54: =F54-E54 -> 0 | H54: =G54/E54*100 -> 0
D55: 수용기관경비 | E55: 3000000 | F55: 3000000 | G55: =F55-E55 -> 0 | H55: =G55/E55*100 -> 0 | I55: 수용기관경비 250,000원*12월=3,000,000원 | S55: =F55 -> 3000000 | X55: =F55-S55-T55-U55-V55-W55 -> 0
D56: 일상용품비 | E56: 8000000 | F56: 8000000 | G56: =F56-E56 -> 0 | H56: =G56/E56*100 -> 0 | I56: 일상용품구입비 833,330원*12월=10,000,000원 | S56: =F56 -> 8000000 | X56: =F56-S56-T56-U56-V56-W56 -> 0
C57: 의료비 | E57: 2000000 | F57: 2000000 | G57: =F57-E57 -> 0 | H57: =G57/E57*100 -> 0 | S57: =F57 -> 2000000 | X57: =F57-S57-T57-U57-V57-W57 -> 0
C58: 직업재활비 | E58: 0 | F58: 0 | G58: =F58-E58 -> 0 | H58: =G58/E58*100 -> #DIV/0!
C59: 자활사업비 | E59: 0 | F59: 0 | G59: =F59-E59 -> 0 | H59: =G59/E59*100 -> #DIV/0!
C60: 특별급식비 | E60: 0 | F60: 0 | G60: =F60-E60 -> 0 | H60: =G60/E60*100 -> #DIV/0!
C61: 연료비 | E61: 0 | F61: 0 | G61: =F61-E61 -> 0 | H61: =G61/E61*100 -> #DIV/0!
B62: 교육비 | C62: 소계 | E62: 0 | F62: =SUM(F63:F72) -> 0 | G62: =F62-E62 -> 0 | H62: =G62/E62*100 -> #DIV/0!
C63: 수업료 | E63: 0 | F63: 0 | G63: =F63-E63 -> 0 | H63: =G63/E63*100 -> #DIV/0!
C64: 학용품비 | E64: 0 | F64: 0 | G64: =F64-E64 -> 0 | H64: =G64/E64*100 -> #DIV/0!
C65: 도서구입비 | E65: 0 | F65: 0 | G65: =F65-E65 -> 0 | H65: =G65/E65*100 -> #DIV/0!
C66: 교통비 | E66: 0 | F66: 0 | G66: =F66-E66 -> 0 | H66: =G66/E66*100 -> #DIV/0!
C67: 급식비 | E67: 0 | F67: 0 | G67: =F67-E67 -> 0 | H67: =G67/E67*100 -> #DIV/0!
C68: 학습지원비 | E68: 0 | F68: 0 | G68: =F68-E68 -> 0 | H68: =G68/E68*100 -> #DIV/0!
C69: 수학여행비 | E69: 0 | F69: 0 | G69: =F69-E69 -> 0 | H69: =G69/E69*100 -> #DIV/0!
C70: 교복비 | E70: 0 | F70: 0 | G70: =F70-E70 -> 0 | H70: =G70/E70*100 -> #DIV/0!
C71: 이미용비 | E71: 0 | F71: 0 | G71: =F71-E71 -> 0 | H71: =G71/E71*100 -> #DIV/0!
C72: 기타교육비 | E72: 0 | F72: 0 | G72: =F72-E72 -> 0 | H72: =G72/E72*100 -> #DIV/0!
B73: 사업비 | C73: 소계 | E73: 46000000 | F73: =F74+F75+F76+F77+F78+F80 -> 46000000 | G73: =F73-E73 -> 0 | H73: =G73/E73*100 -> 0
C74: 의료재활사업비 | E74: 0 | F74: 0 | G74: =F74-E74 -> 0 | H74: 0
C75: 사회심리 재활사업비 | E75: 41000000 | F75: 41000000 | G75: =F75-E75 -> 0 | H75: 0 | I75: 여행,등산,놀이 등에 소요되는 여비,기구 구입비 | S75: =F75-W75-U75-T75 -> 29240000 | T75: ='라. 세출내역서'!I777 -> 8000000 | U75: 3000000 | W75: 760000 | X75: =F75-S75-T75-U75-V75-W75 -> 0
C76: 교육재활사업비 | E76: 0 | F76: 0 | G76: =F76-E76 -> 0 | H76: 0 | I76: 생활장애인의 교육 및 교양함양을 위한 교재/도서 구입비 (미술,한글교실 등)
C77: 직업재활 사업비 | E77: 5000000 | F77: 5000000 | G77: =F77-E77 -> 0 | H77: 0 | I77: 직업재활활동에 소요되는 비용 | S77: 5000000 | X77: =F77-S77-T77-U77-V77-W77 -> 0
C78: 기능보강사업비 | E78: 0 | F78: 0 | G78: =F78-E78 -> 0 | H78: =F78/F6*100 -> 0
G79: =F79-E79 -> 0 | H79: 0
C80: 재활승마사업비 | D80: 소계 | E80: 0 | F80: =F81 -> 0 | G80: =F80-E80 -> 0 | H80: 0
D81: 재활승마사업비 | G81: =F81-E81 -> 0 | H81: 0
C82: 공동모금회사업비 | D82: 소계 | E82: 0 | F82: =F83 -> 0 | G82: =F82-E82 -> 0 | H82: 0
D83: 공동모금회사업비 | E83: 0 | F83: 0 | G83: =F83-E83 -> 0 | H83: 0
A84: 과년도지출 | B84: 계 | E84: 0 | F84: =F85 -> 0 | G84: =F84-E84 -> 0 | H84: 0
B85: 과년도지출 | C85: 소계 | E85: 0 | F85: =F86 -> 0 | G85: =F85-E85 -> 0 | H85: 0
C86: 과년도지출 | E86: 0 | F86: 0 | G86: =F86-E86 -> 0 | H86: 0
A87: 잡지출 | B87: 계 | E87: 0 | F87: =F88 -> 0 | G87: =F87-E87 -> 0 | H87: =F87/F6*100 -> 0
B88: 잡지출 | C88: 소계 | E88: 0 | F88: =F89 -> 0 | G88: =F88-E88 -> 0 | H88: =F88/F6*100 -> 0
C89: 잡지출 | E89: 0 | F89: 0 | G89: =F89-E89 -> 0 | H89: =F89/F6*100 -> 0
A90: 예비비 | B90: 계 | E90: 0 | F90: =F91 -> 0 | G90: =F90-E90 -> 0 | H90: =F90/F6*100 -> 0
B91: 예비비 | C91: 소계 | E91: 0 | F91: =F92 -> 0 | G91: =F91-E91 -> 0 | H91: =F91/F6*100 -> 0
C92: 예비비 | G92: =F92-E92 -> 0 | H92: =F92/F6*100 -> 0

Sheet 후원금세출
A1: 라. 세 출
A2: 4) 후원금 세출내역
I3: (단위:원) | T3: =T6/V6 -> 0.72278351 | U3: =U6/V6 -> 0.27721649 | V3: =SUM(T3:U3) -> 1
A4: 과 목 | E4: ='[1]라-2.자부담세출'!E4:E5 -> 당초예산 ( A ) | F4: ='[1]라-2.자부담세출'!F4:F5 -> 1차추경 ( B ) | G4: 증감(B-A) | I4: 산 출 내 역 | T4: 직접 | U4: 간접 | V4: 계
A5: 관 | B5: 항 | C5: 목 | D5: 세목 | G5: 금액 | H5: 비율(%)
A6: 총 계 | E6: 380700000 | F6: =F7+F47+F52+F92+F89 -> 378060000 | G6: =G7+G47+G52+G92+G89 -> -2640000 | H6: =G6/E6*100 -> -0.69345942 | T6: =SUM(T8,T43,T44,T45,T51,T52) -> 264293020 | U6: =SUM(U39,U40,U44,U46,U50,U89) -> 101366980 | V6: =SUM(T6:U6) -> 365660000
A7: 사무비 | B7: 계 | E7: 172220000 | F7: =F8+F33+F38 -> 165060000 | G7: =G8+G33+G38 -> -7160000 | H7: =G7/E7*100 -> -4.157473 | V7: ='[1]다-3.후원금세입'!E6-'[1]라-3.후원금세출'!F6 -> 0 | W7: 예금이자 | X7: 비지정후원금 | Y7: 지정후원금
B8: 인건비 | C8: 소계 | E8: 50705030 | F8: =F9+F10+F11+F12+F26+F27+F32 -> 45293020 | G8: =F8-E8 -> -5412010 | H8: =G8/E8*100 -> -10.673517 | T8: =F8 -> 45293020 | W8: 500000 | X8: ='라. 세출내역서'!AA8 -> 344000000 | Y8: ='라. 세출내역서'!AB8 -> 0 | Z8: =SUM(W8:Y8) -> 344500000
C9: 급여 | E9: 10000000 | F9: 5000000 | G9: =F9-E9 -> -5000000 | H9: =G9/E9*100 -> -50 | Z9: =F6-Z8 -> 33560000
C10: 상여금 | E10: 0 | F10: ='[1]인건비총계표(후원금)'!G49+'[1]인건비총계표(후원금)'!J49+'[1]인건비총계표(후원금)'!H49 -> 0 | G10: =F10-E10 -> 0 | H10: =G10/E10*100 -> #DIV/0!
C11: 일용잡급 | E11: 9600000 | F11: 9600000 | G11: =F11-E11 -> 0 | H11: =G11/E11*100 -> 0 | I11: 식당보조원 1명(1일 100,000 X 월6일) X 12개월
C12: 제수당 | D12: 소계 | E12: 0 | F12: =SUM(F13:F25) -> 0 | G12: =F12-E12 -> 0 | H12: =G12/E12*100 -> #DIV/0!
D13: 가계보조수당 | E13: 0 | F13: ='[1]인건비총계표(후원금)'!K49 -> 0 | G13: =F13-E13 -> 0 | H13: =G13/E13*100 -> #DIV/0!
D14: 교통급식비 | E14: 0 | F14: ='[1]인건비총계표(후원금)'!L6+'[1]인건비총계표(후원금)'!L49 -> 0 | G14: =F14-E14 -> 0 | H14: =G14/E14*100 -> #DIV/0!
D15: 명절휴가비 | E15: 0 | F15: ='[1]인건비총계표(후원금)'!M49 -> 0 | G15: =F15-E15 -> 0 | H15: =G15/E15*100 -> #DIV/0!
D16: 생활복지사수당 | E16: 0 | F16: 0 | G16: =F16-E16 -> 0 | H16: =G16/E16*100 -> #DIV/0!
D17: 생활지도원수당 | E17: 0 | F17: ='[1]인건비총계표(후원금)'!N49 -> 0 | G17: =F17-E17 -> 0 | H17: =G17/E17*100 -> #DIV/0!
D18: 조리.위생수당 | E18: 0 | F18: 0 | G18: =F18-E18 -> 0 | H18: =G18/E18*100 -> #DIV/0!
D19: 연장근로수당 | E19: 0 | F19: ='[1]인건비(후원금)'!L5 -> 0 | G19: =F19-E19 -> 0 | H19: =G19/E19*100 -> #DIV/0! | I19: 직원 처우개선비에 따른 연장근로수당
D20: 가족수당 | E20: 0 | F20: ='[1]인건비총계표(후원금)'!O49 -> 0 | G20: =F20-E20 -> 0 | H20: =G20/E20*100 -> #DIV/0!
D21: 직책보조비 | E21: 0 | F21: ='[1]인건비총계표(후원금)'!R49 -> 0 | G21: =F21-E21 -> 0 | H21: =G21/E21*100 -> #DIV/0!
D22: 자가운전보조금 | E22: 0 | F22: 0 | G22: =F22-E22 -> 0 | H22: =G22/E22*100 -> #DIV/0!
D23: 특수근무수당(도) | E23: 0 | F23: ='[1]인건비총계표(후원금)'!S49 -> 0 | G23: =F23-E23 -> 0 | H23: =G23/E23*100 -> #DIV/0!
D24: 처우개선비 | E24: 0 | F24: 0 | G24: =F24-E24 -> 0 | H24: =G24/E24*100 -> #DIV/0!
D25: 보전수당 | G25: =F25-E25 -> 0 | H25: =G25/E25*100 -> #DIV/0!
C26: 퇴직금및 적립금 | E26: 600000 | F26: =ROUNDUP(F9*8.3333%,-1) -> 416670 | G26: =F26-E26 -> -183330 | H26: =G26/E26*100 -> -30.555
C27: 사회보험 부담비용 | D27: 소계 | E27: 505030 | F27: =SUM(F28:F31) -> 276350 | G27: =F27-E27 -> -228680 | H27: =G27/E27*100 -> -45.280478 | S27: 보험료산출
D28: 건강보험 부담금 | E28: 335030 | F28: =U28 -> 183850 | G28: =F28-E28 -> -151180 | H28: =G28/E28*100 -> -45.124317 | I28: 건강보험보험료 : 3,000,000원*3.335% = 100,050원 장기요양보험료 : 100,050원*10.25% = 10,260원 | S28: =ROUNDUP(F9*3.335%,-1) -> 166750 | T28: =ROUNDUP(S28*10.25%,-1) -> 17100 | U28: =SUM(S28:T28) -> 183850
D29: 국민연금부담금 | E29: 0 | F29: ='[1]인건비총계표(후원금)'!W49 -> 0 | G29: =F29-E29 -> 0 | H29: =G29/E29*100 -> #DIV/0! | S29: =ROUNDUP(F22*3.12%,-1) -> 0
D30: 고용보험 부담금 | E30: 90000 | F30: =T30 -> 52500 | G30: =F30-E30 -> -37500 | H30: =G30/E30*100 -> -41.666667 | I30: 고용보험료 : 5,000,000원*0.9% = 45,000원 | S30: =F9 -> 5000000 | T30: =ROUNDUP(S30*1.05%,-1) -> 52500
D31: 산재보험 부담금 | E31: 80000 | F31: =T31 -> 40000 | G31: =F31-E31 -> -40000 | H31: =G31/E31*100 -> -50 | I31: 산재보험료 : 5,000,000원*0.8% = 40,000원 | S31: =F9 -> 5000000 | T31: =ROUNDUP(S31*0.8%,-1) -> 40000
C32: 기타후생경비 | E32: 30000000 | F32: 30000000 | G32: =F32-E32 -> 0 | H32: =G32/E32*100 -> 0 | I32: 직원 동아리지원 및 역량강화훈련비,보수교육비 등
B33: 업무추진비 | C33: 소계 | E33: 0 | F33: =SUM(F34:F37) -> 0 | G33: =F33-E33 -> 0 | H33: =G33/E33*100 -> #DIV/0! | U33: =F33 -> 0
C34: 기관운영비 | E34: 0 | F34: 0 | G34: =F34-E34 -> 0 | H34: =G34/E34*100 -> #DIV/0!
C35: 직책보조비 | E35: 0 | F35: 0 | G35: =F35-E35 -> 0 | H35: =G35/E35*100 -> #DIV/0!
C36: 홍보비 | E36: 0 | F36: 0 | G36: =F36-E36 -> 0 | H36: =G36/E36*100 -> #DIV/0!
C37: 회의비 | E37: 0 | F37: 0 | G37: =F37-E37 -> 0 | H37: =G37/E37*100 -> #DIV/0!
B38: 운영비 | C38: 소계 | E38: 121514970 | F38: =SUM(F39,F40,F43:F46) -> 119766980 | G38: =F38-E38 -> -1747990 | H38: =G38/E38*100 -> -1.4384977
C39: 여비 | E39: 5000000 | F39: 5000000 | G39: =F39-E39 -> 0 | H39: =G39/E39*100 -> 0 | I39: 교육참가비 및 여비 등 | U39: =F39 -> 5000000
C40: 수용비및 수수료 | D40: 소계 | E40: 40514970 | F40: =SUM(F41:F42) -> 41766980 | G40: =F40-E40 -> 1252010 | H40: =G40/E40*100 -> 3.0902405 | I40: CMS관리/소모품구입 | U40: =F40 -> 41766980
D41: 수용비및 수수료 | E41: 22514970 | F41: =23266980+500000 -> 23766980 | G41: =F41-E41 -> 1252010 | H41: =G41/E41*100 -> 5.5607891 | I41: 사무용품비, 인쇄비, 수수료 등
D42: 홍보비 | E42: 18000000 | F42: 18000000 | G42: =F42-E42 -> 0 | H42: =G42/E42*100 -> 0 | I42: 기관홍보물제작,소식지 제작
C43: 공공요금 | E43: 40000000 | F43: 40000000 | G43: =F43-E43 -> 0 | H43: =G43/E43*100 -> 0 | I43: 전기,전화,수도요금.DM발송,우편물발송요금 등 | T43: =F43 -> 40000000
C44: 제세공과금 | E44: 5000000 | F44: 8000000 | G44: =F44-E44 -> 3000000 | H44: =G44/E44*100 -> 60 | I44: 음식물배상보험, 가스안전보험, 협회비 보험료 등 | T44: =F44-U44 -> 7000000 | U44: 1000000
C45: 차량비 | E45: 21000000 | F45: 20000000 | G45: =F45-E45 -> -1000000 | H45: =G45/E45*100 -> -4.7619048 | I45: 기관보유차량 유류비용 및 점검등 유지비용 | T45: =F45 -> 20000000
C46: 기타운영비 | E46: 10000000 | F46: 5000000 | G46: =F46-E46 -> -5000000 | H46: =G46/E46*100 -> -50 | I46: 종사자 단체복 구입등 | U46: =F46 -> 5000000
A47: 재산 조성비 | B47: 계 | E47: 150900000 | F47: =F48 -> 165000000 | G47: =F47-E47 -> 14100000 | H47: =G47/E47*100 -> 9.3439364
B48: 시설비 | C48: 소계 | E48: 150900000 | F48: =SUM(F49:F51) -> 165000000 | G48: =F48-E48 -> 14100000 | H48: =G48/E48*100 -> 9.3439364
C49: 시설비 | E49: 10000000 | G49: =F49-E49 -> -10000000 | H49: 100 | U49: =F49 -> 0
C50: 자산취득비 | E50: 60900000 | F50: 60000000 | G50: =F50-E50 -> -900000 | H50: =G50/E50*100 -> -1.4778325 | I50: 이용인생활동 가구, 음식물처리기,식기세척기,전기오븐등 10년이상 사용된 노후설비기구 교체비용및 업무용차량 구입할부금 | T50: 12400000 | U50: =F50-T50 -> 47600000
C51: 시설장비 유지비 | E51: 80000000 | F51: 105000000 | G51: =F51-E51 -> 25000000 | H51: =G51/E51*100 -> 31.25 | I51: 전기안전점검료, 정화조유지비,승강기유지비 등 | T51: =F51 -> 105000000
A52: 사업비 | B52: 계 | E52: 56780000 | F52: =SUM(F53,F76,F87) -> 47000000 | G52: =F52-E52 -> -9780000 | H52: =G52/E52*100 -> -17.224375 | T52: =F52 -> 47000000
B53: 운영비 | C53: 소계 | E53: 12000000 | F53: =SUM(F54,F55,F59) -> 11000000 | G53: =F53-E53 -> -1000000 | H53: =G53/E53*100 -> -8.3333333
C54: 생계비 | E54: 5000000 | F54: 5000000 | G54: =F54-E54 -> 0 | H54: =G54/E54*100 -> 0
C55: 수용기관경비 | D55: 소계 | E55: 6000000 | F55: =SUM(F56:F57) -> 5000000 | G55: =F55-E55 -> -1000000 | H55: =G55/E55*100 -> -16.666667
D56: 수용기관 경비 | E56: 3000000 | F56: 2000000 | G56: =F56-E56 -> -1000000 | H56: =G56/E56*100 -> -33.333333
D57: 위생재료비 | E57: 3000000 | F57: 3000000 | G57: =F57-E57 -> 0 | H57: =G57/E57*100 -> 0
C58: 피복비 | E58: 0 | F58: 0 | G58: =F58-E58 -> 0 | H58: =G58/E58*100 -> #DIV/0!
C59: 의료비 | E59: 1000000 | F59: 1000000 | G59: =F59-E59 -> 0 | H59: =G59/E59*100 -> 0
C60: 장의비 | E60: 0 | F60: 0 | G60: =F60-E60 -> 0 | H60: =G60/E60*100 -> #DIV/0!
C61: 직업재활비 | E61: 0 | F61: 0 | G61: =F61-E61 -> 0 | H61: =G61/E61*100 -> #DIV/0!
C62: 자활사업비 | E62: 0 | F62: 0 | G62: =F62-E62 -> 0 | H62: =G62/E62*100 -> #DIV/0!
C63: 특별급식비 | E63: 0 | F63: 0 | G63: =F63-E63 -> 0 | H63: =G63/E63*100 -> #DIV/0!
C64: 연료비 | E64: 0 | F64: 0 | G64: =F64-E64 -> 0 | H64: =G64/E64*100 -> #DIV/0!
B65: 교육비 | C65: 소계 | E65: 0 | F65: =SUM(F66:F75) -> 0 | G65: =F65-E65 -> 0 | H65: =G65/E65*100 -> #DIV/0!
C66: 수업료 | E66: 0 | F66: 0 | G66: =F66-E66 -> 0 | H66: =G66/E66*100 -> #DIV/0!
C67: 학용품비 | E67: 0 | F67: 0 | G67: =F67-E67 -> 0 | H67: =G67/E67*100 -> #DIV/0!
C68: 도서구입비 | E68: 0 | F68: 0 | G68: =F68-E68 -> 0 | H68: =G68/E68*100 -> #DIV/0!
C69: 교통비 | E69: 0 | F69: 0 | G69: =F69-E69 -> 0 | H69: =G69/E69*100 -> #DIV/0!
C70: 급식비 | E70: 0 | F70: 0 | G70: =F70-E70 -> 0 | H70: =G70/E70*100 -> #DIV/0!
C71: 학습지원비 | E71: 0 | F71: 0 | G71: =F71-E71 -> 0 | H71: =G71/E71*100 -> #DIV/0!
C72: 수학여행비 | E72: 0 | F72: 0 | G72: =F72-E72 -> 0 | H72: =G72/E72*100 -> #DIV/0!
C73: 교복비 | E73: 0 | F73: 0 | G73: =F73-E73 -> 0 | H73: =G73/E73*100 -> #DIV/0!
C74: 이미용비 | E74: 0 | F74: 0 | G74: =F74-E74 -> 0 | H74: =G74/E74*100 -> #DIV/0!
C75: 기타교육비 | E75: 0 | F75: 0 | G75: =F75-E75 -> 0 | H75: =G75/E75*100 -> #DIV/0!
B76: 사업비 | C76: 소계 | E76: 43280000 | F76: =SUM(F78:F82) -> 33000000 | G76: =F76-E76 -> -10280000 | H76: =G76/E76*100 -> -23.752311
C77: 의료재활사업비 | E77: 0 | F77: 0 | G77: =F77-E77 -> 0 | H77: =G77/E77*100 -> #DIV/0!
C78: 사회심리 재활사업비 | E78: 40000000 | F78: 30000000 | G78: =F78-E78 -> -10000000 | H78: =G78/E78*100 -> -25 | I78: 여행,등산,놀이 등에 소요되는 여비,기구 구입비
C79: 교육재활사업비 | E79: 0 | F79: 0 | G79: =F79-E79 -> 0 | H79: =G79/E79*100 -> #DIV/0! | I79: 생활장애인의 교육 및 교양함양을 위한 교재/도서 구입비
C80: 직업재활 사업비 | E80: 0 | F80: 0 | G80: =F80-E80 -> 0 | H80: =G80/E80*100 -> #DIV/0!
C81: 재활프로그램 사업비 | E81: 3280000 | F81: 3000000 | G81: =F81-E81 -> -280000 | H81: =G81/E81*100 -> -8.5365854 | I81: 2020년 재활프로그램 중증장애인의 직업능력개발을 위한 목공프로그램 “우드잡 woodjob” 선정
G82: =F82-E82 -> 0 | H82: =G82/E82*100 -> #DIV/0!
C83: 기능보강사업비 | D83: 소계 | E83: 0 | F83: =F84 -> 0 | G83: =F83-E83 -> 0 | H83: =G83/E83*100 -> #DIV/0!
D84: 기능보강사업비 | E84: 0 | F84: 0 | G84: =F84-E84 -> 0 | H84: =G84/E84*100 -> #DIV/0! | I84: 기능보강사업 직업재활프로그램실 증축공사종료 | T84: =F84 -> 0
C85: 공동모금회사업비 | D85: 소계 | E85: 0 | F85: =F86 -> 0 | G85: =F85-E85 -> 0 | H85: =G85/E85*100 -> #DIV/0! | T85: =F85 -> 0
D86: 공동모금회사업비 | E86: 0 | F86: 0 | G86: =F86-E86 -> 0 | H86: =G86/E86*100 -> #DIV/0!
B87: 결연 사업비 | C87: 소계 | E87: 1500000 | F87: =F88 -> 3000000 | G87: =F87-E87 -> 1500000 | H87: =G87/E87*100 -> 100
C88: 결연후원금 | E88: 1500000 | F88: 3000000 | G88: =F88-E88 -> 1500000 | H88: =G88/E88*100 -> 100
A89: 과년도 지출 | B89: 계 | E89: 800000 | F89: =F90 -> 1000000 | G89: =F89-E89 -> 200000 | H89: =G89/E89*100 -> 25 | U89: =F89 -> 1000000
B90: 과년도지출 | C90: 소계 | E90: 800000 | F90: =F91 -> 1000000 | G90: =F90-E90 -> 200000 | H90: =G90/E90*100 -> 25
C91: 과년도지출 | E91: 800000 | F91: 1000000 | G91: =F91-E91 -> 200000 | H91: =G91/E91*100 -> 25 | I91: 일용직인건비등 2019년 미지급분정산
A92: 잡지출 | B92: 계 | E92: 0 | F92: =F93 -> 0 | G92: =F92-E92 -> 0 | H92: =G92/E92*100 -> #DIV/0! | U92: =F92 -> 0
B93: 예비비 및기타 | C93: 계 | E93: 0 | F93: =F94 -> 0 | G93: =F93-E93 -> 0 | H93: =G93/E93*100 -> #DIV/0!
C94: 반환금 | D94: 소계 | E94: 0 | F94: =F95 -> 0 | G94: =F94-E94 -> 0 | H94: =G94/E94*100 -> #DIV/0!
A95: 예비비 | D95: 공동모금회 사업비반환 | E95: 0 | F95: 0 | G95: =F95-E95 -> 0 | H95: =G95/E95*100 -> #DIV/0! | U95: =F95 -> 0
B96: 예비비 | C96: 소계 | E96: 0 | F96: =F97 -> 0 | G96: =F96-E96 -> 0 | H96: =G96/E96*100 -> #DIV/0!
C97: 예비비 | E97: 0 | F97: 0 | G97: =F97-E97 -> 0 | H97: =G97/E97*100 -> #DIV/0!

Sheet 다.후원금세입
A1: 다. 세 입
A2: 3) 후원금세입내역
H3: (단위:원)
A4: 과 목 | D4: ='[1]다-2.자부담세입'!D4:D5 -> 당초예산 ( A ) | E4: ='[1]다-2.자부담세입'!E4:E5 -> 1차추경 ( B ) | F4: 증감(B-A) | H4: 산 출 내 역
A5: 관 | B5: 항 | C5: 목 | F5: 금액 | G5: 비율(%)
A6: 총 계 | D6: 380700000 | E6: =E16+E22+E26+E29+E33 -> 401500000 | F6: =F10+F22+F26+F29+F33+F13+F7+F16 -> 20800000 | G6: =F6/D6*100 -> 5.4636196 | J6: =E6-'[1]라-3.후원금세출'!F6 -> 0
A7: 입소자부담금 | B7: 계 | D7: 0 | E7: =E8 -> 0 | F7: =F8 -> 0 | G7: 0
B8: 입소비용수입 | C8: 소계 | D8: 0 | E8: =E9 -> 0 | F8: =F9 -> 0 | G8: 0
C9: 입소비용수입 | D9: 0 | E9: 0 | F9: =E9-D9 -> 0 | G9: 0
A10: 과년도수입 | B10: 계 | D10: 0 | E10: =E11 -> 0 | F10: =F11 -> 0 | G10: 0
B11: 과년도수입 | C11: 소계 | D11: 0 | E11: =E12 -> 0 | F11: =F12 -> 0 | G11: 0
C12: 과년도수입 | D12: 0 | E12: 0 | F12: =E12-D12 -> 0 | G12: 0
A13: 보조금수입 | B13: 계 | D13: 0 | E13: =E14 -> 0 | F13: =F14 -> 0 | G13: 0
B14: 후원금수입 | C14: 소계 | D14: 0 | E14: =E15 -> 0 | F14: =F15 -> 0 | G14: 0
C15: 후원금수입 | D15: 0 | E15: 0 | F15: =E15-D15 -> 0 | G15: 0
A16: 후원금수입 | B16: 계 | D16: 364200000 | E16: =E17+E20 -> 378500000 | F16: =E16-D16 -> 14300000 | G16: =F16/D16*100 -> 3.9264141
B17: 후원금수입 | C17: 소계 | D17: 364200000 | E17: =SUM(E18:E19) -> 378500000 | F17: =E17-D17 -> 14300000 | G17: =F17/D17*100 -> 3.9264141
C18: 지정후원금 | D18: 14200000 | E18: =12400000+3280000+2820000+20000000 -> 38500000 | F18: =E18-D18 -> 24300000 | G18: =F18/D18*100 -> 171.12676 | H18: * 차량구입 지정후원 : 12,400,000원 * 재활프로그램 지정후원 : 3,280,000원 * 결연후원금 : 2,820,000원 * 재난복구지정후원(법인) : 20,000,000원
C19: 비지정후원금 | D19: 350000000 | E19: 340000000 | F19: =E19-D19 -> -10000000 | G19: =F19/D19*100 -> -2.8571429 | H19: * 월평균 28,333,333원*12월
F20: =E20-D20 -> 0 | G20: =F20/D20*100 -> #DIV/0!
F21: =E21-D21 -> 0 | G21: =F21/D21*100 -> #DIV/0!
A22: 차입금 | B22: 계 | D22: 0 | E22: =E23 -> 0 | F22: =E22-D22 -> 0 | G22: 0
B23: 차입금 | C23: 소계 | D23: 0 | E23: =SUM(E24:E25) -> 0 | F23: =E23-D23 -> 0 | G23: 0
C24: 금융기관차입 | D24: 0 | E24: 0 | F24: =E24-D24 -> 0 | G24: 0
C25: 기타차입금 | D25: 0 | E25: 0 | F25: =E25-D25 -> 0 | G25: 0
A26: 전입금 | B26: 계 | D26: 0 | E26: =E27 -> 0 | F26: =E26-D26 -> 0 | G26: 0
B27: 전입금 | C27: 소계 | D27: 0 | E27: =E28 -> 0 | F27: =E27-D27 -> 0 | G27: 0
C28: 법인전입금 | D28: 0 | E28: 0 | F28: =E28-D28 -> 0 | G28: 0
A29: 이월금 | B29: 계 | D29: 15900000 | E29: =E30 -> 22458368 | F29: =E29-D29 -> 6558368 | G29: =F29/D29*100 -> 41.247597
B30: 이월금 | C30: 소계 | D30: 15900000 | E30: =SUM(E31:E32) -> 22458368 | F30: =E30-D30 -> 6558368 | G30: =F30/D30*100 -> 41.247597
C31: 전년도이월금 | D31: 15900000 | E31: =18629586+3008670+820112 -> 22458368 | F31: =E31-D31 -> 6558368 | G31: =F31/D31*100 -> 41.247597 | H31: * 비지정후원금 이월금 (18,629,586원), * 지정후원금 이월금 ( 3,008,670원), * 후원금예금이자 이월금 ( 900,000원).
C32: 이월사업비 | D32: 0 | E32: 0 | F32: =E32-D32 -> 0 | G32: 0
A33: 잡수입 | B33: 계 | D33: 600000 | E33: =E34 -> 541632 | F33: =E33-D33 -> -58368 | G33: =F33/D33*100 -> -9.728
B34: 잡수입 | C34: 소계 | D34: 600000 | E34: =SUM(E35:E37) -> 541632 | F34: =E34-D34 -> -58368 | G34: =F34/D34*100 -> -9.728
C35: 불용품매각대 | D35: 0 | E35: 0 | F35: =E35-D35 -> 0 | G35: 0
C36: 기타예금이자수입 | D36: 600000 | E36: 541632 | F36: =E36-D36 -> -58368 | G36: =F36/D36*100 -> -9.728
C37: 기타잡수입 | D37: 0 | E37: 0 | F37: =E37-D37 -> 0 | G37: 0
E67: 0

Sheet 자부담세입
A1: 다. 세 입
A2: 2) 자부담세입내역
H3: (단위:원)
A4: 과 목 | D4: =[1]다.국도시세입!E4:E5 -> 당초예산 ( A ) | E4: =[1]다.국도시세입!F4:F5 -> 1차추경 ( B ) | F4: 증감 (B-A) | H4: 산 출 내 역
A5: 관 | B5: 항 | C5: 목 | F5: 금액 | G5: 비율(%)
A6: 총 계 | D6: 226800000 | E6: =E7+E10+E13+E16+E19+E23+E26+E30 -> 256950000 | F6: =F7+F10+F13+F16+F19+F23+F26+F30 -> 30150000 | G6: =F6/D6*100 -> 13.293651 | J6: =E6-'[1]라-2.자부담세출'!F6 -> 0
A7: 입소자부담금 | B7: 계 | D7: 134400000 | E7: =E8 -> 134400000 | F7: =F8 -> 0 | G7: =F7/D7*100 -> 0
B8: 입소비용수입 | C8: 소계 | D8: 134400000 | E8: =E9 -> 134400000 | F8: =F9 -> 0 | G8: =F8/D8*100 -> 0
C9: 입소비용수입 | D9: 134400000 | E9: 134400000 | F9: =E9-D9 -> 0 | G9: =F9/D9*100 -> 0 | H9: 실비인원 32명*350,000원*12개월=134,400,000원
A10: 사업수입 | B10: 계 | D10: 0 | E10: =E11 -> 0 | F10: =F11 -> 0 | G10: 0
B11: 사업수입 | C11: 소계 | D11: 0 | E11: =E12 -> 0 | F11: =F12 -> 0 | G11: 0
C12: 프로그램사업수입 | D12: 0 | E12: 0 | F12: =E12-D12 -> 0 | G12: 0 | H12: 0
A13: 과년도수입 | B13: 계 | D13: 0 | E13: =E14 -> 0 | F13: =F14 -> 0 | G13: 0
B14: 과년도수입 | C14: 소계 | D14: 0 | E14: =E15 -> 0 | F14: =F15 -> 0 | G14: 0
